{"text_format":"1","workbook":"xlsx","n_sheets":8,"sheets":["Info","KALENDER","Konfiguration","Labels","Calendar Backup","Timesheet Backup","MITARBEITER","KONTROLLE"],"not_rendered":{"charts":0,"images":1,"macros":1,"external_links":0,"defined_names":40,"comments":0,"pivot_tables":0},"unopened":[],"bounds":{"document_bytes":16777216,"sheet_cells":100000,"rows_first":2000,"rows_last":500,"rows_between":2000,"halvings":0,"cell_chars":16384,"cell_head_chars":4096},"cells_cut":0,"cells_raw":0,"read":"whole","date_system":"1900"}

{"sheet":"Info","index":0,"n_rows":1,"n_cols":2,"rows_kept":1,"cut":false,"hidden":true,"merged":[]}
["Info:","Dieses Tabellenblatt bitte weder löschen noch verändern."]

{"sheet":"KALENDER","index":1,"n_rows":24,"n_cols":35,"rows_kept":24,"cut":false,"hidden":false,"merged":[[0,3,0,34]]}
[null,null,null,"Auswahl der gesetzlichen Feiertage \n(mit einem kleinen x ankreuzen)"]
[null,null,null,"Jan",1,2,3,4,5,6,7,8,9,10,11,12,13,14,15,16,17,18,19,20,21,22,23,24,25,26,27,28,29,30,31]
[]
[null,null,null,"Feb",1,2,3,4,5,6,7,8,9,10,11,12,13,14,15,16,17,18,19,20,21,22,23,24,25,26,27,28,29]
[]
[null,null,null,"Mrz",1,2,3,4,5,6,7,8,9,10,11,12,13,14,15,16,17,18,19,20,21,22,23,24,25,26,27,28,29,30,31]
[]
[null,null,null,"Apr",1,2,3,4,5,6,7,8,9,10,11,12,13,14,15,16,17,18,19,20,21,22,23,24,25,26,27,28,29,30]
[]
[null,null,null,"Mai",1,2,3,4,5,6,7,8,9,10,11,12,13,14,15,16,17,18,19,20,21,22,23,24,25,26,27,28,29,30,31]
[]
[null,null,null,"Jun",1,2,3,4,5,6,7,8,9,10,11,12,13,14,15,16,17,18,19,20,21,22,23,24,25,26,27,28,29,30]
[]
[null,null,null,"Jul",1,2,3,4,5,6,7,8,9,10,11,12,13,14,15,16,17,18,19,20,21,22,23,24,25,26,27,28,29,30,31]
[]
[null,null,null,"Aug",1,2,3,4,5,6,7,8,9,10,11,12,13,14,15,16,17,18,19,20,21,22,23,24,25,26,27,28,29,30,31]
[]
[null,null,null,"Sep",1,2,3,4,5,6,7,8,9,10,11,12,13,14,15,16,17,18,19,20,21,22,23,24,25,26,27,28,29,30]
[]
[null,null,null,"Okt",1,2,3,4,5,6,7,8,9,10,11,12,13,14,15,16,17,18,19,20,21,22,23,24,25,26,27,28,29,30,31]
[]
[null,null,null,"Nov",1,2,3,4,5,6,7,8,9,10,11,12,13,14,15,16,17,18,19,20,21,22,23,24,25,26,27,28,29,30]
[]
[null,null,null,"Dez",1,2,3,4,5,6,7,8,9,10,11,12,13,14,15,16,17,18,19,20,21,22,23,24,25,26,27,28,29,30,31]

{"sheet":"Konfiguration","index":2,"n_rows":17,"n_cols":10,"rows_kept":17,"cut":false,"hidden":true,"merged":[]}
["Globale Konfiguration"]
[null,null,null,null,null,null,null,"Memo =>"]
["Jahr",2020,{"$f":"\"01.01.\"&B3","v":"01.01.2020"},"Schaljahr j/n",{"$f":"IF(F3=1,\"ja\",\"nein\")","v":"ja"},{"$f":"IF(MOD(YEAR($C$3),400)=0,\"\",IF(MOD(YEAR($C$3),100)=0,\"kein\",IF(MOD(YEAR($C$3),4)=0,1,0)))","v":1},null,"1.Tag des Jahes","formel"]
["max. Std/Woche gem. GAV",48,null,null,null,null,null,"letzter Tag des Jahres","formel"]
["Std/Tag gem. GAV",8,null,"Jahresbruttosollstunden",null,null,null,"Anz. Wochentage","formel"]
[null,null,null,null,null,null,null,"% Nachzuschlag","eingabe"]
[null,null,null,null,null,null,null,"% Sonn- & Feiertagszuschlag","eingabe"]
[null,null,null,null,null,null,null,"% Wochenzuschlag","eingabe"]
[null,null,null,null,null,null,null,"Ausahlung mit Zuschlag (max. Std)","eingabe"]
[]
["Standard Kalender","calendar"]
[]
[]
["Standard Sprache","DE",null,null,null,null,null,"Sprachen","Deutsch","DE"]
[null,null,null,null,null,null,null,null,"Français","FR"]
[null,null,null,null,null,null,null,null,"English","EN"]
[null,null,null,null,null,null,null,null,"Italiano","IT"]

{"sheet":"Labels","index":3,"n_rows":506,"n_cols":6,"rows_kept":506,"cut":false,"hidden":true,"merged":[]}
["Achtung: ","lange Texte sind jeweils manuell einzusetzen"]
[]
["gewählte \nSprache","DE"]
[]
[]
[]
[]
[]
[]
[]
[]
["Index","Dargestellt","DE","EN","FR","IT"]
[2,{"$f":"HLOOKUP($B$3,$C$12:$F$506,A13,FALSE)","v":"[$-807]"},"[$-807]","[$-409]","[$-40C]","[$-410]"]
[3,"SMGV","SMGV",{"$f":"C14","v":"SMGV"},"ASEPP","ASIPG"]
[4,"GAV","GAV",{"$f":"C15","v":"GAV"},"CCT","CCL"]
[5,"Kontrolle","Kontrolle","Kontrolle","Contrôle","Controllo"]
[6,"A r b e i t s z e i t k o n t r o l l e ","A r b e i t s z e i t k o n t r o l l e ","A r b e i t s z e i t k o n t r o l l e ","Contrôle des heures de travail ","Controllo d'orario di lavoro"]
[7,"Mitarbeiter/In","Mitarbeiter/In","Mitarbeiter/In","Nom/Prénom","Nome/Conome"]
[8,"Muster Peter","Muster Peter","Muster Peter","Modèle Pierre","Modello Pietro"]
[9,"Anstellung %","Anstellung %","Anstellung %","Emploi %","Occupazione %"]
[10,"Saldo für das Jahr","Saldo für das Jahr","Saldo für das Jahr","Solde année en cours",{"$f":"C21","v":"Saldo für das Jahr"}]
[11,"Saldo Vorjahresstunden (+)","Saldo Vorjahresstunden (+)","Saldo Vorjahresstunden (+)","Solde année passée (+)",{"$f":"C22","v":"Saldo Vorjahresstunden (+)"}]
[12,"Saldo Vorjahresstunden (-)","Saldo Vorjahresstunden (-)","Saldo Vorjahresstunden (-)","Solde année passée (-)","Saldo Vorjahresstunden (-)"]
[13,"Ferienguthaben Vorjahr","Ferienguthaben Vorjahr","Ferienguthaben Vorjahr","Solde vacances année passée","Ferienguthaben Vorjahr"]
[14,"Ferienguthaben laufendes Jahr","Ferienguthaben laufendes Jahr","Ferienguthaben laufendes Jahr","Vacances selon art. 12.1. CCT","Ferienguthaben laufendes Jahr"]
[15,"Stunden","Stunden","Stunden","Heures","Stunden"]
[16,"Max. Std / Woche gemäss GAV","Max. Std / Woche gemäss GAV","Max. Std / Woche gemäss GAV","max heures / semain  CCT","Max. Std / Woche gemäss GAV"]
[17,"Std/Tag gemäss GAV","Std/Tag gemäss GAV","Std/Tag gemäss GAV","heures/jour  CCT","Std/Tag gemäss GAV"]
[18,"Schaltjahr (j/n)","Schaltjahr (j/n)","Schaltjahr (j/n)","Année bissextile (j/n)","Schaltjahr (j/n)"]
[19,"Arbeitstage (Jahr)","Arbeitstage (Jahr)","Arbeitstage (Jahr)","jours ouvrables (année)","Arbeitstage (Jahr)"]
[20,"Jahresbruttosollstunden","Jahresbruttosollstunden","Jahresbruttosollstunden","brut annuel d'heures","Jahresbruttosollstunden"]
[21,"Saldo Monat + / -","Saldo Monat + / -","Saldo Monat + / -","Solde mois + / -","Saldo Monat + / -"]
[22," = "," = "," = "," = "," = "]
[23,"Gelbe Felder müssen ausgefüllt werden (die übrigen werden automatisch berechnet)","Gelbe Felder müssen ausgefüllt werden (die übrigen werden automatisch berechnet)","Gelbe Felder müssen ausgefüllt werden (die übrigen werden automatisch berechnet)","Les cases marquées en jaune doivent être remplies (les autres seront calculées automatiquement)","Gelbe Felder müssen ausgefüllt werden (die übrigen werden automatisch berechnet)"]
[24,"Tag","Tag","Tag","Jour","Tag"]
[25,"Kalenderwoche","Kalenderwoche","Kalenderwoche","semaine civile","Kalenderwoche"]
[26,"Sollstunden","Sollstunden","Sollstunden","Théorique sel. CCT","Sollstunden"]
[27,"Absenz in Std","Absenz in Std","Absenz in Std","Absences","Absenz in Std"]
[28,"Code","Code","Code","Code","Code"]
[29,"00.00-06.00h","00.00-06.00h","00.00-06.00h","00h00-06h00 1)","00.00-06.00"]
[30,"06.00-20.00h","06.00-20.00h","06.00-20.00h","06h00-20h00 2)","06.00-20.00"]
[31,"20.00-24.00h","20.00-24.00h","20.00-24.00h","20h00-24h00 3)","20.00-24.00"]
[32,"Feiertag \"ft\"","Feiertag \"ft\"","Feiertag \"ft\"","Jours fériés \"jf\"","Giorni festivi \"gf\""]
[33,"Gutschrift \"ft\"","Gutschrift \"ft\"","Gutschrift \"ft\"","Majoration  \"jf\"","Credito \"gf\""]
[34,"Tagestotal","Tagestotal","Tagestotal","total quotidien","totale quotidiano"]
[35,".",".",".",".","."]
[36,".",".",".",".","."]
[37,"Monatsübergang","Monatsübergang","Monatsübergang","transition mois","transizione mensile"]
[38,"Wochentotal","Wochentotal","Wochentotal","Total hebdomadaire","totale settimana"]
[39,"Zeitzuschlag 1)","Zeitzuschlag 1)","Zeitzuschlag 1)","Majorations temp. 1)","Supplemento in ore 1)"]
[40,"Zeitzuschlag 2)","Zeitzuschlag 2)","Zeitzuschlag 2)","Majorations temp. 2)","Supplemento in ore 2)"]
[41,"Zeitzuschlag 3)","Zeitzuschlag 3)","Zeitzuschlag 3)","Majorations temp. 3)","Supplemento in ore 3)"]
[42,"Sonntag Tag","Sonntag Tag","Sonntag Tag","Dimanche journée","Domenica giorno"]
[43,"Sonntag Nacht","Sonntag Nacht","Sonntag Nacht","Dimanche nuit","Domenica notte"]
[44,"ft-Tazuschlag","ft-Tazuschlag","ft-Tazuschlag","jf-jomajoration","gf-gisupplemento"]
[45,"ft-Nazuschlag","ft-Nazuschlag","ft-Nazuschlag","jf-numajoration","gf-nosupplemento"]
[46,"Zuschlag  blind (Wochentotal)","Zuschlag  blind (Wochentotal)","Zuschlag  blind (Wochentotal)","majoration caché (total hebd.)","Supplemento  nascosto (totale sett.)"]
[47,"1)   25% Zeitzuschlag für Überschreitung Wochentotal","1)   25% Zeitzuschlag für Überschreitung Wochentotal","1)   25% Zeitzuschlag für Überschreitung Wochentotal","1)  25% majoration temporelle pour depassement total hebdomadaire","1)   25%"]
[48,"2) 100% Zeitzuschlag für Nachtarbeit","2) 100% Zeitzuschlag für Nachtarbeit","2) 100% Zeitzuschlag für Nachtarbeit","2) 100% majoration temporelle pour travail de nuit","2) 100%"]
[49,"3) 100% Zeitzuschlag für Sonn- und Feiertagsarbeit","3) 100% Zeitzuschlag für Sonn- und Feiertagsarbeit","3) 100% Zeitzuschlag für Sonn- und Feiertagsarbeit","3) 100% majoration temporelle pour travail du dimanche et jour férié","3) 100%"]
[50,"Eingabe der ausbezahlten Stunden Vorjahressaldo","Eingabe der ausbezahlten Stunden Vorjahressaldo","Eingabe der ausbezahlten Stunden Vorjahressaldo","Saisie des heures payées l'année passée",{"$f":"C61","v":"Eingabe der ausbezahlten Stunden Vorjahressaldo"}]
[51,"Eingabe der ausbezahlten Stunden laufendes Jahr (Überstunden)","Eingabe der ausbezahlten Stunden laufendes Jahr (Überstunden)","Eingabe der ausbezahlten Stunden laufendes Jahr (Überstunden)","Saisie des heures payées exercice en cours (heures supplémentaires)",{"$f":"C62","v":"Eingabe der ausbezahlten Stunden laufendes Jahr (Überstunden)"}]
[52,"Tage","Tage","Tage","Jours","Tage"]
[53,"Druckvorschau aufheben","Druckvorschau aufheben","Druckvorschau aufheben","Annulation de la sélection","Druckvorschau aufheben"]
[54,"Januar","Januar","January","Janvier","Gennaio"]
[55,"Februar","Februar","February","Février","Febbraio"]
[56,"März","März","March","Mars","Marzo"]
[57,"April","April","April","April","Aprile"]
[58,"Mai","Mai","May","Mai","Maggio"]
[59,"Juni","Juni","June","Juin","Giugno"]
[60,"Juli","Juli","July","Juillet","Iuglio"]
[61,"August","August","August","Août","Agosto"]
[62,"September","September","September","Septembre","Settembre"]
[63,"Oktober","Oktober","October","Octobre","Ottobre"]
[64,"November","November","November","Novembre","Novembre"]
[65,"Dezember","Dezember","December","Décembre","Dicembre"]
[66,{"$f":"HLOOKUP($B$3,$C$12:$F$506,A77,FALSE)","v":"Jan"},"Jan","Jan","Jan","Gen"]
[67,"Feb","Feb","Feb","Fév","Feb"]
[68,"Mrz","Mrz","Mar","Mar","Mar"]
[69,"Apr","Apr","Apr","Avr","Apr"]
[70,"Mai","Mai","May","Mai","Mag"]
[71,"Jun","Jun","Jun","Jun","Giu"]
[72,"Jul","Jul","Jul","Jul","Iug"]
[73,"Aug","Aug","Aug","Aoû","Ago"]
[74,"Sep","Sep","Sep","Sep","Set"]
[75,"Okt","Okt","Oct","Oct","Ott"]
[76,"Nov","Nov","Nov","Nov","Nov"]
[77,"Dez","Dez","Dec","Déc","Dic"]
[78,"im Januar","im Januar","in January","en janvier","a Gennaio"]
[79,"im Februar","im Februar","in February","en février","a Febbraio"]
[80,"im März","im März","in March","en mars","a Marzo"]
[81,"im April","im April","in April","en avril","ad Aprile"]
[82,"im Mai","im Mai","in May","en mai","a Maggio"]
[83,"im Juni","im Juni","in June","en juin","a Giugno"]
[84,"im Juli","im Juli","in July","en juillet","a Iuglio"]
[85,"im August","im August","in August","en août","ad Agosto"]
[86,"im September","im September","in September","en septembre","a Settembre"]
[87,"im Oktober","im Oktober","in October","en octobre","ad Ottobre"]
[88,"im November","im November","in November","en novembre","a Novembre"]
[89,"im Dezember","im Dezember","in December","en décembre","a Dicembre"]
[90,"Jahr","Jahr","Year","Année","Anno"]
[91,"Total","Total","Total","Total","Total"]
[92,"Zusammenstellung","Zusammenstellung","Report","Résumé","Zusammenstellung"]
[93,"Sollstunden gemäss GAV","Sollstunden gemäss GAV","Planed hours acc.to CLA","Heures théoriques selon CCT","Orario teoricamente sec. CCL"]
[94,"Produktive Stunden","Produktive Stunden",{"$f":"C105","v":"Produktive Stunden"},"Total heures productives","Orario produttivo totale"]
[95,"06.00 - 20.00 Uhr","06.00 - 20.00 Uhr",{"$f":"C106","v":"06.00 - 20.00 Uhr"},"06.00 - 20.00 h","06.00 - 20.00 "]
[96,"Nacht-, Sonn-, Feiertagsarbeit","Nacht-, Sonn-, Feiertagsarbeit","Nacht-, Sonn-, Feiertagsarbeit","nuit, dimanche et jour férié","notturno, domenica e festivo"]
[97,"Zeitzuschläge","Zeitzuschläge","Zeitzuschläge","Majorations temporelles","Supplemento in ore"]
[98,"aus Wochentotal","aus Wochentotal","aus Wochentotal","total hebdomadaire","di lavoro settimanale"]
[99,"aus Nacht-, Sonn-, Feiertagsarbeiten","aus Nacht-, Sonn-, Feiertagsarbeiten","aus Nacht-, Sonn-, Feiertagsarbeiten","nuit, dimanche et jour férié","di notturno, domenica e festivo"]
[100,"Unproduktive Stunden","Unproduktive Stunden","Unproduktive Stunden","Heures inproductives","orario non produttivo"]
[101,"   Absenzen, Kurzabsenzen Art. 11 GAV","   Absenzen, Kurzabsenzen Art. 11 GAV","   Absenzen, Kurzabsenzen Art. 11 GAV","   Absences art. 11 CCT","   Assenze art. 11 CCL"]
[102,"a","a","a","ab","as"]
[103,"   Ferien Art. 12.1 GAV","   Ferien Art. 12.1 GAV","   Ferien Art. 12.1 GAV","   Vacances art. 12.1 CCT","   Vacanze art. 12.1 CCL"]
[104,"f","f","f","va","va"]
[105,"   Feiertage Art. 12.2 GAV","   Feiertage Art. 12.2 GAV","   Feiertage Art. 12.2 GAV","   Jours fériés art. 12.2 CCT","   Giorni festivi art. 12.2 CCL"]
[106,"zu viele ft !)","zu viele ft !)","zu viele ft !)","trop de jf !)","(tropo giorni festivi !)"]
[107,"ft","ft","ft","jf","gf"]
[108,"   Krankheit Art. 13 GAV","   Krankheit Art. 13 GAV","   Krankheit Art. 13 GAV","   Maladie art. 13 CCT","   Malattia art. 13 CCL"]
[109,"k","k","k","ma","ma"]
[110,"   Unfall Art. 14 GAV","   Unfall Art. 14 GAV","   Unfall Art. 14 GAV","   Accident art. 14 CCT","   Infortunio art. 14 CCL"]
[111,"u","u","u","ac","in"]
[112,"   Schwangerschaft/Mutterschaft Art. 15 GAV","   Schwangerschaft/Mutterschaft Art. 15 GAV","   Schwangerschaft/Mutterschaft Art. 15 GAV","   Grossesse/Maternité art. 15 CCT","   Gravidanza/Maternità art. 15 CCL"]
[113,"s","s","s","gm","gm"]
[114,"   Militär/Beförderung/Zivilschutz Art. 16 GAV","   Militär/Beförderung/Zivilschutz Art. 16 GAV","   Militär/Beförderung/Zivilschutz Art. 16 GAV","   Militaire/Promotion/Protection civile art. 16 CCT","   Militare/Promotione/Civile art. 16 CCL"]
[115,"m","m","m","mi","mi"]
[116,"   Kurzarbeit und Schlechtwetterausfälle","   Kurzarbeit und Schlechtwetterausfälle","   Kurzarbeit und Schlechtwetterausfälle","   Chômage partiel et perte de travail cause d'intempéries",{"$f":"C127","v":"   Kurzarbeit und Schlechtwetterausfälle"}]
[117,"ka","ka","ka","ch",{"$f":"C128","v":"ka"}]
[118,"   Berufsschule","   Berufsschule","   Berufsschule","   Ecole professionnelle","   Berufsschule"]
[119,"bs","bs","bs","ep","bs"]
[120,"   Kurse","   Kurse","   Kurse","   Cours","   Kurse"]
[121,"ku","ku","ku","co","ku"]
[122,"Kompensations-Std","Kompensations-Std","Kompensations-Std","Heures de compensation","Kompensations-Std"]
[123,"aus Vorjahr","aus Vorjahr","aus Vorjahr","de l'année passée","aus Vorjahr"]
[124,"kv","kv","kv","cp","kv"]
[125,"aus laufendem Jahr (Kontrolle)","aus laufendem Jahr (Kontrolle)","aus laufendem Jahr (Kontrolle)","de l'année en cours (contrôle)","aus laufendem Jahr (Kontrolle)"]
[126,"kj","kj","kj","cc","kj"]
[127,"Auszahlung","Auszahlung","Auszahlung","Paiement des heures","Auszahlung"]
[128,"Stunden Vorjahressaldo","Stunden Vorjahressaldo","Stunden Vorjahressaldo","de l'année passée","Stunden Vorjahressaldo"]
[129,"Differenz","Differenz","Differenz","Différence en heures","Differenz"]
[130,{"$f":"HLOOKUP($B$3,$C$12:$F$506,A141,FALSE)","v":"nach Kompensation und Auszahlung"},"nach Kompensation und Auszahlung","nach Kompensation und Auszahlung","après compensation et paiement","nach Kompensation und Auszahlung"]
[131,"Stunden laufendes Jahr","Stunden laufendes Jahr","Stunden laufendes Jahr","de l'année en cours","Stunden laufendes Jahr"]
[132,"Fehlstunden","Fehlstunden","Fehlstunden","Heures manquantes","Fehlstunden"]
[133,"laufendes Jahr (Kontrolle)","laufendes Jahr (Kontrolle)","laufendes Jahr (Kontrolle)","de l'année en cours (contrôle)","laufendes Jahr (Kontrolle)"]
[134,"fe","fe","fe","hm","fe"]
[135,"Total inkl. Zeitzuschläge","Total inkl. Zeitzuschläge","Total inkl. Zeitzuschläge","Total (majorations inclus)","Total inkl. Zeitzuschläge"]
[136,"Stunden produktiv und unproduktiv","Stunden produktiv und unproduktiv","Stunden produktiv und unproduktiv","heures productives et inproductives","Stunden produktiv und unproduktiv"]
[137,"Vergleich","Vergleich","Vergleich","Comparaison des heures","Vergleich"]
[138,"Stunden zu Soll-Stunden (inkl. allfälli-\nge Minusstunden Vorjahr)","Stunden zu Soll-Stunden (inkl. allfälli-\nge Minusstunden Vorjahr)","Stunden zu Soll-Stunden (inkl. allfälli-\nge Minusstunden Vorjahr)","aux heures théorique CCT (heures \nmanquantes de l'année passée incl.)","Stunden zu Soll-Stunden (inkl. allfälli-\nge Minusstunden Vorjahr)"]
[139,"[]","[]","[]","[]","[]"]
[140,"Stunden zu Soll-Stunden (kumuliert)","Stunden zu Soll-Stunden (kumuliert)","Stunden zu Soll-Stunden (kumuliert)","aux heures théorique (cumulées)","Stunden zu Soll-Stunden (kumuliert)"]
[141,".",".",".",".","."]
[142,"Ferienkontrolle","Ferienkontrolle","Ferienkontrolle","Vacances (contrôle)","Ferienkontrolle"]
[143,"Ferienguthaben Vorjahr","Ferienguthaben Vorjahr","Ferienguthaben Vorjahr","Vacances année passée","Ferienguthaben Vorjahr"]
[144,"Ferienguthaben nach \nArt. 12.1 GAV","Ferienguthaben nach \nArt. 12.1 GAV","Ferienguthaben nach \nArt. 12.1 GAV","Vacances selon \nart 12.1 CCT","Ferienguthaben nach \nArt. 12.1 GAV"]
[145,"Ferienguthaben total","Ferienguthaben total","Ferienguthaben total","Total des vacances","Ferienguthaben total"]
[146,"Ferien bezogen","Ferien bezogen","Ferien bezogen","Vacances prises","Ferien bezogen"]
[147,"Aktuelles Ferienguthaben","Aktuelles Ferienguthaben","Aktuelles Ferienguthaben","Vacances restantes","Aktuelles Ferienguthaben"]
[148,"Bemerkungen","Bemerkungen","Bemerkungen","Notes","Bemerkungen"]
[149,"Anzahl ft","Anzahl ft","Anzahl ft","Nombre jf","Anzahl ft"]
[150,"Meldung","Meldung","Meldung","Message","Meldung"]
[151,"Feiertagzuschläge gemäss Anstellungsprozent","Feiertagzuschläge gemäss Anstellungsprozent","Feiertagzuschläge gemäss Anstellungsprozent","Majorations selon emploi %","Feiertagzuschläge gemäss Anstellungsprozent"]
[152,"div","div","div","div","div"]
[153,"\nDen gewünschten Monat mit einem Klick\nwählen (gehe zu)\n\n\nDen gewünschten Monat mit einem Klick\nin die Druckvorschau versetzen (für Druck)","\nDen gewünschten Monat mit einem Klick\nwählen (gehe zu)\n\n\nDen gewünschten Monat mit einem Klick\nin die Druckvorschau versetzen (für Druck)","\nDen gewünschten Monat mit einem Klick\nwählen (gehe zu)\n\n\nDen gewünschten Monat mit einem Klick\nin die Druckvorschau versetzen (für Druck)","\nSélectionnez le mois désiré en un clic\n\n\n\n\nSélectionnez le mois à imprimer en un clic","\nDen gewünschten Monat mit einem Klick\nwählen (gehe zu)\n\n\nDen gewünschten Monat mit einem Klick\nin die Druckvorschau versetzen (für Druck)"]
[154,"Produktivstunden","Produktivstunden","Produktivstunden","Heures productives","Produktivstunden"]
[155,"Feiertage [ft]","Feiertage [ft]","Feiertage [ft]","Jours fériés [jf]","Feiertage [ft]"]
[156,"Ferien [f]","Ferien [f]","Ferien [f]","Vacances [va]","Ferien [f]"]
[157,"Kompensation (Vorjahr) [kv]","Kompensation (Vorjahr) [kv]","Kompensation (Vorjahr) [kv]","Compensation (année passée) [cp]","Kompensation (Vorjahr) [kv]"]
[158,"Kompensation (laufend) [kj]","Kompensation (laufend) [kj]","Kompensation (laufend) [kj]","Compensation (année courant) [cc]","Kompensation (laufend) [kj]"]
[159,"Absenzen, Kurzabsenzen [a]","Absenzen, Kurzabsenzen [a]",{"$f":"C170","v":"Absenzen, Kurzabsenzen [a]"},"Absences [ab]","Absenzen, Kurzabsenzen [a]"]
[160,"Krankheit [k]","Krankheit [k]","Krankheit [k]","Maladie [ma]","Krankheit [k]"]
[161,"Unfall [u]","Unfall [u]","Unfall [u]","Accident [ac]","Unfall [u]"]
[162,"Schwangerschaft/Mutterschaft [s]","Schwangerschaft/Mutterschaft [s]","Schwangerschaft/Mutterschaft [s]","Grossesse/Maternité [gm]","Schwangerschaft/Mutterschaft [s]"]
[163,"Militär/Beförderung/Zivilschutz [m]","Militär/Beförderung/Zivilschutz [m]","Militär/Beförderung/Zivilschutz [m]","Militaire/Promotion/Protection civile [mi]","Militär/Beförderung/Zivilschutz [m]"]
[164,"Berufsschule [bs]","Berufsschule [bs]","Berufsschule [bs]","Ecole professionelle [ep]","Berufsschule [bs]"]
[165,"Kurse [ku]","Kurse [ku]","Kurse [ku]","Cours [co]","Kurse [ku]"]
[166,"Kurzarbeit und Schlechtwetter [ka]","Kurzarbeit und Schlechtwetter [ka]","Kurzarbeit und Schlechtwetter [ka]","Chômage partiel et intempéries [ch]","Kurzarbeit und Schlechtwetter [ka]"]
[167,"Fehlstunden (unbezahlt) [fe]","Fehlstunden (unbezahlt) [fe]","Fehlstunden (unbezahlt) [fe]","Heures manquantes [hm]","Fehlstunden (unbezahlt) [fe]"]
[168,0,null,0,null,0]
[169,0,null,0,null,0]
[170,0,null,0,null,0]
[171,0,null,0,null,0]
[172,0,null,0,null,0]
[173,0,null,0,null,0]
[174,0,null,0,null,0]
[175,0,null,0,null,0]
[176,0,null,0,null,0]
[177,0,null,0,null,0]
[178,0,null,0,null,0]
[179,0,null,0,null,0]
[180,0,null,0,null,0]
[181,0,null,0,null,{"$f":"C192","v":0}]
[182,0,null,0,null,0]
[183,0,null,0,null,0]
[184,0,null,0,null,0]
[185,0,null,0,null,0]
[186,0,null,0,null,0]
[187,0,null,0,null,0]
[188,0,null,0,null,0]
[189,0,null,0,null,0]
[190,0,null,0,null,0]
[191,0,null,0,null,0]
[192,0,null,0,null,0]
[193,0,null,0,null,0]
[194,{"$f":"HLOOKUP($B$3,$C$12:$F$506,A205,FALSE)","v":0},null,0,null,0]
[195,0,null,0,null,0]
[196,0,null,0,null,0]
[197,0,null,0,null,0]
[198,0,null,0,null,0]
[199,"Befehlsschaltflächen","Befehlsschaltflächen","CommandButtons","Befehlsschaltflächen FR","Befehlsschaltflächen"]
[200,"Januar","Januar","January","Janvier","Gennaio"]
[201,"Februar","Februar","February","Février","Febbraio"]
[202,"März","März","March","Mars","Marzo"]
[203,"April","April","April","April","Aprile"]
[204,"Mai","Mai","May","Mai","Maggio"]
[205,"Juni","Juni","June","Juin","Giugno"]
[206,"Juli","Juli","July","Juillet","Iuglio"]
[207,"August","August","August","Août","Agosto"]
[208,"September","September","September","Septembre","Settembre"]
[209,"Oktober","Oktober","October","Octobre","Ottobre"]
[210,"November","November","November","Novembre","Novembre"]
[211,"Dezember","Dezember","December","Décembre","Dicembre"]
[212,"Absenzen","Absenzen","Absences","Absences","Assenze"]
[213,"Druckvorschau aufheben","Druckvorschau aufheben","Clear Print Area","Aperçu avant impression","Druckvorschau aufheben"]
[214,0,null,null,null,0]
[215,0,null,null,null,0]
[216,0,null,null,null,0]
[217,0,null,null,null,0]
[218,0,null,null,null,0]
[219,0,null,null,null,0]
[220,0]
[221,0]
[222,0]
[223,0]
[224,0]
[225,0]
[226,0]
[227,0]
[228,0]
[229,0]
[230,0]
[231,0]
[232,0]
[233,0]
[234,0]
[235,0]
[236,0]
[237,0]
[238,0]
[239,0]
[240,0]
[241,0]
[242,0]
[243,0]
[244,0]
[245,0]
[246,0]
[247,0]
[248,0]
[249,0]
[250,0]
[251,0]
[252,0]
[253,0]
[254,0]
[255,0]
[256,0]
[257,0]
[258,{"$f":"HLOOKUP($B$3,$C$12:$F$506,A269,FALSE)","v":0}]
[259,0]
[260,0]
[261,0]
[262,0]
[263,0]
[264,0]
[265,0]
[266,0]
[267,0]
[268,0]
[269,0]
[270,0]
[271,0]
[272,0]
[273,0]
[274,0]
[275,0]
[276,0]
[277,0]
[278,0]
[279,0]
[280,"Tabellenregister / Arbeitsblattregister","Tabellenregister / Arbeitsblattregister","TR EN","TR FR"]
[281,"ERKLÄRUNGEN","ERKLÄRUNGEN","INFO","EXPLICATIONS"]
[282,"KALENDER","KALENDER","MAIN CALENDAR","CALENDRIER"]
[283,"MITARBEITER","MITARBEITER","ADDRESS LIST","ADRESSES"]
[284,"KONTROLLE","KONTROLLE","TIMESHEET TEMPL","CONTRÔLE"]
[285,0]
[286,0]
[287,0]
[288,0]
[289,0]
[290,"Texte Mitarbeiter-Tabelle DE","Texte Mitarbeiter-Tabelle DE","ADR EN","ADR FR"]
[291,"Nummer","Nummer","Number","Numéro"]
[292,"Name","Name","Last Name","Nom"]
[293,"Vorname","Vorname","First Name","Prénom"]
[294,"Adresse","Adresse","Address","Adresse"]
[295,"PLZ","PLZ","Zip Code","CP"]
[296,"Ort","Ort","City","Lieu"]
[297,"Telefon","Telefon","Phone","Téléphone"]
[298,"eMail","eMail","eMail","émail"]
[299,0]
[300,0]
[301,0]
[302,0]
[303,0]
[304,0]
[305,"Muster","Muster",null,"Modèle"]
[306,"Peter","Peter",null,"Pierre"]
[307,"Mustergasse 550","Mustergasse 550",null,"Rue Modèle 44"]
[308,"CH-5000","CH-5000",null,"CH-9999"]
[309,"Aarau","Aarau",null,"Modèleville"]
[310,"+41 00 000 00 00","+41 00 000 00 00",null,"+41 99 999 99 99"]
[311,0]
[312,0]
[313,0]
[314,0]
[315,0]
[316,0]
[317,0]
[318,0]
[319,0]
[320,"Texte Kalender-Tabelle DE","Texte Kalender-Tabelle DE"]
[321,"Auswahl der gesetzlichen Feiertage \n(mit einem kleinen x ankreuzen)","Auswahl der gesetzlichen Feiertage \n(mit einem kleinen x ankreuzen)"]
[322,{"$f":"HLOOKUP($B$3,$C$12:$F$506,A333,FALSE)","v":0}]
[323,0]
[324,0]
[325,0]
[326,0]
[327,0]
[328,0]
[329,0]
[330,0]
[331,0]
[332,0]
[333,0]
[334,0]
[335,0]
[336,0]
[337,0]
[338,0]
[339,0]
[340,0]
[341,0]
[342,0]
[343,0]
[344,0]
[345,0]
[346,0]
[347,0]
[348,0]
[349,0]
[350,0]
[351,0]
[352,0]
[353,0]
[354,0]
[355,0]
[356,0]
[357,0]
[358,0]
[359,0]
[360,0]
[361,0]
[362,0]
[363,0]
[364,0]
[365,0]
[366,0]
[367,0]
[368,0]
[369,0]
[370,0]
[371,0]
[372,0]
[373,0]
[374,0]
[375,0]
[376,0]
[377,0]
[378,0]
[379,0]
[380,0]
[381,0]
[382,0]
[383,0]
[384,0]
[385,0]
[386,{"$f":"HLOOKUP($B$3,$C$12:$F$506,A397,FALSE)","v":0}]
[387,0]
[388,0]
[389,0]
[390,0]
[391,0]
[392,0]
[393,0]
[394,0]
[395,0]
[396,0]
[397,0]
[398,0]
[399,0]
[400,0]
[401,0]
[402,0]
[403,0]
[404,0]
[405,0]
[406,0]
[407,0]
[408,0]
[409,0]
[410,0]
[411,0]
[412,0]
[413,0]
[414,0]
[415,0]
[416,0]
[417,0]
[418,0]
[419,0]
[420,0]
[421,0]
[422,0]
[423,0]
[424,0]
[425,0]
[426,0]
[427,0]
[428,0]
[429,0]
[430,0]
[431,0]
[432,0]
[433,0]
[434,0]
[435,0]
[436,0]
[437,0]
[438,0]
[439,0]
[440,0]
[441,0]
[442,0]
[443,0]
[444,0]
[445,0]
[446,0]
[447,0]
[448,0]
[449,0]
[450,{"$f":"HLOOKUP($B$3,$C$12:$F$506,A461,FALSE)","v":0}]
[451,0]
[452,0]
[453,0]
[454,0]
[455,0]
[456,0]
[457,0]
[458,0]
[459,0]
[460,0]
[461,0]
[462,0]
[463,0]
[464,0]
[465,0]
[466,0]
[467,0]
[468,0]
[469,0]
[470,0]
[471,0]
[472,0]
[473,0]
[474,0]
[475,0]
[476,0]
[477,0]
[478,0]
[479,0]
[480,0]
[481,0]
[482,0]
[483,0]
[484,0]
[485,0]
[486,0]
[487,0]
[488,0]
[489,0]
[490,0]
[491,0]
[492,0]
[493,0]
[494,0]
[495,0]

{"sheet":"Calendar Backup","index":4,"n_rows":24,"n_cols":35,"rows_kept":24,"cut":false,"hidden":true,"merged":[[0,3,0,34]]}
[null,null,null,"Auswahl der gesetzlichen Feiertage \n(mit einem kleinen x ankreuzen)"]
[null,null,null,"Jan",1,2,3,4,5,6,7,8,9,10,11,12,13,14,15,16,17,18,19,20,21,22,23,24,25,26,27,28,29,30,31]
[]
[null,null,null,"Feb",1,2,3,4,5,6,7,8,9,10,11,12,13,14,15,16,17,18,19,20,21,22,23,24,25,26,27,28,29]
[]
[null,null,null,"Mrz",1,2,3,4,5,6,7,8,9,10,11,12,13,14,15,16,17,18,19,20,21,22,23,24,25,26,27,28,29,30,31]
[]
[null,null,null,"Apr",1,2,3,4,5,6,7,8,9,10,11,12,13,14,15,16,17,18,19,20,21,22,23,24,25,26,27,28,29,30]
[]
[null,null,null,"Mai",1,2,3,4,5,6,7,8,9,10,11,12,13,14,15,16,17,18,19,20,21,22,23,24,25,26,27,28,29,30,31]
[]
[null,null,null,"Jun",1,2,3,4,5,6,7,8,9,10,11,12,13,14,15,16,17,18,19,20,21,22,23,24,25,26,27,28,29,30]
[]
[null,null,null,"Jul",1,2,3,4,5,6,7,8,9,10,11,12,13,14,15,16,17,18,19,20,21,22,23,24,25,26,27,28,29,30,31]
[]
[null,null,null,"Aug",1,2,3,4,5,6,7,8,9,10,11,12,13,14,15,16,17,18,19,20,21,22,23,24,25,26,27,28,29,30,31]
[]
[null,null,null,"Sep",1,2,3,4,5,6,7,8,9,10,11,12,13,14,15,16,17,18,19,20,21,22,23,24,25,26,27,28,29,30]
[]
[null,null,null,"Okt",1,2,3,4,5,6,7,8,9,10,11,12,13,14,15,16,17,18,19,20,21,22,23,24,25,26,27,28,29,30,31]
[]
[null,null,null,"Nov",1,2,3,4,5,6,7,8,9,10,11,12,13,14,15,16,17,18,19,20,21,22,23,24,25,26,27,28,29,30]
[]
[null,null,null,"Dez",1,2,3,4,5,6,7,8,9,10,11,12,13,14,15,16,17,18,19,20,21,22,23,24,25,26,27,28,29,30,31]

{"sheet":"Timesheet Backup","index":5,"n_rows":1072,"n_cols":51,"rows_kept":1072,"cut":false,"hidden":true,"merged":[[25,34,25,37],[27,41,27,42],[32,30,32,31],[33,30,33,31],[34,1,34,31],[35,1,35,31],[4,1,4,2],[4,3,4,6],[4,15,4,16],[4,26,4,27],[8,1,8,4],[8,5,8,6],[8,27,8,31],[0,25,0,26],[1,0,1,31],[2,1,2,6],[3,1,3,2],[3,3,3,6],[3,15,3,16],[3,26,3,27],[0,13,0,14],[0,15,0,16],[0,17,0,18],[0,19,0,20],[0,21,0,22],[0,23,0,24],[0,0,0,2],[0,3,0,4],[0,5,0,6],[0,7,0,8],[0,9,0,10],[0,11,0,12],[38,22,38,23],[38,24,38,25],[38,26,38,27],[38,28,38,29],[38,30,38,31],[39,0,39,5],[39,6,39,7],[39,8,39,9],[39,10,39,11],[39,12,39,13],[36,1,36,31],[38,0,38,5],[38,6,38,7],[38,8,38,9],[38,10,38,11],[38,12,38,13],[38,14,38,15],[38,16,38,17],[38,18,38,19],[38,20,38,21],[40,30,40,31],[41,1,41,5],[41,6,41,7],[41,8,41,9],[41,10,41,11],[41,12,41,13],[41,14,41,15],[41,16,41,17],[41,18,41,19],[41,20,41,21],[40,18,40,19],[40,20,40,21],[40,22,40,23],[40,24,40,25],[40,26,40,27],[40,28,40,29],[39,26,39,27],[39,28,39,29],[39,30,39,31],[40,0,40,5],[40,6,40,7],[40,8,40,9],[40,10,40,11],[40,12,40,13],[40,14,40,15],[40,16,40,17],[39,14,39,15],[39,16,39,17],[39,18,39,19],[39,20,39,21],[39,22,39,23],[39,24,39,25],[42,26,42,27],[42,28,42,29],[42,30,42,31],[43,1,43,5],[43,6,43,7],[43,8,43,9],[43,10,43,11],[43,12,43,13],[43,14,43,15],[43,16,43,17],[42,14,42,15],[42,16,42,17],[42,18,42,19],[42,20,42,21],[42,22,42,23],[42,24,42,25],[41,22,41,23],[41,24,41,25],[41,26,41,27],[41,28,41,29],[41,30,41,31],[42,1,42,5],[42,6,42,7],[42,8,42,9],[42,10,42,11],[42,12,42,13],[44,22,44,23],[44,24,44,25],[44,26,44,27],[44,28,44,29],[44,30,44,31],[45,0,45,5],[45,6,45,7],[45,8,45,9],[45,10,45,11],[45,12,45,13],[43,30,43,31],[44,1,44,5],[44,6,44,7],[44,8,44,9],[44,10,44,11],[44,12,44,13],[44,14,44,15],[44,16,44,17],[44,18,44,19],[44,20,44,21],[43,18,43,19],[43,20,43,21],[43,22,43,23],[43,24,43,25],[43,26,43,27],[43,28,43,29],[46,30,46,31],[47,0,47,4],[47,6,47,7],[47,8,47,9],[47,10,47,11],[47,12,47,13],[47,14,47,15],[47,16,47,17],[47,18,47,19],[47,20,47,21],[46,18,46,19],[46,20,46,21],[46,22,46,23],[46,24,46,25],[46,26,46,27],[46,28,46,29],[45,26,45,27],[45,28,45,29],[45,30,45,31],[46,0,46,4],[46,6,46,7],[46,8,46,9],[46,10,46,11],[46,12,46,13],[46,14,46,15],[46,16,46,17],[45,14,45,15],[45,16,45,17],[45,18,45,19],[45,20,45,21],[45,22,45,23],[45,24,45,25],[48,24,48,25],[48,26,48,27],[48,28,48,29],[48,30,48,31],[49,0,49,4],[49,6,49,7],[49,8,49,9],[49,10,49,11],[49,12,49,13],[49,14,49,15],[48,12,48,13],[48,14,48,15],[48,16,48,17],[48,18,48,19],[48,20,48,21],[48,22,48,23],[47,22,47,23],[47,24,47,25],[47,26,47,27],[47,28,47,29],[47,30,47,31],[48,0,48,1],[48,2,48,4],[48,6,48,7],[48,8,48,9],[48,10,48,11],[50,20,50,21],[50,22,50,23],[50,24,50,25],[50,26,50,27],[50,28,50,29],[50,30,50,31],[49,28,49,29],[49,30,49,31],[50,0,50,4],[50,6,50,7],[50,8,50,9],[50,10,50,11],[50,12,50,13],[50,14,50,15],[50,16,50,17],[50,18,50,19],[49,16,49,17],[49,18,49,19],[49,20,49,21],[49,22,49,23],[49,24,49,25],[49,26,49,27],[52,20,52,21],[52,22,52,23],[52,24,52,25],[52,26,52,27],[52,28,52,29],[52,30,52,31],[51,28,51,29],[51,30,51,31],[52,0,52,4],[52,6,52,7],[52,8,52,9],[52,10,52,11],[52,12,52,13],[52,14,52,15],[52,16,52,17],[52,18,52,19],[51,16,51,17],[51,18,51,19],[51,20,51,21],[51,22,51,23],[51,24,51,25],[51,26,51,27],[51,0,51,4],[51,6,51,7],[51,8,51,9],[51,10,51,11],[51,12,51,13],[51,14,51,15],[54,20,54,21],[54,22,54,23],[54,24,54,25],[54,26,54,27],[54,28,54,29],[54,30,54,31],[53,28,53,29],[53,30,53,31],[54,0,54,4],[54,6,54,7],[54,8,54,9],[54,10,54,11],[54,12,54,13],[54,14,54,15],[54,16,54,17],[54,18,54,19],[53,16,53,17],[53,18,53,19],[53,20,53,21],[53,22,53,23],[53,24,53,25],[53,26,53,27],[53,0,53,4],[53,6,53,7],[53,8,53,9],[53,10,53,11],[53,12,53,13],[53,14,53,15],[56,20,56,21],[56,22,56,23],[56,24,56,25],[56,26,56,27],[56,28,56,29],[56,30,56,31],[55,28,55,29],[55,30,55,31],[56,1,56,4],[56,6,56,7],[56,8,56,9],[56,10,56,11],[56,12,56,13],[56,14,56,15],[56,16,56,17],[56,18,56,19],[55,16,55,17],[55,18,55,19],[55,20,55,21],[55,22,55,23],[55,24,55,25],[55,26,55,27],[55,0,55,4],[55,6,55,7],[55,8,55,9],[55,10,55,11],[55,12,55,13],[55,14,55,15],[58,20,58,21],[58,22,58,23],[58,24,58,29],[58,30,58,31],[59,1,59,5],[59,6,59,7],[59,8,59,9],[59,10,59,11],[59,12,59,13],[59,14,59,15],[57,28,57,29],[57,30,57,31],[58,1,58,5],[58,6,58,7],[58,8,58,9],[58,10,58,11],[58,12,58,13],[58,14,58,15],[58,16,58,17],[58,18,58,19],[57,16,57,17],[57,18,57,19],[57,20,57,21],[57,22,57,23],[57,24,57,25],[57,26,57,27],[57,1,57,4],[57,6,57,7],[57,8,57,9],[57,10,57,11],[57,12,57,13],[57,14,57,15],[60,26,60,27],[60,28,60,29],[60,30,60,31],[61,1,61,4],[61,6,61,7],[61,8,61,9],[61,10,61,11],[61,12,61,13],[61,14,61,15],[61,16,61,17],[60,14,60,15],[60,16,60,17],[60,18,60,19],[60,20,60,21],[60,22,60,23],[60,24,60,25],[59,16,59,17],[59,18,59,19],[59,20,59,21],[59,22,59,23],[59,24,59,31],[60,1,60,5],[60,6,60,7],[60,8,60,9],[60,10,60,11],[60,12,60,13],[62,22,62,23],[62,24,62,25],[62,26,62,27],[62,28,62,29],[62,30,62,31],[63,1,63,5],[63,6,63,7],[63,8,63,9],[63,10,63,11],[63,12,63,13],[61,30,61,31],[62,1,62,5],[62,6,62,7],[62,8,62,9],[62,10,62,11],[62,12,62,13],[62,14,62,15],[62,16,62,17],[62,18,62,19],[62,20,62,21],[61,18,61,19],[61,20,61,21],[61,22,61,23],[61,24,61,25],[61,26,61,27],[61,28,61,29],[64,30,64,31],[65,0,66,0],[65,1,66,5],[65,6,66,7],[65,8,66,11],[65,12,66,13],[65,14,66,17],[65,18,66,19],[65,20,66,23],[65,24,66,25],[64,18,64,19],[64,20,64,21],[64,22,64,23],[64,24,64,25],[64,26,64,27],[64,28,64,29],[63,26,63,27],[63,28,63,29],[63,30,63,31],[64,1,64,5],[64,6,64,7],[64,8,64,9],[64,10,64,11],[64,12,64,13],[64,14,64,15],[64,16,64,17],[63,14,63,15],[63,16,63,17],[63,18,63,19],[63,20,63,21],[63,22,63,23],[63,24,63,25],[86,33,86,34],[95,30,95,31],[96,30,96,31],[97,1,97,31],[98,1,98,31],[99,1,99,31],[70,3,70,6],[70,40,70,41],[71,1,71,4],[71,5,71,6],[71,27,71,31],[81,33,81,34],[65,26,66,29],[65,30,66,31],[67,7,67,31],[68,1,68,6],[69,1,69,2],[69,3,69,6],[102,20,102,21],[102,22,102,23],[102,24,102,25],[102,26,102,27],[102,28,102,29],[102,30,102,31],[101,28,101,29],[101,30,101,31],[102,0,102,5],[102,6,102,7],[102,8,102,9],[102,10,102,11],[102,12,102,13],[102,14,102,15],[102,16,102,17],[102,18,102,19],[101,16,101,17],[101,18,101,19],[101,20,101,21],[101,22,101,23],[101,24,101,25],[101,26,101,27],[101,0,101,5],[101,6,101,7],[101,8,101,9],[101,10,101,11],[101,12,101,13],[101,14,101,15],[104,20,104,21],[104,22,104,23],[104,24,104,25],[104,26,104,27],[104,28,104,29],[104,30,104,31],[103,28,103,29],[103,30,103,31],[104,1,104,5],[104,6,104,7],[104,8,104,9],[104,10,104,11],[104,12,104,13],[104,14,104,15],[104,16,104,17],[104,18,104,19],[103,16,103,17],[103,18,103,19],[103,20,103,21],[103,22,103,23],[103,24,103,25],[103,26,103,27],[103,0,103,5],[103,6,103,7],[103,8,103,9],[103,10,103,11],[103,12,103,13],[103,14,103,15],[106,20,106,21],[106,22,106,23],[106,24,106,25],[106,26,106,27],[106,28,106,29],[106,30,106,31],[105,28,105,29],[105,30,105,31],[106,1,106,5],[106,6,106,7],[106,8,106,9],[106,10,106,11],[106,12,106,13],[106,14,106,15],[106,16,106,17],[106,18,106,19],[105,16,105,17],[105,18,105,19],[105,20,105,21],[105,22,105,23],[105,24,105,25],[105,26,105,27],[105,1,105,5],[105,6,105,7],[105,8,105,9],[105,10,105,11],[105,12,105,13],[105,14,105,15],[108,20,108,21],[108,22,108,23],[108,24,108,25],[108,26,108,27],[108,28,108,29],[108,30,108,31],[107,28,107,29],[107,30,107,31],[108,0,108,5],[108,6,108,7],[108,8,108,9],[108,10,108,11],[108,12,108,13],[108,14,108,15],[108,16,108,17],[108,18,108,19],[107,16,107,17],[107,18,107,19],[107,20,107,21],[107,22,107,23],[107,24,107,25],[107,26,107,27],[107,1,107,5],[107,6,107,7],[107,8,107,9],[107,10,107,11],[107,12,107,13],[107,14,107,15],[110,20,110,21],[110,22,110,23],[110,24,110,25],[110,26,110,27],[110,28,110,29],[110,30,110,31],[109,28,109,29],[109,30,109,31],[110,0,110,4],[110,6,110,7],[110,8,110,9],[110,10,110,11],[110,12,110,13],[110,14,110,15],[110,16,110,17],[110,18,110,19],[109,16,109,17],[109,18,109,19],[109,20,109,21],[109,22,109,23],[109,24,109,25],[109,26,109,27],[109,0,109,4],[109,6,109,7],[109,8,109,9],[109,10,109,11],[109,12,109,13],[109,14,109,15],[111,26,111,27],[111,28,111,29],[111,30,111,31],[112,0,112,4],[112,6,112,7],[112,8,112,9],[112,10,112,11],[112,12,112,13],[112,14,112,15],[112,16,112,17],[111,14,111,15],[111,16,111,17],[111,18,111,19],[111,20,111,21],[111,22,111,23],[111,24,111,25],[111,0,111,1],[111,2,111,4],[111,6,111,7],[111,8,111,9],[111,10,111,11],[111,12,111,13],[113,22,113,23],[113,24,113,25],[113,26,113,27],[113,28,113,29],[113,30,113,31],[114,0,114,4],[114,6,114,7],[114,8,114,9],[114,10,114,11],[114,12,114,13],[112,30,112,31],[113,0,113,4],[113,6,113,7],[113,8,113,9],[113,10,113,11],[113,12,113,13],[113,14,113,15],[113,16,113,17],[113,18,113,19],[113,20,113,21],[112,18,112,19],[112,20,112,21],[112,22,112,23],[112,24,112,25],[112,26,112,27],[112,28,112,29],[115,30,115,31],[116,0,116,4],[116,6,116,7],[116,8,116,9],[116,10,116,11],[116,12,116,13],[116,14,116,15],[116,16,116,17],[116,18,116,19],[116,20,116,21],[115,18,115,19],[115,20,115,21],[115,22,115,23],[115,24,115,25],[115,26,115,27],[115,28,115,29],[114,26,114,27],[114,28,114,29],[114,30,114,31],[115,0,115,4],[115,6,115,7],[115,8,115,9],[115,10,115,11],[115,12,115,13],[115,14,115,15],[115,16,115,17],[114,14,114,15],[114,16,114,17],[114,18,114,19],[114,20,114,21],[114,22,114,23],[114,24,114,25],[117,26,117,27],[117,28,117,29],[117,30,117,31],[118,0,118,4],[118,6,118,7],[118,8,118,9],[118,10,118,11],[118,12,118,13],[118,14,118,15],[118,16,118,17],[117,14,117,15],[117,16,117,17],[117,18,117,19],[117,20,117,21],[117,22,117,23],[117,24,117,25],[116,22,116,23],[116,24,116,25],[116,26,116,27],[116,28,116,29],[116,30,116,31],[117,0,117,4],[117,6,117,7],[117,8,117,9],[117,10,117,11],[117,12,117,13],[119,22,119,23],[119,24,119,25],[119,26,119,27],[119,28,119,29],[119,30,119,31],[120,1,120,4],[120,6,120,7],[120,8,120,9],[120,10,120,11],[120,12,120,13],[118,30,118,31],[119,1,119,4],[119,6,119,7],[119,8,119,9],[119,10,119,11],[119,12,119,13],[119,14,119,15],[119,16,119,17],[119,18,119,19],[119,20,119,21],[118,18,118,19],[118,20,118,21],[118,22,118,23],[118,24,118,25],[118,26,118,27],[118,28,118,29],[122,14,122,15],[122,16,122,17],[122,18,122,19],[122,20,122,21],[122,22,122,23],[122,24,122,31],[121,18,121,19],[121,20,121,21],[121,22,121,23],[121,24,121,29],[121,30,121,31],[122,1,122,5],[122,6,122,7],[122,8,122,9],[122,10,122,11],[122,12,122,13],[120,26,120,27],[120,28,120,29],[120,30,120,31],[121,1,121,5],[121,6,121,7],[121,8,121,9],[121,10,121,11],[121,12,121,13],[121,14,121,15],[121,16,121,17],[120,14,120,15],[120,16,120,17],[120,18,120,19],[120,20,120,21],[120,22,120,23],[120,24,120,25],[124,20,124,21],[124,22,124,23],[124,24,124,25],[124,26,124,27],[124,28,124,29],[124,30,124,31],[123,28,123,29],[123,30,123,31],[124,1,124,4],[124,6,124,7],[124,8,124,9],[124,10,124,11],[124,12,124,13],[124,14,124,15],[124,16,124,17],[124,18,124,19],[123,16,123,17],[123,18,123,19],[123,20,123,21],[123,22,123,23],[123,24,123,25],[123,26,123,27],[123,1,123,5],[123,6,123,7],[123,8,123,9],[123,10,123,11],[123,12,123,13],[123,14,123,15],[126,20,126,21],[126,22,126,23],[126,24,126,25],[126,26,126,27],[126,28,126,29],[126,30,126,31],[125,28,125,29],[125,30,125,31],[126,1,126,5],[126,6,126,7],[126,8,126,9],[126,10,126,11],[126,12,126,13],[126,14,126,15],[126,16,126,17],[126,18,126,19],[125,16,125,17],[125,18,125,19],[125,20,125,21],[125,22,125,23],[125,24,125,25],[125,26,125,27],[125,1,125,5],[125,6,125,7],[125,8,125,9],[125,10,125,11],[125,12,125,13],[125,14,125,15],[128,24,129,25],[128,26,129,29],[128,30,129,31],[130,7,130,31],[131,1,131,6],[131,7,133,7],[131,9,131,12],[131,14,131,17],[132,1,132,2],[132,3,132,6],[127,28,127,29],[127,30,127,31],[128,0,129,0],[128,1,129,5],[128,6,129,7],[128,8,129,11],[128,12,129,13],[128,14,129,17],[128,18,129,19],[128,20,129,23],[127,16,127,17],[127,18,127,19],[127,20,127,21],[127,22,127,23],[127,24,127,25],[127,26,127,27],[127,1,127,5],[127,6,127,7],[127,8,127,9],[127,10,127,11],[127,12,127,13],[127,14,127,15],[158,30,158,31],[159,30,159,31],[160,1,160,31],[161,1,161,31],[162,1,162,31],[164,0,164,5],[164,6,164,7],[164,8,164,9],[164,10,164,11],[164,12,164,13],[134,1,134,4],[134,5,134,6],[134,27,134,31],[134,33,134,34],[136,33,136,34],[149,33,149,34],[132,9,132,12],[132,14,132,17],[132,19,132,22],[132,24,132,31],[133,3,133,6],[133,9,133,12],[133,14,133,17],[133,19,133,22],[133,24,133,31],[165,30,165,31],[166,0,166,5],[166,6,166,7],[166,8,166,9],[166,10,166,11],[166,12,166,13],[166,14,166,15],[166,16,166,17],[166,18,166,19],[166,20,166,21],[165,18,165,19],[165,20,165,21],[165,22,165,23],[165,24,165,25],[165,26,165,27],[165,28,165,29],[164,26,164,27],[164,28,164,29],[164,30,164,31],[165,0,165,5],[165,6,165,7],[165,8,165,9],[165,10,165,11],[165,12,165,13],[165,14,165,15],[165,16,165,17],[164,14,164,15],[164,16,164,17],[164,18,164,19],[164,20,164,21],[164,22,164,23],[164,24,164,25],[167,26,167,27],[167,28,167,29],[167,30,167,31],[168,1,168,5],[168,6,168,7],[168,8,168,9],[168,10,168,11],[168,12,168,13],[168,14,168,15],[168,16,168,17],[167,14,167,15],[167,16,167,17],[167,18,167,19],[167,20,167,21],[167,22,167,23],[167,24,167,25],[166,22,166,23],[166,24,166,25],[166,26,166,27],[166,28,166,29],[166,30,166,31],[167,1,167,5],[167,6,167,7],[167,8,167,9],[167,10,167,11],[167,12,167,13],[169,22,169,23],[169,24,169,25],[169,26,169,27],[169,28,169,29],[169,30,169,31],[170,1,170,5],[170,6,170,7],[170,8,170,9],[170,10,170,11],[170,12,170,13],[168,30,168,31],[169,1,169,5],[169,6,169,7],[169,8,169,9],[169,10,169,11],[169,12,169,13],[169,14,169,15],[169,16,169,17],[169,18,169,19],[169,20,169,21],[168,18,168,19],[168,20,168,21],[168,22,168,23],[168,24,168,25],[168,26,168,27],[168,28,168,29],[171,30,171,31],[172,0,172,4],[172,6,172,7],[172,8,172,9],[172,10,172,11],[172,12,172,13],[172,14,172,15],[172,16,172,17],[172,18,172,19],[172,20,172,21],[171,18,171,19],[171,20,171,21],[171,22,171,23],[171,24,171,25],[171,26,171,27],[171,28,171,29],[170,26,170,27],[170,28,170,29],[170,30,170,31],[171,0,171,5],[171,6,171,7],[171,8,171,9],[171,10,171,11],[171,12,171,13],[171,14,171,15],[171,16,171,17],[170,14,170,15],[170,16,170,17],[170,18,170,19],[170,20,170,21],[170,22,170,23],[170,24,170,25],[173,26,173,27],[173,28,173,29],[173,30,173,31],[174,0,174,1],[174,2,174,4],[174,6,174,7],[174,8,174,9],[174,10,174,11],[174,12,174,13],[174,14,174,15],[173,14,173,15],[173,16,173,17],[173,18,173,19],[173,20,173,21],[173,22,173,23],[173,24,173,25],[172,22,172,23],[172,24,172,25],[172,26,172,27],[172,28,172,29],[172,30,172,31],[173,0,173,4],[173,6,173,7],[173,8,173,9],[173,10,173,11],[173,12,173,13],[175,20,175,21],[175,22,175,23],[175,24,175,25],[175,26,175,27],[175,28,175,29],[175,30,175,31],[174,28,174,29]],"merged_total":4921,"flags":["merged_cut"]}
[{"$f":"Labels!B164","v":"\nDen gewünschten Monat mit einem Klick\nwählen (gehe zu)\n\n\nDen gewünschten Monat mit einem Klick\nin die Druckvorschau versetzen (für Druck)"}]
[{"$f":"Labels!B17 &B5","v":"A r b e i t s z e i t k o n t r o l l e 2020"},null,null,null,null,null,null,null,null,null,null,null,null,null,null,null,null,null,null,null,null,null,null,null,null,null,null,null,null,null,null,null,2020,null,"Hilfstabelle",{"$f":"Labels!B77","v":"Jan"},{"$f":"Labels!B78","v":"Feb"},{"$f":"Labels!B79","v":"Mrz"},{"$f":"Labels!B80","v":"Apr"},{"$f":"Labels!B81","v":"Mai"},{"$f":"Labels!B82","v":"Jun"},{"$f":"Labels!B83","v":"Jul"},{"$f":"Labels!B84","v":"Aug"},{"$f":"Labels!B85","v":"Sep"},{"$f":"Labels!B86","v":"Okt"},{"$f":"Labels!B87","v":"Nov"},{"$f":"Labels!B88","v":"Dez"},{"$f":"Labels!B102","v":"Total"},null,"Legenden, Erklärungen & Meldungen"]
[{"$f":"Labels!B18","v":"Mitarbeiter/In"},{"$f":"Labels!B19","v":"Muster Peter"},null,null,null,null,null,null,null,null,null,null,null,null,null,null,null,null,null,null,null,null,null,null,null,null,null,null,null,null,null,null,null,null,{"$f":"Labels!B113","v":"a"},{"$f":"AG809","v":0},{"$f":"AG832","v":0},{"$f":"AG855","v":0},{"$f":"AG878","v":0},{"$f":"AG901","v":0},{"$f":"AG924","v":0},{"$f":"AG947","v":0},{"$f":"AG970","v":0},{"$f":"AG993","v":0},{"$f":"AG1016","v":0},{"$f":"AG1039","v":0},{"$f":"AG1062","v":0},{"$f":"SUM(AJ3:AU3)","v":0}]
[{"$f":"Labels!B20","v":"Anstellung %"},100,null,{"$f":"Labels!B89","v":"im Januar"},null,null,null,null,null,null,{"$f":"Labels!B22","v":"Saldo Vorjahresstunden (+)"},null,null,null,null,null,null,null,null,null,{"$f":"Labels!B24","v":"Ferienguthaben Vorjahr"},null,null,null,null,null,null,null,{"$f":"Labels!B26","v":"Stunden"},null,null,null,null,null,{"$f":"Labels!B115","v":"f"},{"$f":"AG806","v":0},{"$f":"AG829","v":0},{"$f":"AG852","v":0},{"$f":"AG875","v":0},{"$f":"AG898","v":0},{"$f":"AG921","v":0},{"$f":"AG944","v":0},{"$f":"AG967","v":0},{"$f":"AG990","v":0},{"$f":"AG1013","v":0},{"$f":"AG1036","v":0},{"$f":"AG1059","v":0},0,null,"Legende Stunden zu Zuschläge (DE)"]
[{"$f":"Labels!B21","v":"Saldo für das Jahr"},{"$f":"AG2","v":2020},null,{"$f":"IF($AE$64=0,0,$AE$64)","v":-2096},null,null,null,null,null,null,{"$f":"Labels!B23","v":"Saldo Vorjahresstunden (-)"},null,null,null,null,null,null,null,null,null,{"$f":"Labels!B25","v":"Ferienguthaben laufendes Jahr"},null,null,null,null,null,0,null,{"$f":"Labels!B26","v":"Stunden"},null,null,null,null,null,{"$f":"Labels!B120","v":"k"},{"$f":"AG810","v":0},{"$f":"AG833","v":0},{"$f":"AG856","v":0},{"$f":"AG879","v":0},{"$f":"AG902","v":0},{"$f":"AG925","v":0},{"$f":"AG948","v":0},{"$f":"AG971","v":0},{"$f":"AG994","v":0},{"$f":"AG1017","v":0},{"$f":"AG1040","v":0},{"$f":"AG1063","v":0},0]
[null,null,null,null,null,null,null,null,null,null,null,null,null,null,null,null,null,null,null,null,null,null,null,null,null,null,null,null,null,null,null,null,null,null,{"$f":"Labels!B122","v":"u"},0,0,0,0,0,0,0,0,0,0,0,0,0,null,"[0]","Feiertagzuschläge gemäss Anstellungsprozent"]
[{"$f":"\"01.01.\"&B5","v":"01.01.2020"},48,{"$f":"Labels!B27","v":"Max. Std / Woche gemäss GAV"},null,null,null,null,null,null,8,{"$f":"Labels!B28","v":"Std/Tag gemäss GAV"},null,null,null,null,{"$f":"IF(MOD(YEAR($A$7),400)=0,\"n\",IF(MOD(YEAR($A$7),100)=0,\"n\",IF(MOD(YEAR($A$7),4)=0,\"j\",\"n\")))","v":"j"},{"$f":"Labels!B29","v":"Schaltjahr (j/n)"},null,null,null,{"$f":"NETWORKDAYS(DATE(B5,1,1),DATE(B5,12,31))","v":262},{"$f":"Labels!B30","v":"Arbeitstage (Jahr)"},null,null,null,{"$f":"J7*U7","v":2096},{"$f":"Labels!B31","v":"Jahresbruttosollstunden"},null,null,null,null,null,null,null,{"$f":"Labels!B124","v":"s"},0,0,0,0,0,0,0,0,0,0,0,0,0,null,"[1]","Sonntag Tag Zuschlag"]
[null,null,null,null,null,null,null,null,null,null,null,null,null,null,null,null,null,null,null,null,null,null,null,null,null,null,null,null,null,null,null,null,null,null,{"$f":"Labels!B126","v":"m"},0,0,0,0,0,0,0,0,0,0,0,0,0,null,"[2]","Sonntag Nacht Zuschlag"]
[{"$f":"TEXT(AP28,\"MMMM\"&Labels!B13)","v":"Januar"},{"$f":"Labels!B32","v":"Saldo Monat + / -"},null,null,null,{"$f":"(AG12-(SUM(AG13:AG27)-AE34))*-1","v":-184},null,null,null,null,{"$f":"Labels!B33","v":" = "},{"$f":"Labels!B34","v":"Gelbe Felder müssen ausgefüllt werden (die übrigen werden automatisch berechnet)"},null,null,null,null,null,null,null,null,null,null,null,null,null,null,null,null,null,null,null,null,null,null,{"$f":"Labels!B130","v":"bs"},0,0,0,0,0,0,0,0,0,0,0,0,0,null,"[3]","Zuschläge für ft-Tagarbeit"]
[{"$f":"Labels!B35","v":"Tag"},{"$f":"AP28","v":"2020-01-01"},{"$f":"B10+1","v":"2020-01-02"},"2020-01-03","2020-01-04","2020-01-05","2020-01-06","2020-01-07","2020-01-08","2020-01-09","2020-01-10","2020-01-11","2020-01-12","2020-01-13","2020-01-14","2020-01-15","2020-01-16","2020-01-17","2020-01-18","2020-01-19","2020-01-20","2020-01-21","2020-01-22","2020-01-23","2020-01-24","2020-01-25","2020-01-26","2020-01-27","2020-01-28","2020-01-29","2020-01-30","2020-01-31",{"$f":"COUNT(B12:AF12)&\" \"&Labels!$B$63","v":"23 Tage"},null,{"$f":"Labels!B132","v":"ku"},0,0,0,0,0,0,0,0,0,0,0,0,0,null,"[4]","Zuschläge für ft-Nachtarbeit"]
[{"$f":"Labels!B36","v":"Kalenderwoche"},{"$f":"IF(B10=\"\",\"\",TRUNC((B10-DATE(YEAR(B10+3-MOD(B10-2,7)),1,MOD(B10-2,7)-9))/7))","v":1},{"$f":"IF(C10=\"\",\"\",TRUNC((C10-DATE(YEAR(C10+3-MOD(C10-2,7)),1,MOD(C10-2,7)-9))/7))","v":1},1,1,1,2,2,2,2,2,2,2,3,3,3,3,3,3,3,4,4,4,4,4,4,4,5,5,5,5,5,null,null,{"$f":"Labels!B128","v":"ka"},0,0,0,0,0,0,0,0,0,0,0,0,0,null,"[5]","Produktive Stunden Tag 06.00-20.00 Uhr"]
[{"$f":"Labels!B37","v":"Sollstunden"},{"$f":"IF(MOD(B10,7)>=2,$J$7*$B$4%,\"\")","v":8},8,8,"","",8,8,8,8,8,"","",8,8,8,8,8,"","",8,8,8,8,8,"","",8,8,8,8,8,{"$f":"SUM(B12:AF12)","v":184},null,{"$f":"Labels!B135","v":"kv"},{"$f":"AG807","v":0},{"$f":"AG830","v":0},{"$f":"AG853","v":0},{"$f":"AG876","v":0},{"$f":"AG899","v":0},{"$f":"AG922","v":0},{"$f":"AG945","v":0},{"$f":"AG968","v":0},{"$f":"AG991","v":0},{"$f":"AG1014","v":0},{"$f":"AG1037","v":0},{"$f":"AG1060","v":0},{"$f":"SUM(AJ12:AU12)","v":0},null,"[6]","Produktive Stunden Nacht  20.00-06.00 Uhr"]
[{"$f":"Labels!B38","v":"Absenz in Std"},{"$f":"B819","v":0},{"$f":"C819","v":0},0,0,0,0,0,0,0,0,0,0,0,0,0,0,0,0,0,0,0,0,0,0,0,0,0,0,0,0,0,{"$f":"SUM(AJ3:AJ12)","v":0},null,{"$f":"Labels!B145","v":"fe"},{"$f":"AG818","v":0},{"$f":"AG841","v":0},{"$f":"AG864","v":0},{"$f":"AG887","v":0},{"$f":"AG910","v":0},{"$f":"AG933","v":0},{"$f":"AG956","v":0},{"$f":"AG979","v":0},{"$f":"AG1002","v":0},{"$f":"AG1025","v":0},{"$f":"AG1048","v":0},{"$f":"AG1071","v":0},{"$f":"SUM(AJ13:AU13)","v":0},null,"[7]","Produktive Stunden im Monat ohne Zeitzuschläge und Absenzen"]
[{"$f":"Labels!B39","v":"Code"},{"$f":"IF(B819<>0,IF(MAX(B806:B818)<B819,Labels!$B$163,INDEX($AH$806:$AH$818,MATCH(MAX(B806:B818),B806:B818,0))),\"\")","v":""},{"$f":"IF(C819<>0,IF(MAX(C806:C818)<C819,Labels!$B$163,INDEX($AH$806:$AH$818,MATCH(MAX(C806:C818),C806:C818,0))),\"\")","v":""},{"$f":"IF(D819<>0,IF(MAX(D806:D818)<D819,Labels!$B$163,INDEX($AH$806:$AH$818,MATCH(MAX(D806:D818),D806:D818,0))),\"\")","v":""},{"$f":"IF(E819<>0,IF(MAX(E806:E818)<E819,Labels!$B$163,INDEX($AH$806:$AH$818,MATCH(MAX(E806:E818),E806:E818,0))),\"\")","v":""},{"$f":"IF(F819<>0,IF(MAX(F806:F818)<F819,Labels!$B$163,INDEX($AH$806:$AH$818,MATCH(MAX(F806:F818),F806:F818,0))),\"\")","v":""},{"$f":"IF(G819<>0,IF(MAX(G806:G818)<G819,Labels!$B$163,INDEX($AH$806:$AH$818,MATCH(MAX(G806:G818),G806:G818,0))),\"\")","v":""},{"$f":"IF(H819<>0,IF(MAX(H806:H818)<H819,Labels!$B$163,INDEX($AH$806:$AH$818,MATCH(MAX(H806:H818),H806:H818,0))),\"\")","v":""},{"$f":"IF(I819<>0,IF(MAX(I806:I818)<I819,Labels!$B$163,INDEX($AH$806:$AH$818,MATCH(MAX(I806:I818),I806:I818,0))),\"\")","v":""},{"$f":"IF(J819<>0,IF(MAX(J806:J818)<J819,Labels!$B$163,INDEX($AH$806:$AH$818,MATCH(MAX(J806:J818),J806:J818,0))),\"\")","v":""},{"$f":"IF(K819<>0,IF(MAX(K806:K818)<K819,Labels!$B$163,INDEX($AH$806:$AH$818,MATCH(MAX(K806:K818),K806:K818,0))),\"\")","v":""},{"$f":"IF(L819<>0,IF(MAX(L806:L818)<L819,Labels!$B$163,INDEX($AH$806:$AH$818,MATCH(MAX(L806:L818),L806:L818,0))),\"\")","v":""},{"$f":"IF(M819<>0,IF(MAX(M806:M818)<M819,Labels!$B$163,INDEX($AH$806:$AH$818,MATCH(MAX(M806:M818),M806:M818,0))),\"\")","v":""},{"$f":"IF(N819<>0,IF(MAX(N806:N818)<N819,Labels!$B$163,INDEX($AH$806:$AH$818,MATCH(MAX(N806:N818),N806:N818,0))),\"\")","v":""},{"$f":"IF(O819<>0,IF(MAX(O806:O818)<O819,Labels!$B$163,INDEX($AH$806:$AH$818,MATCH(MAX(O806:O818),O806:O818,0))),\"\")","v":""},{"$f":"IF(P819<>0,IF(MAX(P806:P818)<P819,Labels!$B$163,INDEX($AH$806:$AH$818,MATCH(MAX(P806:P818),P806:P818,0))),\"\")","v":""},{"$f":"IF(Q819<>0,IF(MAX(Q806:Q818)<Q819,Labels!$B$163,INDEX($AH$806:$AH$818,MATCH(MAX(Q806:Q818),Q806:Q818,0))),\"\")","v":""},{"$f":"IF(R819<>0,IF(MAX(R806:R818)<R819,Labels!$B$163,INDEX($AH$806:$AH$818,MATCH(MAX(R806:R818),R806:R818,0))),\"\")","v":""},{"$f":"IF(S819<>0,IF(MAX(S806:S818)<S819,Labels!$B$163,INDEX($AH$806:$AH$818,MATCH(MAX(S806:S818),S806:S818,0))),\"\")","v":""},{"$f":"IF(T819<>0,IF(MAX(T806:T818)<T819,Labels!$B$163,INDEX($AH$806:$AH$818,MATCH(MAX(T806:T818),T806:T818,0))),\"\")","v":""},{"$f":"IF(U819<>0,IF(MAX(U806:U818)<U819,Labels!$B$163,INDEX($AH$806:$AH$818,MATCH(MAX(U806:U818),U806:U818,0))),\"\")","v":""},{"$f":"IF(V819<>0,IF(MAX(V806:V818)<V819,Labels!$B$163,INDEX($AH$806:$AH$818,MATCH(MAX(V806:V818),V806:V818,0))),\"\")","v":""},{"$f":"IF(W819<>0,IF(MAX(W806:W818)<W819,Labels!$B$163,INDEX($AH$806:$AH$818,MATCH(MAX(W806:W818),W806:W818,0))),\"\")","v":""},{"$f":"IF(X819<>0,IF(MAX(X806:X818)<X819,Labels!$B$163,INDEX($AH$806:$AH$818,MATCH(MAX(X806:X818),X806:X818,0))),\"\")","v":""},{"$f":"IF(Y819<>0,IF(MAX(Y806:Y818)<Y819,Labels!$B$163,INDEX($AH$806:$AH$818,MATCH(MAX(Y806:Y818),Y806:Y818,0))),\"\")","v":""},{"$f":"IF(Z819<>0,IF(MAX(Z806:Z818)<Z819,Labels!$B$163,INDEX($AH$806:$AH$818,MATCH(MAX(Z806:Z818),Z806:Z818,0))),\"\")","v":""},{"$f":"IF(AA819<>0,IF(MAX(AA806:AA818)<AA819,Labels!$B$163,INDEX($AH$806:$AH$818,MATCH(MAX(AA806:AA818),AA806:AA818,0))),\"\")","v":""},{"$f":"IF(AB819<>0,IF(MAX(AB806:AB818)<AB819,Labels!$B$163,INDEX($AH$806:$AH$818,MATCH(MAX(AB806:AB818),AB806:AB818,0))),\"\")","v":""},{"$f":"IF(AC819<>0,IF(MAX(AC806:AC818)<AC819,Labels!$B$163,INDEX($AH$806:$AH$818,MATCH(MAX(AC806:AC818),AC806:AC818,0))),\"\")","v":""},{"$f":"IF(AD819<>0,IF(MAX(AD806:AD818)<AD819,Labels!$B$163,INDEX($AH$806:$AH$818,MATCH(MAX(AD806:AD818),AD806:AD818,0))),\"\")","v":""},{"$f":"IF(AE819<>0,IF(MAX(AE806:AE818)<AE819,Labels!$B$163,INDEX($AH$806:$AH$818,MATCH(MAX(AE806:AE818),AE806:AE818,0))),\"\")","v":""},{"$f":"IF(AF819<>0,IF(MAX(AF806:AF818)<AF819,Labels!$B$163,INDEX($AH$806:$AH$818,MATCH(MAX(AF806:AF818),AF806:AF818,0))),\"\")","v":""},null,null,{"$f":"Labels!B137","v":"kj"},{"$f":"AG808","v":0},{"$f":"AG831","v":0},{"$f":"AG854","v":0},{"$f":"AG877","v":0},{"$f":"AG900","v":0},{"$f":"AG923","v":0},{"$f":"AG946","v":0},{"$f":"AG969","v":0},{"$f":"AG992","v":0},{"$f":"AG1015","v":0},{"$f":"AG1038","v":0},{"$f":"AG1061","v":0},{"$f":"SUM(AJ14:AU14)","v":0},null,"[8]","Unproduktive Stunden (Feiertag, Absenzen)"]
[{"$f":"Labels!B40","v":"00.00-06.00h"},null,null,null,null,null,null,null,null,null,null,null,null,null,null,null,null,null,null,null,null,null,null,null,null,null,null,null,null,null,null,null,{"$f":"SUM(B15:AF15)","v":0},null,{"$f":"Labels!B118","v":"ft"},{"$f":"SUMIF($B$18:$AF$18,$AI$15,$B$19:$AF$19)","v":0},{"$f":"SUMIF($B$81:$AD$81,$AI$15,$B$82:$AD$82)","v":0},{"$f":"SUMIF($B$144:$AF$144,$AI$15,$B$145:$AF$145)","v":0},{"$f":"SUMIF($B$207:$AE$207,$AI$15,$B$208:$AE$208)","v":0},{"$f":"SUMIF($B$270:$AF$270,$AI$15,$B$271:$AF$271)","v":0},{"$f":"SUMIF($B$333:$AE$333,$AI$15,$B$334:$AE$334)","v":0},{"$f":"SUMIF($B$396:$AF$396,$AI$15,$B$397:$AF$397)","v":0},{"$f":"SUMIF($B$459:$AF$459,$AI$15,$B$460:$AF$460)","v":0},{"$f":"SUMIF($B$522:$AE$522,$AI$15,$B$523:$AE$523)","v":0},{"$f":"SUMIF($B$585:$AF$585,$AI$15,$B$586:$AF$586)","v":0},{"$f":"SUMIF($B$648:$AE$648,$AI$15,$B$649:$AE$649)","v":0},{"$f":"SUMIF($B$711:$AF$711,$AI$15,$B$712:$AF$712)","v":0},0,null,"[9]","Total  gearbeitete Std. im Monat mit Zeitzuschlägen und Absenzen abz. ausbezahlte Stunden"]
[{"$f":"Labels!B41","v":"06.00-20.00h"},null,null,null,null,null,null,null,null,null,null,null,null,null,null,null,null,null,null,null,null,null,null,null,null,null,null,null,null,null,null,null,{"$f":"SUM(B16:AF16)","v":0},null,{"$f":"Labels!B160","v":"Anzahl ft"},{"$f":"COUNTIF($B$18:$AF$18,$AI$15)","v":0},{"$f":"COUNTIF($B$81:$AD$81,$AI$15)","v":0},{"$f":"COUNTIF($B$144:$AF$144,$AI$15)","v":0},{"$f":"COUNTIF($B$207:$AE$207,$AI$15)","v":0},{"$f":"COUNTIF($B$270:$AF$270,$AI$15)","v":0},{"$f":"COUNTIF($B$333:$AE$333,$AI$15)","v":0},{"$f":"COUNTIF($B$396:$AF$396,$AI$15)","v":0},{"$f":"COUNTIF($B$459:$AF$459,$AI$15)","v":0},{"$f":"COUNTIF($B$522:$AE$522,$AI$15)","v":0},{"$f":"COUNTIF($B$585:$AF$585,$AI$15)","v":0},{"$f":"COUNTIF($B$648:$AE$648,$AI$15)","v":0},{"$f":"COUNTIF($B$711:$AF$711,$AI$15)","v":0},0,null,"[10]","Soll-Stunden"]
[{"$f":"Labels!B42","v":"20.00-24.00h"},null,null,null,null,null,null,null,null,null,null,null,null,null,null,null,null,null,null,null,null,null,null,null,null,null,null,null,null,null,null,null,{"$f":"SUM(B17:AF17)","v":0},null,{"$f":"Labels!B161","v":"Meldung"},{"$f":"IF($AV$16>9,\"(\" & $AV$16 & \" = \" & Labels!B117,\"\")","v":""},null,null,null,null,null,null,null,null,null,null,null,null,null,"[11]","Vergleich im Monat gearbeitete Std. inkl. Zeitzuschläge minus Zahlung Vorjahr zu Soll-Stunden + / -"]
[{"$f":"Labels!B43","v":"Feiertag \"ft\""},{"$f":"IF(WEEKDAY(B10,2)<=6,IF(KALENDER!E3=\"x\",Labels!$B$118,\"\"),\"\")","v":""},{"$f":"IF(WEEKDAY(C10,2)<=6,IF(KALENDER!F3=\"x\",Labels!$B$118,\"\"),\"\")","v":""},{"$f":"IF(WEEKDAY(D10,2)<=6,IF(KALENDER!G3=\"x\",Labels!$B$118,\"\"),\"\")","v":""},{"$f":"IF(WEEKDAY(E10,2)<=6,IF(KALENDER!H3=\"x\",Labels!$B$118,\"\"),\"\")","v":""},{"$f":"IF(WEEKDAY(F10,2)<=6,IF(KALENDER!I3=\"x\",Labels!$B$118,\"\"),\"\")","v":""},{"$f":"IF(WEEKDAY(G10,2)<=6,IF(KALENDER!J3=\"x\",Labels!$B$118,\"\"),\"\")","v":""},{"$f":"IF(WEEKDAY(H10,2)<=6,IF(KALENDER!K3=\"x\",Labels!$B$118,\"\"),\"\")","v":""},{"$f":"IF(WEEKDAY(I10,2)<=6,IF(KALENDER!L3=\"x\",Labels!$B$118,\"\"),\"\")","v":""},{"$f":"IF(WEEKDAY(J10,2)<=6,IF(KALENDER!M3=\"x\",Labels!$B$118,\"\"),\"\")","v":""},{"$f":"IF(WEEKDAY(K10,2)<=6,IF(KALENDER!N3=\"x\",Labels!$B$118,\"\"),\"\")","v":""},{"$f":"IF(WEEKDAY(L10,2)<=6,IF(KALENDER!O3=\"x\",Labels!$B$118,\"\"),\"\")","v":""},{"$f":"IF(WEEKDAY(M10,2)<=6,IF(KALENDER!P3=\"x\",Labels!$B$118,\"\"),\"\")","v":""},{"$f":"IF(WEEKDAY(N10,2)<=6,IF(KALENDER!Q3=\"x\",Labels!$B$118,\"\"),\"\")","v":""},{"$f":"IF(WEEKDAY(O10,2)<=6,IF(KALENDER!R3=\"x\",Labels!$B$118,\"\"),\"\")","v":""},{"$f":"IF(WEEKDAY(P10,2)<=6,IF(KALENDER!S3=\"x\",Labels!$B$118,\"\"),\"\")","v":""},{"$f":"IF(WEEKDAY(Q10,2)<=6,IF(KALENDER!T3=\"x\",Labels!$B$118,\"\"),\"\")","v":""},{"$f":"IF(WEEKDAY(R10,2)<=6,IF(KALENDER!U3=\"x\",Labels!$B$118,\"\"),\"\")","v":""},{"$f":"IF(WEEKDAY(S10,2)<=6,IF(KALENDER!V3=\"x\",Labels!$B$118,\"\"),\"\")","v":""},{"$f":"IF(WEEKDAY(T10,2)<=6,IF(KALENDER!W3=\"x\",Labels!$B$118,\"\"),\"\")","v":""},{"$f":"IF(WEEKDAY(U10,2)<=6,IF(KALENDER!X3=\"x\",Labels!$B$118,\"\"),\"\")","v":""},{"$f":"IF(WEEKDAY(V10,2)<=6,IF(KALENDER!Y3=\"x\",Labels!$B$118,\"\"),\"\")","v":""},{"$f":"IF(WEEKDAY(W10,2)<=6,IF(KALENDER!Z3=\"x\",Labels!$B$118,\"\"),\"\")","v":""},{"$f":"IF(WEEKDAY(X10,2)<=6,IF(KALENDER!AA3=\"x\",Labels!$B$118,\"\"),\"\")","v":""},{"$f":"IF(WEEKDAY(Y10,2)<=6,IF(KALENDER!AB3=\"x\",Labels!$B$118,\"\"),\"\")","v":""},{"$f":"IF(WEEKDAY(Z10,2)<=6,IF(KALENDER!AC3=\"x\",Labels!$B$118,\"\"),\"\")","v":""},{"$f":"IF(WEEKDAY(AA10,2)<=6,IF(KALENDER!AD3=\"x\",Labels!$B$118,\"\"),\"\")","v":""},{"$f":"IF(WEEKDAY(AB10,2)<=6,IF(KALENDER!AE3=\"x\",Labels!$B$118,\"\"),\"\")","v":""},{"$f":"IF(WEEKDAY(AC10,2)<=6,IF(KALENDER!AF3=\"x\",Labels!$B$118,\"\"),\"\")","v":""},{"$f":"IF(WEEKDAY(AD10,2)<=6,IF(KALENDER!AG3=\"x\",Labels!$B$118,\"\"),\"\")","v":""},{"$f":"IF(WEEKDAY(AE10,2)<=6,IF(KALENDER!AH3=\"x\",Labels!$B$118,\"\"),\"\")","v":""},{"$f":"IF(WEEKDAY(AF10,2)<=6,IF(KALENDER!AI3=\"x\",Labels!$B$118,\"\"),\"\")","v":""},null,"[0]","Bez VoJa",{"$f":"$AE$33","v":0},{"$f":"$AE$96","v":0},{"$f":"$AE$159","v":0},{"$f":"$AE$222","v":0},{"$f":"$AE$285","v":0},{"$f":"$AE$348","v":0},{"$f":"$AE$411","v":0},{"$f":"$AE$474","v":0},{"$f":"$AE$537","v":0},null,null,null,{"$f":"SUM(AJ18:AU18)","v":0}]
[{"$f":"Labels!B44","v":"Gutschrift \"ft\""},{"$f":"IF(AND(B18=Labels!$B$118,WEEKDAY(B10,2)<6),$J$7*$B$4%,\"\")","v":""},{"$f":"IF(AND(C18=Labels!$B$118,WEEKDAY(C10,2)<6),$J$7*$B$4%,\"\")","v":""},{"$f":"IF(AND(D18=Labels!$B$118,WEEKDAY(D10,2)<6),$J$7*$B$4%,\"\")","v":""},{"$f":"IF(AND(E18=Labels!$B$118,WEEKDAY(E10,2)<6),$J$7*$B$4%,\"\")","v":""},{"$f":"IF(AND(F18=Labels!$B$118,WEEKDAY(F10,2)<6),$J$7*$B$4%,\"\")","v":""},{"$f":"IF(AND(G18=Labels!$B$118,WEEKDAY(G10,2)<6),$J$7*$B$4%,\"\")","v":""},{"$f":"IF(AND(H18=Labels!$B$118,WEEKDAY(H10,2)<6),$J$7*$B$4%,\"\")","v":""},{"$f":"IF(AND(I18=Labels!$B$118,WEEKDAY(I10,2)<6),$J$7*$B$4%,\"\")","v":""},{"$f":"IF(AND(J18=Labels!$B$118,WEEKDAY(J10,2)<6),$J$7*$B$4%,\"\")","v":""},{"$f":"IF(AND(K18=Labels!$B$118,WEEKDAY(K10,2)<6),$J$7*$B$4%,\"\")","v":""},{"$f":"IF(AND(L18=Labels!$B$118,WEEKDAY(L10,2)<6),$J$7*$B$4%,\"\")","v":""},{"$f":"IF(AND(M18=Labels!$B$118,WEEKDAY(M10,2)<6),$J$7*$B$4%,\"\")","v":""},{"$f":"IF(AND(N18=Labels!$B$118,WEEKDAY(N10,2)<6),$J$7*$B$4%,\"\")","v":""},{"$f":"IF(AND(O18=Labels!$B$118,WEEKDAY(O10,2)<6),$J$7*$B$4%,\"\")","v":""},{"$f":"IF(AND(P18=Labels!$B$118,WEEKDAY(P10,2)<6),$J$7*$B$4%,\"\")","v":""},{"$f":"IF(AND(Q18=Labels!$B$118,WEEKDAY(Q10,2)<6),$J$7*$B$4%,\"\")","v":""},{"$f":"IF(AND(R18=Labels!$B$118,WEEKDAY(R10,2)<6),$J$7*$B$4%,\"\")","v":""},{"$f":"IF(AND(S18=Labels!$B$118,WEEKDAY(S10,2)<6),$J$7*$B$4%,\"\")","v":""},{"$f":"IF(AND(T18=Labels!$B$118,WEEKDAY(T10,2)<6),$J$7*$B$4%,\"\")","v":""},{"$f":"IF(AND(U18=Labels!$B$118,WEEKDAY(U10,2)<6),$J$7*$B$4%,\"\")","v":""},{"$f":"IF(AND(V18=Labels!$B$118,WEEKDAY(V10,2)<6),$J$7*$B$4%,\"\")","v":""},{"$f":"IF(AND(W18=Labels!$B$118,WEEKDAY(W10,2)<6),$J$7*$B$4%,\"\")","v":""},{"$f":"IF(AND(X18=Labels!$B$118,WEEKDAY(X10,2)<6),$J$7*$B$4%,\"\")","v":""},{"$f":"IF(AND(Y18=Labels!$B$118,WEEKDAY(Y10,2)<6),$J$7*$B$4%,\"\")","v":""},{"$f":"IF(AND(Z18=Labels!$B$118,WEEKDAY(Z10,2)<6),$J$7*$B$4%,\"\")","v":""},{"$f":"IF(AND(AA18=Labels!$B$118,WEEKDAY(AA10,2)<6),$J$7*$B$4%,\"\")","v":""},{"$f":"IF(AND(AB18=Labels!$B$118,WEEKDAY(AB10,2)<6),$J$7*$B$4%,\"\")","v":""},{"$f":"IF(AND(AC18=Labels!$B$118,WEEKDAY(AC10,2)<6),$J$7*$B$4%,\"\")","v":""},{"$f":"IF(AND(AD18=Labels!$B$118,WEEKDAY(AD10,2)<6),$J$7*$B$4%,\"\")","v":""},{"$f":"IF(AND(AE18=Labels!$B$118,WEEKDAY(AE10,2)<6),$J$7*$B$4%,\"\")","v":""},{"$f":"IF(AND(AF18=Labels!$B$118,WEEKDAY(AF10,2)<6),$J$7*$B$4%,\"\")","v":""},{"$f":"SUM(B19:AF19)","v":0},null,"Bez LaJa",{"$f":"$AE$34","v":0},{"$f":"$AE$97","v":0},{"$f":"$AE$160","v":0},{"$f":"$AE$223","v":0},{"$f":"$AE$286","v":0},{"$f":"$AE$349","v":0},{"$f":"$AE$412","v":0},{"$f":"$AE$475","v":0},{"$f":"$AE$538","v":0},{"$f":"$AE$601","v":0},{"$f":"$AE$664","v":0},{"$f":"$AE$727","v":0},{"$f":"SUM(AJ19:AU19)","v":0}]
[{"$f":"Labels!B45","v":"Tagestotal"},{"$f":"SUM(B15:B17)","v":0},{"$f":"SUM(C15:C17)","v":0},0,0,0,0,0,0,0,0,0,0,0,0,0,0,0,0,0,0,0,0,0,0,0,0,0,0,0,0,0,null,null,"Zuschläge Nacht/Sonn-/Feiertag",{"$f":"SUM(AG26+AG27)","v":0},{"$f":"SUM(AG89+AG90)","v":0},{"$f":"SUM(AG152+AG153)","v":0},{"$f":"SUM(AG215+AG216)","v":0},{"$f":"SUM(AG278+AG279)","v":0},{"$f":"SUM(AG341+AG342)","v":0},{"$f":"SUM(AG404+AG405)","v":0},{"$f":"SUM(AG467+AG468)","v":0},{"$f":"SUM(AG530+AG531)","v":0},{"$f":"SUM(AG593+AG594)","v":0},{"$f":"SUM(AG656+AG657)","v":0},{"$f":"SUM(AG719+AG720)","v":0},{"$f":"SUM(AJ20:AU20)","v":0},null,"Legende Absenztypen (DE)"]
[{"$f":"Labels!B46","v":"."}]
[{"$f":"Labels!B47","v":"."},null,null,null,null,null,null,null,null,null,null,null,null,null,null,null,null,null,null,null,null,null,null,null,null,null,null,null,null,null,null,null,null,null,null,null,null,null,null,null,null,null,null,null,null,null,null,null,null,"a","Absenzen, Kurzabsenzen\nArt. 11 GAV"]
[{"$f":"Labels!B48","v":"Monatsübergang"},{"$f":"IF(WEEKDAY(B10)=1,TEXT(B10-1,\"MMM\"&Labels!B13),\"\")","v":""},null,null,null,null,null,null,null,null,null,null,null,null,null,null,null,null,null,null,null,null,null,null,null,null,null,null,null,null,null,{"$f":"IF(AND(WEEKDAY(AF10)>1,WEEKDAY(AF10)<7),TEXT(DATE($B$5,MONTH(AF10)+1,1),\"MMM\"&Labels!B13),\"\")","v":"Feb"},null,null,null,null,null,null,null,null,null,null,null,null,null,null,null,null,null,"f","Ferien Art. 12.1. GAV"]
[{"$f":"Labels!B49","v":"Wochentotal"},{"$f":"IF(WEEKDAY(B10)=7,SUMIF($B11:$AF11,B11,$B20:$AF20)+SUMIF($B74:$AD74,B11,$B83:$AD83),IF(WEEKDAY(B10)=1,SUMIF($B11:$AF11,B11,$B20:$AF20)+SUMIF($B74:$AD74,B11,$B83:$AD83),\"\"))","v":""},{"$f":"IF(WEEKDAY(C10)=7,SUMIF($B11:$AF11,C11,$B20:$AF20)+SUMIF($B74:$AD74,C11,$B83:$AD83),\"\")","v":""},"",0,"","","","","","",0,"","","","","","",0,"","","","","","",0,"","","","","",{"$f":"IF(WEEKDAY(AF10)=7,SUMIF($B11:$AF11,AF11,$B20:$AF20)+SUMIF($B74:$AD74,AF11,$B83:$AD83),AF23)","v":"Feb"},null,null,null,null,null,null,null,null,null,null,null,null,null,null,null,null,null,"k","Krankheit Art. 13 GAV"]
[{"$f":"Labels!B50","v":"Zeitzuschlag 1)"},{"$f":"IF(B32=\"FALSCH\",\"\",B32)","v":""},{"$f":"IF(C32=\"FALSCH\",\"\",C32)","v":""},"","","","","","","","","","","","","","","","","","","","","","","","","","","","","",{"$f":"SUM(B25:AF25)","v":0},null,null,null,null,null,null,null,null,null,null,null,null,null,null,null,null,"m","Militär, Zivilschutz\nArt. 16 GAV"]
[{"$f":"Labels!B51","v":"Zeitzuschlag 2)"},{"$f":"IF((B15+B17)=0,\"\",SUM(B15,B17))","v":""},{"$f":"IF((C15+C17)=0,\"\",SUM(C15,C17))","v":""},{"$f":"IF((D15+D17)=0,\"\",SUM(D15,D17))","v":""},{"$f":"IF((E15+E17)=0,\"\",SUM(E15,E17))","v":""},"","","","","","","","","","","","","","","","","","","","","","","","","","","",0,"[1]","Konfiguration (lokal)",null,null,null,null,null,null,null,null,null,null,null,null,null,null,"s","Schwanger-/Mutterschaft\nArt. 15 GAV"]
[{"$f":"Labels!B52","v":"Zeitzuschlag 3)"},{"$f":"SUM(B28:B31)","v":0},0,0,0,0,0,0,0,0,0,0,0,0,0,0,0,0,0,0,0,0,0,0,0,0,0,0,0,0,0,0,{"$f":"SUM(B27:AF27)","v":0},"[2]",null,null,null,null,null,null,null,null,null,null,null,null,null,null,null,"u","Unfall Art. 14 GAV"]
[{"$f":"Labels!B53","v":"Sonntag Tag"},{"$f":"IF(WEEKDAY(B10)=1,B16,\"\")","v":""},{"$f":"IF(WEEKDAY(C10)=1,C16,\"\")","v":""},"","",0,"","","","","","",0,"","","","","","",0,"","","","","","",0,"","","","","",0,"[3]","Erster Januar aktuelles Jahr",null,null,null,null,null,null,{"$f":"DATE(YEAR($A$7),MONTH($A$7),DAY($A$7))","v":"2020-01-01"},null,null,null,null,null,null,null,"bs","Berufsschule"]
[{"$f":"Labels!B54","v":"Sonntag Nacht"},{"$f":"IF(WEEKDAY(B10)=1,SUM(B15+B17),\"\")","v":""},{"$f":"IF(WEEKDAY(C10)=1,SUM(C15+C17),\"\")","v":""},"","",0,"","","","","","",0,"","","","","","",0,"","","","","","",0,"","","","","",0,"[4]","(Berechnungsgrundlage Kalender)",null,null,null,null,null,null,null,null,null,null,null,null,null,null,"fe","Fehlstunden zur Information ohne Berechnung in der Zusammenfassung"]
[{"$f":"Labels!B55","v":"ft-Tazuschlag"},{"$f":"IF(B18=Labels!$B$118,B16,\"\")","v":""},{"$f":"IF(C18=Labels!$B$118,C16,\"\")","v":""},{"$f":"IF(D18=Labels!$B$118,D16,\"\")","v":""},{"$f":"IF(E18=Labels!$B$118,E16,\"\")","v":""},{"$f":"IF(F18=Labels!$B$118,F16,\"\")","v":""},{"$f":"IF(G18=Labels!$B$118,G16,\"\")","v":""},{"$f":"IF(H18=Labels!$B$118,H16,\"\")","v":""},{"$f":"IF(I18=Labels!$B$118,I16,\"\")","v":""},{"$f":"IF(J18=Labels!$B$118,J16,\"\")","v":""},{"$f":"IF(K18=Labels!$B$118,K16,\"\")","v":""},{"$f":"IF(L18=Labels!$B$118,L16,\"\")","v":""},{"$f":"IF(M18=Labels!$B$118,M16,\"\")","v":""},{"$f":"IF(N18=Labels!$B$118,N16,\"\")","v":""},{"$f":"IF(O18=Labels!$B$118,O16,\"\")","v":""},{"$f":"IF(P18=Labels!$B$118,P16,\"\")","v":""},{"$f":"IF(Q18=Labels!$B$118,Q16,\"\")","v":""},{"$f":"IF(R18=Labels!$B$118,R16,\"\")","v":""},{"$f":"IF(S18=Labels!$B$118,S16,\"\")","v":""},{"$f":"IF(T18=Labels!$B$118,T16,\"\")","v":""},{"$f":"IF(U18=Labels!$B$118,U16,\"\")","v":""},{"$f":"IF(V18=Labels!$B$118,V16,\"\")","v":""},{"$f":"IF(W18=Labels!$B$118,W16,\"\")","v":""},{"$f":"IF(X18=Labels!$B$118,X16,\"\")","v":""},{"$f":"IF(Y18=Labels!$B$118,Y16,\"\")","v":""},{"$f":"IF(Z18=Labels!$B$118,Z16,\"\")","v":""},{"$f":"IF(AA18=Labels!$B$118,AA16,\"\")","v":""},{"$f":"IF(AB18=Labels!$B$118,AB16,\"\")","v":""},{"$f":"IF(AC18=Labels!$B$118,AC16,\"\")","v":""},{"$f":"IF(AD18=Labels!$B$118,AD16,\"\")","v":""},{"$f":"IF(AE18=Labels!$B$118,AE16,\"\")","v":""},{"$f":"IF(AF18=Labels!$B$118,AF16,\"\")","v":""},0,"[5]",null,null,null,null,null,null,null,null,null,null,null,null,null,null,null,"ka","Kurzabeit, Schlechtwetterausfälle"]
[{"$f":"Labels!B56","v":"ft-Nazuschlag"},{"$f":"IF(B18=Labels!$B$118,SUM(B15,B17),\"\")","v":""},{"$f":"IF(C18=Labels!$B$118,SUM(C15,C17),\"\")","v":""},{"$f":"IF(D18=Labels!$B$118,SUM(D15,D17),\"\")","v":""},{"$f":"IF(E18=Labels!$B$118,SUM(E15,E17),\"\")","v":""},{"$f":"IF(F18=Labels!$B$118,SUM(F15,F17),\"\")","v":""},{"$f":"IF(G18=Labels!$B$118,SUM(G15,G17),\"\")","v":""},{"$f":"IF(H18=Labels!$B$118,SUM(H15,H17),\"\")","v":""},{"$f":"IF(I18=Labels!$B$118,SUM(I15,I17),\"\")","v":""},{"$f":"IF(J18=Labels!$B$118,SUM(J15,J17),\"\")","v":""},{"$f":"IF(K18=Labels!$B$118,SUM(K15,K17),\"\")","v":""},{"$f":"IF(L18=Labels!$B$118,SUM(L15,L17),\"\")","v":""},{"$f":"IF(M18=Labels!$B$118,SUM(M15,M17),\"\")","v":""},{"$f":"IF(N18=Labels!$B$118,SUM(N15,N17),\"\")","v":""},{"$f":"IF(O18=Labels!$B$118,SUM(O15,O17),\"\")","v":""},{"$f":"IF(P18=Labels!$B$118,SUM(P15,P17),\"\")","v":""},{"$f":"IF(Q18=Labels!$B$118,SUM(Q15,Q17),\"\")","v":""},{"$f":"IF(R18=Labels!$B$118,SUM(R15,R17),\"\")","v":""},{"$f":"IF(S18=Labels!$B$118,SUM(S15,S17),\"\")","v":""},{"$f":"IF(T18=Labels!$B$118,SUM(T15,T17),\"\")","v":""},{"$f":"IF(U18=Labels!$B$118,SUM(U15,U17),\"\")","v":""},{"$f":"IF(V18=Labels!$B$118,SUM(V15,V17),\"\")","v":""},{"$f":"IF(W18=Labels!$B$118,SUM(W15,W17),\"\")","v":""},{"$f":"IF(X18=Labels!$B$118,SUM(X15,X17),\"\")","v":""},{"$f":"IF(Y18=Labels!$B$118,SUM(Y15,Y17),\"\")","v":""},{"$f":"IF(Z18=Labels!$B$118,SUM(Z15,Z17),\"\")","v":""},{"$f":"IF(AA18=Labels!$B$118,SUM(AA15,AA17),\"\")","v":""},{"$f":"IF(AB18=Labels!$B$118,SUM(AB15,AB17),\"\")","v":""},{"$f":"IF(AC18=Labels!$B$118,SUM(AC15,AC17),\"\")","v":""},{"$f":"IF(AD18=Labels!$B$118,SUM(AD15,AD17),\"\")","v":""},{"$f":"IF(AE18=Labels!$B$118,SUM(AE15,AE17),\"\")","v":""},{"$f":"IF(AF18=Labels!$B$118,SUM(AF15,AF17),\"\")","v":""},0,"[6]","Hilfszelle Feiertage",null,null,null,null,null,null,null,{"$f":"Labels!$B$118","v":"ft"},null,null,null,null,null,null,"kj","Kompensation laufendes Jahr siehe  Zusammenfassung"]
[{"$f":"Labels!B57","v":"Zuschlag  blind (Wochentotal)"},{"$f":"IF(OR(ISTEXT(B24),B24=\"\",B24<$B$7),\"\",ROUND(((B24-$B$7)*25%)/25,4)*25)","v":""},{"$f":"IF(OR(ISTEXT(C24),C24=\"\",C24<$B$7),\"\",ROUND(((C24-$B$7)*25%)/25,4)*25)","v":""},"","","","","","","","","","","","","","","","","","","","","","","","","","","","","",{"$f":"AG16","v":0},"[7]",null,null,null,null,null,null,null,null,null,null,null,null,null,null,null,"ku","Kurse"]
[null,{"$f":"Labels!B58","v":"1)   25% Zeitzuschlag für Überschreitung Wochentotal"},null,null,null,null,null,null,null,null,null,{"$f":"Labels!B59","v":"2) 100% Zeitzuschlag für Nachtarbeit"},null,null,null,null,null,null,null,{"$f":"Labels!B61","v":"Eingabe der ausbezahlten Stunden Vorjahressaldo"},null,null,null,null,null,null,null,null,null,null,null,null,{"$f":"SUM(AG15+AG17)","v":0},"[8]","aktueller Kalender",null,"calendar",null,null,null,null,null,"KALENDER",null,null,null,null,null,null,"kv","Kompensation Vorjahressaldo für Abrechnung in der Zusammenfassung"]
[null,{"$f":"Labels!B60","v":"3) 100% Zeitzuschlag für Sonn- und Feiertagsarbeit"},null,null,null,null,null,null,null,null,null,null,null,null,null,null,null,null,null,{"$f":"Labels!B62","v":"Eingabe der ausbezahlten Stunden laufendes Jahr (Überstunden)"},null,null,null,null,null,null,null,null,null,null,null,null,{"$f":"SUM(AG15:AG17)","v":0},"[9]"]
[{"$f":"Labels!B159","v":"Bemerkungen"},null,null,null,null,null,null,null,null,null,null,null,null,null,null,null,null,null,null,null,null,null,null,null,null,null,null,null,null,null,null,null,{"$f":"SUM(AG13+AG19)","v":0},"[10]"]
[null,null,null,null,null,null,null,null,null,null,null,null,null,null,null,null,null,null,null,null,null,null,null,null,null,null,null,null,null,null,null,null,{"$f":"SUM(AG13:AG27)","v":0},"[11]","alter Kalender",null,"calendar1",null,null,null,null,null,"Kalender Müller"]
[null,null,null,null,null,null,null,null,null,null,null,null,null,null,null,null,null,null,null,null,null,null,null,null,null,null,null,null,null,null,null,null,{"$f":"AG12","v":184},null,"neuer Kalender",null,"calendar",null,null,null,null,null,"KALENDER",null,null,null,null,null,null,"Meldungen & Beschriftungen"]
[null,null,null,null,null,null,null,null,null,null,null,null,null,null,null,null,null,null,null,null,null,null,null,null,null,null,null,null,null,null,null,null,{"$f":"SUM(AG36-AG12)","v":-184}]
[{"$f":"Labels!B103","v":"Zusammenstellung"},null,null,null,null,null,{"$f":"Labels!B77","v":"Jan"},null,{"$f":"Labels!B78","v":"Feb"},null,{"$f":"Labels!B79","v":"Mrz"},null,{"$f":"Labels!B80","v":"Apr"},null,{"$f":"Labels!B81","v":"Mai"},null,{"$f":"Labels!B82","v":"Jun"},null,{"$f":"Labels!B83","v":"Jul"},null,{"$f":"Labels!B84","v":"Aug"},null,{"$f":"Labels!B85","v":"Sep"},null,{"$f":"Labels!B86","v":"Okt"},null,{"$f":"Labels!B87","v":"Nov"},null,{"$f":"Labels!B88","v":"Dez"},null,{"$f":"Labels!B101","v":"Jahr"},null,null,null,null,null,null,null,null,null,null,null,null,null,null,null,null,null,null,null,{"$f":"\"Das Vorjahresguthaben beträgt noch \"&TEXT(W60,\"0.0000\")&\" Std.\"","v":"Das Vorjahresguthaben beträgt noch 0.0000 Std."}]
[{"$f":"Labels!B20","v":"Anstellung %"},null,null,null,null,null,{"$f":"IF($B$4=0,0,$B$4)","v":100},null,{"$f":"IF($B$70=0,0,$B$70)","v":100},null,{"$f":"IF($B$133=0,0,$B$133)","v":100},null,{"$f":"IF($B$196=0,0,$B$196)","v":100},null,{"$f":"IF($B$259=0,0,$B$259)","v":100},null,{"$f":"IF($B$322=0,0,$B$322)","v":100},null,{"$f":"IF($B$385=0,0,$B$385)","v":100},null,{"$f":"IF($B$448=0,0,$B$448)","v":100},null,{"$f":"IF($B$511=0,0,$B$511)","v":100},null,{"$f":"IF($B$574=0,0,$B$574)","v":100},null,{"$f":"IF($B$637=0,0,$B$637)","v":100},null,{"$f":"IF($B$700=0,0,$B$700)","v":100},null,null,null,null,null,null,null,null,null,null,null,null,null,null,null,null,null,null,null,null,null,"Total"]
[{"$f":"Labels!B104","v":"Sollstunden gemäss GAV"},null,null,null,null,null,{"$f":"IF($AG$37=0,0,$AG$37)","v":184},null,{"$f":"IF($AG$100=0,0,$AG$100)","v":160},null,{"$f":"IF($AG$138=0,0,$AG$138)","v":176},null,{"$f":"IF($AG$226=0,0,$AG$226)","v":176},null,{"$f":"IF($AG$289=0,0,$AG$289)","v":168},null,{"$f":"IF($AG$352=0,0,$AG$352)","v":176},null,{"$f":"IF($AG$415=0,0,$AG$415)","v":184},null,{"$f":"IF($AG$478=0,0,$AG$478)","v":168},null,{"$f":"IF($AG$541=0,0,$AG$541)","v":176},null,{"$f":"IF($AG$604=0,0,$AG$604)","v":176},null,{"$f":"IF($AG$667=0,0,$AG$667)","v":168},null,{"$f":"IF($AG$730=0,0,$AG$730)","v":184},null,{"$f":"SUM(G41:AD41)","v":2096}]
[{"$f":"Labels!B105","v":"Produktive Stunden"},{"$f":"Labels!B106","v":"06.00 - 20.00 Uhr"},null,null,null,null,{"$f":"IF($AG$32=0,0,$AG$32)","v":0},null,{"$f":"IF($AG$95=0,0,$AG$95)","v":0},null,{"$f":"IF($AG$158=0,0,$AG$158)","v":0},null,{"$f":"IF($AG$221=0,0,$AG$221)","v":0},null,{"$f":"IF($AG$284=0,0,$AG$284)","v":0},null,{"$f":"IF($AG$347=0,0,$AG$347)","v":0},null,{"$f":"IF($AG$410=0,0,$AG$410)","v":0},null,{"$f":"IF($AG$473=0,0,$AG$473)","v":0},null,{"$f":"IF($AG$536=0,0,$AG$536)","v":0},null,{"$f":"IF($AG$599=0,0,$AG$599)","v":0},null,{"$f":"IF($AG$662=0,0,$AG$662)","v":0},null,{"$f":"IF($AG$725=0,0,$AG$725)","v":0},null,{"$f":"SUM(G42:AD42)","v":0}]
[null,{"$f":"Labels!B107","v":"Nacht-, Sonn-, Feiertagsarbeit"},null,null,null,null,{"$f":"IF($AG$33=0,0,$AG$33)","v":0},null,{"$f":"IF($AG$96=0,0,$AG$96)","v":0},null,{"$f":"IF($AG$159=0,0,$AG$159)","v":0},null,{"$f":"IF($AG$222=0,0,$AG$222)","v":0},null,{"$f":"IF($AG$285=0,0,$AG$285)","v":0},null,{"$f":"IF($AG$348=0,0,$AG$348)","v":0},null,{"$f":"IF($AG$411=0,0,$AG$411)","v":0},null,{"$f":"IF($AG$474=0,0,$AG$474)","v":0},null,{"$f":"IF($AG$537=0,0,$AG$537)","v":0},null,{"$f":"IF($AG$600=0,0,$AG$600)","v":0},null,{"$f":"IF($AG$663=0,0,$AG$663)","v":0},null,{"$f":"IF($AG$726=0,0,$AG$726)","v":0},null,{"$f":"SUM(G43:AD43)","v":0}]
[{"$f":"Labels!B108","v":"Zeitzuschläge"},{"$f":"Labels!B109","v":"aus Wochentotal"},null,null,null,null,{"$f":"IF($AG$25=0,0,$AG$25)","v":0},null,{"$f":"IF($AG$88=0,0,$AG$88)","v":0},null,{"$f":"IF($AG$151=0,0,$AG$151)","v":0},null,{"$f":"IF($AG$214=0,0,$AG$214)","v":0},null,{"$f":"IF($AG$277=0,0,$AG$277)","v":0},null,{"$f":"IF($AG$340=0,0,$AG$340)","v":0},null,{"$f":"IF($AG$403=0,0,$AG$403)","v":0},null,{"$f":"IF($AG$466=0,0,$AG$466)","v":0},null,{"$f":"IF($AG$529=0,0,$AG$529)","v":0},null,{"$f":"IF($AG$592=0,0,$AG$592)","v":0},null,{"$f":"IF($AG$655=0,0,$AG$655)","v":0},null,{"$f":"IF($AG$718=0,0,$AG$718)","v":0},null,{"$f":"SUM(G44:AD44)","v":0}]
[null,{"$f":"Labels!B110","v":"aus Nacht-, Sonn-, Feiertagsarbeiten"},null,null,null,null,{"$f":"IF($AJ$20=0,0,$AJ$20)","v":0},null,{"$f":"IF($AK$20=0,0,$AK$20)","v":0},null,{"$f":"IF($AL$20=0,0,$AL$20)","v":0},null,{"$f":"IF($AM$20=0,0,$AM$20)","v":0},null,{"$f":"IF($AN$20=0,0,$AN$20)","v":0},null,{"$f":"IF($AO$20=0,0,$AO$20)","v":0},null,{"$f":"IF($AP$20=0,0,$AP$20)","v":0},null,{"$f":"IF($AQ$20=0,0,$AQ$20)","v":0},null,{"$f":"IF($AR$20=0,0,$AR$20)","v":0},null,{"$f":"IF($AS$20=0,0,$AS$20)","v":0},null,{"$f":"IF($AT$20=0,0,$AT$20)","v":0},null,{"$f":"IF($AU$20=0,0,$AU$20)","v":0},null,{"$f":"SUM(G45:AD45)","v":0}]
[{"$f":"Labels!B111","v":"Unproduktive Stunden"}]
[{"$f":"Labels!B112","v":"   Absenzen, Kurzabsenzen Art. 11 GAV"},null,null,null,null,{"$f":"Labels!B113","v":"a"},{"$f":"IF($AJ$3=0,0,$AJ$3)","v":0},null,{"$f":"IF($AK$3=0,0,$AK$3)","v":0},null,{"$f":"IF($AL$3=0,0,$AL$3)","v":0},null,{"$f":"IF($AM$3=0,0,$AM$3)","v":0},null,{"$f":"IF($AN$3=0,0,$AN$3)","v":0},null,{"$f":"IF($AO$3=0,0,$AO$3)","v":0},null,{"$f":"IF($AP$3=0,0,$AP$3)","v":0},null,{"$f":"IF($AQ$3=0,0,$AQ$3)","v":0},null,{"$f":"IF($AR$3=0,0,$AR$3)","v":0},null,{"$f":"IF($AS$3=0,0,$AS$3)","v":0},null,{"$f":"IF(AT$3=0,0,$AT$3)","v":0},null,{"$f":"IF($AU$3=0,0,$AU$3)","v":0},null,{"$f":"IF($AV$3=0,0,$AV$3)","v":0}]
[{"$f":"Labels!B114","v":"   Ferien Art. 12.1 GAV"},null,null,null,null,{"$f":"Labels!B115","v":"f"},{"$f":"IF($AJ$4=0,0,$AJ$4)","v":0},null,{"$f":"IF($AK$4=0,0,$AK$4)","v":0},null,{"$f":"IF($AL$4=0,0,$AL$4)","v":0},null,{"$f":"IF($AM$4=0,0,$AM$4)","v":0},null,{"$f":"IF($AN$4=0,0,$AN$4)","v":0},null,{"$f":"IF($AO$4=0,0,$AO$4)","v":0},null,{"$f":"IF($AP$4=0,0,$AP$4)","v":0},null,{"$f":"IF($AQ$4=0,0,$AQ$4)","v":0},null,{"$f":"IF($AR$4=0,0,$AR$4)","v":0},null,{"$f":"IF($AS$4=0,0,$AS$4)","v":0},null,{"$f":"IF($AT$4=0,0,$AT$4)","v":0},null,{"$f":"IF($AU$4=0,0,$AU$4)","v":0},null,{"$f":"IF($AV$4=0,0,$AV$4)","v":0}]
[{"$f":"Labels!B116","v":"   Feiertage Art. 12.2 GAV"},null,{"$f":"IF($AJ$17=\"\",\"\",$AJ$17)","v":""},null,null,{"$f":"Labels!B118","v":"ft"},{"$f":"IF($AJ$15=0,0,$AJ$15)","v":0},null,{"$f":"IF($AK$15=0,0,$AK$15)","v":0},null,{"$f":"IF($AL$15=0,0,$AL$15)","v":0},null,{"$f":"IF($AM$15=0,0,$AM$15)","v":0},null,{"$f":"IF($AN$15=0,0,$AN$15)","v":0},null,{"$f":"IF($AO$15=0,0,$AO$15)","v":0},null,{"$f":"IF($AP$15=0,0,$AP$15)","v":0},null,{"$f":"IF($AQ$15=0,0,$AQ$15)","v":0},null,{"$f":"IF($AR$15=0,0,$AR$15)","v":0},null,{"$f":"IF($AS$15=0,0,$AS$15)","v":0},null,{"$f":"IF($AT$15=0,0,$AT$15)","v":0},null,{"$f":"IF($AU$15=0,0,$AU$15)","v":0},null,{"$f":"IF($AV$15=0,0,$AV$15)","v":0}]
[{"$f":"Labels!B119","v":"   Krankheit Art. 13 GAV"},null,null,null,null,{"$f":"Labels!B120","v":"k"},{"$f":"IF($AJ$5=0,0,$AJ$5)","v":0},null,{"$f":"IF($AK$5=0,0,$AK$5)","v":0},null,{"$f":"IF($AL$5=0,0,$AL$5)","v":0},null,{"$f":"IF($AM$5=0,0,$AM$5)","v":0},null,{"$f":"IF($AN$5=0,0,$AN$5)","v":0},null,{"$f":"IF($AO$5=0,0,$AO$5)","v":0},null,{"$f":"IF($AP$5=0,0,$AP$5)","v":0},null,{"$f":"IF($AQ$5=0,0,$AQ$5)","v":0},null,{"$f":"IF($AR$5=0,0,$AR$5)","v":0},null,{"$f":"IF($AS$5=0,0,$AS$5)","v":0},null,{"$f":"IF($AT$5=0,0,$AT$5)","v":0},null,{"$f":"IF($AU$5=0,0,$AU$5)","v":0},null,{"$f":"IF($AV$5=0,0,$AV$5)","v":0}]
[{"$f":"Labels!B121","v":"   Unfall Art. 14 GAV"},null,null,null,null,{"$f":"Labels!B122","v":"u"},{"$f":"IF($AJ$6=0,0,$AJ$6)","v":0},null,{"$f":"IF($AK$6=0,0,$AK$6)","v":0},null,{"$f":"IF($AL$6=0,0,$AL$6)","v":0},null,{"$f":"IF($AM$6=0,0,$AM$6)","v":0},null,{"$f":"IF($AN$6=0,0,$AN$6)","v":0},null,{"$f":"IF($AO$6=0,0,$AO$6)","v":0},null,{"$f":"IF($AP$6=0,0,$AP$6)","v":0},null,{"$f":"IF($AQ$6=0,0,$AQ$6)","v":0},null,{"$f":"IF($AR$6=0,0,$AR$6)","v":0},null,{"$f":"IF($AS$6=0,0,$AS$6)","v":0},null,{"$f":"IF($AT$6=0,0,$AT$6)","v":0},null,{"$f":"IF($AU$6=0,0,$AU$6)","v":0},null,{"$f":"IF($AV$6=0,0,$AV$6)","v":0}]
[{"$f":"Labels!B123","v":"   Schwangerschaft/Mutterschaft Art. 15 GAV"},null,null,null,null,{"$f":"Labels!B124","v":"s"},{"$f":"IF($AJ$7=0,0,$AJ$7)","v":0},null,{"$f":"IF($AK$7=0,0,$AK$7)","v":0},null,{"$f":"IF($AL$7=0,0,$AL$7)","v":0},null,{"$f":"IF($AM$7=0,0,$AM$7)","v":0},null,{"$f":"IF($AN$7=0,0,$AN$7)","v":0},null,{"$f":"IF($AO$7=0,0,$AO$7)","v":0},null,{"$f":"IF($AP$7=0,0,$AP$7)","v":0},null,{"$f":"IF($AQ$7=0,0,$AQ$7)","v":0},null,{"$f":"IF($AR$7=0,0,$AR$7)","v":0},null,{"$f":"IF($AS$7=0,0,$AS$7)","v":0},null,{"$f":"IF($AT$7=0,0,$AT$7)","v":0},null,{"$f":"IF($AU$7=0,0,$AU$7)","v":0},null,{"$f":"IF($AV$7=0,0,$AV$7)","v":0}]
[{"$f":"Labels!B125","v":"   Militär/Beförderung/Zivilschutz Art. 16 GAV"},null,null,null,null,{"$f":"Labels!B126","v":"m"},{"$f":"IF($AJ$8=0,0,$AJ$8)","v":0},null,{"$f":"IF($AK$8=0,0,$AK$8)","v":0},null,{"$f":"IF($AL$8=0,0,$AL$8)","v":0},null,{"$f":"IF($AM$8=0,0,$AM$8)","v":0},null,{"$f":"IF($AN$8=0,0,$AN$8)","v":0},null,{"$f":"IF($AO$8=0,0,$AO$8)","v":0},null,{"$f":"IF($AP$8=0,0,$AP$8)","v":0},null,{"$f":"IF($AQ$8=0,0,$AQ$8)","v":0},null,{"$f":"IF($AR$8=0,0,$AR$8)","v":0},null,{"$f":"IF($AS$8=0,0,$AS$8)","v":0},null,{"$f":"IF($AT$8=0,0,$AT$8)","v":0},null,{"$f":"IF($AU$8=0,0,$AU$8)","v":0},null,{"$f":"IF($AV$8=0,0,$AV$8)","v":0}]
[{"$f":"Labels!B127","v":"   Kurzarbeit und Schlechtwetterausfälle"},null,null,null,null,{"$f":"Labels!B128","v":"ka"},{"$f":"IF($AJ$11=0,0,$AJ$11)","v":0},null,{"$f":"IF($AK$11=0,0,$AK$11)","v":0},null,{"$f":"IF($AL$11=0,0,$AL$11)","v":0},null,{"$f":"IF($AM$11=0,0,$AM$11)","v":0},null,{"$f":"IF($AN$11=0,0,$AN$11)","v":0},null,{"$f":"IF($AO$11=0,0,$AO$11)","v":0},null,{"$f":"IF($AP$11=0,0,$AP$11)","v":0},null,{"$f":"IF($AQ$11=0,0,$AQ$11)","v":0},null,{"$f":"IF($AR$11=0,0,$AR$11)","v":0},null,{"$f":"IF($AS$11=0,0,$AS$11)","v":0},null,{"$f":"IF($AT$11=0,0,$AT$11)","v":0},null,{"$f":"IF($AU$11=0,0,$AU$11)","v":0},null,{"$f":"IF($AV$11=0,0,$AV$11)","v":0}]
[{"$f":"Labels!B129","v":"   Berufsschule"},null,null,null,null,{"$f":"Labels!B130","v":"bs"},{"$f":"IF($AJ$9=0,0,$AJ$9)","v":0},null,{"$f":"IF($AK$9=0,0,$AK$9)","v":0},null,{"$f":"IF($AL$9=0,0,$AL$9)","v":0},null,{"$f":"IF($AM$9=0,0,$AM$9)","v":0},null,{"$f":"IF($AN$9=0,0,$AN$9)","v":0},null,{"$f":"IF($AO$9=0,0,$AO$9)","v":0},null,{"$f":"IF($AP$9=0,0,$AP$9)","v":0},null,{"$f":"IF($AQ$9=0,0,$AQ$9)","v":0},null,{"$f":"IF($AR$9=0,0,$AR$9)","v":0},null,{"$f":"IF($AS$9=0,0,$AS$9)","v":0},null,{"$f":"IF($AT$9=0,0,$AT$9)","v":0},null,{"$f":"IF($AU$9=0,0,$AU$9)","v":0},null,{"$f":"IF($AV$9=0,0,$AV$9)","v":0}]
[{"$f":"Labels!B131","v":"   Kurse"},null,null,null,null,{"$f":"Labels!B132","v":"ku"},{"$f":"IF($AJ$10=0,0,$AJ$10)","v":0},null,{"$f":"IF($AK$10=0,0,$AK$10)","v":0},null,{"$f":"IF($AL$10=0,0,$AL$10)","v":0},null,{"$f":"IF($AM$10=0,0,$AM$10)","v":0},null,{"$f":"IF($AN$10=0,0,$AN$10)","v":0},null,{"$f":"IF($AO$10=0,0,$AO$10)","v":0},null,{"$f":"IF($AP$10=0,0,$AP$10)","v":0},null,{"$f":"IF($AQ$10=0,0,$AQ$10)","v":0},null,{"$f":"IF($AR$10=0,0,$AR$10)","v":0},null,{"$f":"IF($AS$10=0,0,$AS$10)","v":0},null,{"$f":"IF($AT$10=0,0,$AT$10)","v":0},null,{"$f":"IF($AU$10=0,0,$AU$10)","v":0},null,{"$f":"IF($AV$10=0,0,$AV$10)","v":0}]
[{"$f":"Labels!B133","v":"Kompensations-Std"},{"$f":"Labels!B134","v":"aus Vorjahr"},null,null,null,{"$f":"Labels!B135","v":"kv"},{"$f":"IF($AJ$12=0,0,$AJ$12)","v":0},null,{"$f":"IF($AK$12=0,0,$AK$12)","v":0},null,{"$f":"IF($AL$12=0,0,$AL$12)","v":0},null,{"$f":"IF($AM$12=0,0,$AM$12)","v":0},null,{"$f":"IF($AN$12=0,0,$AN$12)","v":0},null,{"$f":"IF($AO$12=0,0,$AO$12)","v":0},null,{"$f":"IF($AP$12=0,0,$AP$12)","v":0},null,{"$f":"IF($AQ$12=0,0,$AQ$12)","v":0},null,{"$f":"IF($AR$12=0,0,$AR$12)","v":0},null,null,null,null,null,null,null,{"$f":"IF($AV$12=0,0,$AV$12)","v":0}]
[null,{"$f":"Labels!B136","v":"aus laufendem Jahr (Kontrolle)"},null,null,null,{"$f":"Labels!B137","v":"kj"},{"$f":"IF($AJ$14=0,0,$AJ$14)","v":0},null,{"$f":"IF($AK$14=0,0,$AK$14)","v":0},null,{"$f":"IF($AL$14=0,0,$AL$14)","v":0},null,{"$f":"IF($AM$14=0,0,$AM$14)","v":0},null,{"$f":"IF($AN$14=0,0,$AN$14)","v":0},null,{"$f":"IF($AO$14=0,0,$AO$14)","v":0},null,{"$f":"IF($AP$14=0,0,$AP$14)","v":0},null,{"$f":"IF($AQ$14=0,0,$AQ$14)","v":0},null,{"$f":"IF($AR$14=0,0,$AR$14)","v":0},null,{"$f":"IF($AS$14=0,0,$AS$14)","v":0},null,{"$f":"IF($AT$14=0,0,$AT$14)","v":0},null,{"$f":"IF($AU$14=0,0,$AU$14)","v":0},null,{"$f":"IF($AV$14=0,0,$AV$14)","v":0}]
[{"$f":"Labels!B138","v":"Auszahlung"},{"$f":"Labels!B139","v":"Stunden Vorjahressaldo"},null,null,null,null,{"$f":"IF($AJ$18=0,0,$AJ$18)","v":0},null,{"$f":"IF($AK$18=0,0,$AK$18)","v":0},null,{"$f":"IF($AL$18=0,0,$AL$18)","v":0},null,{"$f":"IF($AM$18=0,0,$AM$18)","v":0},null,{"$f":"IF($AN$18=0,0,$AN$18)","v":0},null,{"$f":"IF($AO$18=0,0,$AO$18)","v":0},null,{"$f":"IF($AP$18=0,0,$AP$18)","v":0},null,{"$f":"IF($AQ$18=0,0,$AQ$18)","v":0},null,{"$f":"IF($AR$18=0,0,$AR$18)","v":0},null,null,null,null,null,null,null,{"$f":"IF($AV$18=0,0,$AV$18)","v":0}]
[{"$f":"Labels!B140","v":"Differenz"},{"$f":"Labels!B141","v":"nach Kompensation und Auszahlung"},null,null,null,null,{"$f":"IF(ROUND($P$4,3)=0,0,$P$4-G57-G59)","v":0},null,{"$f":"IF(ROUND(G60,3)=0,0,G60-(SUM(I57+I59)))","v":0},null,{"$f":"IF(ROUND(I60,3)=0,0,I60-K59-K57)","v":0},null,{"$f":"IF(ROUND(K60,3)=0,0,K60-(SUM(M59+M57)))","v":0},null,{"$f":"IF(ROUND(M60,3)=0,0,M60-(SUM(O59+O57)))","v":0},null,{"$f":"IF(ROUND(O60,3)=0,0,O60-(SUM(Q59+Q57)))","v":0},null,{"$f":"IF(ROUND(Q60,3)=0,0,Q60-(SUM(S59+S57)))","v":0},null,{"$f":"IF(ROUND(S60,3)=0,0,S60-(SUM(U59+U57)))","v":0},null,{"$f":"IF(ROUND(U60,3)=0,0,U60-(SUM(W59+W57)))","v":0},null,{"$f":"IF($W$60<0.1,\"\",AY39)","v":""}]
[{"$f":"Labels!B138","v":"Auszahlung"},{"$f":"Labels!B142","v":"Stunden laufendes Jahr"},null,null,null,null,{"$f":"IF($AJ$19=0,0,$AJ$19)","v":0},null,{"$f":"IF($AK$19=0,0,$AK$19)","v":0},null,{"$f":"IF($AL$19=0,0,$AL$19)","v":0},null,{"$f":"IF($AM$19=0,0,$AM$19)","v":0},null,{"$f":"IF($AN$19=0,0,$AN$19)","v":0},null,{"$f":"IF($AO$19=0,0,$AO$19)","v":0},null,{"$f":"IF($AP$19=0,0,$AP$19)","v":0},null,{"$f":"IF($AQ$19=0,0,$AQ$19)","v":0},null,{"$f":"IF($AR$19=0,0,$AR$19)","v":0},null,{"$f":"IF($AS$19=0,0,$AS$19)","v":0},null,{"$f":"IF($AT$19=0,0,$AT$19)","v":0},null,{"$f":"IF($AU$19=0,0,$AU$19)","v":0},null,{"$f":"IF($AV$19=0,0,$AV$19)","v":0}]
[{"$f":"Labels!B143","v":"Fehlstunden"},{"$f":"Labels!B144","v":"laufendes Jahr (Kontrolle)"},null,null,null,{"$f":"Labels!B145","v":"fe"},{"$f":"IF($AJ$13=0,0,$AJ$13)","v":0},null,{"$f":"IF($AK$13=0,0,$AK$13)","v":0},null,{"$f":"IF($AL$13=0,0,$AL$13)","v":0},null,{"$f":"IF($AM$13=0,0,$AM$13)","v":0},null,{"$f":"IF($AN$13=0,0,$AN$13)","v":0},null,{"$f":"IF($AO$13=0,0,$AO$13)","v":0},null,{"$f":"IF($AP$13=0,0,$AP$13)","v":0},null,{"$f":"IF($AQ$13=0,0,$AQ$13)","v":0},null,{"$f":"IF($AR$13=0,0,$AR$13)","v":0},null,{"$f":"IF($AS$13=0,0,$AS$13)","v":0},null,{"$f":"IF($AT$13=0,0,$AT$13)","v":0},null,{"$f":"IF($AU$13=0,0,$AU$13)","v":0},null,{"$f":"IF($AV$13=0,0,$AV$13)","v":0}]
[{"$f":"Labels!B146","v":"Total inkl. Zeitzuschläge"},{"$f":"Labels!B147","v":"Stunden produktiv und unproduktiv"},null,null,null,null,{"$f":"IF($AG$36=0,0,$AG$36)","v":0},null,{"$f":"IF($AG$99=0,0,$AG$99)","v":0},null,{"$f":"IF($AG$162=0,0,$AG$162)","v":0},null,{"$f":"IF($AG$225=0,0,$AG$225)","v":0},null,{"$f":"IF($AG$288=0,0,$AG$288)","v":0},null,{"$f":"IF($AG$351=0,0,$AG$351)","v":0},null,{"$f":"IF($AG$414=0,0,$AG$414)","v":0},null,{"$f":"IF($AG$477=0,0,$AG$477)","v":0},null,{"$f":"IF($AG$540=0,0,$AG$540)","v":0},null,{"$f":"IF($AG$603=0,0,$AG$603)","v":0},null,{"$f":"IF($AG$666=0,0,$AG$666)","v":0},null,{"$f":"IF($AG$729=0,0,$AG$729)","v":0},null,{"$f":"SUM($G$63:$AD$63)","v":0}]
[{"$f":"Labels!B148","v":"Vergleich"},{"$f":"Labels!B149","v":"Stunden zu Soll-Stunden (inkl. allfälli-\nge Minusstunden Vorjahr)"},null,null,null,null,{"$f":"IF($AG$38=0,0,$AG$38)-$AE$34+$P$5","v":-184},null,{"$f":"IF($AG$101=0,0,$AG$101)-$AE$97","v":-160},null,{"$f":"IF($AG$164=0,0,$AG$164)-$AE$160","v":-176},null,{"$f":"IF($AG$227=0,0,$AG$227)-$AE$223","v":-176},null,{"$f":"IF($AG$290=0,0,$AG$290)-$AE$286","v":-168},null,{"$f":"IF($AG$353=0,0,$AG$353)-$AE$349","v":-176},null,{"$f":"IF($AG$416=0,0,$AG$416)-$AE$412","v":-184},null,{"$f":"IF($AG$479=0,0,$AG$479)-$AE$475","v":-168},null,{"$f":"IF($AG$542=0,0,$AG$542)-$AE$538","v":-176},null,{"$f":"IF($AG$605=0,0,$AG$605)-$AE$601","v":-176},null,{"$f":"IF($AG$668=0,0,$AG$668)-$AE$664","v":-168},null,{"$f":"IF($AG$731=0,0,$AG$731)-$AE$727","v":-184},null,{"$f":"SUM($G$64:$AD$64)","v":-2096}]
[null,{"$f":"Labels!B151","v":"Stunden zu Soll-Stunden (kumuliert)"},null,null,null,null,{"$f":"IF(G40=0,0,$G$64)","v":-184},null,{"$f":"IF(I40=0,0,SUM($G$64:$J$64))","v":-344},null,{"$f":"IF(K40=0,0,SUM($G$64:$L$64))","v":-520},null,{"$f":"IF(M40=0,0,SUM($G$64:$N$64))","v":-696},null,{"$f":"IF(O40=0,0,SUM($G$64:$P$64))","v":-864},null,{"$f":"IF(Q40=0,0,SUM($G$64:$R$64))","v":-1040},null,{"$f":"IF(S40=0,0,SUM($G$64:$T$64))","v":-1224},null,{"$f":"IF(U40=0,0,SUM($G$64:$V$64))","v":-1392},null,{"$f":"IF(W40=0,0,SUM($G$64:$X$64))","v":-1568},null,{"$f":"IF(Y40=0,0,SUM($G$64:$Z$64))","v":-1744},null,{"$f":"IF(AA40=0,0,SUM($G$64:$AB$64))","v":-1912},null,{"$f":"IF(AC40=0,0,SUM($G$64:$AD$64))","v":-2096}]
[{"$f":"Labels!B153","v":"Ferienkontrolle"},{"$f":"Labels!B154","v":"Ferienguthaben Vorjahr"},null,null,null,null,{"$f":"IF($AA$4=0,0,$AA$4)","v":0},null,{"$f":"Labels!B155","v":"Ferienguthaben nach \nArt. 12.1 GAV"},null,null,null,{"$f":"IF($AA$5=0,0,$AA$5)","v":0},null,{"$f":"Labels!B156","v":"Ferienguthaben total"},null,null,null,{"$f":"SUM(G66+M66)","v":0},null,{"$f":"Labels!B157","v":"Ferien bezogen"},null,null,null,{"$f":"IF($AV$4=0,0,$AV$4)","v":0},null,{"$f":"Labels!B158","v":"Aktuelles Ferienguthaben"},null,null,null,{"$f":"IF(S66=0,0,S66-Y66)","v":0}]
[]
[]
[{"$f":"$A$3","v":"Mitarbeiter/In"},{"$f":"IF($B$3=\"\",\"\",$B$3)","v":"Muster Peter"},null,null,null,null,null,null,null,null,null,null,null,null,null,null,null,null,null,null,null,null,null,null,null,null,null,null,null,null,null,{"$f":"AF3","v":0}]
[{"$f":"$A$4","v":"Anstellung %"},100,null,{"$f":"Labels!B90","v":"im Februar"}]
[{"$f":"$A$5","v":"Saldo für das Jahr"},null,null,{"$f":"IF($AE$64=0,0,$AE$64)","v":-2096}]
[{"$f":"TEXT(DATE(YEAR(AP28),MONTH(AP28)+1,1),\"MMMM\"&Labels!B13)","v":"Februar"},{"$f":"$B$9","v":"Saldo Monat + / -"},null,null,null,{"$f":"(AG75-(SUM(AG76:AG90)-AE97))*-1","v":-160},null,null,null,null,{"$f":"$K$9","v":" = "},{"$f":"$L$9","v":"Gelbe Felder müssen ausgefüllt werden (die übrigen werden automatisch berechnet)"}]
[{"$f":"$A$10","v":"Tag"},{"$f":"AF10+1","v":"2020-02-01"},{"$f":"B73+1","v":"2020-02-02"},"2020-02-03","2020-02-04","2020-02-05","2020-02-06","2020-02-07","2020-02-08","2020-02-09","2020-02-10","2020-02-11","2020-02-12","2020-02-13","2020-02-14","2020-02-15","2020-02-16","2020-02-17","2020-02-18","2020-02-19","2020-02-20","2020-02-21","2020-02-22","2020-02-23","2020-02-24","2020-02-25","2020-02-26","2020-02-27","2020-02-28",{"$f":"IF(MOD($AE$95,4)=0,$AC$73+1,\"\")","v":"2020-02-29"},null,null,{"$f":"COUNT(B75:AF75)&\" \"&Labels!$B$63","v":"20 Tage"}]
[{"$f":"$A$11","v":"Kalenderwoche"},{"$f":"IF(B73=\"\",\"\",TRUNC((B73-DATE(YEAR(B73+3-MOD(B73-2,7)),1,MOD(B73-2,7)-9))/7))","v":5},5,6,6,6,6,6,6,6,7,7,7,7,7,7,7,8,8,8,8,8,8,8,9,9,9,9,9,9,""]
[{"$f":"$A$12","v":"Sollstunden"},{"$f":"IF(MOD(B73,7)>=2,$J$7*$B$70%,\"\")","v":""},"",8,8,8,8,8,"","",8,8,8,8,8,"","",8,8,8,8,8,"","",8,8,8,8,8,{"$f":"IF(AD73<>\"\",IF(MOD(AD73,7)>=2,$J$7*$B$70%,\"\"),\"\")","v":""},null,null,{"$f":"IF($AD$73=\"\",SUM(B75:AC75),SUM(B75:AF75))","v":160}]
[{"$f":"$A$13","v":"Absenz in Std"},{"$f":"B842","v":0},{"$f":"C842","v":0},0,0,0,0,0,0,0,0,0,0,0,0,0,0,0,0,0,0,0,0,0,0,0,0,0,0,{"$f":"IF(AD73<>\"\",AD842,\"\")","v":0},null,null,{"$f":"SUM(AK3:AK12)","v":0}]
[{"$f":"$A$14","v":"Code"},{"$f":"IF(B842<>0,IF(MAX(B829:B841)<B842,Labels!$B$163,INDEX($AH$829:$AH$841,MATCH(MAX(B829:B841),B829:B841,0))),\"\")","v":""},{"$f":"IF(C842<>0,IF(MAX(C829:C841)<C842,Labels!$B$163,INDEX($AH$829:$AH$841,MATCH(MAX(C829:C841),C829:C841,0))),\"\")","v":""},{"$f":"IF(D842<>0,IF(MAX(D829:D841)<D842,Labels!$B$163,INDEX($AH$829:$AH$841,MATCH(MAX(D829:D841),D829:D841,0))),\"\")","v":""},{"$f":"IF(E842<>0,IF(MAX(E829:E841)<E842,Labels!$B$163,INDEX($AH$829:$AH$841,MATCH(MAX(E829:E841),E829:E841,0))),\"\")","v":""},{"$f":"IF(F842<>0,IF(MAX(F829:F841)<F842,Labels!$B$163,INDEX($AH$829:$AH$841,MATCH(MAX(F829:F841),F829:F841,0))),\"\")","v":""},{"$f":"IF(G842<>0,IF(MAX(G829:G841)<G842,Labels!$B$163,INDEX($AH$829:$AH$841,MATCH(MAX(G829:G841),G829:G841,0))),\"\")","v":""},{"$f":"IF(H842<>0,IF(MAX(H829:H841)<H842,Labels!$B$163,INDEX($AH$829:$AH$841,MATCH(MAX(H829:H841),H829:H841,0))),\"\")","v":""},{"$f":"IF(I842<>0,IF(MAX(I829:I841)<I842,Labels!$B$163,INDEX($AH$829:$AH$841,MATCH(MAX(I829:I841),I829:I841,0))),\"\")","v":""},{"$f":"IF(J842<>0,IF(MAX(J829:J841)<J842,Labels!$B$163,INDEX($AH$829:$AH$841,MATCH(MAX(J829:J841),J829:J841,0))),\"\")","v":""},{"$f":"IF(K842<>0,IF(MAX(K829:K841)<K842,Labels!$B$163,INDEX($AH$829:$AH$841,MATCH(MAX(K829:K841),K829:K841,0))),\"\")","v":""},{"$f":"IF(L842<>0,IF(MAX(L829:L841)<L842,Labels!$B$163,INDEX($AH$829:$AH$841,MATCH(MAX(L829:L841),L829:L841,0))),\"\")","v":""},{"$f":"IF(M842<>0,IF(MAX(M829:M841)<M842,Labels!$B$163,INDEX($AH$829:$AH$841,MATCH(MAX(M829:M841),M829:M841,0))),\"\")","v":""},{"$f":"IF(N842<>0,IF(MAX(N829:N841)<N842,Labels!$B$163,INDEX($AH$829:$AH$841,MATCH(MAX(N829:N841),N829:N841,0))),\"\")","v":""},{"$f":"IF(O842<>0,IF(MAX(O829:O841)<O842,Labels!$B$163,INDEX($AH$829:$AH$841,MATCH(MAX(O829:O841),O829:O841,0))),\"\")","v":""},{"$f":"IF(P842<>0,IF(MAX(P829:P841)<P842,Labels!$B$163,INDEX($AH$829:$AH$841,MATCH(MAX(P829:P841),P829:P841,0))),\"\")","v":""},{"$f":"IF(Q842<>0,IF(MAX(Q829:Q841)<Q842,Labels!$B$163,INDEX($AH$829:$AH$841,MATCH(MAX(Q829:Q841),Q829:Q841,0))),\"\")","v":""},{"$f":"IF(R842<>0,IF(MAX(R829:R841)<R842,Labels!$B$163,INDEX($AH$829:$AH$841,MATCH(MAX(R829:R841),R829:R841,0))),\"\")","v":""},{"$f":"IF(S842<>0,IF(MAX(S829:S841)<S842,Labels!$B$163,INDEX($AH$829:$AH$841,MATCH(MAX(S829:S841),S829:S841,0))),\"\")","v":""},{"$f":"IF(T842<>0,IF(MAX(T829:T841)<T842,Labels!$B$163,INDEX($AH$829:$AH$841,MATCH(MAX(T829:T841),T829:T841,0))),\"\")","v":""},{"$f":"IF(U842<>0,IF(MAX(U829:U841)<U842,Labels!$B$163,INDEX($AH$829:$AH$841,MATCH(MAX(U829:U841),U829:U841,0))),\"\")","v":""},{"$f":"IF(V842<>0,IF(MAX(V829:V841)<V842,Labels!$B$163,INDEX($AH$829:$AH$841,MATCH(MAX(V829:V841),V829:V841,0))),\"\")","v":""},{"$f":"IF(W842<>0,IF(MAX(W829:W841)<W842,Labels!$B$163,INDEX($AH$829:$AH$841,MATCH(MAX(W829:W841),W829:W841,0))),\"\")","v":""},{"$f":"IF(X842<>0,IF(MAX(X829:X841)<X842,Labels!$B$163,INDEX($AH$829:$AH$841,MATCH(MAX(X829:X841),X829:X841,0))),\"\")","v":""},{"$f":"IF(Y842<>0,IF(MAX(Y829:Y841)<Y842,Labels!$B$163,INDEX($AH$829:$AH$841,MATCH(MAX(Y829:Y841),Y829:Y841,0))),\"\")","v":""},{"$f":"IF(Z842<>0,IF(MAX(Z829:Z841)<Z842,Labels!$B$163,INDEX($AH$829:$AH$841,MATCH(MAX(Z829:Z841),Z829:Z841,0))),\"\")","v":""},{"$f":"IF(AA842<>0,IF(MAX(AA829:AA841)<AA842,Labels!$B$163,INDEX($AH$829:$AH$841,MATCH(MAX(AA829:AA841),AA829:AA841,0))),\"\")","v":""},{"$f":"IF(AB842<>0,IF(MAX(AB829:AB841)<AB842,Labels!$B$163,INDEX($AH$829:$AH$841,MATCH(MAX(AB829:AB841),AB829:AB841,0))),\"\")","v":""},{"$f":"IF(AC842<>0,IF(MAX(AC829:AC841)<AC842,Labels!$B$163,INDEX($AH$829:$AH$841,MATCH(MAX(AC829:AC841),AC829:AC841,0))),\"\")","v":""},{"$f":"IF(AD842<>0,IF(MAX(AD829:AD841)<AD842,Labels!$B$163,INDEX($AH$829:$AH$841,MATCH(MAX(AD829:AD841),AD829:AD841,0))),\"\")","v":""}]
[{"$f":"$A$15","v":"00.00-06.00h"},null,null,null,null,null,null,null,null,null,null,null,null,null,null,null,null,null,null,null,null,null,null,null,null,null,null,null,null,null,null,null,{"$f":"IF($AD$73=\"\",SUM(B78:AC78),SUM(B78:AF78))","v":0}]
[{"$f":"$A$16","v":"06.00-20.00h"},null,null,null,null,null,null,null,null,null,null,null,null,null,null,null,null,null,null,null,null,null,null,null,null,null,null,null,null,null,null,null,{"$f":"IF($AD$73=\"\",SUM(B79:AC79),SUM(B79:AF79))","v":0}]
[{"$f":"$A$17","v":"20.00-24.00h"},null,null,null,null,null,null,null,null,null,null,null,null,null,null,null,null,null,null,null,null,null,null,null,null,null,null,null,null,null,null,null,{"$f":"IF($AD$73=\"\",SUM(B80:AC80),SUM(B80:AF80))","v":0},"[0]"]
[{"$f":"$A$18","v":"Feiertag \"ft\""},{"$f":"IF(WEEKDAY(B73,2)<=6,IF(KALENDER!E5=\"x\",Labels!$B$118,\"\"),\"\")","v":""},{"$f":"IF(WEEKDAY(C73,2)<=6,IF(KALENDER!F5=\"x\",Labels!$B$118,\"\"),\"\")","v":""},{"$f":"IF(WEEKDAY(D73,2)<=6,IF(KALENDER!G5=\"x\",Labels!$B$118,\"\"),\"\")","v":""},{"$f":"IF(WEEKDAY(E73,2)<=6,IF(KALENDER!H5=\"x\",Labels!$B$118,\"\"),\"\")","v":""},{"$f":"IF(WEEKDAY(F73,2)<=6,IF(KALENDER!I5=\"x\",Labels!$B$118,\"\"),\"\")","v":""},{"$f":"IF(WEEKDAY(G73,2)<=6,IF(KALENDER!J5=\"x\",Labels!$B$118,\"\"),\"\")","v":""},{"$f":"IF(WEEKDAY(H73,2)<=6,IF(KALENDER!K5=\"x\",Labels!$B$118,\"\"),\"\")","v":""},{"$f":"IF(WEEKDAY(I73,2)<=6,IF(KALENDER!L5=\"x\",Labels!$B$118,\"\"),\"\")","v":""},{"$f":"IF(WEEKDAY(J73,2)<=6,IF(KALENDER!M5=\"x\",Labels!$B$118,\"\"),\"\")","v":""},{"$f":"IF(WEEKDAY(K73,2)<=6,IF(KALENDER!N5=\"x\",Labels!$B$118,\"\"),\"\")","v":""},{"$f":"IF(WEEKDAY(L73,2)<=6,IF(KALENDER!O5=\"x\",Labels!$B$118,\"\"),\"\")","v":""},{"$f":"IF(WEEKDAY(M73,2)<=6,IF(KALENDER!P5=\"x\",Labels!$B$118,\"\"),\"\")","v":""},{"$f":"IF(WEEKDAY(N73,2)<=6,IF(KALENDER!Q5=\"x\",Labels!$B$118,\"\"),\"\")","v":""},{"$f":"IF(WEEKDAY(O73,2)<=6,IF(KALENDER!R5=\"x\",Labels!$B$118,\"\"),\"\")","v":""},{"$f":"IF(WEEKDAY(P73,2)<=6,IF(KALENDER!S5=\"x\",Labels!$B$118,\"\"),\"\")","v":""},{"$f":"IF(WEEKDAY(Q73,2)<=6,IF(KALENDER!T5=\"x\",Labels!$B$118,\"\"),\"\")","v":""},{"$f":"IF(WEEKDAY(R73,2)<=6,IF(KALENDER!U5=\"x\",Labels!$B$118,\"\"),\"\")","v":""},{"$f":"IF(WEEKDAY(S73,2)<=6,IF(KALENDER!V5=\"x\",Labels!$B$118,\"\"),\"\")","v":""},{"$f":"IF(WEEKDAY(T73,2)<=6,IF(KALENDER!W5=\"x\",Labels!$B$118,\"\"),\"\")","v":""},{"$f":"IF(WEEKDAY(U73,2)<=6,IF(KALENDER!X5=\"x\",Labels!$B$118,\"\"),\"\")","v":""},{"$f":"IF(WEEKDAY(V73,2)<=6,IF(KALENDER!Y5=\"x\",Labels!$B$118,\"\"),\"\")","v":""},{"$f":"IF(WEEKDAY(W73,2)<=6,IF(KALENDER!Z5=\"x\",Labels!$B$118,\"\"),\"\")","v":""},{"$f":"IF(WEEKDAY(X73,2)<=6,IF(KALENDER!AA5=\"x\",Labels!$B$118,\"\"),\"\")","v":""},{"$f":"IF(WEEKDAY(Y73,2)<=6,IF(KALENDER!AB5=\"x\",Labels!$B$118,\"\"),\"\")","v":""},{"$f":"IF(WEEKDAY(Z73,2)<=6,IF(KALENDER!AC5=\"x\",Labels!$B$118,\"\"),\"\")","v":""},{"$f":"IF(WEEKDAY(AA73,2)<=6,IF(KALENDER!AD5=\"x\",Labels!$B$118,\"\"),\"\")","v":""},{"$f":"IF(WEEKDAY(AB73,2)<=6,IF(KALENDER!AE5=\"x\",Labels!$B$118,\"\"),\"\")","v":""},{"$f":"IF(WEEKDAY(AC73,2)<=6,IF(KALENDER!AF5=\"x\",Labels!$B$118,\"\"),\"\")","v":""},{"$f":"IF(WEEKDAY(AD73,2)<=6,IF(KALENDER!AG5=\"x\",Labels!$B$118,\"\"),\"\")","v":""},{"$f":"IF(WEEKDAY(AE73,2)<=6,IF(KALENDER!AH5=\"x\",Labels!$B$118,\"\"),\"\")","v":""},{"$f":"IF(WEEKDAY(AF73,2)<=6,IF(KALENDER!AI5=\"x\",Labels!$B$118,\"\"),\"\")","v":""}]
[{"$f":"$A$19","v":"Gutschrift \"ft\""},{"$f":"IF(AND(B81=Labels!$B$118,WEEKDAY(B73,2)<6),$J$7*$B$70%,\"\")","v":""},{"$f":"IF(AND(C81=Labels!$B$118,WEEKDAY(C73,2)<6),$J$7*$B$70%,\"\")","v":""},{"$f":"IF(AND(D81=Labels!$B$118,WEEKDAY(D73,2)<6),$J$7*$B$70%,\"\")","v":""},{"$f":"IF(AND(E81=Labels!$B$118,WEEKDAY(E73,2)<6),$J$7*$B$70%,\"\")","v":""},{"$f":"IF(AND(F81=Labels!$B$118,WEEKDAY(F73,2)<6),$J$7*$B$70%,\"\")","v":""},{"$f":"IF(AND(G81=Labels!$B$118,WEEKDAY(G73,2)<6),$J$7*$B$70%,\"\")","v":""},{"$f":"IF(AND(H81=Labels!$B$118,WEEKDAY(H73,2)<6),$J$7*$B$70%,\"\")","v":""},{"$f":"IF(AND(I81=Labels!$B$118,WEEKDAY(I73,2)<6),$J$7*$B$70%,\"\")","v":""},{"$f":"IF(AND(J81=Labels!$B$118,WEEKDAY(J73,2)<6),$J$7*$B$70%,\"\")","v":""},{"$f":"IF(AND(K81=Labels!$B$118,WEEKDAY(K73,2)<6),$J$7*$B$70%,\"\")","v":""},{"$f":"IF(AND(L81=Labels!$B$118,WEEKDAY(L73,2)<6),$J$7*$B$70%,\"\")","v":""},{"$f":"IF(AND(M81=Labels!$B$118,WEEKDAY(M73,2)<6),$J$7*$B$70%,\"\")","v":""},{"$f":"IF(AND(N81=Labels!$B$118,WEEKDAY(N73,2)<6),$J$7*$B$70%,\"\")","v":""},{"$f":"IF(AND(O81=Labels!$B$118,WEEKDAY(O73,2)<6),$J$7*$B$70%,\"\")","v":""},{"$f":"IF(AND(P81=Labels!$B$118,WEEKDAY(P73,2)<6),$J$7*$B$70%,\"\")","v":""},{"$f":"IF(AND(Q81=Labels!$B$118,WEEKDAY(Q73,2)<6),$J$7*$B$70%,\"\")","v":""},{"$f":"IF(AND(R81=Labels!$B$118,WEEKDAY(R73,2)<6),$J$7*$B$70%,\"\")","v":""},{"$f":"IF(AND(S81=Labels!$B$118,WEEKDAY(S73,2)<6),$J$7*$B$70%,\"\")","v":""},{"$f":"IF(AND(T81=Labels!$B$118,WEEKDAY(T73,2)<6),$J$7*$B$70%,\"\")","v":""},{"$f":"IF(AND(U81=Labels!$B$118,WEEKDAY(U73,2)<6),$J$7*$B$70%,\"\")","v":""},{"$f":"IF(AND(V81=Labels!$B$118,WEEKDAY(V73,2)<6),$J$7*$B$70%,\"\")","v":""},{"$f":"IF(AND(W81=Labels!$B$118,WEEKDAY(W73,2)<6),$J$7*$B$70%,\"\")","v":""},{"$f":"IF(AND(X81=Labels!$B$118,WEEKDAY(X73,2)<6),$J$7*$B$70%,\"\")","v":""},{"$f":"IF(AND(Y81=Labels!$B$118,WEEKDAY(Y73,2)<6),$J$7*$B$70%,\"\")","v":""},{"$f":"IF(AND(Z81=Labels!$B$118,WEEKDAY(Z73,2)<6),$J$7*$B$70%,\"\")","v":""},{"$f":"IF(AND(AA81=Labels!$B$118,WEEKDAY(AA73,2)<6),$J$7*$B$70%,\"\")","v":""},{"$f":"IF(AND(AB81=Labels!$B$118,WEEKDAY(AB73,2)<6),$J$7*$B$70%,\"\")","v":""},{"$f":"IF(AND(AC81=Labels!$B$118,WEEKDAY(AC73,2)<6),$J$7*$B$70%,\"\")","v":""},{"$f":"IF(AND(AD81=Labels!$B$118,WEEKDAY(AD73,2)<6),$J$7*$B$70%,\"\")","v":""},{"$f":"IF(AND(AE81=Labels!$B$118,WEEKDAY(AE73,2)<6),$J$7*$B$70%,\"\")","v":""},{"$f":"IF(AND(AF81=Labels!$B$118,WEEKDAY(AF73,2)<6),$J$7*$B$70%,\"\")","v":""},0]
[{"$f":"$A$20","v":"Tagestotal"},{"$f":"SUM(B78:B80)","v":0},{"$f":"SUM(C78:C80)","v":0},0,0,0,0,0,0,0,0,0,0,0,0,0,0,0,0,0,0,0,0,0,0,0,0,0,0,{"$f":"IF(AD73=\"\",\"\",SUM(AD78:AD80))","v":0}]
[{"$f":"$A$21","v":"."}]
[{"$f":"$A$22","v":"."}]
[{"$f":"$A$23","v":"Monatsübergang"},{"$f":"IF(WEEKDAY(B73)=1,TEXT(B73-1,\"MMM\"&Labels!B13),\"\")","v":""},null,null,null,null,null,null,null,null,null,null,null,null,null,null,null,null,null,null,null,null,null,null,null,null,null,null,{"$f":"IF(AND(WEEKDAY(AC73)>1,WEEKDAY(AC73)<7,AD73=\"\"),TEXT(DATE($B$5,MONTH(AC73)+1,1),\"MMM\"&Labels!B13),\"\")","v":""},{"$f":"IF(ISERROR(WEEKDAY(AD73)),\"\",IF(AND(WEEKDAY(AD73)>1,WEEKDAY(AD73)<7),TEXT(DATE($B$5,MONTH(AD73)+1,1),\"MMM\"&Labels!B13),\"\"))","v":""}]
[{"$f":"$A$24","v":"Wochentotal"},{"$f":"IF(WEEKDAY(B73)=7,SUMIF($B11:$AF11,B74,$B20:$AF20)+SUMIF($B74:$AF74,B74,$B83:$AF83)+SUMIF($B137:$AF137,B74,$B146:$AF146),B86)","v":0},{"$f":"IF(WEEKDAY(C73)=7,SUMIF($B11:$AF11,C74,$B20:$AF20)+SUMIF($B74:$AF74,C74,$B83:$AF83)+SUMIF($B137:$AF137,C74,$B146:$AF146),\"\")","v":""},"","","","","",0,"","","","","","",0,"","","","","","",0,"","","","","",{"$f":"IF(WEEKDAY(AC73)=7,SUMIF($B11:$AF11,AC74,$B20:$AF20)+SUMIF($B74:$AF74,AC74,$B83:$AF83)+SUMIF($B137:$AF137,AC74,$B146:$AF146),AC86)","v":""},{"$f":"IF(ISERROR(WEEKDAY(AD73)=7),\"\",IF(WEEKDAY(AD73)=7,SUMIF($B11:$AF11,AD74,$B20:$AF20)+SUMIF($B74:$AF74,AD74,$B83:$AF83)+SUMIF($B137:$AF137,AD74,$B146:$AF146),AD86))","v":0}]
[{"$f":"$A$25","v":"Zeitzuschlag 1)"},{"$f":"IF(B95=\"FALSCH\",\"\",B95)","v":""},{"$f":"IF(C95=\"FALSCH\",\"\",C95)","v":""},"","","","","","","","","","","","","","","","","","","","","","","","","","","",null,null,0]
[{"$f":"$A$26","v":"Zeitzuschlag 2)"},{"$f":"IF((B78+B80)=0,\"\",SUM(B78,B80))","v":""},{"$f":"IF((C78+C80)=0,\"\",SUM(C78,C80))","v":""},"","","","","","","","","","","","","","","","","","","","","","","","","","","",null,null,0,"[1]"]
[{"$f":"$A$27","v":"Zeitzuschlag 3)"},{"$f":"SUM(B91:B94)","v":0},{"$f":"SUM(C91:C94)","v":0},0,0,0,0,0,0,0,0,0,0,0,0,0,0,0,0,0,0,0,0,0,0,0,0,0,0,{"$f":"IF(ISERROR(WEEKDAY(AD73)=1),\"\",SUM(AD91:AD94))","v":0},null,null,0,"[2]"]
[{"$f":"$A$28","v":"Sonntag Tag"},{"$f":"IF(WEEKDAY(B73)=1,B79,\"\")","v":""},{"$f":"IF(WEEKDAY(C73)=1,C79,\"\")","v":0},"","","","","","",0,"","","","","","",0,"","","","","","",0,"","","","","",{"$f":"IF(ISERROR(WEEKDAY(AD73)=1),\"\",IF(WEEKDAY(AD73)=1,AD79,\"\"))","v":""},null,null,0,"[3]"]
[{"$f":"$A$29","v":"Sonntag Nacht"},{"$f":"IF(WEEKDAY(B73)=1,SUM(B78+B80),\"\")","v":""},{"$f":"IF(WEEKDAY(C73)=1,SUM(C78+C80),\"\")","v":0},"","","","","","",0,"","","","","","",0,"","","","","","",0,"","","","","",{"$f":"IF(ISERROR(WEEKDAY(AD73)=1),\"\",IF(WEEKDAY(AD73)=1,SUM(AD78+AD80),\"\"))","v":""},null,null,0,"[4]"]
[{"$f":"$A$30","v":"ft-Tazuschlag"},{"$f":"IF(B81=Labels!$B$118,B79,\"\")","v":""},{"$f":"IF(C81=Labels!$B$118,C79,\"\")","v":""},{"$f":"IF(D81=Labels!$B$118,D79,\"\")","v":""},{"$f":"IF(E81=Labels!$B$118,E79,\"\")","v":""},{"$f":"IF(F81=Labels!$B$118,F79,\"\")","v":""},{"$f":"IF(G81=Labels!$B$118,G79,\"\")","v":""},{"$f":"IF(H81=Labels!$B$118,H79,\"\")","v":""},{"$f":"IF(I81=Labels!$B$118,I79,\"\")","v":""},{"$f":"IF(J81=Labels!$B$118,J79,\"\")","v":""},{"$f":"IF(K81=Labels!$B$118,K79,\"\")","v":""},{"$f":"IF(L81=Labels!$B$118,L79,\"\")","v":""},{"$f":"IF(M81=Labels!$B$118,M79,\"\")","v":""},{"$f":"IF(N81=Labels!$B$118,N79,\"\")","v":""},{"$f":"IF(O81=Labels!$B$118,O79,\"\")","v":""},{"$f":"IF(P81=Labels!$B$118,P79,\"\")","v":""},{"$f":"IF(Q81=Labels!$B$118,Q79,\"\")","v":""},{"$f":"IF(R81=Labels!$B$118,R79,\"\")","v":""},{"$f":"IF(S81=Labels!$B$118,S79,\"\")","v":""},{"$f":"IF(T81=Labels!$B$118,T79,\"\")","v":""},{"$f":"IF(U81=Labels!$B$118,U79,\"\")","v":""},{"$f":"IF(V81=Labels!$B$118,V79,\"\")","v":""},{"$f":"IF(W81=Labels!$B$118,W79,\"\")","v":""},{"$f":"IF(X81=Labels!$B$118,X79,\"\")","v":""},{"$f":"IF(Y81=Labels!$B$118,Y79,\"\")","v":""},{"$f":"IF(Z81=Labels!$B$118,Z79,\"\")","v":""},{"$f":"IF(AA81=Labels!$B$118,AA79,\"\")","v":""},{"$f":"IF(AB81=Labels!$B$118,AB79,\"\")","v":""},{"$f":"IF(AC81=Labels!$B$118,AC79,\"\")","v":""},{"$f":"IF(AD81=Labels!$B$118,AD79,\"\")","v":""},null,null,0,"[5]"]
[{"$f":"$A$31","v":"ft-Nazuschlag"},{"$f":"IF(B81=Labels!$B$118,SUM(B78,B80),\"\")","v":""},{"$f":"IF(C81=Labels!$B$118,SUM(C78,C80),\"\")","v":""},{"$f":"IF(D81=Labels!$B$118,SUM(D78,D80),\"\")","v":""},{"$f":"IF(E81=Labels!$B$118,SUM(E78,E80),\"\")","v":""},{"$f":"IF(F81=Labels!$B$118,SUM(F78,F80),\"\")","v":""},{"$f":"IF(G81=Labels!$B$118,SUM(G78,G80),\"\")","v":""},{"$f":"IF(H81=Labels!$B$118,SUM(H78,H80),\"\")","v":""},{"$f":"IF(I81=Labels!$B$118,SUM(I78,I80),\"\")","v":""},{"$f":"IF(J81=Labels!$B$118,SUM(J78,J80),\"\")","v":""},{"$f":"IF(K81=Labels!$B$118,SUM(K78,K80),\"\")","v":""},{"$f":"IF(L81=Labels!$B$118,SUM(L78,L80),\"\")","v":""},{"$f":"IF(M81=Labels!$B$118,SUM(M78,M80),\"\")","v":""},{"$f":"IF(N81=Labels!$B$118,SUM(N78,N80),\"\")","v":""},{"$f":"IF(O81=Labels!$B$118,SUM(O78,O80),\"\")","v":""},{"$f":"IF(P81=Labels!$B$118,SUM(P78,P80),\"\")","v":""},{"$f":"IF(Q81=Labels!$B$118,SUM(Q78,Q80),\"\")","v":""},{"$f":"IF(R81=Labels!$B$118,SUM(R78,R80),\"\")","v":""},{"$f":"IF(S81=Labels!$B$118,SUM(S78,S80),\"\")","v":""},{"$f":"IF(T81=Labels!$B$118,SUM(T78,T80),\"\")","v":""},{"$f":"IF(U81=Labels!$B$118,SUM(U78,U80),\"\")","v":""},{"$f":"IF(V81=Labels!$B$118,SUM(V78,V80),\"\")","v":""},{"$f":"IF(W81=Labels!$B$118,SUM(W78,W80),\"\")","v":""},{"$f":"IF(X81=Labels!$B$118,SUM(X78,X80),\"\")","v":""},{"$f":"IF(Y81=Labels!$B$118,SUM(Y78,Y80),\"\")","v":""},{"$f":"IF(Z81=Labels!$B$118,SUM(Z78,Z80),\"\")","v":""},{"$f":"IF(AA81=Labels!$B$118,SUM(AA78,AA80),\"\")","v":""},{"$f":"IF(AB81=Labels!$B$118,SUM(AB78,AB80),\"\")","v":""},{"$f":"IF(AC81=Labels!$B$118,SUM(AC78,AC80),\"\")","v":""},{"$f":"IF(AD81=Labels!$B$118,SUM(AD78,AD80),\"\")","v":""},null,null,0,"[6]"]
[{"$f":"$A$32","v":"Zuschlag  blind (Wochentotal)"},{"$f":"IF(OR(ISTEXT(B87),B87=\"\",B87<$B$7),\"\",ROUND(((B87-$B$7)*25%)/25,4)*25)","v":""},{"$f":"IF(OR(ISTEXT(C87),C87=\"\",C87<$B$7),\"\",ROUND(((C87-$B$7)*25%)/25,4)*25)","v":""},"","","","","","","","","","","","","","","","","","","","","","","","","","","",{"$f":"YEAR(AC73)","v":2020},null,{"$f":"AG79","v":0},"[7]"]
[null,{"$f":"$B$33","v":"1)   25% Zeitzuschlag für Überschreitung Wochentotal"},null,null,null,null,null,null,null,null,null,{"$f":"$L$33","v":"2) 100% Zeitzuschlag für Nachtarbeit"},null,null,null,null,null,null,null,{"$f":"$T$33","v":"Eingabe der ausbezahlten Stunden Vorjahressaldo"},null,null,null,null,null,null,null,null,null,null,null,null,{"$f":"SUM(AG78+AG80)","v":0},"[8]"]
[null,{"$f":"$B$34","v":"3) 100% Zeitzuschlag für Sonn- und Feiertagsarbeit"},null,null,null,null,null,null,null,null,null,null,null,null,null,null,null,null,null,{"$f":"$T$34","v":"Eingabe der ausbezahlten Stunden laufendes Jahr (Überstunden)"},null,null,null,null,null,null,null,null,null,null,null,null,{"$f":"SUM(AG78:AG80)","v":0},"[9]"]
[{"$f":"$A$35","v":"Bemerkungen"},null,null,null,null,null,null,null,null,null,null,null,null,null,null,null,null,null,null,null,null,null,null,null,null,null,null,null,null,null,null,null,{"$f":"SUM(AG76+AG82)","v":0},"[10]"]
[null,null,null,null,null,null,null,null,null,null,null,null,null,null,null,null,null,null,null,null,null,null,null,null,null,null,null,null,null,null,null,null,{"$f":"SUM(AG76:AG90)","v":0},"[11]"]
[null,null,null,null,null,null,null,null,null,null,null,null,null,null,null,null,null,null,null,null,null,null,null,null,null,null,null,null,null,null,null,null,{"$f":"AG75","v":160}]
[null,null,null,null,null,null,null,null,null,null,null,null,null,null,null,null,null,null,null,null,null,null,null,null,null,null,null,null,null,null,null,null,{"$f":"SUM(AG99-AG75)","v":-160}]
[{"$f":"$A$39","v":"Zusammenstellung"},null,null,null,null,null,{"$f":"$G$39","v":"Jan"},null,{"$f":"$I$39","v":"Feb"},null,{"$f":"$K$39","v":"Mrz"},null,{"$f":"$M$39","v":"Apr"},null,{"$f":"$O$39","v":"Mai"},null,{"$f":"$Q$39","v":"Jun"},null,{"$f":"$S$39","v":"Jul"},null,{"$f":"$U$39","v":"Aug"},null,{"$f":"$W$39","v":"Sep"},null,{"$f":"$Y$39","v":"Okt"},null,{"$f":"$AA$39","v":"Nov"},null,{"$f":"$AC$39","v":"Dez"},null,{"$f":"$AE$39","v":"Jahr"}]
[{"$f":"$A$40","v":"Anstellung %"},null,null,null,null,null,{"$f":"IF($B$4=0,0,$B$4)","v":100},null,{"$f":"IF($B$70=0,0,$B$70)","v":100},null,{"$f":"IF($B$133=0,0,$B$133)","v":100},null,{"$f":"IF($B$196=0,0,$B$196)","v":100},null,{"$f":"IF($B$259=0,0,$B$259)","v":100},null,{"$f":"IF($B$322=0,0,$B$322)","v":100},null,{"$f":"IF($B$385=0,0,$B$385)","v":100},null,{"$f":"IF($B$448=0,0,$B$448)","v":100},null,{"$f":"IF($B$511=0,0,$B$511)","v":100},null,{"$f":"IF($B$574=0,0,$B$574)","v":100},null,{"$f":"IF($B$637=0,0,$B$637)","v":100},null,{"$f":"IF($B$700=0,0,$B$700)","v":100}]
[{"$f":"$A$41","v":"Sollstunden gemäss GAV"},null,null,null,null,null,{"$f":"IF($AG$37=0,0,$AG$37)","v":184},null,{"$f":"IF($AG$100=0,0,$AG$100)","v":160},null,{"$f":"IF($AG$138=0,0,$AG$138)","v":176},null,{"$f":"IF($AG$226=0,0,$AG$226)","v":176},null,{"$f":"IF($AG$289=0,0,$AG$289)","v":168},null,{"$f":"IF($AG$352=0,0,$AG$352)","v":176},null,{"$f":"IF($AG$415=0,0,$AG$415)","v":184},null,{"$f":"IF($AG$478=0,0,$AG$478)","v":168},null,{"$f":"IF($AG$541=0,0,$AG$541)","v":176},null,{"$f":"IF($AG$604=0,0,$AG$604)","v":176},null,{"$f":"IF($AG$667=0,0,$AG$667)","v":168},null,{"$f":"IF($AG$730=0,0,$AG$730)","v":184},null,{"$f":"SUM(G104:AD104)","v":2096}]
[{"$f":"$A$42","v":"Produktive Stunden"},{"$f":"$B$42","v":"06.00 - 20.00 Uhr"},null,null,null,null,{"$f":"IF($AG$32=0,0,$AG$32)","v":0},null,{"$f":"IF($AG$95=0,0,$AG$95)","v":0},null,{"$f":"IF($AG$158=0,0,$AG$158)","v":0},null,{"$f":"IF($AG$221=0,0,$AG$221)","v":0},null,{"$f":"IF($AG$284=0,0,$AG$284)","v":0},null,{"$f":"IF($AG$347=0,0,$AG$347)","v":0},null,{"$f":"IF($AG$410=0,0,$AG$410)","v":0},null,{"$f":"IF($AG$473=0,0,$AG$473)","v":0},null,{"$f":"IF($AG$536=0,0,$AG$536)","v":0},null,{"$f":"IF($AG$599=0,0,$AG$599)","v":0},null,{"$f":"IF($AG$662=0,0,$AG$662)","v":0},null,{"$f":"IF($AG$725=0,0,$AG$725)","v":0},null,{"$f":"SUM(G105:AD105)","v":0}]
[null,{"$f":"$B$43","v":"Nacht-, Sonn-, Feiertagsarbeit"},null,null,null,null,{"$f":"IF($AG$33=0,0,$AG$33)","v":0},null,{"$f":"IF($AG$96=0,0,$AG$96)","v":0},null,{"$f":"IF($AG$159=0,0,$AG$159)","v":0},null,{"$f":"IF($AG$222=0,0,$AG$222)","v":0},null,{"$f":"IF($AG$285=0,0,$AG$285)","v":0},null,{"$f":"IF($AG$348=0,0,$AG$348)","v":0},null,{"$f":"IF($AG$411=0,0,$AG$411)","v":0},null,{"$f":"IF($AG$474=0,0,$AG$474)","v":0},null,{"$f":"IF($AG$537=0,0,$AG$537)","v":0},null,{"$f":"IF($AG$600=0,0,$AG$600)","v":0},null,{"$f":"IF($AG$663=0,0,$AG$663)","v":0},null,{"$f":"IF($AG$726=0,0,$AG$726)","v":0},null,{"$f":"SUM(G106:AD106)","v":0}]
[{"$f":"$A$44","v":"Zeitzuschläge"},{"$f":"$B$44","v":"aus Wochentotal"},null,null,null,null,{"$f":"IF($AG$25=0,0,$AG$25)","v":0},null,{"$f":"IF($AG$88=0,0,$AG$88)","v":0},null,{"$f":"IF($AG$151=0,0,$AG$151)","v":0},null,{"$f":"IF($AG$214=0,0,$AG$214)","v":0},null,{"$f":"IF($AG$277=0,0,$AG$277)","v":0},null,{"$f":"IF($AG$340=0,0,$AG$340)","v":0},null,{"$f":"IF($AG$403=0,0,$AG$403)","v":0},null,{"$f":"IF($AG$466=0,0,$AG$466)","v":0},null,{"$f":"IF($AG$529=0,0,$AG$529)","v":0},null,{"$f":"IF($AG$592=0,0,$AG$592)","v":0},null,{"$f":"IF($AG$655=0,0,$AG$655)","v":0},null,{"$f":"IF($AG$718=0,0,$AG$718)","v":0},null,{"$f":"SUM(G107:AD107)","v":0}]
[null,{"$f":"$B$45","v":"aus Nacht-, Sonn-, Feiertagsarbeiten"},null,null,null,null,{"$f":"IF($AJ$20=0,0,$AJ$20)","v":0},null,{"$f":"IF($AK$20=0,0,$AK$20)","v":0},null,{"$f":"IF($AL$20=0,0,$AL$20)","v":0},null,{"$f":"IF($AM$20=0,0,$AM$20)","v":0},null,{"$f":"IF($AN$20=0,0,$AN$20)","v":0},null,{"$f":"IF($AO$20=0,0,$AO$20)","v":0},null,{"$f":"IF($AP$20=0,0,$AP$20)","v":0},null,{"$f":"IF($AQ$20=0,0,$AQ$20)","v":0},null,{"$f":"IF($AR$20=0,0,$AR$20)","v":0},null,{"$f":"IF($AS$20=0,0,$AS$20)","v":0},null,{"$f":"IF($AT$20=0,0,$AT$20)","v":0},null,{"$f":"IF($AU$20=0,0,$AU$20)","v":0},null,{"$f":"SUM(G108:AD108)","v":0}]
[{"$f":"$A$46","v":"Unproduktive Stunden"}]
[{"$f":"$A$47","v":"   Absenzen, Kurzabsenzen Art. 11 GAV"},null,null,null,null,{"$f":"$F$47","v":"a"},{"$f":"IF($AJ$3=0,0,$AJ$3)","v":0},null,{"$f":"IF($AK$3=0,0,$AK$3)","v":0},null,{"$f":"IF($AL$3=0,0,$AL$3)","v":0},null,{"$f":"IF($AM$3=0,0,$AM$3)","v":0},null,{"$f":"IF($AN$3=0,0,$AN$3)","v":0},null,{"$f":"IF($AO$3=0,0,$AO$3)","v":0},null,{"$f":"IF($AP$3=0,0,$AP$3)","v":0},null,{"$f":"IF($AQ$3=0,0,$AQ$3)","v":0},null,{"$f":"IF($AR$3=0,0,$AR$3)","v":0},null,{"$f":"IF($AS$3=0,0,$AS$3)","v":0},null,{"$f":"IF(AT$3=0,0,$AT$3)","v":0},null,{"$f":"IF($AU$3=0,0,$AU$3)","v":0},null,{"$f":"IF($AV$3=0,0,$AV$3)","v":0}]
[{"$f":"$A$48","v":"   Ferien Art. 12.1 GAV"},null,null,null,null,{"$f":"$F$48","v":"f"},{"$f":"IF($AJ$4=0,0,$AJ$4)","v":0},null,{"$f":"IF($AK$4=0,0,$AK$4)","v":0},null,{"$f":"IF($AL$4=0,0,$AL$4)","v":0},null,{"$f":"IF($AM$4=0,0,$AM$4)","v":0},null,{"$f":"IF($AN$4=0,0,$AN$4)","v":0},null,{"$f":"IF($AO$4=0,0,$AO$4)","v":0},null,{"$f":"IF($AP$4=0,0,$AP$4)","v":0},null,{"$f":"IF($AQ$4=0,0,$AQ$4)","v":0},null,{"$f":"IF($AR$4=0,0,$AR$4)","v":0},null,{"$f":"IF($AS$4=0,0,$AS$4)","v":0},null,{"$f":"IF($AT$4=0,0,$AT$4)","v":0},null,{"$f":"IF($AU$4=0,0,$AU$4)","v":0},null,{"$f":"IF($AV$4=0,0,$AV$4)","v":0}]
[{"$f":"$A$49","v":"   Feiertage Art. 12.2 GAV"},null,{"$f":"IF($AJ$17=\"\",\"\",$AJ$17)","v":""},null,null,{"$f":"$F$49","v":"ft"},{"$f":"IF($AJ$15=0,0,$AJ$15)","v":0},null,{"$f":"IF($AK$15=0,0,$AK$15)","v":0},null,{"$f":"IF($AL$15=0,0,$AL$15)","v":0},null,{"$f":"IF($AM$15=0,0,$AM$15)","v":0},null,{"$f":"IF($AN$15=0,0,$AN$15)","v":0},null,{"$f":"IF($AO$15=0,0,$AO$15)","v":0},null,{"$f":"IF($AP$15=0,0,$AP$15)","v":0},null,{"$f":"IF($AQ$15=0,0,$AQ$15)","v":0},null,{"$f":"IF($AR$15=0,0,$AR$15)","v":0},null,{"$f":"IF($AS$15=0,0,$AS$15)","v":0},null,{"$f":"IF($AT$15=0,0,$AT$15)","v":0},null,{"$f":"IF($AU$15=0,0,$AU$15)","v":0},null,{"$f":"IF($AV$15=0,0,$AV$15)","v":0}]
[{"$f":"$A$50","v":"   Krankheit Art. 13 GAV"},null,null,null,null,{"$f":"$F$50","v":"k"},{"$f":"IF($AJ$5=0,0,$AJ$5)","v":0},null,{"$f":"IF($AK$5=0,0,$AK$5)","v":0},null,{"$f":"IF($AL$5=0,0,$AL$5)","v":0},null,{"$f":"IF($AM$5=0,0,$AM$5)","v":0},null,{"$f":"IF($AN$5=0,0,$AN$5)","v":0},null,{"$f":"IF($AO$5=0,0,$AO$5)","v":0},null,{"$f":"IF($AP$5=0,0,$AP$5)","v":0},null,{"$f":"IF($AQ$5=0,0,$AQ$5)","v":0},null,{"$f":"IF($AR$5=0,0,$AR$5)","v":0},null,{"$f":"IF($AS$5=0,0,$AS$5)","v":0},null,{"$f":"IF($AT$5=0,0,$AT$5)","v":0},null,{"$f":"IF($AU$5=0,0,$AU$5)","v":0},null,{"$f":"IF($AV$5=0,0,$AV$5)","v":0}]
[{"$f":"$A$51","v":"   Unfall Art. 14 GAV"},null,null,null,null,{"$f":"$F$51","v":"u"},{"$f":"IF($AJ$6=0,0,$AJ$6)","v":0},null,{"$f":"IF($AK$6=0,0,$AK$6)","v":0},null,{"$f":"IF($AL$6=0,0,$AL$6)","v":0},null,{"$f":"IF($AM$6=0,0,$AM$6)","v":0},null,{"$f":"IF($AN$6=0,0,$AN$6)","v":0},null,{"$f":"IF($AO$6=0,0,$AO$6)","v":0},null,{"$f":"IF($AP$6=0,0,$AP$6)","v":0},null,{"$f":"IF($AQ$6=0,0,$AQ$6)","v":0},null,{"$f":"IF($AR$6=0,0,$AR$6)","v":0},null,{"$f":"IF($AS$6=0,0,$AS$6)","v":0},null,{"$f":"IF($AT$6=0,0,$AT$6)","v":0},null,{"$f":"IF($AU$6=0,0,$AU$6)","v":0},null,{"$f":"IF($AV$6=0,0,$AV$6)","v":0}]
[{"$f":"$A$52","v":"   Schwangerschaft/Mutterschaft Art. 15 GAV"},null,null,null,null,{"$f":"$F$52","v":"s"},{"$f":"IF($AJ$7=0,0,$AJ$7)","v":0},null,{"$f":"IF($AK$7=0,0,$AK$7)","v":0},null,{"$f":"IF($AL$7=0,0,$AL$7)","v":0},null,{"$f":"IF($AM$7=0,0,$AM$7)","v":0},null,{"$f":"IF($AN$7=0,0,$AN$7)","v":0},null,{"$f":"IF($AO$7=0,0,$AO$7)","v":0},null,{"$f":"IF($AP$7=0,0,$AP$7)","v":0},null,{"$f":"IF($AQ$7=0,0,$AQ$7)","v":0},null,{"$f":"IF($AR$7=0,0,$AR$7)","v":0},null,{"$f":"IF($AS$7=0,0,$AS$7)","v":0},null,{"$f":"IF($AT$7=0,0,$AT$7)","v":0},null,{"$f":"IF($AU$7=0,0,$AU$7)","v":0},null,{"$f":"IF($AV$7=0,0,$AV$7)","v":0}]
[{"$f":"$A$53","v":"   Militär/Beförderung/Zivilschutz Art. 16 GAV"},null,null,null,null,{"$f":"$F$53","v":"m"},{"$f":"IF($AJ$8=0,0,$AJ$8)","v":0},null,{"$f":"IF($AK$8=0,0,$AK$8)","v":0},null,{"$f":"IF($AL$8=0,0,$AL$8)","v":0},null,{"$f":"IF($AM$8=0,0,$AM$8)","v":0},null,{"$f":"IF($AN$8=0,0,$AN$8)","v":0},null,{"$f":"IF($AO$8=0,0,$AO$8)","v":0},null,{"$f":"IF($AP$8=0,0,$AP$8)","v":0},null,{"$f":"IF($AQ$8=0,0,$AQ$8)","v":0},null,{"$f":"IF($AR$8=0,0,$AR$8)","v":0},null,{"$f":"IF($AS$8=0,0,$AS$8)","v":0},null,{"$f":"IF($AT$8=0,0,$AT$8)","v":0},null,{"$f":"IF($AU$8=0,0,$AU$8)","v":0},null,{"$f":"IF($AV$8=0,0,$AV$8)","v":0}]
[{"$f":"$A$54","v":"   Kurzarbeit und Schlechtwetterausfälle"},null,null,null,null,{"$f":"$F$54","v":"ka"},{"$f":"IF($AJ$11=0,0,$AJ$11)","v":0},null,{"$f":"IF($AK$11=0,0,$AK$11)","v":0},null,{"$f":"IF($AL$11=0,0,$AL$11)","v":0},null,{"$f":"IF($AM$11=0,0,$AM$11)","v":0},null,{"$f":"IF($AN$11=0,0,$AN$11)","v":0},null,{"$f":"IF($AO$11=0,0,$AO$11)","v":0},null,{"$f":"IF($AP$11=0,0,$AP$11)","v":0},null,{"$f":"IF($AQ$11=0,0,$AQ$11)","v":0},null,{"$f":"IF($AR$11=0,0,$AR$11)","v":0},null,{"$f":"IF($AS$11=0,0,$AS$11)","v":0},null,{"$f":"IF($AT$11=0,0,$AT$11)","v":0},null,{"$f":"IF($AU$11=0,0,$AU$11)","v":0},null,{"$f":"IF($AV$11=0,0,$AV$11)","v":0}]
[{"$f":"$A$55","v":"   Berufsschule"},null,null,null,null,{"$f":"$F$55","v":"bs"},{"$f":"IF($AJ$9=0,0,$AJ$9)","v":0},null,{"$f":"IF($AK$9=0,0,$AK$9)","v":0},null,{"$f":"IF($AL$9=0,0,$AL$9)","v":0},null,{"$f":"IF($AM$9=0,0,$AM$9)","v":0},null,{"$f":"IF($AN$9=0,0,$AN$9)","v":0},null,{"$f":"IF($AO$9=0,0,$AO$9)","v":0},null,{"$f":"IF($AP$9=0,0,$AP$9)","v":0},null,{"$f":"IF($AQ$9=0,0,$AQ$9)","v":0},null,{"$f":"IF($AR$9=0,0,$AR$9)","v":0},null,{"$f":"IF($AS$9=0,0,$AS$9)","v":0},null,{"$f":"IF($AT$9=0,0,$AT$9)","v":0},null,{"$f":"IF($AU$9=0,0,$AU$9)","v":0},null,{"$f":"IF($AV$9=0,0,$AV$9)","v":0}]
[{"$f":"$A$56","v":"   Kurse"},null,null,null,null,{"$f":"$F$56","v":"ku"},{"$f":"IF($AJ$10=0,0,$AJ$10)","v":0},null,{"$f":"IF($AK$10=0,0,$AK$10)","v":0},null,{"$f":"IF($AL$10=0,0,$AL$10)","v":0},null,{"$f":"IF($AM$10=0,0,$AM$10)","v":0},null,{"$f":"IF($AN$10=0,0,$AN$10)","v":0},null,{"$f":"IF($AO$10=0,0,$AO$10)","v":0},null,{"$f":"IF($AP$10=0,0,$AP$10)","v":0},null,{"$f":"IF($AQ$10=0,0,$AQ$10)","v":0},null,{"$f":"IF($AR$10=0,0,$AR$10)","v":0},null,{"$f":"IF($AS$10=0,0,$AS$10)","v":0},null,{"$f":"IF($AT$10=0,0,$AT$10)","v":0},null,{"$f":"IF($AU$10=0,0,$AU$10)","v":0},null,{"$f":"IF($AV$10=0,0,$AV$10)","v":0}]
[{"$f":"$A$57","v":"Kompensations-Std"},{"$f":"$B$57","v":"aus Vorjahr"},null,null,null,{"$f":"$F$57","v":"kv"},{"$f":"IF($AJ$12=0,0,$AJ$12)","v":0},null,{"$f":"IF($AK$12=0,0,$AK$12)","v":0},null,{"$f":"IF($AL$12=0,0,$AL$12)","v":0},null,{"$f":"IF($AM$12=0,0,$AM$12)","v":0},null,{"$f":"IF($AN$12=0,0,$AN$12)","v":0},null,{"$f":"IF($AO$12=0,0,$AO$12)","v":0},null,{"$f":"IF($AP$12=0,0,$AP$12)","v":0},null,{"$f":"IF($AQ$12=0,0,$AQ$12)","v":0},null,{"$f":"IF($AR$12=0,0,$AR$12)","v":0},null,null,null,null,null,null,null,{"$f":"IF($AV$12=0,0,$AV$12)","v":0}]
[null,{"$f":"$B$58","v":"aus laufendem Jahr (Kontrolle)"},null,null,null,{"$f":"$F$58","v":"kj"},{"$f":"IF($AJ$14=0,0,$AJ$14)","v":0},null,{"$f":"IF($AK$14=0,0,$AK$14)","v":0},null,{"$f":"IF($AL$14=0,0,$AL$14)","v":0},null,{"$f":"IF($AM$14=0,0,$AM$14)","v":0},null,{"$f":"IF($AN$14=0,0,$AN$14)","v":0},null,{"$f":"IF($AO$14=0,0,$AO$14)","v":0},null,{"$f":"IF($AP$14=0,0,$AP$14)","v":0},null,{"$f":"IF($AQ$14=0,0,$AQ$14)","v":0},null,{"$f":"IF($AR$14=0,0,$AR$14)","v":0},null,{"$f":"IF($AS$14=0,0,$AS$14)","v":0},null,{"$f":"IF($AT$14=0,0,$AT$14)","v":0},null,{"$f":"IF($AU$14=0,0,$AU$14)","v":0},null,{"$f":"IF($AV$14=0,0,$AV$14)","v":0}]
[{"$f":"$A$59","v":"Auszahlung"},{"$f":"$B$59","v":"Stunden Vorjahressaldo"},null,null,null,null,{"$f":"IF($AJ$18=0,0,$AJ$18)","v":0},null,{"$f":"IF($AK$18=0,0,$AK$18)","v":0},null,{"$f":"IF($AL$18=0,0,$AL$18)","v":0},null,{"$f":"IF($AM$18=0,0,$AM$18)","v":0},null,{"$f":"IF($AN$18=0,0,$AN$18)","v":0},null,{"$f":"IF($AO$18=0,0,$AO$18)","v":0},null,{"$f":"IF($AP$18=0,0,$AP$18)","v":0},null,{"$f":"IF($AQ$18=0,0,$AQ$18)","v":0},null,{"$f":"IF($AR$18=0,0,$AR$18)","v":0},null,null,null,null,null,null,null,{"$f":"IF($AV$18=0,0,$AV$18)","v":0}]
[{"$f":"$A$60","v":"Differenz"},{"$f":"$B$60","v":"nach Kompensation und Auszahlung"},null,null,null,null,{"$f":"IF(ROUND($P$4,3)=0,0,$P$4-SUM(G120+G122))","v":0},null,{"$f":"IF(ROUND(G123,3)=0,0,G123-(SUM(I122+I120)))","v":0},null,{"$f":"IF(ROUND(I123,3)=0,0,I123-(SUM(K122+K120)))","v":0},null,{"$f":"IF(ROUND(K123,3)=0,0,K123-(SUM(M122+M120)))","v":0},null,{"$f":"IF(ROUND(M123,3)=0,0,M123-(SUM(O122+O120)))","v":0},null,{"$f":"IF(ROUND(O123,3)=0,0,O123-(SUM(Q122+Q120)))","v":0},null,{"$f":"IF(ROUND(Q123,3)=0,0,Q123-(SUM(S122+S120)))","v":0},null,{"$f":"IF(ROUND(S123,3)=0,0,S123-(SUM(U122+U120)))","v":0},null,{"$f":"IF(ROUND(U123,3)=0,0,U123-(SUM(W122+W120)))","v":0},null,{"$f":"$Y$60","v":""}]
[{"$f":"$A$61","v":"Auszahlung"},{"$f":"$B$61","v":"Stunden laufendes Jahr"},null,null,null,null,{"$f":"IF($AJ$19=0,0,$AJ$19)","v":0},null,{"$f":"IF($AK$19=0,0,$AK$19)","v":0},null,{"$f":"IF($AL$19=0,0,$AL$19)","v":0},null,{"$f":"IF($AM$19=0,0,$AM$19)","v":0},null,{"$f":"IF($AN$19=0,0,$AN$19)","v":0},null,{"$f":"IF($AO$19=0,0,$AO$19)","v":0},null,{"$f":"IF($AP$19=0,0,$AP$19)","v":0},null,{"$f":"IF($AQ$19=0,0,$AQ$19)","v":0},null,{"$f":"IF($AR$19=0,0,$AR$19)","v":0},null,{"$f":"IF($AS$19=0,0,$AS$19)","v":0},null,{"$f":"IF($AT$19=0,0,$AT$19)","v":0},null,{"$f":"IF($AU$19=0,0,$AU$19)","v":0},null,{"$f":"IF($AV$19=0,0,$AV$19)","v":0}]
[{"$f":"$A$62","v":"Fehlstunden"},{"$f":"$B$62","v":"laufendes Jahr (Kontrolle)"},null,null,null,{"$f":"$F$62","v":"fe"},{"$f":"IF($AJ$13=0,0,$AJ$13)","v":0},null,{"$f":"IF($AK$13=0,0,$AK$13)","v":0},null,{"$f":"IF($AL$13=0,0,$AL$13)","v":0},null,{"$f":"IF($AM$13=0,0,$AM$13)","v":0},null,{"$f":"IF($AN$13=0,0,$AN$13)","v":0},null,{"$f":"IF($AO$13=0,0,$AO$13)","v":0},null,{"$f":"IF($AP$13=0,0,$AP$13)","v":0},null,{"$f":"IF($AQ$13=0,0,$AQ$13)","v":0},null,{"$f":"IF($AR$13=0,0,$AR$13)","v":0},null,{"$f":"IF($AS$13=0,0,$AS$13)","v":0},null,{"$f":"IF($AT$13=0,0,$AT$13)","v":0},null,{"$f":"IF($AU$13=0,0,$AU$13)","v":0},null,{"$f":"IF($AV$13=0,0,$AV$13)","v":0}]
[{"$f":"$A$63","v":"Total inkl. Zeitzuschläge"},{"$f":"$B$63","v":"Stunden produktiv und unproduktiv"},null,null,null,null,{"$f":"IF($AG$36=0,0,$AG$36)","v":0},null,{"$f":"IF($AG$99=0,0,$AG$99)","v":0},null,{"$f":"IF($AG$162=0,0,$AG$162)","v":0},null,{"$f":"IF($AG$225=0,0,$AG$225)","v":0},null,{"$f":"IF($AG$288=0,0,$AG$288)","v":0},null,{"$f":"IF($AG$351=0,0,$AG$351)","v":0},null,{"$f":"IF($AG$414=0,0,$AG$414)","v":0},null,{"$f":"IF($AG$477=0,0,$AG$477)","v":0},null,{"$f":"IF($AG$540=0,0,$AG$540)","v":0},null,{"$f":"IF($AG$603=0,0,$AG$603)","v":0},null,{"$f":"IF($AG$666=0,0,$AG$666)","v":0},null,{"$f":"IF($AG$729=0,0,$AG$729)","v":0},null,{"$f":"SUM($G$63:$AD$63)","v":0}]
[{"$f":"$A$64","v":"Vergleich"},{"$f":"$B$64","v":"Stunden zu Soll-Stunden (inkl. allfälli-\nge Minusstunden Vorjahr)"},null,null,null,null,{"$f":"$G$64","v":-184},null,{"$f":"$I$64","v":-160},null,{"$f":"$K$64","v":-176},null,{"$f":"$M$64","v":-176},null,{"$f":"$O$64","v":-168},null,{"$f":"$Q$64","v":-176},null,{"$f":"$S$64","v":-184},null,{"$f":"$U$64","v":-168},null,{"$f":"$W$64","v":-176},null,{"$f":"$Y$64","v":-176},null,{"$f":"$AA$64","v":-168},null,{"$f":"$AC$64","v":-184},null,{"$f":"$AE$64","v":-2096}]
[null,{"$f":"$B$65","v":"Stunden zu Soll-Stunden (kumuliert)"},null,null,null,null,{"$f":"$G$65","v":-184},null,{"$f":"$I$65","v":-344},null,{"$f":"$K$65","v":-520},null,{"$f":"$M$65","v":-696},null,{"$f":"$O$65","v":-864},null,{"$f":"$Q$65","v":-1040},null,{"$f":"$S$65","v":-1224},null,{"$f":"$U$65","v":-1392},null,{"$f":"$W$65","v":-1568},null,{"$f":"$Y$65","v":-1744},null,{"$f":"$AA$65","v":-1912},null,{"$f":"$AC$65","v":-2096},null,{"$f":"$AE$65","v":0}]
[{"$f":"$A$66","v":"Ferienkontrolle"},{"$f":"$B$66","v":"Ferienguthaben Vorjahr"},null,null,null,null,{"$f":"IF($AA$4=0,0,$AA$4)","v":0},null,{"$f":"$I$66","v":"Ferienguthaben nach \nArt. 12.1 GAV"},null,null,null,{"$f":"IF($AA$5=0,0,$AA$5)","v":0},null,{"$f":"$O$66","v":"Ferienguthaben total"},null,null,null,{"$f":"SUM(G129+M129)","v":0},null,{"$f":"$U$66","v":"Ferien bezogen"},null,null,null,{"$f":"IF($AV$4=0,0,$AV$4)","v":0},null,{"$f":"$AA$66","v":"Aktuelles Ferienguthaben"},null,null,null,{"$f":"IF(S129=0,0,S129-Y129)","v":0}]
[]
[]
[{"$f":"$A$3","v":"Mitarbeiter/In"},{"$f":"IF($B$3=\"\",\"\",$B$3)","v":"Muster Peter"},null,null,null,null,null,null,null,null,null,null,null,null,null,null,null,null,null,null,null,null,null,null,null,null,null,null,null,null,null,{"$f":"AF3","v":0}]
[{"$f":"$A$4","v":"Anstellung %"},100,null,{"$f":"Labels!B91","v":"im März"}]
[{"$f":"$A$5","v":"Saldo für das Jahr"},null,null,{"$f":"IF($AE$64=0,0,$AE$64)","v":-2096}]
[{"$f":"TEXT(DATE(YEAR(AP28),MONTH(AP28)+2,1),\"MMMM\"&Labels!B13)","v":"März"},{"$f":"$B$9","v":"Saldo Monat + / -"},null,null,null,{"$f":"(AG138-(SUM(AG139:AG153)-AE160))*-1","v":-176},null,null,null,null,{"$f":"$K$9","v":" = "},{"$f":"$L$9","v":"Gelbe Felder müssen ausgefüllt werden (die übrigen werden automatisch berechnet)"}]
[{"$f":"$A$10","v":"Tag"},{"$f":"IF(MOD($AE$95,4)>=1,$AC$73+1,$AC$73+2)","v":"2020-03-01"},{"$f":"B136+1","v":"2020-03-02"},"2020-03-03","2020-03-04","2020-03-05","2020-03-06","2020-03-07","2020-03-08","2020-03-09","2020-03-10","2020-03-11","2020-03-12","2020-03-13","2020-03-14","2020-03-15","2020-03-16","2020-03-17","2020-03-18","2020-03-19","2020-03-20","2020-03-21","2020-03-22","2020-03-23","2020-03-24","2020-03-25","2020-03-26","2020-03-27","2020-03-28","2020-03-29","2020-03-30","2020-03-31",{"$f":"COUNT(B138:AF138)&\" \"&Labels!$B$63","v":"22 Tage"}]
[{"$f":"$A$11","v":"Kalenderwoche"},{"$f":"IF(B136=\"\",\"\",TRUNC((B136-DATE(YEAR(B136+3-MOD(B136-2,7)),1,MOD(B136-2,7)-9))/7))","v":9},10,10,10,10,10,10,10,11,11,11,11,11,11,11,12,12,12,12,12,12,12,13,13,13,13,13,13,13,14,14]
[{"$f":"$A$12","v":"Sollstunden"},{"$f":"IF(MOD(B136,7)>=2,$J$7*$B$133%,\"\")","v":""},8,8,8,8,8,"","",8,8,8,8,8,"","",8,8,8,8,8,"","",8,8,8,8,8,"","",8,8,{"$f":"SUM(B138:AF138)","v":176}]
[{"$f":"$A$13","v":"Absenz in Std"},{"$f":"B865","v":0},{"$f":"C865","v":0},0,0,0,0,0,0,0,0,0,0,0,0,0,0,0,0,0,0,0,0,0,0,0,0,0,0,0,0,0,{"$f":"SUM(AL3:AL12)","v":0}]
[{"$f":"$A$14","v":"Code"},{"$f":"IF(B865<>0,IF(MAX(B852:B864)<B865,Labels!$B$163,INDEX($AH$852:$AH$864,MATCH(MAX(B852:B864),B852:B864,0))),\"\")","v":""},{"$f":"IF(C865<>0,IF(MAX(C852:C864)<C865,Labels!$B$163,INDEX($AH$852:$AH$864,MATCH(MAX(C852:C864),C852:C864,0))),\"\")","v":""},{"$f":"IF(D865<>0,IF(MAX(D852:D864)<D865,Labels!$B$163,INDEX($AH$852:$AH$864,MATCH(MAX(D852:D864),D852:D864,0))),\"\")","v":""},{"$f":"IF(E865<>0,IF(MAX(E852:E864)<E865,Labels!$B$163,INDEX($AH$852:$AH$864,MATCH(MAX(E852:E864),E852:E864,0))),\"\")","v":""},{"$f":"IF(F865<>0,IF(MAX(F852:F864)<F865,Labels!$B$163,INDEX($AH$852:$AH$864,MATCH(MAX(F852:F864),F852:F864,0))),\"\")","v":""},{"$f":"IF(G865<>0,IF(MAX(G852:G864)<G865,Labels!$B$163,INDEX($AH$852:$AH$864,MATCH(MAX(G852:G864),G852:G864,0))),\"\")","v":""},{"$f":"IF(H865<>0,IF(MAX(H852:H864)<H865,Labels!$B$163,INDEX($AH$852:$AH$864,MATCH(MAX(H852:H864),H852:H864,0))),\"\")","v":""},{"$f":"IF(I865<>0,IF(MAX(I852:I864)<I865,Labels!$B$163,INDEX($AH$852:$AH$864,MATCH(MAX(I852:I864),I852:I864,0))),\"\")","v":""},{"$f":"IF(J865<>0,IF(MAX(J852:J864)<J865,Labels!$B$163,INDEX($AH$852:$AH$864,MATCH(MAX(J852:J864),J852:J864,0))),\"\")","v":""},{"$f":"IF(K865<>0,IF(MAX(K852:K864)<K865,Labels!$B$163,INDEX($AH$852:$AH$864,MATCH(MAX(K852:K864),K852:K864,0))),\"\")","v":""},{"$f":"IF(L865<>0,IF(MAX(L852:L864)<L865,Labels!$B$163,INDEX($AH$852:$AH$864,MATCH(MAX(L852:L864),L852:L864,0))),\"\")","v":""},{"$f":"IF(M865<>0,IF(MAX(M852:M864)<M865,Labels!$B$163,INDEX($AH$852:$AH$864,MATCH(MAX(M852:M864),M852:M864,0))),\"\")","v":""},{"$f":"IF(N865<>0,IF(MAX(N852:N864)<N865,Labels!$B$163,INDEX($AH$852:$AH$864,MATCH(MAX(N852:N864),N852:N864,0))),\"\")","v":""},{"$f":"IF(O865<>0,IF(MAX(O852:O864)<O865,Labels!$B$163,INDEX($AH$852:$AH$864,MATCH(MAX(O852:O864),O852:O864,0))),\"\")","v":""},{"$f":"IF(P865<>0,IF(MAX(P852:P864)<P865,Labels!$B$163,INDEX($AH$852:$AH$864,MATCH(MAX(P852:P864),P852:P864,0))),\"\")","v":""},{"$f":"IF(Q865<>0,IF(MAX(Q852:Q864)<Q865,Labels!$B$163,INDEX($AH$852:$AH$864,MATCH(MAX(Q852:Q864),Q852:Q864,0))),\"\")","v":""},{"$f":"IF(R865<>0,IF(MAX(R852:R864)<R865,Labels!$B$163,INDEX($AH$852:$AH$864,MATCH(MAX(R852:R864),R852:R864,0))),\"\")","v":""},{"$f":"IF(S865<>0,IF(MAX(S852:S864)<S865,Labels!$B$163,INDEX($AH$852:$AH$864,MATCH(MAX(S852:S864),S852:S864,0))),\"\")","v":""},{"$f":"IF(T865<>0,IF(MAX(T852:T864)<T865,Labels!$B$163,INDEX($AH$852:$AH$864,MATCH(MAX(T852:T864),T852:T864,0))),\"\")","v":""},{"$f":"IF(U865<>0,IF(MAX(U852:U864)<U865,Labels!$B$163,INDEX($AH$852:$AH$864,MATCH(MAX(U852:U864),U852:U864,0))),\"\")","v":""},{"$f":"IF(V865<>0,IF(MAX(V852:V864)<V865,Labels!$B$163,INDEX($AH$852:$AH$864,MATCH(MAX(V852:V864),V852:V864,0))),\"\")","v":""},{"$f":"IF(W865<>0,IF(MAX(W852:W864)<W865,Labels!$B$163,INDEX($AH$852:$AH$864,MATCH(MAX(W852:W864),W852:W864,0))),\"\")","v":""},{"$f":"IF(X865<>0,IF(MAX(X852:X864)<X865,Labels!$B$163,INDEX($AH$852:$AH$864,MATCH(MAX(X852:X864),X852:X864,0))),\"\")","v":""},{"$f":"IF(Y865<>0,IF(MAX(Y852:Y864)<Y865,Labels!$B$163,INDEX($AH$852:$AH$864,MATCH(MAX(Y852:Y864),Y852:Y864,0))),\"\")","v":""},{"$f":"IF(Z865<>0,IF(MAX(Z852:Z864)<Z865,Labels!$B$163,INDEX($AH$852:$AH$864,MATCH(MAX(Z852:Z864),Z852:Z864,0))),\"\")","v":""},{"$f":"IF(AA865<>0,IF(MAX(AA852:AA864)<AA865,Labels!$B$163,INDEX($AH$852:$AH$864,MATCH(MAX(AA852:AA864),AA852:AA864,0))),\"\")","v":""},{"$f":"IF(AB865<>0,IF(MAX(AB852:AB864)<AB865,Labels!$B$163,INDEX($AH$852:$AH$864,MATCH(MAX(AB852:AB864),AB852:AB864,0))),\"\")","v":""},{"$f":"IF(AC865<>0,IF(MAX(AC852:AC864)<AC865,Labels!$B$163,INDEX($AH$852:$AH$864,MATCH(MAX(AC852:AC864),AC852:AC864,0))),\"\")","v":""},{"$f":"IF(AD865<>0,IF(MAX(AD852:AD864)<AD865,Labels!$B$163,INDEX($AH$852:$AH$864,MATCH(MAX(AD852:AD864),AD852:AD864,0))),\"\")","v":""},{"$f":"IF(AE865<>0,IF(MAX(AE852:AE864)<AE865,Labels!$B$163,INDEX($AH$852:$AH$864,MATCH(MAX(AE852:AE864),AE852:AE864,0))),\"\")","v":""},{"$f":"IF(AF865<>0,IF(MAX(AF852:AF864)<AF865,Labels!$B$163,INDEX($AH$852:$AH$864,MATCH(MAX(AF852:AF864),AF852:AF864,0))),\"\")","v":""}]
[{"$f":"$A$15","v":"00.00-06.00h"},null,null,null,null,null,null,null,null,null,null,null,null,null,null,null,null,null,null,null,null,null,null,null,null,null,null,null,null,null,null,null,{"$f":"SUM(B141:AF141)","v":0}]
[{"$f":"$A$16","v":"06.00-20.00h"},null,null,null,null,null,null,null,null,null,null,null,null,null,null,null,null,null,null,null,null,null,null,null,null,null,null,null,null,null,null,null,{"$f":"SUM(B142:AF142)","v":0}]
[{"$f":"$A$17","v":"20.00-24.00h"},null,null,null,null,null,null,null,null,null,null,null,null,null,null,null,null,null,null,null,null,null,null,null,null,null,null,null,null,null,null,null,{"$f":"SUM(B143:AF143)","v":0},"[0]"]
[{"$f":"$A$18","v":"Feiertag \"ft\""},{"$f":"IF(WEEKDAY(B136,2)<=6,IF(KALENDER!E7=\"x\",Labels!$B$118,\"\"),\"\")","v":""},{"$f":"IF(WEEKDAY(C136,2)<=6,IF(KALENDER!F7=\"x\",Labels!$B$118,\"\"),\"\")","v":""},{"$f":"IF(WEEKDAY(D136,2)<=6,IF(KALENDER!G7=\"x\",Labels!$B$118,\"\"),\"\")","v":""},{"$f":"IF(WEEKDAY(E136,2)<=6,IF(KALENDER!H7=\"x\",Labels!$B$118,\"\"),\"\")","v":""},{"$f":"IF(WEEKDAY(F136,2)<=6,IF(KALENDER!I7=\"x\",Labels!$B$118,\"\"),\"\")","v":""},{"$f":"IF(WEEKDAY(G136,2)<=6,IF(KALENDER!J7=\"x\",Labels!$B$118,\"\"),\"\")","v":""},{"$f":"IF(WEEKDAY(H136,2)<=6,IF(KALENDER!K7=\"x\",Labels!$B$118,\"\"),\"\")","v":""},{"$f":"IF(WEEKDAY(I136,2)<=6,IF(KALENDER!L7=\"x\",Labels!$B$118,\"\"),\"\")","v":""},{"$f":"IF(WEEKDAY(J136,2)<=6,IF(KALENDER!M7=\"x\",Labels!$B$118,\"\"),\"\")","v":""},{"$f":"IF(WEEKDAY(K136,2)<=6,IF(KALENDER!N7=\"x\",Labels!$B$118,\"\"),\"\")","v":""},{"$f":"IF(WEEKDAY(L136,2)<=6,IF(KALENDER!O7=\"x\",Labels!$B$118,\"\"),\"\")","v":""},{"$f":"IF(WEEKDAY(M136,2)<=6,IF(KALENDER!P7=\"x\",Labels!$B$118,\"\"),\"\")","v":""},{"$f":"IF(WEEKDAY(N136,2)<=6,IF(KALENDER!Q7=\"x\",Labels!$B$118,\"\"),\"\")","v":""},{"$f":"IF(WEEKDAY(O136,2)<=6,IF(KALENDER!R7=\"x\",Labels!$B$118,\"\"),\"\")","v":""},{"$f":"IF(WEEKDAY(P136,2)<=6,IF(KALENDER!S7=\"x\",Labels!$B$118,\"\"),\"\")","v":""},{"$f":"IF(WEEKDAY(Q136,2)<=6,IF(KALENDER!T7=\"x\",Labels!$B$118,\"\"),\"\")","v":""},{"$f":"IF(WEEKDAY(R136,2)<=6,IF(KALENDER!U7=\"x\",Labels!$B$118,\"\"),\"\")","v":""},{"$f":"IF(WEEKDAY(S136,2)<=6,IF(KALENDER!V7=\"x\",Labels!$B$118,\"\"),\"\")","v":""},{"$f":"IF(WEEKDAY(T136,2)<=6,IF(KALENDER!W7=\"x\",Labels!$B$118,\"\"),\"\")","v":""},{"$f":"IF(WEEKDAY(U136,2)<=6,IF(KALENDER!X7=\"x\",Labels!$B$118,\"\"),\"\")","v":""},{"$f":"IF(WEEKDAY(V136,2)<=6,IF(KALENDER!Y7=\"x\",Labels!$B$118,\"\"),\"\")","v":""},{"$f":"IF(WEEKDAY(W136,2)<=6,IF(KALENDER!Z7=\"x\",Labels!$B$118,\"\"),\"\")","v":""},{"$f":"IF(WEEKDAY(X136,2)<=6,IF(KALENDER!AA7=\"x\",Labels!$B$118,\"\"),\"\")","v":""},{"$f":"IF(WEEKDAY(Y136,2)<=6,IF(KALENDER!AB7=\"x\",Labels!$B$118,\"\"),\"\")","v":""},{"$f":"IF(WEEKDAY(Z136,2)<=6,IF(KALENDER!AC7=\"x\",Labels!$B$118,\"\"),\"\")","v":""},{"$f":"IF(WEEKDAY(AA136,2)<=6,IF(KALENDER!AD7=\"x\",Labels!$B$118,\"\"),\"\")","v":""},{"$f":"IF(WEEKDAY(AB136,2)<=6,IF(KALENDER!AE7=\"x\",Labels!$B$118,\"\"),\"\")","v":""},{"$f":"IF(WEEKDAY(AC136,2)<=6,IF(KALENDER!AF7=\"x\",Labels!$B$118,\"\"),\"\")","v":""},{"$f":"IF(WEEKDAY(AD136,2)<=6,IF(KALENDER!AG7=\"x\",Labels!$B$118,\"\"),\"\")","v":""},{"$f":"IF(WEEKDAY(AE136,2)<=6,IF(KALENDER!AH7=\"x\",Labels!$B$118,\"\"),\"\")","v":""},{"$f":"IF(WEEKDAY(AF136,2)<=6,IF(KALENDER!AI7=\"x\",Labels!$B$118,\"\"),\"\")","v":""}]
[{"$f":"$A$19","v":"Gutschrift \"ft\""},{"$f":"IF(AND(B144=Labels!$B$118,WEEKDAY(B136,2)<6),$J$7*$B$133%,\"\")","v":""},{"$f":"IF(AND(C144=Labels!$B$118,WEEKDAY(C136,2)<6),$J$7*$B$133%,\"\")","v":""},{"$f":"IF(AND(D144=Labels!$B$118,WEEKDAY(D136,2)<6),$J$7*$B$133%,\"\")","v":""},{"$f":"IF(AND(E144=Labels!$B$118,WEEKDAY(E136,2)<6),$J$7*$B$133%,\"\")","v":""},{"$f":"IF(AND(F144=Labels!$B$118,WEEKDAY(F136,2)<6),$J$7*$B$133%,\"\")","v":""},{"$f":"IF(AND(G144=Labels!$B$118,WEEKDAY(G136,2)<6),$J$7*$B$133%,\"\")","v":""},{"$f":"IF(AND(H144=Labels!$B$118,WEEKDAY(H136,2)<6),$J$7*$B$133%,\"\")","v":""},{"$f":"IF(AND(I144=Labels!$B$118,WEEKDAY(I136,2)<6),$J$7*$B$133%,\"\")","v":""},{"$f":"IF(AND(J144=Labels!$B$118,WEEKDAY(J136,2)<6),$J$7*$B$133%,\"\")","v":""},{"$f":"IF(AND(K144=Labels!$B$118,WEEKDAY(K136,2)<6),$J$7*$B$133%,\"\")","v":""},{"$f":"IF(AND(L144=Labels!$B$118,WEEKDAY(L136,2)<6),$J$7*$B$133%,\"\")","v":""},{"$f":"IF(AND(M144=Labels!$B$118,WEEKDAY(M136,2)<6),$J$7*$B$133%,\"\")","v":""},{"$f":"IF(AND(N144=Labels!$B$118,WEEKDAY(N136,2)<6),$J$7*$B$133%,\"\")","v":""},{"$f":"IF(AND(O144=Labels!$B$118,WEEKDAY(O136,2)<6),$J$7*$B$133%,\"\")","v":""},{"$f":"IF(AND(P144=Labels!$B$118,WEEKDAY(P136,2)<6),$J$7*$B$133%,\"\")","v":""},{"$f":"IF(AND(Q144=Labels!$B$118,WEEKDAY(Q136,2)<6),$J$7*$B$133%,\"\")","v":""},{"$f":"IF(AND(R144=Labels!$B$118,WEEKDAY(R136,2)<6),$J$7*$B$133%,\"\")","v":""},{"$f":"IF(AND(S144=Labels!$B$118,WEEKDAY(S136,2)<6),$J$7*$B$133%,\"\")","v":""},{"$f":"IF(AND(T144=Labels!$B$118,WEEKDAY(T136,2)<6),$J$7*$B$133%,\"\")","v":""},{"$f":"IF(AND(U144=Labels!$B$118,WEEKDAY(U136,2)<6),$J$7*$B$133%,\"\")","v":""},{"$f":"IF(AND(V144=Labels!$B$118,WEEKDAY(V136,2)<6),$J$7*$B$133%,\"\")","v":""},{"$f":"IF(AND(W144=Labels!$B$118,WEEKDAY(W136,2)<6),$J$7*$B$133%,\"\")","v":""},{"$f":"IF(AND(X144=Labels!$B$118,WEEKDAY(X136,2)<6),$J$7*$B$133%,\"\")","v":""},{"$f":"IF(AND(Y144=Labels!$B$118,WEEKDAY(Y136,2)<6),$J$7*$B$133%,\"\")","v":""},{"$f":"IF(AND(Z144=Labels!$B$118,WEEKDAY(Z136,2)<6),$J$7*$B$133%,\"\")","v":""},{"$f":"IF(AND(AA144=Labels!$B$118,WEEKDAY(AA136,2)<6),$J$7*$B$133%,\"\")","v":""},{"$f":"IF(AND(AB144=Labels!$B$118,WEEKDAY(AB136,2)<6),$J$7*$B$133%,\"\")","v":""},{"$f":"IF(AND(AC144=Labels!$B$118,WEEKDAY(AC136,2)<6),$J$7*$B$133%,\"\")","v":""},{"$f":"IF(AND(AD144=Labels!$B$118,WEEKDAY(AD136,2)<6),$J$7*$B$133%,\"\")","v":""},{"$f":"IF(AND(AE144=Labels!$B$118,WEEKDAY(AE136,2)<6),$J$7*$B$133%,\"\")","v":""},{"$f":"IF(AND(AF144=Labels!$B$118,WEEKDAY(AF136,2)<6),$J$7*$B$133%,\"\")","v":""},{"$f":"SUM(B145:AF145)","v":0}]
[{"$f":"$A$20","v":"Tagestotal"},{"$f":"SUM(B141:B143)","v":0},{"$f":"SUM(C141:C143)","v":0},0,0,0,0,0,0,0,0,0,0,0,0,0,0,0,0,0,0,0,0,0,0,0,0,0,0,0,0,0]
[{"$f":"$A$21","v":"."}]
[{"$f":"$A$22","v":"."}]
[{"$f":"$A$23","v":"Monatsübergang"},{"$f":"IF(WEEKDAY(B136)=1,TEXT(B136-1,\"MMM\"&Labels!B13),\"\")","v":"Feb"},null,null,null,null,null,null,null,null,null,null,null,null,null,null,null,null,null,null,null,null,null,null,null,null,null,null,null,null,null,{"$f":"IF(AND(WEEKDAY(AF136)>1,WEEKDAY(AF136)<7),TEXT(DATE($B$5,MONTH(AF136)+1,1),\"MMM\"&Labels!B13),\"\")","v":"Apr"}]
[{"$f":"$A$24","v":"Wochentotal"},{"$f":"IF(WEEKDAY(B136)=7,SUMIF($B74:$AF74,B137,$B83:$AF83)+SUMIF($B137:$AF137,B137,$B146:$AF146)+SUMIF($B200:$AF200,B137,$B209:$AF209),B149)","v":"Feb"},{"$f":"IF(WEEKDAY(C136)=7,SUMIF($B74:$AF74,C137,$B83:$AF83)+SUMIF($B137:$AF137,C137,$B146:$AF146)+SUMIF($B200:$AF200,C137,$B209:$AF209),\"\")","v":""},"","","","",0,"","","","","","",0,"","","","","","",0,"","","","","","",0,"","",{"$f":"IF(WEEKDAY(AF136)=7,SUMIF($B74:$AF74,AF137,$B83:$AF83)+SUMIF($B137:$AF137,AF137,$B146:$AF146)+SUMIF($B200:$AF200,AF137,$B209:$AF209),AF149)","v":"Apr"}]
[{"$f":"$A$25","v":"Zeitzuschlag 1)"},{"$f":"IF(B158=\"FALSCH\",\"\",B158)","v":""},{"$f":"IF(C158=\"FALSCH\",\"\",C158)","v":""},"","","","","","","","","","","","","","","","","","","","","","","","","","","","","",{"$f":"SUM(B151:AF151)","v":0}]
[{"$f":"$A$26","v":"Zeitzuschlag 2)"},{"$f":"IF((B141+B143)=0,\"\",SUM(B141,B143))","v":""},{"$f":"IF((C141+C143)=0,\"\",SUM(C141,C143))","v":""},"","","","","","","","","","","","","","","","","","","","","","","","","","","","","",0,"[1]"]
[{"$f":"$A$27","v":"Zeitzuschlag 3)"},{"$f":"SUM(B154:B157)","v":0},{"$f":"SUM(C154:C157)","v":0},0,0,0,0,0,0,0,0,0,0,0,0,0,0,0,0,0,0,0,0,0,0,0,0,0,0,0,0,0,{"$f":"SUM(B153:AF153)","v":0},"[2]"]
[{"$f":"$A$28","v":"Sonntag Tag"},{"$f":"IF(WEEKDAY(B136)=1,B142,\"\")","v":0},{"$f":"IF(WEEKDAY(C136)=1,C142,\"\")","v":""},"","","","","",0,"","","","","","",0,"","","","","","",0,"","","","","","",0,"","",0,"[3]"]
[{"$f":"$A$29","v":"Sonntag Nacht"},{"$f":"IF(WEEKDAY(B136)=1,SUM(B141+B143),\"\")","v":0},{"$f":"IF(WEEKDAY(C136)=1,SUM(C141+C143),\"\")","v":""},"","","","","",0,"","","","","","",0,"","","","","","",0,"","","","","","",0,"","",0,"[4]"]
[{"$f":"$A$30","v":"ft-Tazuschlag"},{"$f":"IF(B144=Labels!$B$118,B142,\"\")","v":""},{"$f":"IF(C144=Labels!$B$118,C142,\"\")","v":""},{"$f":"IF(D144=Labels!$B$118,D142,\"\")","v":""},{"$f":"IF(E144=Labels!$B$118,E142,\"\")","v":""},{"$f":"IF(F144=Labels!$B$118,F142,\"\")","v":""},{"$f":"IF(G144=Labels!$B$118,G142,\"\")","v":""},{"$f":"IF(H144=Labels!$B$118,H142,\"\")","v":""},{"$f":"IF(I144=Labels!$B$118,I142,\"\")","v":""},{"$f":"IF(J144=Labels!$B$118,J142,\"\")","v":""},{"$f":"IF(K144=Labels!$B$118,K142,\"\")","v":""},{"$f":"IF(L144=Labels!$B$118,L142,\"\")","v":""},{"$f":"IF(M144=Labels!$B$118,M142,\"\")","v":""},{"$f":"IF(N144=Labels!$B$118,N142,\"\")","v":""},{"$f":"IF(O144=Labels!$B$118,O142,\"\")","v":""},{"$f":"IF(P144=Labels!$B$118,P142,\"\")","v":""},{"$f":"IF(Q144=Labels!$B$118,Q142,\"\")","v":""},{"$f":"IF(R144=Labels!$B$118,R142,\"\")","v":""},{"$f":"IF(S144=Labels!$B$118,S142,\"\")","v":""},{"$f":"IF(T144=Labels!$B$118,T142,\"\")","v":""},{"$f":"IF(U144=Labels!$B$118,U142,\"\")","v":""},{"$f":"IF(V144=Labels!$B$118,V142,\"\")","v":""},{"$f":"IF(W144=Labels!$B$118,W142,\"\")","v":""},{"$f":"IF(X144=Labels!$B$118,X142,\"\")","v":""},{"$f":"IF(Y144=Labels!$B$118,Y142,\"\")","v":""},{"$f":"IF(Z144=Labels!$B$118,Z142,\"\")","v":""},{"$f":"IF(AA144=Labels!$B$118,AA142,\"\")","v":""},{"$f":"IF(AB144=Labels!$B$118,AB142,\"\")","v":""},{"$f":"IF(AC144=Labels!$B$118,AC142,\"\")","v":""},{"$f":"IF(AD144=Labels!$B$118,AD142,\"\")","v":""},{"$f":"IF(AE144=Labels!$B$118,AE142,\"\")","v":""},{"$f":"IF(AF144=Labels!$B$118,AF142,\"\")","v":""},0,"[5]"]
[{"$f":"$A$31","v":"ft-Nazuschlag"},{"$f":"IF(B144=Labels!$B$118,SUM(B141,B143),\"\")","v":""},{"$f":"IF(C144=Labels!$B$118,SUM(C141,C143),\"\")","v":""},{"$f":"IF(D144=Labels!$B$118,SUM(D141,D143),\"\")","v":""},{"$f":"IF(E144=Labels!$B$118,SUM(E141,E143),\"\")","v":""},{"$f":"IF(F144=Labels!$B$118,SUM(F141,F143),\"\")","v":""},{"$f":"IF(G144=Labels!$B$118,SUM(G141,G143),\"\")","v":""},{"$f":"IF(H144=Labels!$B$118,SUM(H141,H143),\"\")","v":""},{"$f":"IF(I144=Labels!$B$118,SUM(I141,I143),\"\")","v":""},{"$f":"IF(J144=Labels!$B$118,SUM(J141,J143),\"\")","v":""},{"$f":"IF(K144=Labels!$B$118,SUM(K141,K143),\"\")","v":""},{"$f":"IF(L144=Labels!$B$118,SUM(L141,L143),\"\")","v":""},{"$f":"IF(M144=Labels!$B$118,SUM(M141,M143),\"\")","v":""},{"$f":"IF(N144=Labels!$B$118,SUM(N141,N143),\"\")","v":""},{"$f":"IF(O144=Labels!$B$118,SUM(O141,O143),\"\")","v":""},{"$f":"IF(P144=Labels!$B$118,SUM(P141,P143),\"\")","v":""},{"$f":"IF(Q144=Labels!$B$118,SUM(Q141,Q143),\"\")","v":""},{"$f":"IF(R144=Labels!$B$118,SUM(R141,R143),\"\")","v":""},{"$f":"IF(S144=Labels!$B$118,SUM(S141,S143),\"\")","v":""},{"$f":"IF(T144=Labels!$B$118,SUM(T141,T143),\"\")","v":""},{"$f":"IF(U144=Labels!$B$118,SUM(U141,U143),\"\")","v":""},{"$f":"IF(V144=Labels!$B$118,SUM(V141,V143),\"\")","v":""},{"$f":"IF(W144=Labels!$B$118,SUM(W141,W143),\"\")","v":""},{"$f":"IF(X144=Labels!$B$118,SUM(X141,X143),\"\")","v":""},{"$f":"IF(Y144=Labels!$B$118,SUM(Y141,Y143),\"\")","v":""},{"$f":"IF(Z144=Labels!$B$118,SUM(Z141,Z143),\"\")","v":""},{"$f":"IF(AA144=Labels!$B$118,SUM(AA141,AA143),\"\")","v":""},{"$f":"IF(AB144=Labels!$B$118,SUM(AB141,AB143),\"\")","v":""},{"$f":"IF(AC144=Labels!$B$118,SUM(AC141,AC143),\"\")","v":""},{"$f":"IF(AD144=Labels!$B$118,SUM(AD141,AD143),\"\")","v":""},{"$f":"IF(AE144=Labels!$B$118,SUM(AE141,AE143),\"\")","v":""},{"$f":"IF(AF144=Labels!$B$118,SUM(AF141,AF143),\"\")","v":""},0,"[6]"]
[{"$f":"$A$32","v":"Zuschlag  blind (Wochentotal)"},{"$f":"IF(OR(ISTEXT(B150),B150=\"\",B150<$B$7),\"\",ROUND(((B150-$B$7)*25%)/25,4)*25)","v":""},{"$f":"IF(OR(ISTEXT(C150),C150=\"\",C150<$B$7),\"\",ROUND(((C150-$B$7)*25%)/25,4)*25)","v":""},"","","","","","","","","","","","","","","","","","","","","","","","","","","","","",{"$f":"AG142","v":0},"[7]"]
[null,{"$f":"$B$33","v":"1)   25% Zeitzuschlag für Überschreitung Wochentotal"},null,null,null,null,null,null,null,null,null,{"$f":"$L$33","v":"2) 100% Zeitzuschlag für Nachtarbeit"},null,null,null,null,null,null,null,{"$f":"$T$33","v":"Eingabe der ausbezahlten Stunden Vorjahressaldo"},null,null,null,null,null,null,null,null,null,null,null,null,{"$f":"SUM(AG141+AG143)","v":0},"[8]"]
[null,{"$f":"$B$34","v":"3) 100% Zeitzuschlag für Sonn- und Feiertagsarbeit"},null,null,null,null,null,null,null,null,null,null,null,null,null,null,null,null,null,{"$f":"$T$34","v":"Eingabe der ausbezahlten Stunden laufendes Jahr (Überstunden)"},null,null,null,null,null,null,null,null,null,null,null,null,{"$f":"SUM(AG141:AG143)","v":0},"[9]"]
[{"$f":"$A$35","v":"Bemerkungen"},null,null,null,null,null,null,null,null,null,null,null,null,null,null,null,null,null,null,null,null,null,null,null,null,null,null,null,null,null,null,null,{"$f":"SUM(AG139+AG145)","v":0},"[10]"]
[null,null,null,null,null,null,null,null,null,null,null,null,null,null,null,null,null,null,null,null,null,null,null,null,null,null,null,null,null,null,null,null,{"$f":"SUM(AG139:AG153)","v":0},"[11]"]
[null,null,null,null,null,null,null,null,null,null,null,null,null,null,null,null,null,null,null,null,null,null,null,null,null,null,null,null,null,null,null,null,{"$f":"AG138","v":176}]
[null,null,null,null,null,null,null,null,null,null,null,null,null,null,null,null,null,null,null,null,null,null,null,null,null,null,null,null,null,null,null,null,{"$f":"SUM(AG162-AG138)","v":-176}]
[{"$f":"$A$39","v":"Zusammenstellung"},null,null,null,null,null,{"$f":"$G$39","v":"Jan"},null,{"$f":"$I$39","v":"Feb"},null,{"$f":"$K$39","v":"Mrz"},null,{"$f":"$M$39","v":"Apr"},null,{"$f":"$O$39","v":"Mai"},null,{"$f":"$Q$39","v":"Jun"},null,{"$f":"$S$39","v":"Jul"},null,{"$f":"$U$39","v":"Aug"},null,{"$f":"$W$39","v":"Sep"},null,{"$f":"$Y$39","v":"Okt"},null,{"$f":"$AA$39","v":"Nov"},null,{"$f":"$AC$39","v":"Dez"},null,{"$f":"$AE$39","v":"Jahr"}]
[{"$f":"$A$40","v":"Anstellung %"},null,null,null,null,null,{"$f":"IF($B$4=0,0,$B$4)","v":100},null,{"$f":"IF($B$70=0,0,$B$70)","v":100},null,{"$f":"IF($B$133=0,0,$B$133)","v":100},null,{"$f":"IF($B$196=0,0,$B$196)","v":100},null,{"$f":"IF($B$259=0,0,$B$259)","v":100},null,{"$f":"IF($B$322=0,0,$B$322)","v":100},null,{"$f":"IF($B$385=0,0,$B$385)","v":100},null,{"$f":"IF($B$448=0,0,$B$448)","v":100},null,{"$f":"IF($B$511=0,0,$B$511)","v":100},null,{"$f":"IF($B$574=0,0,$B$574)","v":100},null,{"$f":"IF($B$637=0,0,$B$637)","v":100},null,{"$f":"IF($B$700=0,0,$B$700)","v":100}]
[{"$f":"$A$41","v":"Sollstunden gemäss GAV"},null,null,null,null,null,{"$f":"IF($AG$37=0,0,$AG$37)","v":184},null,{"$f":"IF($AG$100=0,0,$AG$100)","v":160},null,{"$f":"IF($AG$138=0,0,$AG$138)","v":176},null,{"$f":"IF($AG$226=0,0,$AG$226)","v":176},null,{"$f":"IF($AG$289=0,0,$AG$289)","v":168},null,{"$f":"IF($AG$352=0,0,$AG$352)","v":176},null,{"$f":"IF($AG$415=0,0,$AG$415)","v":184},null,{"$f":"IF($AG$478=0,0,$AG$478)","v":168},null,{"$f":"IF($AG$541=0,0,$AG$541)","v":176},null,{"$f":"IF($AG$604=0,0,$AG$604)","v":176},null,{"$f":"IF($AG$667=0,0,$AG$667)","v":168},null,{"$f":"IF($AG$730=0,0,$AG$730)","v":184},null,{"$f":"SUM(G167:AD167)","v":2096}]
[{"$f":"$A$42","v":"Produktive Stunden"},{"$f":"$B$42","v":"06.00 - 20.00 Uhr"},null,null,null,null,{"$f":"IF($AG$32=0,0,$AG$32)","v":0},null,{"$f":"IF($AG$95=0,0,$AG$95)","v":0},null,{"$f":"IF($AG$158=0,0,$AG$158)","v":0},null,{"$f":"IF($AG$221=0,0,$AG$221)","v":0},null,{"$f":"IF($AG$284=0,0,$AG$284)","v":0},null,{"$f":"IF($AG$347=0,0,$AG$347)","v":0},null,{"$f":"IF($AG$410=0,0,$AG$410)","v":0},null,{"$f":"IF($AG$473=0,0,$AG$473)","v":0},null,{"$f":"IF($AG$536=0,0,$AG$536)","v":0},null,{"$f":"IF($AG$599=0,0,$AG$599)","v":0},null,{"$f":"IF($AG$662=0,0,$AG$662)","v":0},null,{"$f":"IF($AG$725=0,0,$AG$725)","v":0},null,{"$f":"SUM(G168:AD168)","v":0}]
[null,{"$f":"$B$43","v":"Nacht-, Sonn-, Feiertagsarbeit"},null,null,null,null,{"$f":"IF($AG$33=0,0,$AG$33)","v":0},null,{"$f":"IF($AG$96=0,0,$AG$96)","v":0},null,{"$f":"IF($AG$159=0,0,$AG$159)","v":0},null,{"$f":"IF($AG$222=0,0,$AG$222)","v":0},null,{"$f":"IF($AG$285=0,0,$AG$285)","v":0},null,{"$f":"IF($AG$348=0,0,$AG$348)","v":0},null,{"$f":"IF($AG$411=0,0,$AG$411)","v":0},null,{"$f":"IF($AG$474=0,0,$AG$474)","v":0},null,{"$f":"IF($AG$537=0,0,$AG$537)","v":0},null,{"$f":"IF($AG$600=0,0,$AG$600)","v":0},null,{"$f":"IF($AG$663=0,0,$AG$663)","v":0},null,{"$f":"IF($AG$726=0,0,$AG$726)","v":0},null,{"$f":"SUM(G169:AD169)","v":0}]
[{"$f":"$A$44","v":"Zeitzuschläge"},{"$f":"$B$44","v":"aus Wochentotal"},null,null,null,null,{"$f":"IF($AG$25=0,0,$AG$25)","v":0},null,{"$f":"IF($AG$88=0,0,$AG$88)","v":0},null,{"$f":"IF($AG$151=0,0,$AG$151)","v":0},null,{"$f":"IF($AG$214=0,0,$AG$214)","v":0},null,{"$f":"IF($AG$277=0,0,$AG$277)","v":0},null,{"$f":"IF($AG$340=0,0,$AG$340)","v":0},null,{"$f":"IF($AG$403=0,0,$AG$403)","v":0},null,{"$f":"IF($AG$466=0,0,$AG$466)","v":0},null,{"$f":"IF($AG$529=0,0,$AG$529)","v":0},null,{"$f":"IF($AG$592=0,0,$AG$592)","v":0},null,{"$f":"IF($AG$655=0,0,$AG$655)","v":0},null,{"$f":"IF($AG$718=0,0,$AG$718)","v":0},null,{"$f":"SUM(G170:AD170)","v":0}]
[null,{"$f":"$B$45","v":"aus Nacht-, Sonn-, Feiertagsarbeiten"},null,null,null,null,{"$f":"IF($AJ$20=0,0,$AJ$20)","v":0},null,{"$f":"IF($AK$20=0,0,$AK$20)","v":0},null,{"$f":"IF($AL$20=0,0,$AL$20)","v":0},null,{"$f":"IF($AM$20=0,0,$AM$20)","v":0},null,{"$f":"IF($AN$20=0,0,$AN$20)","v":0},null,{"$f":"IF($AO$20=0,0,$AO$20)","v":0},null,{"$f":"IF($AP$20=0,0,$AP$20)","v":0},null,{"$f":"IF($AQ$20=0,0,$AQ$20)","v":0},null,{"$f":"IF($AR$20=0,0,$AR$20)","v":0},null,{"$f":"IF($AS$20=0,0,$AS$20)","v":0},null,{"$f":"IF($AT$20=0,0,$AT$20)","v":0},null,{"$f":"IF($AU$20=0,0,$AU$20)","v":0},null,{"$f":"SUM(G171:AD171)","v":0}]
[{"$f":"$A$46","v":"Unproduktive Stunden"}]
[{"$f":"$A$47","v":"   Absenzen, Kurzabsenzen Art. 11 GAV"},null,null,null,null,{"$f":"$F$47","v":"a"},{"$f":"IF($AJ$3=0,0,$AJ$3)","v":0},null,{"$f":"IF($AK$3=0,0,$AK$3)","v":0},null,{"$f":"IF($AL$3=0,0,$AL$3)","v":0},null,{"$f":"IF($AM$3=0,0,$AM$3)","v":0},null,{"$f":"IF($AN$3=0,0,$AN$3)","v":0},null,{"$f":"IF($AO$3=0,0,$AO$3)","v":0},null,{"$f":"IF($AP$3=0,0,$AP$3)","v":0},null,{"$f":"IF($AQ$3=0,0,$AQ$3)","v":0},null,{"$f":"IF($AR$3=0,0,$AR$3)","v":0},null,{"$f":"IF($AS$3=0,0,$AS$3)","v":0},null,{"$f":"IF(AT$3=0,0,$AT$3)","v":0},null,{"$f":"IF($AU$3=0,0,$AU$3)","v":0},null,{"$f":"IF($AV$3=0,0,$AV$3)","v":0}]
[{"$f":"$A$48","v":"   Ferien Art. 12.1 GAV"},null,null,null,null,{"$f":"$F$48","v":"f"},{"$f":"IF($AJ$4=0,0,$AJ$4)","v":0},null,{"$f":"IF($AK$4=0,0,$AK$4)","v":0},null,{"$f":"IF($AL$4=0,0,$AL$4)","v":0},null,{"$f":"IF($AM$4=0,0,$AM$4)","v":0},null,{"$f":"IF($AN$4=0,0,$AN$4)","v":0},null,{"$f":"IF($AO$4=0,0,$AO$4)","v":0},null,{"$f":"IF($AP$4=0,0,$AP$4)","v":0},null,{"$f":"IF($AQ$4=0,0,$AQ$4)","v":0},null,{"$f":"IF($AR$4=0,0,$AR$4)","v":0},null,{"$f":"IF($AS$4=0,0,$AS$4)","v":0},null,{"$f":"IF($AT$4=0,0,$AT$4)","v":0},null,{"$f":"IF($AU$4=0,0,$AU$4)","v":0},null,{"$f":"IF($AV$4=0,0,$AV$4)","v":0}]
[{"$f":"$A$49","v":"   Feiertage Art. 12.2 GAV"},null,{"$f":"IF($AJ$17=\"\",\"\",$AJ$17)","v":""},null,null,{"$f":"$F$49","v":"ft"},{"$f":"IF($AJ$15=0,0,$AJ$15)","v":0},null,{"$f":"IF($AK$15=0,0,$AK$15)","v":0},null,{"$f":"IF($AL$15=0,0,$AL$15)","v":0},null,{"$f":"IF($AM$15=0,0,$AM$15)","v":0},null,{"$f":"IF($AN$15=0,0,$AN$15)","v":0},null,{"$f":"IF($AO$15=0,0,$AO$15)","v":0},null,{"$f":"IF($AP$15=0,0,$AP$15)","v":0},null,{"$f":"IF($AQ$15=0,0,$AQ$15)","v":0},null,{"$f":"IF($AR$15=0,0,$AR$15)","v":0},null,{"$f":"IF($AS$15=0,0,$AS$15)","v":0},null,{"$f":"IF($AT$15=0,0,$AT$15)","v":0},null,{"$f":"IF($AU$15=0,0,$AU$15)","v":0},null,{"$f":"IF($AV$15=0,0,$AV$15)","v":0}]
[{"$f":"$A$50","v":"   Krankheit Art. 13 GAV"},null,null,null,null,{"$f":"$F$50","v":"k"},{"$f":"IF($AJ$5=0,0,$AJ$5)","v":0},null,{"$f":"IF($AK$5=0,0,$AK$5)","v":0},null,{"$f":"IF($AL$5=0,0,$AL$5)","v":0},null,{"$f":"IF($AM$5=0,0,$AM$5)","v":0},null,{"$f":"IF($AN$5=0,0,$AN$5)","v":0},null,{"$f":"IF($AO$5=0,0,$AO$5)","v":0},null,{"$f":"IF($AP$5=0,0,$AP$5)","v":0},null,{"$f":"IF($AQ$5=0,0,$AQ$5)","v":0},null,{"$f":"IF($AR$5=0,0,$AR$5)","v":0},null,{"$f":"IF($AS$5=0,0,$AS$5)","v":0},null,{"$f":"IF($AT$5=0,0,$AT$5)","v":0},null,{"$f":"IF($AU$5=0,0,$AU$5)","v":0},null,{"$f":"IF($AV$5=0,0,$AV$5)","v":0}]
[{"$f":"$A$51","v":"   Unfall Art. 14 GAV"},null,null,null,null,{"$f":"$F$51","v":"u"},{"$f":"IF($AJ$6=0,0,$AJ$6)","v":0},null,{"$f":"IF($AK$6=0,0,$AK$6)","v":0},null,{"$f":"IF($AL$6=0,0,$AL$6)","v":0},null,{"$f":"IF($AM$6=0,0,$AM$6)","v":0},null,{"$f":"IF($AN$6=0,0,$AN$6)","v":0},null,{"$f":"IF($AO$6=0,0,$AO$6)","v":0},null,{"$f":"IF($AP$6=0,0,$AP$6)","v":0},null,{"$f":"IF($AQ$6=0,0,$AQ$6)","v":0},null,{"$f":"IF($AR$6=0,0,$AR$6)","v":0},null,{"$f":"IF($AS$6=0,0,$AS$6)","v":0},null,{"$f":"IF($AT$6=0,0,$AT$6)","v":0},null,{"$f":"IF($AU$6=0,0,$AU$6)","v":0},null,{"$f":"IF($AV$6=0,0,$AV$6)","v":0}]
[{"$f":"$A$52","v":"   Schwangerschaft/Mutterschaft Art. 15 GAV"},null,null,null,null,{"$f":"$F$52","v":"s"},{"$f":"IF($AJ$7=0,0,$AJ$7)","v":0},null,{"$f":"IF($AK$7=0,0,$AK$7)","v":0},null,{"$f":"IF($AL$7=0,0,$AL$7)","v":0},null,{"$f":"IF($AM$7=0,0,$AM$7)","v":0},null,{"$f":"IF($AN$7=0,0,$AN$7)","v":0},null,{"$f":"IF($AO$7=0,0,$AO$7)","v":0},null,{"$f":"IF($AP$7=0,0,$AP$7)","v":0},null,{"$f":"IF($AQ$7=0,0,$AQ$7)","v":0},null,{"$f":"IF($AR$7=0,0,$AR$7)","v":0},null,{"$f":"IF($AS$7=0,0,$AS$7)","v":0},null,{"$f":"IF($AT$7=0,0,$AT$7)","v":0},null,{"$f":"IF($AU$7=0,0,$AU$7)","v":0},null,{"$f":"IF($AV$7=0,0,$AV$7)","v":0}]
[{"$f":"$A$53","v":"   Militär/Beförderung/Zivilschutz Art. 16 GAV"},null,null,null,null,{"$f":"$F$53","v":"m"},{"$f":"IF($AJ$8=0,0,$AJ$8)","v":0},null,{"$f":"IF($AK$8=0,0,$AK$8)","v":0},null,{"$f":"IF($AL$8=0,0,$AL$8)","v":0},null,{"$f":"IF($AM$8=0,0,$AM$8)","v":0},null,{"$f":"IF($AN$8=0,0,$AN$8)","v":0},null,{"$f":"IF($AO$8=0,0,$AO$8)","v":0},null,{"$f":"IF($AP$8=0,0,$AP$8)","v":0},null,{"$f":"IF($AQ$8=0,0,$AQ$8)","v":0},null,{"$f":"IF($AR$8=0,0,$AR$8)","v":0},null,{"$f":"IF($AS$8=0,0,$AS$8)","v":0},null,{"$f":"IF($AT$8=0,0,$AT$8)","v":0},null,{"$f":"IF($AU$8=0,0,$AU$8)","v":0},null,{"$f":"IF($AV$8=0,0,$AV$8)","v":0}]
[{"$f":"$A$54","v":"   Kurzarbeit und Schlechtwetterausfälle"},null,null,null,null,{"$f":"$F$54","v":"ka"},{"$f":"IF($AJ$11=0,0,$AJ$11)","v":0},null,{"$f":"IF($AK$11=0,0,$AK$11)","v":0},null,{"$f":"IF($AL$11=0,0,$AL$11)","v":0},null,{"$f":"IF($AM$11=0,0,$AM$11)","v":0},null,{"$f":"IF($AN$11=0,0,$AN$11)","v":0},null,{"$f":"IF($AO$11=0,0,$AO$11)","v":0},null,{"$f":"IF($AP$11=0,0,$AP$11)","v":0},null,{"$f":"IF($AQ$11=0,0,$AQ$11)","v":0},null,{"$f":"IF($AR$11=0,0,$AR$11)","v":0},null,{"$f":"IF($AS$11=0,0,$AS$11)","v":0},null,{"$f":"IF($AT$11=0,0,$AT$11)","v":0},null,{"$f":"IF($AU$11=0,0,$AU$11)","v":0},null,{"$f":"IF($AV$11=0,0,$AV$11)","v":0}]
[{"$f":"$A$55","v":"   Berufsschule"},null,null,null,null,{"$f":"$F$55","v":"bs"},{"$f":"IF($AJ$9=0,0,$AJ$9)","v":0},null,{"$f":"IF($AK$9=0,0,$AK$9)","v":0},null,{"$f":"IF($AL$9=0,0,$AL$9)","v":0},null,{"$f":"IF($AM$9=0,0,$AM$9)","v":0},null,{"$f":"IF($AN$9=0,0,$AN$9)","v":0},null,{"$f":"IF($AO$9=0,0,$AO$9)","v":0},null,{"$f":"IF($AP$9=0,0,$AP$9)","v":0},null,{"$f":"IF($AQ$9=0,0,$AQ$9)","v":0},null,{"$f":"IF($AR$9=0,0,$AR$9)","v":0},null,{"$f":"IF($AS$9=0,0,$AS$9)","v":0},null,{"$f":"IF($AT$9=0,0,$AT$9)","v":0},null,{"$f":"IF($AU$9=0,0,$AU$9)","v":0},null,{"$f":"IF($AV$9=0,0,$AV$9)","v":0}]
[{"$f":"$A$56","v":"   Kurse"},null,null,null,null,{"$f":"$F$56","v":"ku"},{"$f":"IF($AJ$10=0,0,$AJ$10)","v":0},null,{"$f":"IF($AK$10=0,0,$AK$10)","v":0},null,{"$f":"IF($AL$10=0,0,$AL$10)","v":0},null,{"$f":"IF($AM$10=0,0,$AM$10)","v":0},null,{"$f":"IF($AN$10=0,0,$AN$10)","v":0},null,{"$f":"IF($AO$10=0,0,$AO$10)","v":0},null,{"$f":"IF($AP$10=0,0,$AP$10)","v":0},null,{"$f":"IF($AQ$10=0,0,$AQ$10)","v":0},null,{"$f":"IF($AR$10=0,0,$AR$10)","v":0},null,{"$f":"IF($AS$10=0,0,$AS$10)","v":0},null,{"$f":"IF($AT$10=0,0,$AT$10)","v":0},null,{"$f":"IF($AU$10=0,0,$AU$10)","v":0},null,{"$f":"IF($AV$10=0,0,$AV$10)","v":0}]
[{"$f":"$A$57","v":"Kompensations-Std"},{"$f":"$B$57","v":"aus Vorjahr"},null,null,null,{"$f":"$F$57","v":"kv"},{"$f":"IF($AJ$12=0,0,$AJ$12)","v":0},null,{"$f":"IF($AK$12=0,0,$AK$12)","v":0},null,{"$f":"IF($AL$12=0,0,$AL$12)","v":0},null,{"$f":"IF($AM$12=0,0,$AM$12)","v":0},null,{"$f":"IF($AN$12=0,0,$AN$12)","v":0},null,{"$f":"IF($AO$12=0,0,$AO$12)","v":0},null,{"$f":"IF($AP$12=0,0,$AP$12)","v":0},null,{"$f":"IF($AQ$12=0,0,$AQ$12)","v":0},null,{"$f":"IF($AR$12=0,0,$AR$12)","v":0},null,null,null,null,null,null,null,{"$f":"IF($AV$12=0,0,$AV$12)","v":0}]
[null,{"$f":"$B$58","v":"aus laufendem Jahr (Kontrolle)"},null,null,null,{"$f":"$F$58","v":"kj"},{"$f":"IF($AJ$14=0,0,$AJ$14)","v":0},null,{"$f":"IF($AK$14=0,0,$AK$14)","v":0},null,{"$f":"IF($AL$14=0,0,$AL$14)","v":0},null,{"$f":"IF($AM$14=0,0,$AM$14)","v":0},null,{"$f":"IF($AN$14=0,0,$AN$14)","v":0},null,{"$f":"IF($AO$14=0,0,$AO$14)","v":0},null,{"$f":"IF($AP$14=0,0,$AP$14)","v":0},null,{"$f":"IF($AQ$14=0,0,$AQ$14)","v":0},null,{"$f":"IF($AR$14=0,0,$AR$14)","v":0},null,{"$f":"IF($AS$14=0,0,$AS$14)","v":0},null,{"$f":"IF($AT$14=0,0,$AT$14)","v":0},null,{"$f":"IF($AU$14=0,0,$AU$14)","v":0},null,{"$f":"IF($AV$14=0,0,$AV$14)","v":0}]
[{"$f":"$A$59","v":"Auszahlung"},{"$f":"$B$59","v":"Stunden Vorjahressaldo"},null,null,null,null,{"$f":"IF($AJ$18=0,0,$AJ$18)","v":0},null,{"$f":"IF($AK$18=0,0,$AK$18)","v":0},null,{"$f":"IF($AL$18=0,0,$AL$18)","v":0},null,{"$f":"IF($AM$18=0,0,$AM$18)","v":0},null,{"$f":"IF($AN$18=0,0,$AN$18)","v":0},null,{"$f":"IF($AO$18=0,0,$AO$18)","v":0},null,{"$f":"IF($AP$18=0,0,$AP$18)","v":0},null,{"$f":"IF($AQ$18=0,0,$AQ$18)","v":0},null,{"$f":"IF($AR$18=0,0,$AR$18)","v":0},null,null,null,null,null,null,null,{"$f":"IF($AV$18=0,0,$AV$18)","v":0}]
[{"$f":"$A$60","v":"Differenz"},{"$f":"$B$60","v":"nach Kompensation und Auszahlung"},null,null,null,null,{"$f":"IF(ROUND($P$4,3)=0,0,$P$4-SUM(G183+G185))","v":0},null,{"$f":"IF(ROUND(G186,3)=0,0,G186-(SUM(I185+I183)))","v":0},null,{"$f":"IF(ROUND(I186,3)=0,0,I186-(SUM(K185+K183)))","v":0},null,{"$f":"IF(ROUND(K186,3)=0,0,K186-(SUM(M185+M183)))","v":0},null,{"$f":"IF(ROUND(M186,3)=0,0,M186-(SUM(O185+O183)))","v":0},null,{"$f":"IF(ROUND(O186,3)=0,0,O186-(SUM(Q185+Q183)))","v":0},null,{"$f":"IF(ROUND(Q186,3)=0,0,Q186-(SUM(S185+S183)))","v":0},null,{"$f":"IF(ROUND(S186,3)=0,0,S186-(SUM(U185+U183)))","v":0},null,{"$f":"IF(ROUND(U186,3)=0,0,U186-(SUM(W185+W183)))","v":0},null,{"$f":"$Y$60","v":""}]
[{"$f":"$A$61","v":"Auszahlung"},{"$f":"$B$61","v":"Stunden laufendes Jahr"},null,null,null,null,{"$f":"IF($AJ$19=0,0,$AJ$19)","v":0},null,{"$f":"IF($AK$19=0,0,$AK$19)","v":0},null,{"$f":"IF($AL$19=0,0,$AL$19)","v":0},null,{"$f":"IF($AM$19=0,0,$AM$19)","v":0},null,{"$f":"IF($AN$19=0,0,$AN$19)","v":0},null,{"$f":"IF($AO$19=0,0,$AO$19)","v":0},null,{"$f":"IF($AP$19=0,0,$AP$19)","v":0},null,{"$f":"IF($AQ$19=0,0,$AQ$19)","v":0},null,{"$f":"IF($AR$19=0,0,$AR$19)","v":0},null,{"$f":"IF($AS$19=0,0,$AS$19)","v":0},null,{"$f":"IF($AT$19=0,0,$AT$19)","v":0},null,{"$f":"IF($AU$19=0,0,$AU$19)","v":0},null,{"$f":"IF($AV$19=0,0,$AV$19)","v":0}]
[{"$f":"$A$62","v":"Fehlstunden"},{"$f":"$B$62","v":"laufendes Jahr (Kontrolle)"},null,null,null,{"$f":"$F$62","v":"fe"},{"$f":"IF($AJ$13=0,0,$AJ$13)","v":0},null,{"$f":"IF($AK$13=0,0,$AK$13)","v":0},null,{"$f":"IF($AL$13=0,0,$AL$13)","v":0},null,{"$f":"IF($AM$13=0,0,$AM$13)","v":0},null,{"$f":"IF($AN$13=0,0,$AN$13)","v":0},null,{"$f":"IF($AO$13=0,0,$AO$13)","v":0},null,{"$f":"IF($AP$13=0,0,$AP$13)","v":0},null,{"$f":"IF($AQ$13=0,0,$AQ$13)","v":0},null,{"$f":"IF($AR$13=0,0,$AR$13)","v":0},null,{"$f":"IF($AS$13=0,0,$AS$13)","v":0},null,{"$f":"IF($AT$13=0,0,$AT$13)","v":0},null,{"$f":"IF($AU$13=0,0,$AU$13)","v":0},null,{"$f":"IF($AV$13=0,0,$AV$13)","v":0}]
[{"$f":"$A$63","v":"Total inkl. Zeitzuschläge"},{"$f":"$B$63","v":"Stunden produktiv und unproduktiv"},null,null,null,null,{"$f":"IF($AG$36=0,0,$AG$36)","v":0},null,{"$f":"IF($AG$99=0,0,$AG$99)","v":0},null,{"$f":"IF($AG$162=0,0,$AG$162)","v":0},null,{"$f":"IF($AG$225=0,0,$AG$225)","v":0},null,{"$f":"IF($AG$288=0,0,$AG$288)","v":0},null,{"$f":"IF($AG$351=0,0,$AG$351)","v":0},null,{"$f":"IF($AG$414=0,0,$AG$414)","v":0},null,{"$f":"IF($AG$477=0,0,$AG$477)","v":0},null,{"$f":"IF($AG$540=0,0,$AG$540)","v":0},null,{"$f":"IF($AG$603=0,0,$AG$603)","v":0},null,{"$f":"IF($AG$666=0,0,$AG$666)","v":0},null,{"$f":"IF($AG$729=0,0,$AG$729)","v":0},null,{"$f":"SUM($G$63:$AD$63)","v":0}]
[{"$f":"$A$64","v":"Vergleich"},{"$f":"$B$64","v":"Stunden zu Soll-Stunden (inkl. allfälli-\nge Minusstunden Vorjahr)"},null,null,null,null,{"$f":"IF($AG$38=0,0,$AG$38)-$AE$34+$P$5","v":-184},null,{"$f":"IF($AG$101=0,0,$AG$101)-$AE$97","v":-160},null,{"$f":"IF($AG$164=0,0,$AG$164)-$AE$160","v":-176},null,{"$f":"IF($AG$227=0,0,$AG$227)-$AE$223","v":-176},null,{"$f":"IF($AG$290=0,0,$AG$290)-$AE$286","v":-168},null,{"$f":"IF($AG$353=0,0,$AG$353)-$AE$349","v":-176},null,{"$f":"IF($AG$416=0,0,$AG$416)-$AE$412","v":-184},null,{"$f":"IF($AG$479=0,0,$AG$479)-$AE$475","v":-168},null,{"$f":"IF($AG$542=0,0,$AG$542)-$AE$538","v":-176},null,{"$f":"IF($AG$605=0,0,$AG$605)-$AE$601","v":-176},null,{"$f":"IF($AG$668=0,0,$AG$668)-$AE$664","v":-168},null,{"$f":"IF($AG$731=0,0,$AG$731)-$AE$727","v":-184},null,{"$f":"SUM($G$64:$AD$64)","v":-2096}]
[null,{"$f":"$B$65","v":"Stunden zu Soll-Stunden (kumuliert)"},null,null,null,null,{"$f":"$G$65","v":-184},null,{"$f":"$I$65","v":-344},null,{"$f":"$K$65","v":-520},null,{"$f":"$M$65","v":-696},null,{"$f":"$O$65","v":-864},null,{"$f":"$Q$65","v":-1040},null,{"$f":"$S$65","v":-1224},null,{"$f":"$U$65","v":-1392},null,{"$f":"$W$65","v":-1568},null,{"$f":"$Y$65","v":-1744},null,{"$f":"$AA$65","v":-1912},null,{"$f":"$AC$65","v":-2096}]
[{"$f":"$A$66","v":"Ferienkontrolle"},{"$f":"$B$66","v":"Ferienguthaben Vorjahr"},null,null,null,null,{"$f":"IF($AA$4=0,0,$AA$4)","v":0},null,{"$f":"$I$66","v":"Ferienguthaben nach \nArt. 12.1 GAV"},null,null,null,{"$f":"IF($AA$5=0,0,$AA$5)","v":0},null,{"$f":"$O$66","v":"Ferienguthaben total"},null,null,null,{"$f":"SUM(G192+M192)","v":0},null,{"$f":"$U$66","v":"Ferien bezogen"},null,null,null,{"$f":"IF($AV$4=0,0,$AV$4)","v":0},null,{"$f":"$AA$66","v":"Aktuelles Ferienguthaben"},null,null,null,{"$f":"IF(S192=0,0,S192-Y192)","v":0}]
[]
[]
[{"$f":"$A$3","v":"Mitarbeiter/In"},{"$f":"IF($B$3=\"\",\"\",$B$3)","v":"Muster Peter"},null,null,null,null,null,null,null,null,null,null,null,null,null,null,null,null,null,null,null,null,null,null,null,null,null,null,null,null,null,{"$f":"AF3","v":0}]
[{"$f":"$A$4","v":"Anstellung %"},100,null,{"$f":"Labels!B92","v":"im April"}]
[{"$f":"$A$5","v":"Saldo für das Jahr"},null,null,{"$f":"IF($AE$64=0,0,$AE$64)","v":-2096}]
[{"$f":"TEXT(DATE(YEAR(AP28),MONTH(AP28)+3,1),\"MMMM\"&Labels!B13)","v":"April"},{"$f":"$B$9","v":"Saldo Monat + / -"},null,null,null,{"$f":"(AG201-(SUM(AG202:AG216)-AE223))*-1","v":-176},null,null,null,null,{"$f":"$K$9","v":" = "},{"$f":"$L$9","v":"Gelbe Felder müssen ausgefüllt werden (die übrigen werden automatisch berechnet)"}]
[{"$f":"$A$10","v":"Tag"},{"$f":"AF136+1","v":"2020-04-01"},{"$f":"B199+1","v":"2020-04-02"},{"$f":"C199+1","v":"2020-04-03"},"2020-04-04","2020-04-05","2020-04-06","2020-04-07","2020-04-08","2020-04-09","2020-04-10","2020-04-11","2020-04-12","2020-04-13","2020-04-14","2020-04-15","2020-04-16","2020-04-17","2020-04-18","2020-04-19","2020-04-20","2020-04-21","2020-04-22","2020-04-23","2020-04-24","2020-04-25","2020-04-26","2020-04-27","2020-04-28","2020-04-29","2020-04-30",null,{"$f":"COUNT(B201:AF201)&\" \"&Labels!$B$63","v":"22 Tage"}]
[{"$f":"$A$11","v":"Kalenderwoche"},{"$f":"IF(B199=\"\",\"\",TRUNC((B199-DATE(YEAR(B199+3-MOD(B199-2,7)),1,MOD(B199-2,7)-9))/7))","v":14},14,14,14,14,15,15,15,15,15,15,15,16,16,16,16,16,16,16,17,17,17,17,17,17,17,18,18,18,18,""]
[{"$f":"$A$12","v":"Sollstunden"},{"$f":"IF(MOD(B199,7)>=2,$J$7*$B$196%,\"\")","v":8},8,8,"","",8,8,8,8,8,"","",8,8,8,8,8,"","",8,8,8,8,8,"","",8,8,8,8,null,{"$f":"SUM(B201:AF201)","v":176}]
[{"$f":"$A$13","v":"Absenz in Std"},{"$f":"B888","v":0},{"$f":"C888","v":0},0,0,0,0,0,0,0,0,0,0,0,0,0,0,0,0,0,0,0,0,0,0,0,0,0,0,0,0,null,{"$f":"SUM(AM3:AM12)","v":0}]
[{"$f":"$A$14","v":"Code"},{"$f":"IF(B888<>0,IF(MAX(B875:B887)<B888,Labels!$B$163,INDEX($AH$875:$AH$887,MATCH(MAX(B875:B887),B875:B887,0))),\"\")","v":""},{"$f":"IF(C888<>0,IF(MAX(C875:C887)<C888,Labels!$B$163,INDEX($AH$875:$AH$887,MATCH(MAX(C875:C887),C875:C887,0))),\"\")","v":""},{"$f":"IF(D888<>0,IF(MAX(D875:D887)<D888,Labels!$B$163,INDEX($AH$875:$AH$887,MATCH(MAX(D875:D887),D875:D887,0))),\"\")","v":""},{"$f":"IF(E888<>0,IF(MAX(E875:E887)<E888,Labels!$B$163,INDEX($AH$875:$AH$887,MATCH(MAX(E875:E887),E875:E887,0))),\"\")","v":""},{"$f":"IF(F888<>0,IF(MAX(F875:F887)<F888,Labels!$B$163,INDEX($AH$875:$AH$887,MATCH(MAX(F875:F887),F875:F887,0))),\"\")","v":""},{"$f":"IF(G888<>0,IF(MAX(G875:G887)<G888,Labels!$B$163,INDEX($AH$875:$AH$887,MATCH(MAX(G875:G887),G875:G887,0))),\"\")","v":""},{"$f":"IF(H888<>0,IF(MAX(H875:H887)<H888,Labels!$B$163,INDEX($AH$875:$AH$887,MATCH(MAX(H875:H887),H875:H887,0))),\"\")","v":""},{"$f":"IF(I888<>0,IF(MAX(I875:I887)<I888,Labels!$B$163,INDEX($AH$875:$AH$887,MATCH(MAX(I875:I887),I875:I887,0))),\"\")","v":""},{"$f":"IF(J888<>0,IF(MAX(J875:J887)<J888,Labels!$B$163,INDEX($AH$875:$AH$887,MATCH(MAX(J875:J887),J875:J887,0))),\"\")","v":""},{"$f":"IF(K888<>0,IF(MAX(K875:K887)<K888,Labels!$B$163,INDEX($AH$875:$AH$887,MATCH(MAX(K875:K887),K875:K887,0))),\"\")","v":""},{"$f":"IF(L888<>0,IF(MAX(L875:L887)<L888,Labels!$B$163,INDEX($AH$875:$AH$887,MATCH(MAX(L875:L887),L875:L887,0))),\"\")","v":""},{"$f":"IF(M888<>0,IF(MAX(M875:M887)<M888,Labels!$B$163,INDEX($AH$875:$AH$887,MATCH(MAX(M875:M887),M875:M887,0))),\"\")","v":""},{"$f":"IF(N888<>0,IF(MAX(N875:N887)<N888,Labels!$B$163,INDEX($AH$875:$AH$887,MATCH(MAX(N875:N887),N875:N887,0))),\"\")","v":""},{"$f":"IF(O888<>0,IF(MAX(O875:O887)<O888,Labels!$B$163,INDEX($AH$875:$AH$887,MATCH(MAX(O875:O887),O875:O887,0))),\"\")","v":""},{"$f":"IF(P888<>0,IF(MAX(P875:P887)<P888,Labels!$B$163,INDEX($AH$875:$AH$887,MATCH(MAX(P875:P887),P875:P887,0))),\"\")","v":""},{"$f":"IF(Q888<>0,IF(MAX(Q875:Q887)<Q888,Labels!$B$163,INDEX($AH$875:$AH$887,MATCH(MAX(Q875:Q887),Q875:Q887,0))),\"\")","v":""},{"$f":"IF(R888<>0,IF(MAX(R875:R887)<R888,Labels!$B$163,INDEX($AH$875:$AH$887,MATCH(MAX(R875:R887),R875:R887,0))),\"\")","v":""},{"$f":"IF(S888<>0,IF(MAX(S875:S887)<S888,Labels!$B$163,INDEX($AH$875:$AH$887,MATCH(MAX(S875:S887),S875:S887,0))),\"\")","v":""},{"$f":"IF(T888<>0,IF(MAX(T875:T887)<T888,Labels!$B$163,INDEX($AH$875:$AH$887,MATCH(MAX(T875:T887),T875:T887,0))),\"\")","v":""},{"$f":"IF(U888<>0,IF(MAX(U875:U887)<U888,Labels!$B$163,INDEX($AH$875:$AH$887,MATCH(MAX(U875:U887),U875:U887,0))),\"\")","v":""},{"$f":"IF(V888<>0,IF(MAX(V875:V887)<V888,Labels!$B$163,INDEX($AH$875:$AH$887,MATCH(MAX(V875:V887),V875:V887,0))),\"\")","v":""},{"$f":"IF(W888<>0,IF(MAX(W875:W887)<W888,Labels!$B$163,INDEX($AH$875:$AH$887,MATCH(MAX(W875:W887),W875:W887,0))),\"\")","v":""},{"$f":"IF(X888<>0,IF(MAX(X875:X887)<X888,Labels!$B$163,INDEX($AH$875:$AH$887,MATCH(MAX(X875:X887),X875:X887,0))),\"\")","v":""},{"$f":"IF(Y888<>0,IF(MAX(Y875:Y887)<Y888,Labels!$B$163,INDEX($AH$875:$AH$887,MATCH(MAX(Y875:Y887),Y875:Y887,0))),\"\")","v":""},{"$f":"IF(Z888<>0,IF(MAX(Z875:Z887)<Z888,Labels!$B$163,INDEX($AH$875:$AH$887,MATCH(MAX(Z875:Z887),Z875:Z887,0))),\"\")","v":""},{"$f":"IF(AA888<>0,IF(MAX(AA875:AA887)<AA888,Labels!$B$163,INDEX($AH$875:$AH$887,MATCH(MAX(AA875:AA887),AA875:AA887,0))),\"\")","v":""},{"$f":"IF(AB888<>0,IF(MAX(AB875:AB887)<AB888,Labels!$B$163,INDEX($AH$875:$AH$887,MATCH(MAX(AB875:AB887),AB875:AB887,0))),\"\")","v":""},{"$f":"IF(AC888<>0,IF(MAX(AC875:AC887)<AC888,Labels!$B$163,INDEX($AH$875:$AH$887,MATCH(MAX(AC875:AC887),AC875:AC887,0))),\"\")","v":""},{"$f":"IF(AD888<>0,IF(MAX(AD875:AD887)<AD888,Labels!$B$163,INDEX($AH$875:$AH$887,MATCH(MAX(AD875:AD887),AD875:AD887,0))),\"\")","v":""},{"$f":"IF(AE888<>0,IF(MAX(AE875:AE887)<AE888,Labels!$B$163,INDEX($AH$875:$AH$887,MATCH(MAX(AE875:AE887),AE875:AE887,0))),\"\")","v":""}]
[{"$f":"$A$15","v":"00.00-06.00h"},null,null,null,null,null,null,null,null,null,null,null,null,null,null,null,null,null,null,null,null,null,null,null,null,null,null,null,null,null,null,null,{"$f":"SUM(B204:AF204)","v":0}]
[{"$f":"$A$16","v":"06.00-20.00h"},null,null,null,null,null,null,null,null,null,null,null,null,null,null,null,null,null,null,null,null,null,null,null,null,null,null,null,null,null,null,null,{"$f":"SUM(B205:AF205)","v":0}]
[{"$f":"$A$17","v":"20.00-24.00h"},null,null,null,null,null,null,null,null,null,null,null,null,null,null,null,null,null,null,null,null,null,null,null,null,null,null,null,null,null,null,null,{"$f":"SUM(B206:AF206)","v":0},"[0]"]
[{"$f":"$A$18","v":"Feiertag \"ft\""},{"$f":"IF(WEEKDAY(B199,2)<=6,IF(KALENDER!E9=\"x\",Labels!$B$118,\"\"),\"\")","v":""},{"$f":"IF(WEEKDAY(C199,2)<=6,IF(KALENDER!F9=\"x\",Labels!$B$118,\"\"),\"\")","v":""},{"$f":"IF(WEEKDAY(D199,2)<=6,IF(KALENDER!G9=\"x\",Labels!$B$118,\"\"),\"\")","v":""},{"$f":"IF(WEEKDAY(E199,2)<=6,IF(KALENDER!H9=\"x\",Labels!$B$118,\"\"),\"\")","v":""},{"$f":"IF(WEEKDAY(F199,2)<=6,IF(KALENDER!I9=\"x\",Labels!$B$118,\"\"),\"\")","v":""},{"$f":"IF(WEEKDAY(G199,2)<=6,IF(KALENDER!J9=\"x\",Labels!$B$118,\"\"),\"\")","v":""},{"$f":"IF(WEEKDAY(H199,2)<=6,IF(KALENDER!K9=\"x\",Labels!$B$118,\"\"),\"\")","v":""},{"$f":"IF(WEEKDAY(I199,2)<=6,IF(KALENDER!L9=\"x\",Labels!$B$118,\"\"),\"\")","v":""},{"$f":"IF(WEEKDAY(J199,2)<=6,IF(KALENDER!M9=\"x\",Labels!$B$118,\"\"),\"\")","v":""},{"$f":"IF(WEEKDAY(K199,2)<=6,IF(KALENDER!N9=\"x\",Labels!$B$118,\"\"),\"\")","v":""},{"$f":"IF(WEEKDAY(L199,2)<=6,IF(KALENDER!O9=\"x\",Labels!$B$118,\"\"),\"\")","v":""},{"$f":"IF(WEEKDAY(M199,2)<=6,IF(KALENDER!P9=\"x\",Labels!$B$118,\"\"),\"\")","v":""},{"$f":"IF(WEEKDAY(N199,2)<=6,IF(KALENDER!Q9=\"x\",Labels!$B$118,\"\"),\"\")","v":""},{"$f":"IF(WEEKDAY(O199,2)<=6,IF(KALENDER!R9=\"x\",Labels!$B$118,\"\"),\"\")","v":""},{"$f":"IF(WEEKDAY(P199,2)<=6,IF(KALENDER!S9=\"x\",Labels!$B$118,\"\"),\"\")","v":""},{"$f":"IF(WEEKDAY(Q199,2)<=6,IF(KALENDER!T9=\"x\",Labels!$B$118,\"\"),\"\")","v":""},{"$f":"IF(WEEKDAY(R199,2)<=6,IF(KALENDER!U9=\"x\",Labels!$B$118,\"\"),\"\")","v":""},{"$f":"IF(WEEKDAY(S199,2)<=6,IF(KALENDER!V9=\"x\",Labels!$B$118,\"\"),\"\")","v":""},{"$f":"IF(WEEKDAY(T199,2)<=6,IF(KALENDER!W9=\"x\",Labels!$B$118,\"\"),\"\")","v":""},{"$f":"IF(WEEKDAY(U199,2)<=6,IF(KALENDER!X9=\"x\",Labels!$B$118,\"\"),\"\")","v":""},{"$f":"IF(WEEKDAY(V199,2)<=6,IF(KALENDER!Y9=\"x\",Labels!$B$118,\"\"),\"\")","v":""},{"$f":"IF(WEEKDAY(W199,2)<=6,IF(KALENDER!Z9=\"x\",Labels!$B$118,\"\"),\"\")","v":""},{"$f":"IF(WEEKDAY(X199,2)<=6,IF(KALENDER!AA9=\"x\",Labels!$B$118,\"\"),\"\")","v":""},{"$f":"IF(WEEKDAY(Y199,2)<=6,IF(KALENDER!AB9=\"x\",Labels!$B$118,\"\"),\"\")","v":""},{"$f":"IF(WEEKDAY(Z199,2)<=6,IF(KALENDER!AC9=\"x\",Labels!$B$118,\"\"),\"\")","v":""},{"$f":"IF(WEEKDAY(AA199,2)<=6,IF(KALENDER!AD9=\"x\",Labels!$B$118,\"\"),\"\")","v":""},{"$f":"IF(WEEKDAY(AB199,2)<=6,IF(KALENDER!AE9=\"x\",Labels!$B$118,\"\"),\"\")","v":""},{"$f":"IF(WEEKDAY(AC199,2)<=6,IF(KALENDER!AF9=\"x\",Labels!$B$118,\"\"),\"\")","v":""},{"$f":"IF(WEEKDAY(AD199,2)<=6,IF(KALENDER!AG9=\"x\",Labels!$B$118,\"\"),\"\")","v":""},{"$f":"IF(WEEKDAY(AE199,2)<=6,IF(KALENDER!AH9=\"x\",Labels!$B$118,\"\"),\"\")","v":""}]
[{"$f":"$A$19","v":"Gutschrift \"ft\""},{"$f":"IF(AND(B207=Labels!$B$118,WEEKDAY(B199,2)<6),$J$7*$B$196%,\"\")","v":""},{"$f":"IF(AND(C207=Labels!$B$118,WEEKDAY(C199,2)<6),$J$7*$B$196%,\"\")","v":""},{"$f":"IF(AND(D207=Labels!$B$118,WEEKDAY(D199,2)<6),$J$7*$B$196%,\"\")","v":""},{"$f":"IF(AND(E207=Labels!$B$118,WEEKDAY(E199,2)<6),$J$7*$B$196%,\"\")","v":""},{"$f":"IF(AND(F207=Labels!$B$118,WEEKDAY(F199,2)<6),$J$7*$B$196%,\"\")","v":""},{"$f":"IF(AND(G207=Labels!$B$118,WEEKDAY(G199,2)<6),$J$7*$B$196%,\"\")","v":""},{"$f":"IF(AND(H207=Labels!$B$118,WEEKDAY(H199,2)<6),$J$7*$B$196%,\"\")","v":""},{"$f":"IF(AND(I207=Labels!$B$118,WEEKDAY(I199,2)<6),$J$7*$B$196%,\"\")","v":""},{"$f":"IF(AND(J207=Labels!$B$118,WEEKDAY(J199,2)<6),$J$7*$B$196%,\"\")","v":""},{"$f":"IF(AND(K207=Labels!$B$118,WEEKDAY(K199,2)<6),$J$7*$B$196%,\"\")","v":""},{"$f":"IF(AND(L207=Labels!$B$118,WEEKDAY(L199,2)<6),$J$7*$B$196%,\"\")","v":""},{"$f":"IF(AND(M207=Labels!$B$118,WEEKDAY(M199,2)<6),$J$7*$B$196%,\"\")","v":""},{"$f":"IF(AND(N207=Labels!$B$118,WEEKDAY(N199,2)<6),$J$7*$B$196%,\"\")","v":""},{"$f":"IF(AND(O207=Labels!$B$118,WEEKDAY(O199,2)<6),$J$7*$B$196%,\"\")","v":""},{"$f":"IF(AND(P207=Labels!$B$118,WEEKDAY(P199,2)<6),$J$7*$B$196%,\"\")","v":""},{"$f":"IF(AND(Q207=Labels!$B$118,WEEKDAY(Q199,2)<6),$J$7*$B$196%,\"\")","v":""},{"$f":"IF(AND(R207=Labels!$B$118,WEEKDAY(R199,2)<6),$J$7*$B$196%,\"\")","v":""},{"$f":"IF(AND(S207=Labels!$B$118,WEEKDAY(S199,2)<6),$J$7*$B$196%,\"\")","v":""},{"$f":"IF(AND(T207=Labels!$B$118,WEEKDAY(T199,2)<6),$J$7*$B$196%,\"\")","v":""},{"$f":"IF(AND(U207=Labels!$B$118,WEEKDAY(U199,2)<6),$J$7*$B$196%,\"\")","v":""},{"$f":"IF(AND(V207=Labels!$B$118,WEEKDAY(V199,2)<6),$J$7*$B$196%,\"\")","v":""},{"$f":"IF(AND(W207=Labels!$B$118,WEEKDAY(W199,2)<6),$J$7*$B$196%,\"\")","v":""},{"$f":"IF(AND(X207=Labels!$B$118,WEEKDAY(X199,2)<6),$J$7*$B$196%,\"\")","v":""},{"$f":"IF(AND(Y207=Labels!$B$118,WEEKDAY(Y199,2)<6),$J$7*$B$196%,\"\")","v":""},{"$f":"IF(AND(Z207=Labels!$B$118,WEEKDAY(Z199,2)<6),$J$7*$B$196%,\"\")","v":""},{"$f":"IF(AND(AA207=Labels!$B$118,WEEKDAY(AA199,2)<6),$J$7*$B$196%,\"\")","v":""},{"$f":"IF(AND(AB207=Labels!$B$118,WEEKDAY(AB199,2)<6),$J$7*$B$196%,\"\")","v":""},{"$f":"IF(AND(AC207=Labels!$B$118,WEEKDAY(AC199,2)<6),$J$7*$B$196%,\"\")","v":""},{"$f":"IF(AND(AD207=Labels!$B$118,WEEKDAY(AD199,2)<6),$J$7*$B$196%,\"\")","v":""},{"$f":"IF(AND(AE207=Labels!$B$118,WEEKDAY(AE199,2)<6),$J$7*$B$196%,\"\")","v":""},{"$f":"IF(AND(AF207=Labels!$B$118,WEEKDAY(AF199,2)<6),$J$7*$B$196%,\"\")","v":""},{"$f":"SUM(B208:AF208)","v":0}]
[{"$f":"$A$20","v":"Tagestotal"},{"$f":"SUM(B204:B206)","v":0},{"$f":"SUM(C204:C206)","v":0},0,0,0,0,0,0,0,0,0,0,0,0,0,0,0,0,0,0,0,0,0,0,0,0,0,0,0,0]
[{"$f":"$A$21","v":"."}]
[{"$f":"$A$22","v":"."}]
[{"$f":"$A$23","v":"Monatsübergang"},{"$f":"IF(WEEKDAY(B199)=1,TEXT(B199-1,\"MMM\"&Labels!B13),\"\")","v":""},null,null,null,null,null,null,null,null,null,null,null,null,null,null,null,null,null,null,null,null,null,null,null,null,null,null,null,null,{"$f":"IF(AND(WEEKDAY(AE199)>1,WEEKDAY(AE199)<7),TEXT(DATE($B$5,MONTH(AE199)+1,1),\"MMM\"&Labels!B13),\"\")","v":"Mai"}]
[{"$f":"$A$24","v":"Wochentotal"},{"$f":"IF(WEEKDAY(B199)=7,SUMIF($B137:$AF137,B200,$B146:$AF146)+SUMIF($B200:$AF200,B200,$B209:$AF209)+SUMIF($B263:$AF263,B200,$B272:$AF272),B212)","v":""},{"$f":"IF(WEEKDAY(C199)=7,SUMIF($B137:$AF137,C200,$B146:$AF146)+SUMIF($B200:$AF200,C200,$B209:$AF209)+SUMIF($B263:$AF263,C200,$B272:$AF272),\"\")","v":""},"",0,"","","","","","",0,"","","","","","",0,"","","","","","",0,"","","","",{"$f":"IF(WEEKDAY(AE199)=7,SUMIF($B137:$AF137,AE200,$B146:$AF146)+SUMIF($B200:$AF200,AE200,$B209:$AF209)+SUMIF($B263:$AF263,AE200,$B272:$AF272),AE212)","v":"Mai"}]
[{"$f":"$A$25","v":"Zeitzuschlag 1)"},{"$f":"IF(B221=\"FALSCH\",\"\",B221)","v":""},{"$f":"IF(C221=\"FALSCH\",\"\",C221)","v":""},"","","","","","","","","","","","","","","","","","","","","","","","","","","","",null,{"$f":"SUM(B214:AF214)","v":0}]
[{"$f":"$A$26","v":"Zeitzuschlag 2)"},{"$f":"IF((B204+B206)=0,\"\",SUM(B204,B206))","v":""},{"$f":"IF((C204+C206)=0,\"\",SUM(C204,C206))","v":""},"","","","","","","","","","","","","","","","","","","","","","","","","","","","",null,0,"[1]"]
[{"$f":"$A$27","v":"Zeitzuschlag 3)"},{"$f":"SUM(B217:B220)","v":0},{"$f":"SUM(C217:C220)","v":0},0,0,0,0,0,0,0,0,0,0,0,0,0,0,0,0,0,0,0,0,0,0,0,0,0,0,0,0,null,{"$f":"SUM(B216:AF216)","v":0},"[2]"]
[{"$f":"$A$28","v":"Sonntag Tag"},{"$f":"IF(WEEKDAY(B199)=1,B205,\"\")","v":""},{"$f":"IF(WEEKDAY(C199)=1,C205,\"\")","v":""},"","",0,"","","","","","",0,"","","","","","",0,"","","","","","",0,"","","","",null,0,"[3]"]
[{"$f":"$A$29","v":"Sonntag Nacht"},{"$f":"IF(WEEKDAY(B199)=1,SUM(B204+B206),\"\")","v":""},{"$f":"IF(WEEKDAY(C199)=1,SUM(C204+C206),\"\")","v":""},"","",0,"","","","","","",0,"","","","","","",0,"","","","","","",0,"","","","",null,0,"[4]"]
[{"$f":"$A$30","v":"ft-Tazuschlag"},{"$f":"IF(B207=Labels!$B$118,B205,\"\")","v":""},{"$f":"IF(C207=Labels!$B$118,C205,\"\")","v":""},{"$f":"IF(D207=Labels!$B$118,D205,\"\")","v":""},{"$f":"IF(E207=Labels!$B$118,E205,\"\")","v":""},{"$f":"IF(F207=Labels!$B$118,F205,\"\")","v":""},{"$f":"IF(G207=Labels!$B$118,G205,\"\")","v":""},{"$f":"IF(H207=Labels!$B$118,H205,\"\")","v":""},{"$f":"IF(I207=Labels!$B$118,I205,\"\")","v":""},{"$f":"IF(J207=Labels!$B$118,J205,\"\")","v":""},{"$f":"IF(K207=Labels!$B$118,K205,\"\")","v":""},{"$f":"IF(L207=Labels!$B$118,L205,\"\")","v":""},{"$f":"IF(M207=Labels!$B$118,M205,\"\")","v":""},{"$f":"IF(N207=Labels!$B$118,N205,\"\")","v":""},{"$f":"IF(O207=Labels!$B$118,O205,\"\")","v":""},{"$f":"IF(P207=Labels!$B$118,P205,\"\")","v":""},{"$f":"IF(Q207=Labels!$B$118,Q205,\"\")","v":""},{"$f":"IF(R207=Labels!$B$118,R205,\"\")","v":""},{"$f":"IF(S207=Labels!$B$118,S205,\"\")","v":""},{"$f":"IF(T207=Labels!$B$118,T205,\"\")","v":""},{"$f":"IF(U207=Labels!$B$118,U205,\"\")","v":""},{"$f":"IF(V207=Labels!$B$118,V205,\"\")","v":""},{"$f":"IF(W207=Labels!$B$118,W205,\"\")","v":""},{"$f":"IF(X207=Labels!$B$118,X205,\"\")","v":""},{"$f":"IF(Y207=Labels!$B$118,Y205,\"\")","v":""},{"$f":"IF(Z207=Labels!$B$118,Z205,\"\")","v":""},{"$f":"IF(AA207=Labels!$B$118,AA205,\"\")","v":""},{"$f":"IF(AB207=Labels!$B$118,AB205,\"\")","v":""},{"$f":"IF(AC207=Labels!$B$118,AC205,\"\")","v":""},{"$f":"IF(AD207=Labels!$B$118,AD205,\"\")","v":""},{"$f":"IF(AE207=Labels!$B$118,AE205,\"\")","v":""},null,0,"[5]"]
[{"$f":"$A$31","v":"ft-Nazuschlag"},{"$f":"IF(B207=Labels!$B$118,SUM(B204,B206),\"\")","v":""},{"$f":"IF(C207=Labels!$B$118,SUM(C204,C206),\"\")","v":""},{"$f":"IF(D207=Labels!$B$118,SUM(D204,D206),\"\")","v":""},{"$f":"IF(E207=Labels!$B$118,SUM(E204,E206),\"\")","v":""},{"$f":"IF(F207=Labels!$B$118,SUM(F204,F206),\"\")","v":""},{"$f":"IF(G207=Labels!$B$118,SUM(G204,G206),\"\")","v":""},{"$f":"IF(H207=Labels!$B$118,SUM(H204,H206),\"\")","v":""},{"$f":"IF(I207=Labels!$B$118,SUM(I204,I206),\"\")","v":""},{"$f":"IF(J207=Labels!$B$118,SUM(J204,J206),\"\")","v":""},{"$f":"IF(K207=Labels!$B$118,SUM(K204,K206),\"\")","v":""},{"$f":"IF(L207=Labels!$B$118,SUM(L204,L206),\"\")","v":""},{"$f":"IF(M207=Labels!$B$118,SUM(M204,M206),\"\")","v":""},{"$f":"IF(N207=Labels!$B$118,SUM(N204,N206),\"\")","v":""},{"$f":"IF(O207=Labels!$B$118,SUM(O204,O206),\"\")","v":""},{"$f":"IF(P207=Labels!$B$118,SUM(P204,P206),\"\")","v":""},{"$f":"IF(Q207=Labels!$B$118,SUM(Q204,Q206),\"\")","v":""},{"$f":"IF(R207=Labels!$B$118,SUM(R204,R206),\"\")","v":""},{"$f":"IF(S207=Labels!$B$118,SUM(S204,S206),\"\")","v":""},{"$f":"IF(T207=Labels!$B$118,SUM(T204,T206),\"\")","v":""},{"$f":"IF(U207=Labels!$B$118,SUM(U204,U206),\"\")","v":""},{"$f":"IF(V207=Labels!$B$118,SUM(V204,V206),\"\")","v":""},{"$f":"IF(W207=Labels!$B$118,SUM(W204,W206),\"\")","v":""},{"$f":"IF(X207=Labels!$B$118,SUM(X204,X206),\"\")","v":""},{"$f":"IF(Y207=Labels!$B$118,SUM(Y204,Y206),\"\")","v":""},{"$f":"IF(Z207=Labels!$B$118,SUM(Z204,Z206),\"\")","v":""},{"$f":"IF(AA207=Labels!$B$118,SUM(AA204,AA206),\"\")","v":""},{"$f":"IF(AB207=Labels!$B$118,SUM(AB204,AB206),\"\")","v":""},{"$f":"IF(AC207=Labels!$B$118,SUM(AC204,AC206),\"\")","v":""},{"$f":"IF(AD207=Labels!$B$118,SUM(AD204,AD206),\"\")","v":""},{"$f":"IF(AE207=Labels!$B$118,SUM(AE204,AE206),\"\")","v":""},null,0,"[6]"]
[{"$f":"$A$32","v":"Zuschlag  blind (Wochentotal)"},{"$f":"IF(OR(ISTEXT(B213),B213=\"\",B213<$B$7),\"\",ROUND(((B213-$B$7)*25%)/25,4)*25)","v":""},{"$f":"IF(OR(ISTEXT(C213),C213=\"\",C213<$B$7),\"\",ROUND(((C213-$B$7)*25%)/25,4)*25)","v":""},"","","","","","","","","","","","","","","","","","","","","","","","","","","","",null,{"$f":"AG205","v":0},"[7]"]
[null,{"$f":"$B$33","v":"1)   25% Zeitzuschlag für Überschreitung Wochentotal"},null,null,null,null,null,null,null,null,null,{"$f":"$L$33","v":"2) 100% Zeitzuschlag für Nachtarbeit"},null,null,null,null,null,null,null,{"$f":"$T$33","v":"Eingabe der ausbezahlten Stunden Vorjahressaldo"},null,null,null,null,null,null,null,null,null,null,null,null,{"$f":"SUM(AG204+AG206)","v":0},"[8]"]
[null,{"$f":"$B$34","v":"3) 100% Zeitzuschlag für Sonn- und Feiertagsarbeit"},null,null,null,null,null,null,null,null,null,null,null,null,null,null,null,null,null,{"$f":"$T$34","v":"Eingabe der ausbezahlten Stunden laufendes Jahr (Überstunden)"},null,null,null,null,null,null,null,null,null,null,null,null,{"$f":"SUM(AG204:AG206)","v":0},"[9]"]
[{"$f":"$A$35","v":"Bemerkungen"},null,null,null,null,null,null,null,null,null,null,null,null,null,null,null,null,null,null,null,null,null,null,null,null,null,null,null,null,null,null,null,{"$f":"SUM(AG202+AG208)","v":0},"[10]"]
[null,null,null,null,null,null,null,null,null,null,null,null,null,null,null,null,null,null,null,null,null,null,null,null,null,null,null,null,null,null,null,null,{"$f":"SUM(AG202:AG216)","v":0},"[11]"]
[null,null,null,null,null,null,null,null,null,null,null,null,null,null,null,null,null,null,null,null,null,null,null,null,null,null,null,null,null,null,null,null,{"$f":"AG201","v":176}]
[null,null,null,null,null,null,null,null,null,null,null,null,null,null,null,null,null,null,null,null,null,null,null,null,null,null,null,null,null,null,null,null,{"$f":"SUM(AG225-AG201)","v":-176}]
[{"$f":"$A$39","v":"Zusammenstellung"},null,null,null,null,null,{"$f":"$G$39","v":"Jan"},null,{"$f":"$I$39","v":"Feb"},null,{"$f":"$K$39","v":"Mrz"},null,{"$f":"$M$39","v":"Apr"},null,{"$f":"$O$39","v":"Mai"},null,{"$f":"$Q$39","v":"Jun"},null,{"$f":"$S$39","v":"Jul"},null,{"$f":"$U$39","v":"Aug"},null,{"$f":"$W$39","v":"Sep"},null,{"$f":"$Y$39","v":"Okt"},null,{"$f":"$AA$39","v":"Nov"},null,{"$f":"$AC$39","v":"Dez"},null,{"$f":"$AE$39","v":"Jahr"}]
[{"$f":"$A$40","v":"Anstellung %"},null,null,null,null,null,{"$f":"IF($B$4=0,0,$B$4)","v":100},null,{"$f":"IF($B$70=0,0,$B$70)","v":100},null,{"$f":"IF($B$133=0,0,$B$133)","v":100},null,{"$f":"IF($B$196=0,0,$B$196)","v":100},null,{"$f":"IF($B$259=0,0,$B$259)","v":100},null,{"$f":"IF($B$322=0,0,$B$322)","v":100},null,{"$f":"IF($B$385=0,0,$B$385)","v":100},null,{"$f":"IF($B$448=0,0,$B$448)","v":100},null,{"$f":"IF($B$511=0,0,$B$511)","v":100},null,{"$f":"IF($B$574=0,0,$B$574)","v":100},null,{"$f":"IF($B$637=0,0,$B$637)","v":100},null,{"$f":"IF($B$700=0,0,$B$700)","v":100}]
[{"$f":"$A$41","v":"Sollstunden gemäss GAV"},null,null,null,null,null,{"$f":"IF($AG$37=0,0,$AG$37)","v":184},null,{"$f":"IF($AG$100=0,0,$AG$100)","v":160},null,{"$f":"IF($AG$138=0,0,$AG$138)","v":176},null,{"$f":"IF($AG$226=0,0,$AG$226)","v":176},null,{"$f":"IF($AG$289=0,0,$AG$289)","v":168},null,{"$f":"IF($AG$352=0,0,$AG$352)","v":176},null,{"$f":"IF($AG$415=0,0,$AG$415)","v":184},null,{"$f":"IF($AG$478=0,0,$AG$478)","v":168},null,{"$f":"IF($AG$541=0,0,$AG$541)","v":176},null,{"$f":"IF($AG$604=0,0,$AG$604)","v":176},null,{"$f":"IF($AG$667=0,0,$AG$667)","v":168},null,{"$f":"IF($AG$730=0,0,$AG$730)","v":184},null,{"$f":"SUM(G230:AD230)","v":2096}]
[{"$f":"$A$42","v":"Produktive Stunden"},{"$f":"$B$42","v":"06.00 - 20.00 Uhr"},null,null,null,null,{"$f":"IF($AG$32=0,0,$AG$32)","v":0},null,{"$f":"IF($AG$95=0,0,$AG$95)","v":0},null,{"$f":"IF($AG$158=0,0,$AG$158)","v":0},null,{"$f":"IF($AG$221=0,0,$AG$221)","v":0},null,{"$f":"IF($AG$284=0,0,$AG$284)","v":0},null,{"$f":"IF($AG$347=0,0,$AG$347)","v":0},null,{"$f":"IF($AG$410=0,0,$AG$410)","v":0},null,{"$f":"IF($AG$473=0,0,$AG$473)","v":0},null,{"$f":"IF($AG$536=0,0,$AG$536)","v":0},null,{"$f":"IF($AG$599=0,0,$AG$599)","v":0},null,{"$f":"IF($AG$662=0,0,$AG$662)","v":0},null,{"$f":"IF($AG$725=0,0,$AG$725)","v":0},null,{"$f":"SUM(G231:AD231)","v":0}]
[null,{"$f":"$B$43","v":"Nacht-, Sonn-, Feiertagsarbeit"},null,null,null,null,{"$f":"IF($AG$33=0,0,$AG$33)","v":0},null,{"$f":"IF($AG$96=0,0,$AG$96)","v":0},null,{"$f":"IF($AG$159=0,0,$AG$159)","v":0},null,{"$f":"IF($AG$222=0,0,$AG$222)","v":0},null,{"$f":"IF($AG$285=0,0,$AG$285)","v":0},null,{"$f":"IF($AG$348=0,0,$AG$348)","v":0},null,{"$f":"IF($AG$411=0,0,$AG$411)","v":0},null,{"$f":"IF($AG$474=0,0,$AG$474)","v":0},null,{"$f":"IF($AG$537=0,0,$AG$537)","v":0},null,{"$f":"IF($AG$600=0,0,$AG$600)","v":0},null,{"$f":"IF($AG$663=0,0,$AG$663)","v":0},null,{"$f":"IF($AG$726=0,0,$AG$726)","v":0},null,{"$f":"SUM(G232:AD232)","v":0}]
[{"$f":"$A$44","v":"Zeitzuschläge"},{"$f":"$B$44","v":"aus Wochentotal"},null,null,null,null,{"$f":"IF($AG$25=0,0,$AG$25)","v":0},null,{"$f":"IF($AG$88=0,0,$AG$88)","v":0},null,{"$f":"IF($AG$151=0,0,$AG$151)","v":0},null,{"$f":"IF($AG$214=0,0,$AG$214)","v":0},null,{"$f":"IF($AG$277=0,0,$AG$277)","v":0},null,{"$f":"IF($AG$340=0,0,$AG$340)","v":0},null,{"$f":"IF($AG$403=0,0,$AG$403)","v":0},null,{"$f":"IF($AG$466=0,0,$AG$466)","v":0},null,{"$f":"IF($AG$529=0,0,$AG$529)","v":0},null,{"$f":"IF($AG$592=0,0,$AG$592)","v":0},null,{"$f":"IF($AG$655=0,0,$AG$655)","v":0},null,{"$f":"IF($AG$718=0,0,$AG$718)","v":0},null,{"$f":"SUM(G233:AD233)","v":0}]
[null,{"$f":"$B$45","v":"aus Nacht-, Sonn-, Feiertagsarbeiten"},null,null,null,null,{"$f":"IF($AJ$20=0,0,$AJ$20)","v":0},null,{"$f":"IF($AK$20=0,0,$AK$20)","v":0},null,{"$f":"IF($AL$20=0,0,$AL$20)","v":0},null,{"$f":"IF($AM$20=0,0,$AM$20)","v":0},null,{"$f":"IF($AN$20=0,0,$AN$20)","v":0},null,{"$f":"IF($AO$20=0,0,$AO$20)","v":0},null,{"$f":"IF($AP$20=0,0,$AP$20)","v":0},null,{"$f":"IF($AQ$20=0,0,$AQ$20)","v":0},null,{"$f":"IF($AR$20=0,0,$AR$20)","v":0},null,{"$f":"IF($AS$20=0,0,$AS$20)","v":0},null,{"$f":"IF($AT$20=0,0,$AT$20)","v":0},null,{"$f":"IF($AU$20=0,0,$AU$20)","v":0},null,{"$f":"SUM(G234:AD234)","v":0}]
[{"$f":"$A$46","v":"Unproduktive Stunden"}]
[{"$f":"$A$47","v":"   Absenzen, Kurzabsenzen Art. 11 GAV"},null,null,null,null,{"$f":"$F$47","v":"a"},{"$f":"IF($AJ$3=0,0,$AJ$3)","v":0},null,{"$f":"IF($AK$3=0,0,$AK$3)","v":0},null,{"$f":"IF($AL$3=0,0,$AL$3)","v":0},null,{"$f":"IF($AM$3=0,0,$AM$3)","v":0},null,{"$f":"IF($AN$3=0,0,$AN$3)","v":0},null,{"$f":"IF($AO$3=0,0,$AO$3)","v":0},null,{"$f":"IF($AP$3=0,0,$AP$3)","v":0},null,{"$f":"IF($AQ$3=0,0,$AQ$3)","v":0},null,{"$f":"IF($AR$3=0,0,$AR$3)","v":0},null,{"$f":"IF($AS$3=0,0,$AS$3)","v":0},null,{"$f":"IF(AT$3=0,0,$AT$3)","v":0},null,{"$f":"IF($AU$3=0,0,$AU$3)","v":0},null,{"$f":"IF($AV$3=0,0,$AV$3)","v":0}]
[{"$f":"$A$48","v":"   Ferien Art. 12.1 GAV"},null,null,null,null,{"$f":"$F$48","v":"f"},{"$f":"IF($AJ$4=0,0,$AJ$4)","v":0},null,{"$f":"IF($AK$4=0,0,$AK$4)","v":0},null,{"$f":"IF($AL$4=0,0,$AL$4)","v":0},null,{"$f":"IF($AM$4=0,0,$AM$4)","v":0},null,{"$f":"IF($AN$4=0,0,$AN$4)","v":0},null,{"$f":"IF($AO$4=0,0,$AO$4)","v":0},null,{"$f":"IF($AP$4=0,0,$AP$4)","v":0},null,{"$f":"IF($AQ$4=0,0,$AQ$4)","v":0},null,{"$f":"IF($AR$4=0,0,$AR$4)","v":0},null,{"$f":"IF($AS$4=0,0,$AS$4)","v":0},null,{"$f":"IF($AT$4=0,0,$AT$4)","v":0},null,{"$f":"IF($AU$4=0,0,$AU$4)","v":0},null,{"$f":"IF($AV$4=0,0,$AV$4)","v":0}]
[{"$f":"$A$49","v":"   Feiertage Art. 12.2 GAV"},null,{"$f":"IF($AJ$17=\"\",\"\",$AJ$17)","v":""},null,null,{"$f":"$F$49","v":"ft"},{"$f":"IF($AJ$15=0,0,$AJ$15)","v":0},null,{"$f":"IF($AK$15=0,0,$AK$15)","v":0},null,{"$f":"IF($AL$15=0,0,$AL$15)","v":0},null,{"$f":"IF($AM$15=0,0,$AM$15)","v":0},null,{"$f":"IF($AN$15=0,0,$AN$15)","v":0},null,{"$f":"IF($AO$15=0,0,$AO$15)","v":0},null,{"$f":"IF($AP$15=0,0,$AP$15)","v":0},null,{"$f":"IF($AQ$15=0,0,$AQ$15)","v":0},null,{"$f":"IF($AR$15=0,0,$AR$15)","v":0},null,{"$f":"IF($AS$15=0,0,$AS$15)","v":0},null,{"$f":"IF($AT$15=0,0,$AT$15)","v":0},null,{"$f":"IF($AU$15=0,0,$AU$15)","v":0},null,{"$f":"IF($AV$15=0,0,$AV$15)","v":0}]
[{"$f":"$A$50","v":"   Krankheit Art. 13 GAV"},null,null,null,null,{"$f":"$F$50","v":"k"},{"$f":"IF($AJ$5=0,0,$AJ$5)","v":0},null,{"$f":"IF($AK$5=0,0,$AK$5)","v":0},null,{"$f":"IF($AL$5=0,0,$AL$5)","v":0},null,{"$f":"IF($AM$5=0,0,$AM$5)","v":0},null,{"$f":"IF($AN$5=0,0,$AN$5)","v":0},null,{"$f":"IF($AO$5=0,0,$AO$5)","v":0},null,{"$f":"IF($AP$5=0,0,$AP$5)","v":0},null,{"$f":"IF($AQ$5=0,0,$AQ$5)","v":0},null,{"$f":"IF($AR$5=0,0,$AR$5)","v":0},null,{"$f":"IF($AS$5=0,0,$AS$5)","v":0},null,{"$f":"IF($AT$5=0,0,$AT$5)","v":0},null,{"$f":"IF($AU$5=0,0,$AU$5)","v":0},null,{"$f":"IF($AV$5=0,0,$AV$5)","v":0}]
[{"$f":"$A$51","v":"   Unfall Art. 14 GAV"},null,null,null,null,{"$f":"$F$51","v":"u"},{"$f":"IF($AJ$6=0,0,$AJ$6)","v":0},null,{"$f":"IF($AK$6=0,0,$AK$6)","v":0},null,{"$f":"IF($AL$6=0,0,$AL$6)","v":0},null,{"$f":"IF($AM$6=0,0,$AM$6)","v":0},null,{"$f":"IF($AN$6=0,0,$AN$6)","v":0},null,{"$f":"IF($AO$6=0,0,$AO$6)","v":0},null,{"$f":"IF($AP$6=0,0,$AP$6)","v":0},null,{"$f":"IF($AQ$6=0,0,$AQ$6)","v":0},null,{"$f":"IF($AR$6=0,0,$AR$6)","v":0},null,{"$f":"IF($AS$6=0,0,$AS$6)","v":0},null,{"$f":"IF($AT$6=0,0,$AT$6)","v":0},null,{"$f":"IF($AU$6=0,0,$AU$6)","v":0},null,{"$f":"IF($AV$6=0,0,$AV$6)","v":0}]
[{"$f":"$A$52","v":"   Schwangerschaft/Mutterschaft Art. 15 GAV"},null,null,null,null,{"$f":"$F$52","v":"s"},{"$f":"IF($AJ$7=0,0,$AJ$7)","v":0},null,{"$f":"IF($AK$7=0,0,$AK$7)","v":0},null,{"$f":"IF($AL$7=0,0,$AL$7)","v":0},null,{"$f":"IF($AM$7=0,0,$AM$7)","v":0},null,{"$f":"IF($AN$7=0,0,$AN$7)","v":0},null,{"$f":"IF($AO$7=0,0,$AO$7)","v":0},null,{"$f":"IF($AP$7=0,0,$AP$7)","v":0},null,{"$f":"IF($AQ$7=0,0,$AQ$7)","v":0},null,{"$f":"IF($AR$7=0,0,$AR$7)","v":0},null,{"$f":"IF($AS$7=0,0,$AS$7)","v":0},null,{"$f":"IF($AT$7=0,0,$AT$7)","v":0},null,{"$f":"IF($AU$7=0,0,$AU$7)","v":0},null,{"$f":"IF($AV$7=0,0,$AV$7)","v":0}]
[{"$f":"$A$53","v":"   Militär/Beförderung/Zivilschutz Art. 16 GAV"},null,null,null,null,{"$f":"$F$53","v":"m"},{"$f":"IF($AJ$8=0,0,$AJ$8)","v":0},null,{"$f":"IF($AK$8=0,0,$AK$8)","v":0},null,{"$f":"IF($AL$8=0,0,$AL$8)","v":0},null,{"$f":"IF($AM$8=0,0,$AM$8)","v":0},null,{"$f":"IF($AN$8=0,0,$AN$8)","v":0},null,{"$f":"IF($AO$8=0,0,$AO$8)","v":0},null,{"$f":"IF($AP$8=0,0,$AP$8)","v":0},null,{"$f":"IF($AQ$8=0,0,$AQ$8)","v":0},null,{"$f":"IF($AR$8=0,0,$AR$8)","v":0},null,{"$f":"IF($AS$8=0,0,$AS$8)","v":0},null,{"$f":"IF($AT$8=0,0,$AT$8)","v":0},null,{"$f":"IF($AU$8=0,0,$AU$8)","v":0},null,{"$f":"IF($AV$8=0,0,$AV$8)","v":0}]
[{"$f":"$A$54","v":"   Kurzarbeit und Schlechtwetterausfälle"},null,null,null,null,{"$f":"$F$54","v":"ka"},{"$f":"IF($AJ$11=0,0,$AJ$11)","v":0},null,{"$f":"IF($AK$11=0,0,$AK$11)","v":0},null,{"$f":"IF($AL$11=0,0,$AL$11)","v":0},null,{"$f":"IF($AM$11=0,0,$AM$11)","v":0},null,{"$f":"IF($AN$11=0,0,$AN$11)","v":0},null,{"$f":"IF($AO$11=0,0,$AO$11)","v":0},null,{"$f":"IF($AP$11=0,0,$AP$11)","v":0},null,{"$f":"IF($AQ$11=0,0,$AQ$11)","v":0},null,{"$f":"IF($AR$11=0,0,$AR$11)","v":0},null,{"$f":"IF($AS$11=0,0,$AS$11)","v":0},null,{"$f":"IF($AT$11=0,0,$AT$11)","v":0},null,{"$f":"IF($AU$11=0,0,$AU$11)","v":0},null,{"$f":"IF($AV$11=0,0,$AV$11)","v":0}]
[{"$f":"$A$55","v":"   Berufsschule"},null,null,null,null,{"$f":"$F$55","v":"bs"},{"$f":"IF($AJ$9=0,0,$AJ$9)","v":0},null,{"$f":"IF($AK$9=0,0,$AK$9)","v":0},null,{"$f":"IF($AL$9=0,0,$AL$9)","v":0},null,{"$f":"IF($AM$9=0,0,$AM$9)","v":0},null,{"$f":"IF($AN$9=0,0,$AN$9)","v":0},null,{"$f":"IF($AO$9=0,0,$AO$9)","v":0},null,{"$f":"IF($AP$9=0,0,$AP$9)","v":0},null,{"$f":"IF($AQ$9=0,0,$AQ$9)","v":0},null,{"$f":"IF($AR$9=0,0,$AR$9)","v":0},null,{"$f":"IF($AS$9=0,0,$AS$9)","v":0},null,{"$f":"IF($AT$9=0,0,$AT$9)","v":0},null,{"$f":"IF($AU$9=0,0,$AU$9)","v":0},null,{"$f":"IF($AV$9=0,0,$AV$9)","v":0}]
[{"$f":"$A$56","v":"   Kurse"},null,null,null,null,{"$f":"$F$56","v":"ku"},{"$f":"IF($AJ$10=0,0,$AJ$10)","v":0},null,{"$f":"IF($AK$10=0,0,$AK$10)","v":0},null,{"$f":"IF($AL$10=0,0,$AL$10)","v":0},null,{"$f":"IF($AM$10=0,0,$AM$10)","v":0},null,{"$f":"IF($AN$10=0,0,$AN$10)","v":0},null,{"$f":"IF($AO$10=0,0,$AO$10)","v":0},null,{"$f":"IF($AP$10=0,0,$AP$10)","v":0},null,{"$f":"IF($AQ$10=0,0,$AQ$10)","v":0},null,{"$f":"IF($AR$10=0,0,$AR$10)","v":0},null,{"$f":"IF($AS$10=0,0,$AS$10)","v":0},null,{"$f":"IF($AT$10=0,0,$AT$10)","v":0},null,{"$f":"IF($AU$10=0,0,$AU$10)","v":0},null,{"$f":"IF($AV$10=0,0,$AV$10)","v":0}]
[{"$f":"$A$57","v":"Kompensations-Std"},{"$f":"$B$57","v":"aus Vorjahr"},null,null,null,{"$f":"$F$57","v":"kv"},{"$f":"IF($AJ$12=0,0,$AJ$12)","v":0},null,{"$f":"IF($AK$12=0,0,$AK$12)","v":0},null,{"$f":"IF($AL$12=0,0,$AL$12)","v":0},null,{"$f":"IF($AM$12=0,0,$AM$12)","v":0},null,{"$f":"IF($AN$12=0,0,$AN$12)","v":0},null,{"$f":"IF($AO$12=0,0,$AO$12)","v":0},null,{"$f":"IF($AP$12=0,0,$AP$12)","v":0},null,{"$f":"IF($AQ$12=0,0,$AQ$12)","v":0},null,{"$f":"IF($AR$12=0,0,$AR$12)","v":0},null,null,null,null,null,null,null,{"$f":"IF($AV$12=0,0,$AV$12)","v":0}]
[null,{"$f":"$B$58","v":"aus laufendem Jahr (Kontrolle)"},null,null,null,{"$f":"$F$58","v":"kj"},{"$f":"IF($AJ$14=0,0,$AJ$14)","v":0},null,{"$f":"IF($AK$14=0,0,$AK$14)","v":0},null,{"$f":"IF($AL$14=0,0,$AL$14)","v":0},null,{"$f":"IF($AM$14=0,0,$AM$14)","v":0},null,{"$f":"IF($AN$14=0,0,$AN$14)","v":0},null,{"$f":"IF($AO$14=0,0,$AO$14)","v":0},null,{"$f":"IF($AP$14=0,0,$AP$14)","v":0},null,{"$f":"IF($AQ$14=0,0,$AQ$14)","v":0},null,{"$f":"IF($AR$14=0,0,$AR$14)","v":0},null,{"$f":"IF($AS$14=0,0,$AS$14)","v":0},null,{"$f":"IF($AT$14=0,0,$AT$14)","v":0},null,{"$f":"IF($AU$14=0,0,$AU$14)","v":0},null,{"$f":"IF($AV$14=0,0,$AV$14)","v":0}]
[{"$f":"$A$59","v":"Auszahlung"},{"$f":"$B$59","v":"Stunden Vorjahressaldo"},null,null,null,null,{"$f":"IF($AJ$18=0,0,$AJ$18)","v":0},null,{"$f":"IF($AK$18=0,0,$AK$18)","v":0},null,{"$f":"IF($AL$18=0,0,$AL$18)","v":0},null,{"$f":"IF($AM$18=0,0,$AM$18)","v":0},null,{"$f":"IF($AN$18=0,0,$AN$18)","v":0},null,{"$f":"IF($AO$18=0,0,$AO$18)","v":0},null,{"$f":"IF($AP$18=0,0,$AP$18)","v":0},null,{"$f":"IF($AQ$18=0,0,$AQ$18)","v":0},null,{"$f":"IF($AR$18=0,0,$AR$18)","v":0},null,null,null,null,null,null,null,{"$f":"IF($AV$18=0,0,$AV$18)","v":0}]
[{"$f":"$A$60","v":"Differenz"},{"$f":"$B$60","v":"nach Kompensation und Auszahlung"},null,null,null,null,{"$f":"IF(ROUND($P$4,3)=0,0,$P$4-SUM(G246+G248))","v":0},null,{"$f":"IF(ROUND(G249,3)=0,0,G249-(SUM(I248+I246)))","v":0},null,{"$f":"IF(ROUND(I249,3)=0,0,I249-(SUM(K248+K246)))","v":0},null,{"$f":"IF(ROUND(K249,3)=0,0,K249-(SUM(M248+M246)))","v":0},null,{"$f":"IF(ROUND(M249,3)=0,0,M249-(SUM(O248+O246)))","v":0},null,{"$f":"IF(ROUND(O249,3)=0,0,O249-(SUM(Q248+Q246)))","v":0},null,{"$f":"IF(ROUND(Q249,3)=0,0,Q249-(SUM(S248+S246)))","v":0},null,{"$f":"IF(ROUND(S249,3)=0,0,S249-(SUM(U248+U246)))","v":0},null,{"$f":"IF(ROUND(U249,3)=0,0,U249-(SUM(W248+W246)))","v":0},null,{"$f":"$Y$60","v":""}]
[{"$f":"$A$61","v":"Auszahlung"},{"$f":"$B$61","v":"Stunden laufendes Jahr"},null,null,null,null,{"$f":"IF($AJ$19=0,0,$AJ$19)","v":0},null,{"$f":"IF($AK$19=0,0,$AK$19)","v":0},null,{"$f":"IF($AL$19=0,0,$AL$19)","v":0},null,{"$f":"IF($AM$19=0,0,$AM$19)","v":0},null,{"$f":"IF($AN$19=0,0,$AN$19)","v":0},null,{"$f":"IF($AO$19=0,0,$AO$19)","v":0},null,{"$f":"IF($AP$19=0,0,$AP$19)","v":0},null,{"$f":"IF($AQ$19=0,0,$AQ$19)","v":0},null,{"$f":"IF($AR$19=0,0,$AR$19)","v":0},null,{"$f":"IF($AS$19=0,0,$AS$19)","v":0},null,{"$f":"IF($AT$19=0,0,$AT$19)","v":0},null,{"$f":"IF($AU$19=0,0,$AU$19)","v":0},null,{"$f":"IF($AV$19=0,0,$AV$19)","v":0}]
[{"$f":"$A$62","v":"Fehlstunden"},{"$f":"$B$62","v":"laufendes Jahr (Kontrolle)"},null,null,null,{"$f":"$F$62","v":"fe"},{"$f":"IF($AJ$13=0,0,$AJ$13)","v":0},null,{"$f":"IF($AK$13=0,0,$AK$13)","v":0},null,{"$f":"IF($AL$13=0,0,$AL$13)","v":0},null,{"$f":"IF($AM$13=0,0,$AM$13)","v":0},null,{"$f":"IF($AN$13=0,0,$AN$13)","v":0},null,{"$f":"IF($AO$13=0,0,$AO$13)","v":0},null,{"$f":"IF($AP$13=0,0,$AP$13)","v":0},null,{"$f":"IF($AQ$13=0,0,$AQ$13)","v":0},null,{"$f":"IF($AR$13=0,0,$AR$13)","v":0},null,{"$f":"IF($AS$13=0,0,$AS$13)","v":0},null,{"$f":"IF($AT$13=0,0,$AT$13)","v":0},null,{"$f":"IF($AU$13=0,0,$AU$13)","v":0},null,{"$f":"IF($AV$13=0,0,$AV$13)","v":0}]
[{"$f":"$A$63","v":"Total inkl. Zeitzuschläge"},{"$f":"$B$63","v":"Stunden produktiv und unproduktiv"},null,null,null,null,{"$f":"IF($AG$36=0,0,$AG$36)","v":0},null,{"$f":"IF($AG$99=0,0,$AG$99)","v":0},null,{"$f":"IF($AG$162=0,0,$AG$162)","v":0},null,{"$f":"IF($AG$225=0,0,$AG$225)","v":0},null,{"$f":"IF($AG$288=0,0,$AG$288)","v":0},null,{"$f":"IF($AG$351=0,0,$AG$351)","v":0},null,{"$f":"IF($AG$414=0,0,$AG$414)","v":0},null,{"$f":"IF($AG$477=0,0,$AG$477)","v":0},null,{"$f":"IF($AG$540=0,0,$AG$540)","v":0},null,{"$f":"IF($AG$603=0,0,$AG$603)","v":0},null,{"$f":"IF($AG$666=0,0,$AG$666)","v":0},null,{"$f":"IF($AG$729=0,0,$AG$729)","v":0},null,{"$f":"SUM($G$63:$AD$63)","v":0}]
[{"$f":"$A$64","v":"Vergleich"},{"$f":"$B$64","v":"Stunden zu Soll-Stunden (inkl. allfälli-\nge Minusstunden Vorjahr)"},null,null,null,null,{"$f":"$G$64","v":-184},null,{"$f":"$I$64","v":-160},null,{"$f":"$K$64","v":-176},null,{"$f":"$M$64","v":-176},null,{"$f":"$O$64","v":-168},null,{"$f":"$Q$64","v":-176},null,{"$f":"$S$64","v":-184},null,{"$f":"$U$64","v":-168},null,{"$f":"$W$64","v":-176},null,{"$f":"$Y$64","v":-176},null,{"$f":"$AA$64","v":-168},null,{"$f":"$AC$64","v":-184},null,{"$f":"$AE$64","v":-2096}]
[null,{"$f":"$B$65","v":"Stunden zu Soll-Stunden (kumuliert)"},null,null,null,null,{"$f":"$G$65","v":-184},null,{"$f":"$I$65","v":-344},null,{"$f":"$K$65","v":-520},null,{"$f":"$M$65","v":-696},null,{"$f":"$O$65","v":-864},null,{"$f":"$Q$65","v":-1040},null,{"$f":"$S$65","v":-1224},null,{"$f":"$U$65","v":-1392},null,{"$f":"$W$65","v":-1568},null,{"$f":"$Y$65","v":-1744},null,{"$f":"$AA$65","v":-1912},null,{"$f":"$AC$65","v":-2096},null,{"$f":"$AE$65","v":0}]
[{"$f":"$A$66","v":"Ferienkontrolle"},{"$f":"$B$66","v":"Ferienguthaben Vorjahr"},null,null,null,null,{"$f":"IF($AA$4=0,0,$AA$4)","v":0},null,{"$f":"$I$66","v":"Ferienguthaben nach \nArt. 12.1 GAV"},null,null,null,{"$f":"IF($AA$5=0,0,$AA$5)","v":0},null,{"$f":"$O$66","v":"Ferienguthaben total"},null,null,null,{"$f":"SUM(G255+M255)","v":0},null,{"$f":"$U$66","v":"Ferien bezogen"},null,null,null,{"$f":"IF($AV$4=0,0,$AV$4)","v":0},null,{"$f":"$AA$66","v":"Aktuelles Ferienguthaben"},null,null,null,{"$f":"IF(S255=0,0,S255-Y255)","v":0}]
[]
[]
[{"$f":"$A$3","v":"Mitarbeiter/In"},{"$f":"IF($B$3=\"\",\"\",$B$3)","v":"Muster Peter"},null,null,null,null,null,null,null,null,null,null,null,null,null,null,null,null,null,null,null,null,null,null,null,null,null,null,null,null,null,{"$f":"AF3","v":0}]
[{"$f":"$A$4","v":"Anstellung %"},100,null,{"$f":"Labels!B93","v":"im Mai"}]
[{"$f":"$A$5","v":"Saldo für das Jahr"},null,null,{"$f":"IF($AE$64=0,0,$AE$64)","v":-2096}]
[{"$f":"TEXT(DATE(YEAR(AP28),MONTH(AP28)+4,1),\"MMMM\"&Labels!B13)","v":"Mai"},{"$f":"$B$9","v":"Saldo Monat + / -"},null,null,null,{"$f":"(AG264-(SUM(AG265:AG279)-AE286))*-1","v":-168},null,null,null,null,{"$f":"$K$9","v":" = "},{"$f":"$L$9","v":"Gelbe Felder müssen ausgefüllt werden (die übrigen werden automatisch berechnet)"}]
[{"$f":"$A$10","v":"Tag"},{"$f":"AE199+1","v":"2020-05-01"},{"$f":"B262+1","v":"2020-05-02"},{"$f":"C262+1","v":"2020-05-03"},"2020-05-04","2020-05-05","2020-05-06","2020-05-07","2020-05-08","2020-05-09","2020-05-10","2020-05-11","2020-05-12","2020-05-13","2020-05-14","2020-05-15","2020-05-16","2020-05-17","2020-05-18","2020-05-19","2020-05-20","2020-05-21","2020-05-22","2020-05-23","2020-05-24","2020-05-25","2020-05-26","2020-05-27","2020-05-28","2020-05-29","2020-05-30","2020-05-31",{"$f":"COUNT(B264:AF264)&\" \"&Labels!$B$63","v":"21 Tage"}]
[{"$f":"$A$11","v":"Kalenderwoche"},{"$f":"IF(B262=\"\",\"\",TRUNC((B262-DATE(YEAR(B262+3-MOD(B262-2,7)),1,MOD(B262-2,7)-9))/7))","v":18},18,18,19,19,19,19,19,19,19,20,20,20,20,20,20,20,21,21,21,21,21,21,21,22,22,22,22,22,22,22]
[{"$f":"$A$12","v":"Sollstunden"},{"$f":"IF(MOD(B262,7)>=2,$J$7*$B$259%,\"\")","v":8},"","",8,8,8,8,8,"","",8,8,8,8,8,"","",8,8,8,8,8,"","",8,8,8,8,8,"","",{"$f":"SUM(B264:AF264)","v":168}]
[{"$f":"$A$13","v":"Absenz in Std"},{"$f":"B911","v":0},{"$f":"C911","v":0},0,0,0,0,0,0,0,0,0,0,0,0,0,0,0,0,0,0,0,0,0,0,0,0,0,0,0,0,0,{"$f":"SUM(AN3:AN12)","v":0}]
[{"$f":"$A$14","v":"Code"},{"$f":"IF(B911<>0,IF(MAX(B898:B910)<B911,Labels!$B$163,INDEX($AH$898:$AH$910,MATCH(MAX(B898:B910),B898:B910,0))),\"\")","v":""},{"$f":"IF(C911<>0,IF(MAX(C898:C910)<C911,Labels!$B$163,INDEX($AH$898:$AH$910,MATCH(MAX(C898:C910),C898:C910,0))),\"\")","v":""},{"$f":"IF(D911<>0,IF(MAX(D898:D910)<D911,Labels!$B$163,INDEX($AH$898:$AH$910,MATCH(MAX(D898:D910),D898:D910,0))),\"\")","v":""},{"$f":"IF(E911<>0,IF(MAX(E898:E910)<E911,Labels!$B$163,INDEX($AH$898:$AH$910,MATCH(MAX(E898:E910),E898:E910,0))),\"\")","v":""},{"$f":"IF(F911<>0,IF(MAX(F898:F910)<F911,Labels!$B$163,INDEX($AH$898:$AH$910,MATCH(MAX(F898:F910),F898:F910,0))),\"\")","v":""},{"$f":"IF(G911<>0,IF(MAX(G898:G910)<G911,Labels!$B$163,INDEX($AH$898:$AH$910,MATCH(MAX(G898:G910),G898:G910,0))),\"\")","v":""},{"$f":"IF(H911<>0,IF(MAX(H898:H910)<H911,Labels!$B$163,INDEX($AH$898:$AH$910,MATCH(MAX(H898:H910),H898:H910,0))),\"\")","v":""},{"$f":"IF(I911<>0,IF(MAX(I898:I910)<I911,Labels!$B$163,INDEX($AH$898:$AH$910,MATCH(MAX(I898:I910),I898:I910,0))),\"\")","v":""},{"$f":"IF(J911<>0,IF(MAX(J898:J910)<J911,Labels!$B$163,INDEX($AH$898:$AH$910,MATCH(MAX(J898:J910),J898:J910,0))),\"\")","v":""},{"$f":"IF(K911<>0,IF(MAX(K898:K910)<K911,Labels!$B$163,INDEX($AH$898:$AH$910,MATCH(MAX(K898:K910),K898:K910,0))),\"\")","v":""},{"$f":"IF(L911<>0,IF(MAX(L898:L910)<L911,Labels!$B$163,INDEX($AH$898:$AH$910,MATCH(MAX(L898:L910),L898:L910,0))),\"\")","v":""},{"$f":"IF(M911<>0,IF(MAX(M898:M910)<M911,Labels!$B$163,INDEX($AH$898:$AH$910,MATCH(MAX(M898:M910),M898:M910,0))),\"\")","v":""},{"$f":"IF(N911<>0,IF(MAX(N898:N910)<N911,Labels!$B$163,INDEX($AH$898:$AH$910,MATCH(MAX(N898:N910),N898:N910,0))),\"\")","v":""},{"$f":"IF(O911<>0,IF(MAX(O898:O910)<O911,Labels!$B$163,INDEX($AH$898:$AH$910,MATCH(MAX(O898:O910),O898:O910,0))),\"\")","v":""},{"$f":"IF(P911<>0,IF(MAX(P898:P910)<P911,Labels!$B$163,INDEX($AH$898:$AH$910,MATCH(MAX(P898:P910),P898:P910,0))),\"\")","v":""},{"$f":"IF(Q911<>0,IF(MAX(Q898:Q910)<Q911,Labels!$B$163,INDEX($AH$898:$AH$910,MATCH(MAX(Q898:Q910),Q898:Q910,0))),\"\")","v":""},{"$f":"IF(R911<>0,IF(MAX(R898:R910)<R911,Labels!$B$163,INDEX($AH$898:$AH$910,MATCH(MAX(R898:R910),R898:R910,0))),\"\")","v":""},{"$f":"IF(S911<>0,IF(MAX(S898:S910)<S911,Labels!$B$163,INDEX($AH$898:$AH$910,MATCH(MAX(S898:S910),S898:S910,0))),\"\")","v":""},{"$f":"IF(T911<>0,IF(MAX(T898:T910)<T911,Labels!$B$163,INDEX($AH$898:$AH$910,MATCH(MAX(T898:T910),T898:T910,0))),\"\")","v":""},{"$f":"IF(U911<>0,IF(MAX(U898:U910)<U911,Labels!$B$163,INDEX($AH$898:$AH$910,MATCH(MAX(U898:U910),U898:U910,0))),\"\")","v":""},{"$f":"IF(V911<>0,IF(MAX(V898:V910)<V911,Labels!$B$163,INDEX($AH$898:$AH$910,MATCH(MAX(V898:V910),V898:V910,0))),\"\")","v":""},{"$f":"IF(W911<>0,IF(MAX(W898:W910)<W911,Labels!$B$163,INDEX($AH$898:$AH$910,MATCH(MAX(W898:W910),W898:W910,0))),\"\")","v":""},{"$f":"IF(X911<>0,IF(MAX(X898:X910)<X911,Labels!$B$163,INDEX($AH$898:$AH$910,MATCH(MAX(X898:X910),X898:X910,0))),\"\")","v":""},{"$f":"IF(Y911<>0,IF(MAX(Y898:Y910)<Y911,Labels!$B$163,INDEX($AH$898:$AH$910,MATCH(MAX(Y898:Y910),Y898:Y910,0))),\"\")","v":""},{"$f":"IF(Z911<>0,IF(MAX(Z898:Z910)<Z911,Labels!$B$163,INDEX($AH$898:$AH$910,MATCH(MAX(Z898:Z910),Z898:Z910,0))),\"\")","v":""},{"$f":"IF(AA911<>0,IF(MAX(AA898:AA910)<AA911,Labels!$B$163,INDEX($AH$898:$AH$910,MATCH(MAX(AA898:AA910),AA898:AA910,0))),\"\")","v":""},{"$f":"IF(AB911<>0,IF(MAX(AB898:AB910)<AB911,Labels!$B$163,INDEX($AH$898:$AH$910,MATCH(MAX(AB898:AB910),AB898:AB910,0))),\"\")","v":""},{"$f":"IF(AC911<>0,IF(MAX(AC898:AC910)<AC911,Labels!$B$163,INDEX($AH$898:$AH$910,MATCH(MAX(AC898:AC910),AC898:AC910,0))),\"\")","v":""},{"$f":"IF(AD911<>0,IF(MAX(AD898:AD910)<AD911,Labels!$B$163,INDEX($AH$898:$AH$910,MATCH(MAX(AD898:AD910),AD898:AD910,0))),\"\")","v":""},{"$f":"IF(AE911<>0,IF(MAX(AE898:AE910)<AE911,Labels!$B$163,INDEX($AH$898:$AH$910,MATCH(MAX(AE898:AE910),AE898:AE910,0))),\"\")","v":""},{"$f":"IF(AF911<>0,IF(MAX(AF898:AF910)<AF911,Labels!$B$163,INDEX($AH$898:$AH$910,MATCH(MAX(AF898:AF910),AF898:AF910,0))),\"\")","v":""}]
[{"$f":"$A$15","v":"00.00-06.00h"},null,null,null,null,null,null,null,null,null,null,null,null,null,null,null,null,null,null,null,null,null,null,null,null,null,null,null,null,null,null,null,{"$f":"SUM(B267:AF267)","v":0}]
[{"$f":"$A$16","v":"06.00-20.00h"},null,null,null,null,null,null,null,null,null,null,null,null,null,null,null,null,null,null,null,null,null,null,null,null,null,null,null,null,null,null,null,{"$f":"SUM(B268:AF268)","v":0}]
[{"$f":"$A$17","v":"20.00-24.00h"},null,null,null,null,null,null,null,null,null,null,null,null,null,null,null,null,null,null,null,null,null,null,null,null,null,null,null,null,null,null,null,{"$f":"SUM(B269:AF269)","v":0},"[0]"]
[{"$f":"$A$18","v":"Feiertag \"ft\""},{"$f":"IF(WEEKDAY(B262,2)<=6,IF(KALENDER!E11=\"x\",Labels!$B$118,\"\"),\"\")","v":""},{"$f":"IF(WEEKDAY(C262,2)<=6,IF(KALENDER!F11=\"x\",Labels!$B$118,\"\"),\"\")","v":""},{"$f":"IF(WEEKDAY(D262,2)<=6,IF(KALENDER!G11=\"x\",Labels!$B$118,\"\"),\"\")","v":""},{"$f":"IF(WEEKDAY(E262,2)<=6,IF(KALENDER!H11=\"x\",Labels!$B$118,\"\"),\"\")","v":""},{"$f":"IF(WEEKDAY(F262,2)<=6,IF(KALENDER!I11=\"x\",Labels!$B$118,\"\"),\"\")","v":""},{"$f":"IF(WEEKDAY(G262,2)<=6,IF(KALENDER!J11=\"x\",Labels!$B$118,\"\"),\"\")","v":""},{"$f":"IF(WEEKDAY(H262,2)<=6,IF(KALENDER!K11=\"x\",Labels!$B$118,\"\"),\"\")","v":""},{"$f":"IF(WEEKDAY(I262,2)<=6,IF(KALENDER!L11=\"x\",Labels!$B$118,\"\"),\"\")","v":""},{"$f":"IF(WEEKDAY(J262,2)<=6,IF(KALENDER!M11=\"x\",Labels!$B$118,\"\"),\"\")","v":""},{"$f":"IF(WEEKDAY(K262,2)<=6,IF(KALENDER!N11=\"x\",Labels!$B$118,\"\"),\"\")","v":""},{"$f":"IF(WEEKDAY(L262,2)<=6,IF(KALENDER!O11=\"x\",Labels!$B$118,\"\"),\"\")","v":""},{"$f":"IF(WEEKDAY(M262,2)<=6,IF(KALENDER!P11=\"x\",Labels!$B$118,\"\"),\"\")","v":""},{"$f":"IF(WEEKDAY(N262,2)<=6,IF(KALENDER!Q11=\"x\",Labels!$B$118,\"\"),\"\")","v":""},{"$f":"IF(WEEKDAY(O262,2)<=6,IF(KALENDER!R11=\"x\",Labels!$B$118,\"\"),\"\")","v":""},{"$f":"IF(WEEKDAY(P262,2)<=6,IF(KALENDER!S11=\"x\",Labels!$B$118,\"\"),\"\")","v":""},{"$f":"IF(WEEKDAY(Q262,2)<=6,IF(KALENDER!T11=\"x\",Labels!$B$118,\"\"),\"\")","v":""},{"$f":"IF(WEEKDAY(R262,2)<=6,IF(KALENDER!U11=\"x\",Labels!$B$118,\"\"),\"\")","v":""},{"$f":"IF(WEEKDAY(S262,2)<=6,IF(KALENDER!V11=\"x\",Labels!$B$118,\"\"),\"\")","v":""},{"$f":"IF(WEEKDAY(T262,2)<=6,IF(KALENDER!W11=\"x\",Labels!$B$118,\"\"),\"\")","v":""},{"$f":"IF(WEEKDAY(U262,2)<=6,IF(KALENDER!X11=\"x\",Labels!$B$118,\"\"),\"\")","v":""},{"$f":"IF(WEEKDAY(V262,2)<=6,IF(KALENDER!Y11=\"x\",Labels!$B$118,\"\"),\"\")","v":""},{"$f":"IF(WEEKDAY(W262,2)<=6,IF(KALENDER!Z11=\"x\",Labels!$B$118,\"\"),\"\")","v":""},{"$f":"IF(WEEKDAY(X262,2)<=6,IF(KALENDER!AA11=\"x\",Labels!$B$118,\"\"),\"\")","v":""},{"$f":"IF(WEEKDAY(Y262,2)<=6,IF(KALENDER!AB11=\"x\",Labels!$B$118,\"\"),\"\")","v":""},{"$f":"IF(WEEKDAY(Z262,2)<=6,IF(KALENDER!AC11=\"x\",Labels!$B$118,\"\"),\"\")","v":""},{"$f":"IF(WEEKDAY(AA262,2)<=6,IF(KALENDER!AD11=\"x\",Labels!$B$118,\"\"),\"\")","v":""},{"$f":"IF(WEEKDAY(AB262,2)<=6,IF(KALENDER!AE11=\"x\",Labels!$B$118,\"\"),\"\")","v":""},{"$f":"IF(WEEKDAY(AC262,2)<=6,IF(KALENDER!AF11=\"x\",Labels!$B$118,\"\"),\"\")","v":""},{"$f":"IF(WEEKDAY(AD262,2)<=6,IF(KALENDER!AG11=\"x\",Labels!$B$118,\"\"),\"\")","v":""},{"$f":"IF(WEEKDAY(AE262,2)<=6,IF(KALENDER!AH11=\"x\",Labels!$B$118,\"\"),\"\")","v":""},{"$f":"IF(WEEKDAY(AF262,2)<=6,IF(KALENDER!AI11=\"x\",Labels!$B$118,\"\"),\"\")","v":""}]
[{"$f":"$A$19","v":"Gutschrift \"ft\""},{"$f":"IF(AND(B270=Labels!$B$118,WEEKDAY(B262,2)<6),$J$7*$B$259%,\"\")","v":""},{"$f":"IF(AND(C270=Labels!$B$118,WEEKDAY(C262,2)<6),$J$7*$B$259%,\"\")","v":""},{"$f":"IF(AND(D270=Labels!$B$118,WEEKDAY(D262,2)<6),$J$7*$B$259%,\"\")","v":""},{"$f":"IF(AND(E270=Labels!$B$118,WEEKDAY(E262,2)<6),$J$7*$B$259%,\"\")","v":""},{"$f":"IF(AND(F270=Labels!$B$118,WEEKDAY(F262,2)<6),$J$7*$B$259%,\"\")","v":""},{"$f":"IF(AND(G270=Labels!$B$118,WEEKDAY(G262,2)<6),$J$7*$B$259%,\"\")","v":""},{"$f":"IF(AND(H270=Labels!$B$118,WEEKDAY(H262,2)<6),$J$7*$B$259%,\"\")","v":""},{"$f":"IF(AND(I270=Labels!$B$118,WEEKDAY(I262,2)<6),$J$7*$B$259%,\"\")","v":""},{"$f":"IF(AND(J270=Labels!$B$118,WEEKDAY(J262,2)<6),$J$7*$B$259%,\"\")","v":""},{"$f":"IF(AND(K270=Labels!$B$118,WEEKDAY(K262,2)<6),$J$7*$B$259%,\"\")","v":""},{"$f":"IF(AND(L270=Labels!$B$118,WEEKDAY(L262,2)<6),$J$7*$B$259%,\"\")","v":""},{"$f":"IF(AND(M270=Labels!$B$118,WEEKDAY(M262,2)<6),$J$7*$B$259%,\"\")","v":""},{"$f":"IF(AND(N270=Labels!$B$118,WEEKDAY(N262,2)<6),$J$7*$B$259%,\"\")","v":""},{"$f":"IF(AND(O270=Labels!$B$118,WEEKDAY(O262,2)<6),$J$7*$B$259%,\"\")","v":""},{"$f":"IF(AND(P270=Labels!$B$118,WEEKDAY(P262,2)<6),$J$7*$B$259%,\"\")","v":""},{"$f":"IF(AND(Q270=Labels!$B$118,WEEKDAY(Q262,2)<6),$J$7*$B$259%,\"\")","v":""},{"$f":"IF(AND(R270=Labels!$B$118,WEEKDAY(R262,2)<6),$J$7*$B$259%,\"\")","v":""},{"$f":"IF(AND(S270=Labels!$B$118,WEEKDAY(S262,2)<6),$J$7*$B$259%,\"\")","v":""},{"$f":"IF(AND(T270=Labels!$B$118,WEEKDAY(T262,2)<6),$J$7*$B$259%,\"\")","v":""},{"$f":"IF(AND(U270=Labels!$B$118,WEEKDAY(U262,2)<6),$J$7*$B$259%,\"\")","v":""},{"$f":"IF(AND(V270=Labels!$B$118,WEEKDAY(V262,2)<6),$J$7*$B$259%,\"\")","v":""},{"$f":"IF(AND(W270=Labels!$B$118,WEEKDAY(W262,2)<6),$J$7*$B$259%,\"\")","v":""},{"$f":"IF(AND(X270=Labels!$B$118,WEEKDAY(X262,2)<6),$J$7*$B$259%,\"\")","v":""},{"$f":"IF(AND(Y270=Labels!$B$118,WEEKDAY(Y262,2)<6),$J$7*$B$259%,\"\")","v":""},{"$f":"IF(AND(Z270=Labels!$B$118,WEEKDAY(Z262,2)<6),$J$7*$B$259%,\"\")","v":""},{"$f":"IF(AND(AA270=Labels!$B$118,WEEKDAY(AA262,2)<6),$J$7*$B$259%,\"\")","v":""},{"$f":"IF(AND(AB270=Labels!$B$118,WEEKDAY(AB262,2)<6),$J$7*$B$259%,\"\")","v":""},{"$f":"IF(AND(AC270=Labels!$B$118,WEEKDAY(AC262,2)<6),$J$7*$B$259%,\"\")","v":""},{"$f":"IF(AND(AD270=Labels!$B$118,WEEKDAY(AD262,2)<6),$J$7*$B$259%,\"\")","v":""},{"$f":"IF(AND(AE270=Labels!$B$118,WEEKDAY(AE262,2)<6),$J$7*$B$259%,\"\")","v":""},{"$f":"IF(AND(AF270=Labels!$B$118,WEEKDAY(AF262,2)<6),$J$7*$B$259%,\"\")","v":""},{"$f":"SUM(B271:AF271)","v":0}]
[{"$f":"$A$20","v":"Tagestotal"},{"$f":"SUM(B267:B269)","v":0},{"$f":"SUM(C267:C269)","v":0},0,0,0,0,0,0,0,0,0,0,0,0,0,0,0,0,0,0,0,0,0,0,0,0,0,0,0,0,0]
[{"$f":"$A$21","v":"."}]
[{"$f":"$A$22","v":"."}]
[{"$f":"$A$23","v":"Monatsübergang"},{"$f":"IF(WEEKDAY(B262)=1,TEXT(B262-1,\"MMM\"&Labels!B13),\"\")","v":""},null,null,null,null,null,null,null,null,null,null,null,null,null,null,null,null,null,null,null,null,null,null,null,null,null,null,null,null,null,{"$f":"IF(AND(WEEKDAY(AF262)>1,WEEKDAY(AF262)<7),TEXT(DATE($B$5,MONTH(AF262)+1,1),\"MMM\"&Labels!B13),\"\")","v":""}]
[{"$f":"$A$24","v":"Wochentotal"},{"$f":"IF(WEEKDAY(B262)=7,SUMIF($B200:$AF200,B263,$B209:$AF209)+SUMIF($B263:$AF263,B263,$B272:$AF272)+SUMIF($B326:$AF326,B263,$B335:$AF335),B275)","v":""},{"$f":"IF(WEEKDAY(C262)=7,SUMIF($B200:$AF200,C263,$B209:$AF209)+SUMIF($B263:$AF263,C263,$B272:$AF272)+SUMIF($B326:$AF326,C263,$B335:$AF335),\"\")","v":0},"","","","","","",0,"","","","","","",0,"","","","","","",0,"","","","","","",0,{"$f":"IF(WEEKDAY(AF262)=7,SUMIF($B200:$AF200,AF263,$B209:$AF209)+SUMIF($B263:$AF263,AF263,$B272:$AF272)+SUMIF($B326:$AF326,AF263,$B335:$AF335),AF275)","v":""}]
[{"$f":"$A$25","v":"Zeitzuschlag 1)"},{"$f":"IF(B284=\"FALSCH\",\"\",B284)","v":""},{"$f":"IF(C284=\"FALSCH\",\"\",C284)","v":""},"","","","","","","","","","","","","","","","","","","","","","","","","","","","","",{"$f":"SUM(B277:AF277)","v":0}]
[{"$f":"$A$26","v":"Zeitzuschlag 2)"},{"$f":"IF((B267+B269)=0,\"\",SUM(B267,B269))","v":""},{"$f":"IF((C267+C269)=0,\"\",SUM(C267,C269))","v":""},"","","","","","","","","","","","","","","","","","","","","","","","","","","","","",0,"[1]"]
[{"$f":"$A$27","v":"Zeitzuschlag 3)"},{"$f":"SUM(B280:B283)","v":0},{"$f":"SUM(C280:C283)","v":0},0,0,0,0,0,0,0,0,0,0,0,0,0,0,0,0,0,0,0,0,0,0,0,0,0,0,0,0,0,{"$f":"SUM(B279:AF279)","v":0},"[2]"]
[{"$f":"$A$28","v":"Sonntag Tag"},{"$f":"IF(WEEKDAY(B262)=1,B268,\"\")","v":""},{"$f":"IF(WEEKDAY(C262)=1,C268,\"\")","v":""},0,"","","","","","",0,"","","","","","",0,"","","","","","",0,"","","","","","",0,0,"[3]"]
[{"$f":"$A$29","v":"Sonntag Nacht"},{"$f":"IF(WEEKDAY(B262)=1,SUM(B267+B269),\"\")","v":""},{"$f":"IF(WEEKDAY(C262)=1,SUM(C267+C269),\"\")","v":""},0,"","","","","","",0,"","","","","","",0,"","","","","","",0,"","","","","","",0,0,"[4]"]
[{"$f":"$A$30","v":"ft-Tazuschlag"},{"$f":"IF(B270=Labels!$B$118,B268,\"\")","v":""},{"$f":"IF(C270=Labels!$B$118,C268,\"\")","v":""},{"$f":"IF(D270=Labels!$B$118,D268,\"\")","v":""},{"$f":"IF(E270=Labels!$B$118,E268,\"\")","v":""},{"$f":"IF(F270=Labels!$B$118,F268,\"\")","v":""},{"$f":"IF(G270=Labels!$B$118,G268,\"\")","v":""},{"$f":"IF(H270=Labels!$B$118,H268,\"\")","v":""},{"$f":"IF(I270=Labels!$B$118,I268,\"\")","v":""},{"$f":"IF(J270=Labels!$B$118,J268,\"\")","v":""},{"$f":"IF(K270=Labels!$B$118,K268,\"\")","v":""},{"$f":"IF(L270=Labels!$B$118,L268,\"\")","v":""},{"$f":"IF(M270=Labels!$B$118,M268,\"\")","v":""},{"$f":"IF(N270=Labels!$B$118,N268,\"\")","v":""},{"$f":"IF(O270=Labels!$B$118,O268,\"\")","v":""},{"$f":"IF(P270=Labels!$B$118,P268,\"\")","v":""},{"$f":"IF(Q270=Labels!$B$118,Q268,\"\")","v":""},{"$f":"IF(R270=Labels!$B$118,R268,\"\")","v":""},{"$f":"IF(S270=Labels!$B$118,S268,\"\")","v":""},{"$f":"IF(T270=Labels!$B$118,T268,\"\")","v":""},{"$f":"IF(U270=Labels!$B$118,U268,\"\")","v":""},{"$f":"IF(V270=Labels!$B$118,V268,\"\")","v":""},{"$f":"IF(W270=Labels!$B$118,W268,\"\")","v":""},{"$f":"IF(X270=Labels!$B$118,X268,\"\")","v":""},{"$f":"IF(Y270=Labels!$B$118,Y268,\"\")","v":""},{"$f":"IF(Z270=Labels!$B$118,Z268,\"\")","v":""},{"$f":"IF(AA270=Labels!$B$118,AA268,\"\")","v":""},{"$f":"IF(AB270=Labels!$B$118,AB268,\"\")","v":""},{"$f":"IF(AC270=Labels!$B$118,AC268,\"\")","v":""},{"$f":"IF(AD270=Labels!$B$118,AD268,\"\")","v":""},{"$f":"IF(AE270=Labels!$B$118,AE268,\"\")","v":""},{"$f":"IF(AF270=Labels!$B$118,AF268,\"\")","v":""},0,"[5]"]
[{"$f":"$A$31","v":"ft-Nazuschlag"},{"$f":"IF(B270=Labels!$B$118,SUM(B267,B269),\"\")","v":""},{"$f":"IF(C270=Labels!$B$118,SUM(C267,C269),\"\")","v":""},{"$f":"IF(D270=Labels!$B$118,SUM(D267,D269),\"\")","v":""},{"$f":"IF(E270=Labels!$B$118,SUM(E267,E269),\"\")","v":""},{"$f":"IF(F270=Labels!$B$118,SUM(F267,F269),\"\")","v":""},{"$f":"IF(G270=Labels!$B$118,SUM(G267,G269),\"\")","v":""},{"$f":"IF(H270=Labels!$B$118,SUM(H267,H269),\"\")","v":""},{"$f":"IF(I270=Labels!$B$118,SUM(I267,I269),\"\")","v":""},{"$f":"IF(J270=Labels!$B$118,SUM(J267,J269),\"\")","v":""},{"$f":"IF(K270=Labels!$B$118,SUM(K267,K269),\"\")","v":""},{"$f":"IF(L270=Labels!$B$118,SUM(L267,L269),\"\")","v":""},{"$f":"IF(M270=Labels!$B$118,SUM(M267,M269),\"\")","v":""},{"$f":"IF(N270=Labels!$B$118,SUM(N267,N269),\"\")","v":""},{"$f":"IF(O270=Labels!$B$118,SUM(O267,O269),\"\")","v":""},{"$f":"IF(P270=Labels!$B$118,SUM(P267,P269),\"\")","v":""},{"$f":"IF(Q270=Labels!$B$118,SUM(Q267,Q269),\"\")","v":""},{"$f":"IF(R270=Labels!$B$118,SUM(R267,R269),\"\")","v":""},{"$f":"IF(S270=Labels!$B$118,SUM(S267,S269),\"\")","v":""},{"$f":"IF(T270=Labels!$B$118,SUM(T267,T269),\"\")","v":""},{"$f":"IF(U270=Labels!$B$118,SUM(U267,U269),\"\")","v":""},{"$f":"IF(V270=Labels!$B$118,SUM(V267,V269),\"\")","v":""},{"$f":"IF(W270=Labels!$B$118,SUM(W267,W269),\"\")","v":""},{"$f":"IF(X270=Labels!$B$118,SUM(X267,X269),\"\")","v":""},{"$f":"IF(Y270=Labels!$B$118,SUM(Y267,Y269),\"\")","v":""},{"$f":"IF(Z270=Labels!$B$118,SUM(Z267,Z269),\"\")","v":""},{"$f":"IF(AA270=Labels!$B$118,SUM(AA267,AA269),\"\")","v":""},{"$f":"IF(AB270=Labels!$B$118,SUM(AB267,AB269),\"\")","v":""},{"$f":"IF(AC270=Labels!$B$118,SUM(AC267,AC269),\"\")","v":""},{"$f":"IF(AD270=Labels!$B$118,SUM(AD267,AD269),\"\")","v":""},{"$f":"IF(AE270=Labels!$B$118,SUM(AE267,AE269),\"\")","v":""},{"$f":"IF(AF270=Labels!$B$118,SUM(AF267,AF269),\"\")","v":""},0,"[6]"]
[{"$f":"$A$32","v":"Zuschlag  blind (Wochentotal)"},{"$f":"IF(OR(ISTEXT(B276),B276=\"\",B276<$B$7),\"\",ROUND(((B276-$B$7)*25%)/25,4)*25)","v":""},{"$f":"IF(OR(ISTEXT(C276),C276=\"\",C276<$B$7),\"\",ROUND(((C276-$B$7)*25%)/25,4)*25)","v":""},"","","","","","","","","","","","","","","","","","","","","","","","","","","","","",{"$f":"AG268","v":0},"[7]"]
[null,{"$f":"$B$33","v":"1)   25% Zeitzuschlag für Überschreitung Wochentotal"},null,null,null,null,null,null,null,null,null,{"$f":"$L$33","v":"2) 100% Zeitzuschlag für Nachtarbeit"},null,null,null,null,null,null,null,{"$f":"$T$33","v":"Eingabe der ausbezahlten Stunden Vorjahressaldo"},null,null,null,null,null,null,null,null,null,null,null,null,{"$f":"SUM(AG267+AG269)","v":0},"[8]"]
[null,{"$f":"$B$34","v":"3) 100% Zeitzuschlag für Sonn- und Feiertagsarbeit"},null,null,null,null,null,null,null,null,null,null,null,null,null,null,null,null,null,{"$f":"$T$34","v":"Eingabe der ausbezahlten Stunden laufendes Jahr (Überstunden)"},null,null,null,null,null,null,null,null,null,null,null,null,{"$f":"SUM(AG267:AG269)","v":0},"[9]"]
[{"$f":"$A$35","v":"Bemerkungen"},null,null,null,null,null,null,null,null,null,null,null,null,null,null,null,null,null,null,null,null,null,null,null,null,null,null,null,null,null,null,null,{"$f":"SUM(AG265+AG271)","v":0},"[10]"]
[null,null,null,null,null,null,null,null,null,null,null,null,null,null,null,null,null,null,null,null,null,null,null,null,null,null,null,null,null,null,null,null,{"$f":"SUM(AG265:AG279)","v":0},"[11]"]
[null,null,null,null,null,null,null,null,null,null,null,null,null,null,null,null,null,null,null,null,null,null,null,null,null,null,null,null,null,null,null,null,{"$f":"AG264","v":168}]
[null,null,null,null,null,null,null,null,null,null,null,null,null,null,null,null,null,null,null,null,null,null,null,null,null,null,null,null,null,null,null,null,{"$f":"SUM(AG288-AG264)","v":-168}]
[{"$f":"$A$39","v":"Zusammenstellung"},null,null,null,null,null,{"$f":"$G$39","v":"Jan"},null,{"$f":"$I$39","v":"Feb"},null,{"$f":"$K$39","v":"Mrz"},null,{"$f":"$M$39","v":"Apr"},null,{"$f":"$O$39","v":"Mai"},null,{"$f":"$Q$39","v":"Jun"},null,{"$f":"$S$39","v":"Jul"},null,{"$f":"$U$39","v":"Aug"},null,{"$f":"$W$39","v":"Sep"},null,{"$f":"$Y$39","v":"Okt"},null,{"$f":"$AA$39","v":"Nov"},null,{"$f":"$AC$39","v":"Dez"},null,{"$f":"$AE$39","v":"Jahr"}]
[{"$f":"$A$40","v":"Anstellung %"},null,null,null,null,null,{"$f":"IF($B$4=0,0,$B$4)","v":100},null,{"$f":"IF($B$70=0,0,$B$70)","v":100},null,{"$f":"IF($B$133=0,0,$B$133)","v":100},null,{"$f":"IF($B$196=0,0,$B$196)","v":100},null,{"$f":"IF($B$259=0,0,$B$259)","v":100},null,{"$f":"IF($B$322=0,0,$B$322)","v":100},null,{"$f":"IF($B$385=0,0,$B$385)","v":100},null,{"$f":"IF($B$448=0,0,$B$448)","v":100},null,{"$f":"IF($B$511=0,0,$B$511)","v":100},null,{"$f":"IF($B$574=0,0,$B$574)","v":100},null,{"$f":"IF($B$637=0,0,$B$637)","v":100},null,{"$f":"IF($B$700=0,0,$B$700)","v":100}]
[{"$f":"$A$41","v":"Sollstunden gemäss GAV"},null,null,null,null,null,{"$f":"IF($AG$37=0,0,$AG$37)","v":184},null,{"$f":"IF($AG$100=0,0,$AG$100)","v":160},null,{"$f":"IF($AG$138=0,0,$AG$138)","v":176},null,{"$f":"IF($AG$226=0,0,$AG$226)","v":176},null,{"$f":"IF($AG$289=0,0,$AG$289)","v":168},null,{"$f":"IF($AG$352=0,0,$AG$352)","v":176},null,{"$f":"IF($AG$415=0,0,$AG$415)","v":184},null,{"$f":"IF($AG$478=0,0,$AG$478)","v":168},null,{"$f":"IF($AG$541=0,0,$AG$541)","v":176},null,{"$f":"IF($AG$604=0,0,$AG$604)","v":176},null,{"$f":"IF($AG$667=0,0,$AG$667)","v":168},null,{"$f":"IF($AG$730=0,0,$AG$730)","v":184},null,{"$f":"SUM(G293:AD293)","v":2096}]
[{"$f":"$A$42","v":"Produktive Stunden"},{"$f":"$B$42","v":"06.00 - 20.00 Uhr"},null,null,null,null,{"$f":"IF($AG$32=0,0,$AG$32)","v":0},null,{"$f":"IF($AG$95=0,0,$AG$95)","v":0},null,{"$f":"IF($AG$158=0,0,$AG$158)","v":0},null,{"$f":"IF($AG$221=0,0,$AG$221)","v":0},null,{"$f":"IF($AG$284=0,0,$AG$284)","v":0},null,{"$f":"IF($AG$347=0,0,$AG$347)","v":0},null,{"$f":"IF($AG$410=0,0,$AG$410)","v":0},null,{"$f":"IF($AG$473=0,0,$AG$473)","v":0},null,{"$f":"IF($AG$536=0,0,$AG$536)","v":0},null,{"$f":"IF($AG$599=0,0,$AG$599)","v":0},null,{"$f":"IF($AG$662=0,0,$AG$662)","v":0},null,{"$f":"IF($AG$725=0,0,$AG$725)","v":0},null,{"$f":"SUM(G294:AD294)","v":0}]
[null,{"$f":"$B$43","v":"Nacht-, Sonn-, Feiertagsarbeit"},null,null,null,null,{"$f":"IF($AG$33=0,0,$AG$33)","v":0},null,{"$f":"IF($AG$96=0,0,$AG$96)","v":0},null,{"$f":"IF($AG$159=0,0,$AG$159)","v":0},null,{"$f":"IF($AG$222=0,0,$AG$222)","v":0},null,{"$f":"IF($AG$285=0,0,$AG$285)","v":0},null,{"$f":"IF($AG$348=0,0,$AG$348)","v":0},null,{"$f":"IF($AG$411=0,0,$AG$411)","v":0},null,{"$f":"IF($AG$474=0,0,$AG$474)","v":0},null,{"$f":"IF($AG$537=0,0,$AG$537)","v":0},null,{"$f":"IF($AG$600=0,0,$AG$600)","v":0},null,{"$f":"IF($AG$663=0,0,$AG$663)","v":0},null,{"$f":"IF($AG$726=0,0,$AG$726)","v":0},null,{"$f":"SUM(G295:AD295)","v":0}]
[{"$f":"$A$44","v":"Zeitzuschläge"},{"$f":"$B$44","v":"aus Wochentotal"},null,null,null,null,{"$f":"IF($AG$25=0,0,$AG$25)","v":0},null,{"$f":"IF($AG$88=0,0,$AG$88)","v":0},null,{"$f":"IF($AG$151=0,0,$AG$151)","v":0},null,{"$f":"IF($AG$214=0,0,$AG$214)","v":0},null,{"$f":"IF($AG$277=0,0,$AG$277)","v":0},null,{"$f":"IF($AG$340=0,0,$AG$340)","v":0},null,{"$f":"IF($AG$403=0,0,$AG$403)","v":0},null,{"$f":"IF($AG$466=0,0,$AG$466)","v":0},null,{"$f":"IF($AG$529=0,0,$AG$529)","v":0},null,{"$f":"IF($AG$592=0,0,$AG$592)","v":0},null,{"$f":"IF($AG$655=0,0,$AG$655)","v":0},null,{"$f":"IF($AG$718=0,0,$AG$718)","v":0},null,{"$f":"SUM(G296:AD296)","v":0}]
[null,{"$f":"$B$45","v":"aus Nacht-, Sonn-, Feiertagsarbeiten"},null,null,null,null,{"$f":"IF($AJ$20=0,0,$AJ$20)","v":0},null,{"$f":"IF($AK$20=0,0,$AK$20)","v":0},null,{"$f":"IF($AL$20=0,0,$AL$20)","v":0},null,{"$f":"IF($AM$20=0,0,$AM$20)","v":0},null,{"$f":"IF($AN$20=0,0,$AN$20)","v":0},null,{"$f":"IF($AO$20=0,0,$AO$20)","v":0},null,{"$f":"IF($AP$20=0,0,$AP$20)","v":0},null,{"$f":"IF($AQ$20=0,0,$AQ$20)","v":0},null,{"$f":"IF($AR$20=0,0,$AR$20)","v":0},null,{"$f":"IF($AS$20=0,0,$AS$20)","v":0},null,{"$f":"IF($AT$20=0,0,$AT$20)","v":0},null,{"$f":"IF($AU$20=0,0,$AU$20)","v":0},null,{"$f":"SUM(G297:AD297)","v":0}]
[{"$f":"$A$46","v":"Unproduktive Stunden"}]
[{"$f":"$A$47","v":"   Absenzen, Kurzabsenzen Art. 11 GAV"},null,null,null,null,{"$f":"$F$47","v":"a"},{"$f":"IF($AJ$3=0,0,$AJ$3)","v":0},null,{"$f":"IF($AK$3=0,0,$AK$3)","v":0},null,{"$f":"IF($AL$3=0,0,$AL$3)","v":0},null,{"$f":"IF($AM$3=0,0,$AM$3)","v":0},null,{"$f":"IF($AN$3=0,0,$AN$3)","v":0},null,{"$f":"IF($AO$3=0,0,$AO$3)","v":0},null,{"$f":"IF($AP$3=0,0,$AP$3)","v":0},null,{"$f":"IF($AQ$3=0,0,$AQ$3)","v":0},null,{"$f":"IF($AR$3=0,0,$AR$3)","v":0},null,{"$f":"IF($AS$3=0,0,$AS$3)","v":0},null,{"$f":"IF(AT$3=0,0,$AT$3)","v":0},null,{"$f":"IF($AU$3=0,0,$AU$3)","v":0},null,{"$f":"IF($AV$3=0,0,$AV$3)","v":0}]
[{"$f":"$A$48","v":"   Ferien Art. 12.1 GAV"},null,null,null,null,{"$f":"$F$48","v":"f"},{"$f":"IF($AJ$4=0,0,$AJ$4)","v":0},null,{"$f":"IF($AK$4=0,0,$AK$4)","v":0},null,{"$f":"IF($AL$4=0,0,$AL$4)","v":0},null,{"$f":"IF($AM$4=0,0,$AM$4)","v":0},null,{"$f":"IF($AN$4=0,0,$AN$4)","v":0},null,{"$f":"IF($AO$4=0,0,$AO$4)","v":0},null,{"$f":"IF($AP$4=0,0,$AP$4)","v":0},null,{"$f":"IF($AQ$4=0,0,$AQ$4)","v":0},null,{"$f":"IF($AR$4=0,0,$AR$4)","v":0},null,{"$f":"IF($AS$4=0,0,$AS$4)","v":0},null,{"$f":"IF($AT$4=0,0,$AT$4)","v":0},null,{"$f":"IF($AU$4=0,0,$AU$4)","v":0},null,{"$f":"IF($AV$4=0,0,$AV$4)","v":0}]
[{"$f":"$A$49","v":"   Feiertage Art. 12.2 GAV"},null,{"$f":"IF($AJ$17=\"\",\"\",$AJ$17)","v":""},null,null,{"$f":"$F$49","v":"ft"},{"$f":"IF($AJ$15=0,0,$AJ$15)","v":0},null,{"$f":"IF($AK$15=0,0,$AK$15)","v":0},null,{"$f":"IF($AL$15=0,0,$AL$15)","v":0},null,{"$f":"IF($AM$15=0,0,$AM$15)","v":0},null,{"$f":"IF($AN$15=0,0,$AN$15)","v":0},null,{"$f":"IF($AO$15=0,0,$AO$15)","v":0},null,{"$f":"IF($AP$15=0,0,$AP$15)","v":0},null,{"$f":"IF($AQ$15=0,0,$AQ$15)","v":0},null,{"$f":"IF($AR$15=0,0,$AR$15)","v":0},null,{"$f":"IF($AS$15=0,0,$AS$15)","v":0},null,{"$f":"IF($AT$15=0,0,$AT$15)","v":0},null,{"$f":"IF($AU$15=0,0,$AU$15)","v":0},null,{"$f":"IF($AV$15=0,0,$AV$15)","v":0}]
[{"$f":"$A$50","v":"   Krankheit Art. 13 GAV"},null,null,null,null,{"$f":"$F$50","v":"k"},{"$f":"IF($AJ$5=0,0,$AJ$5)","v":0},null,{"$f":"IF($AK$5=0,0,$AK$5)","v":0},null,{"$f":"IF($AL$5=0,0,$AL$5)","v":0},null,{"$f":"IF($AM$5=0,0,$AM$5)","v":0},null,{"$f":"IF($AN$5=0,0,$AN$5)","v":0},null,{"$f":"IF($AO$5=0,0,$AO$5)","v":0},null,{"$f":"IF($AP$5=0,0,$AP$5)","v":0},null,{"$f":"IF($AQ$5=0,0,$AQ$5)","v":0},null,{"$f":"IF($AR$5=0,0,$AR$5)","v":0},null,{"$f":"IF($AS$5=0,0,$AS$5)","v":0},null,{"$f":"IF($AT$5=0,0,$AT$5)","v":0},null,{"$f":"IF($AU$5=0,0,$AU$5)","v":0},null,{"$f":"IF($AV$5=0,0,$AV$5)","v":0}]
[{"$f":"$A$51","v":"   Unfall Art. 14 GAV"},null,null,null,null,{"$f":"$F$51","v":"u"},{"$f":"IF($AJ$6=0,0,$AJ$6)","v":0},null,{"$f":"IF($AK$6=0,0,$AK$6)","v":0},null,{"$f":"IF($AL$6=0,0,$AL$6)","v":0},null,{"$f":"IF($AM$6=0,0,$AM$6)","v":0},null,{"$f":"IF($AN$6=0,0,$AN$6)","v":0},null,{"$f":"IF($AO$6=0,0,$AO$6)","v":0},null,{"$f":"IF($AP$6=0,0,$AP$6)","v":0},null,{"$f":"IF($AQ$6=0,0,$AQ$6)","v":0},null,{"$f":"IF($AR$6=0,0,$AR$6)","v":0},null,{"$f":"IF($AS$6=0,0,$AS$6)","v":0},null,{"$f":"IF($AT$6=0,0,$AT$6)","v":0},null,{"$f":"IF($AU$6=0,0,$AU$6)","v":0},null,{"$f":"IF($AV$6=0,0,$AV$6)","v":0}]
[{"$f":"$A$52","v":"   Schwangerschaft/Mutterschaft Art. 15 GAV"},null,null,null,null,{"$f":"$F$52","v":"s"},{"$f":"IF($AJ$7=0,0,$AJ$7)","v":0},null,{"$f":"IF($AK$7=0,0,$AK$7)","v":0},null,{"$f":"IF($AL$7=0,0,$AL$7)","v":0},null,{"$f":"IF($AM$7=0,0,$AM$7)","v":0},null,{"$f":"IF($AN$7=0,0,$AN$7)","v":0},null,{"$f":"IF($AO$7=0,0,$AO$7)","v":0},null,{"$f":"IF($AP$7=0,0,$AP$7)","v":0},null,{"$f":"IF($AQ$7=0,0,$AQ$7)","v":0},null,{"$f":"IF($AR$7=0,0,$AR$7)","v":0},null,{"$f":"IF($AS$7=0,0,$AS$7)","v":0},null,{"$f":"IF($AT$7=0,0,$AT$7)","v":0},null,{"$f":"IF($AU$7=0,0,$AU$7)","v":0},null,{"$f":"IF($AV$7=0,0,$AV$7)","v":0}]
[{"$f":"$A$53","v":"   Militär/Beförderung/Zivilschutz Art. 16 GAV"},null,null,null,null,{"$f":"$F$53","v":"m"},{"$f":"IF($AJ$8=0,0,$AJ$8)","v":0},null,{"$f":"IF($AK$8=0,0,$AK$8)","v":0},null,{"$f":"IF($AL$8=0,0,$AL$8)","v":0},null,{"$f":"IF($AM$8=0,0,$AM$8)","v":0},null,{"$f":"IF($AN$8=0,0,$AN$8)","v":0},null,{"$f":"IF($AO$8=0,0,$AO$8)","v":0},null,{"$f":"IF($AP$8=0,0,$AP$8)","v":0},null,{"$f":"IF($AQ$8=0,0,$AQ$8)","v":0},null,{"$f":"IF($AR$8=0,0,$AR$8)","v":0},null,{"$f":"IF($AS$8=0,0,$AS$8)","v":0},null,{"$f":"IF($AT$8=0,0,$AT$8)","v":0},null,{"$f":"IF($AU$8=0,0,$AU$8)","v":0},null,{"$f":"IF($AV$8=0,0,$AV$8)","v":0}]
[{"$f":"$A$54","v":"   Kurzarbeit und Schlechtwetterausfälle"},null,null,null,null,{"$f":"$F$54","v":"ka"},{"$f":"IF($AJ$11=0,0,$AJ$11)","v":0},null,{"$f":"IF($AK$11=0,0,$AK$11)","v":0},null,{"$f":"IF($AL$11=0,0,$AL$11)","v":0},null,{"$f":"IF($AM$11=0,0,$AM$11)","v":0},null,{"$f":"IF($AN$11=0,0,$AN$11)","v":0},null,{"$f":"IF($AO$11=0,0,$AO$11)","v":0},null,{"$f":"IF($AP$11=0,0,$AP$11)","v":0},null,{"$f":"IF($AQ$11=0,0,$AQ$11)","v":0},null,{"$f":"IF($AR$11=0,0,$AR$11)","v":0},null,{"$f":"IF($AS$11=0,0,$AS$11)","v":0},null,{"$f":"IF($AT$11=0,0,$AT$11)","v":0},null,{"$f":"IF($AU$11=0,0,$AU$11)","v":0},null,{"$f":"IF($AV$11=0,0,$AV$11)","v":0}]
[{"$f":"$A$55","v":"   Berufsschule"},null,null,null,null,{"$f":"$F$55","v":"bs"},{"$f":"IF($AJ$9=0,0,$AJ$9)","v":0},null,{"$f":"IF($AK$9=0,0,$AK$9)","v":0},null,{"$f":"IF($AL$9=0,0,$AL$9)","v":0},null,{"$f":"IF($AM$9=0,0,$AM$9)","v":0},null,{"$f":"IF($AN$9=0,0,$AN$9)","v":0},null,{"$f":"IF($AO$9=0,0,$AO$9)","v":0},null,{"$f":"IF($AP$9=0,0,$AP$9)","v":0},null,{"$f":"IF($AQ$9=0,0,$AQ$9)","v":0},null,{"$f":"IF($AR$9=0,0,$AR$9)","v":0},null,{"$f":"IF($AS$9=0,0,$AS$9)","v":0},null,{"$f":"IF($AT$9=0,0,$AT$9)","v":0},null,{"$f":"IF($AU$9=0,0,$AU$9)","v":0},null,{"$f":"IF($AV$9=0,0,$AV$9)","v":0}]
[{"$f":"$A$56","v":"   Kurse"},null,null,null,null,{"$f":"$F$56","v":"ku"},{"$f":"IF($AJ$10=0,0,$AJ$10)","v":0},null,{"$f":"IF($AK$10=0,0,$AK$10)","v":0},null,{"$f":"IF($AL$10=0,0,$AL$10)","v":0},null,{"$f":"IF($AM$10=0,0,$AM$10)","v":0},null,{"$f":"IF($AN$10=0,0,$AN$10)","v":0},null,{"$f":"IF($AO$10=0,0,$AO$10)","v":0},null,{"$f":"IF($AP$10=0,0,$AP$10)","v":0},null,{"$f":"IF($AQ$10=0,0,$AQ$10)","v":0},null,{"$f":"IF($AR$10=0,0,$AR$10)","v":0},null,{"$f":"IF($AS$10=0,0,$AS$10)","v":0},null,{"$f":"IF($AT$10=0,0,$AT$10)","v":0},null,{"$f":"IF($AU$10=0,0,$AU$10)","v":0},null,{"$f":"IF($AV$10=0,0,$AV$10)","v":0}]
[{"$f":"$A$57","v":"Kompensations-Std"},{"$f":"$B$57","v":"aus Vorjahr"},null,null,null,{"$f":"$F$57","v":"kv"},{"$f":"IF($AJ$12=0,0,$AJ$12)","v":0},null,{"$f":"IF($AK$12=0,0,$AK$12)","v":0},null,{"$f":"IF($AL$12=0,0,$AL$12)","v":0},null,{"$f":"IF($AM$12=0,0,$AM$12)","v":0},null,{"$f":"IF($AN$12=0,0,$AN$12)","v":0},null,{"$f":"IF($AO$12=0,0,$AO$12)","v":0},null,{"$f":"IF($AP$12=0,0,$AP$12)","v":0},null,{"$f":"IF($AQ$12=0,0,$AQ$12)","v":0},null,{"$f":"IF($AR$12=0,0,$AR$12)","v":0},null,null,null,null,null,null,null,{"$f":"IF($AV$12=0,0,$AV$12)","v":0}]
[null,{"$f":"$B$58","v":"aus laufendem Jahr (Kontrolle)"},null,null,null,{"$f":"$F$58","v":"kj"},{"$f":"IF($AJ$14=0,0,$AJ$14)","v":0},null,{"$f":"IF($AK$14=0,0,$AK$14)","v":0},null,{"$f":"IF($AL$14=0,0,$AL$14)","v":0},null,{"$f":"IF($AM$14=0,0,$AM$14)","v":0},null,{"$f":"IF($AN$14=0,0,$AN$14)","v":0},null,{"$f":"IF($AO$14=0,0,$AO$14)","v":0},null,{"$f":"IF($AP$14=0,0,$AP$14)","v":0},null,{"$f":"IF($AQ$14=0,0,$AQ$14)","v":0},null,{"$f":"IF($AR$14=0,0,$AR$14)","v":0},null,{"$f":"IF($AS$14=0,0,$AS$14)","v":0},null,{"$f":"IF($AT$14=0,0,$AT$14)","v":0},null,{"$f":"IF($AU$14=0,0,$AU$14)","v":0},null,{"$f":"IF($AV$14=0,0,$AV$14)","v":0}]
[{"$f":"$A$59","v":"Auszahlung"},{"$f":"$B$59","v":"Stunden Vorjahressaldo"},null,null,null,null,{"$f":"IF($AJ$18=0,0,$AJ$18)","v":0},null,{"$f":"IF($AK$18=0,0,$AK$18)","v":0},null,{"$f":"IF($AL$18=0,0,$AL$18)","v":0},null,{"$f":"IF($AM$18=0,0,$AM$18)","v":0},null,{"$f":"IF($AN$18=0,0,$AN$18)","v":0},null,{"$f":"IF($AO$18=0,0,$AO$18)","v":0},null,{"$f":"IF($AP$18=0,0,$AP$18)","v":0},null,{"$f":"IF($AQ$18=0,0,$AQ$18)","v":0},null,{"$f":"IF($AR$18=0,0,$AR$18)","v":0},null,null,null,null,null,null,null,{"$f":"IF($AV$18=0,0,$AV$18)","v":0}]
[{"$f":"$A$60","v":"Differenz"},{"$f":"$B$60","v":"nach Kompensation und Auszahlung"},null,null,null,null,{"$f":"IF(ROUND($P$4,3)=0,0,$P$4-SUM(G309+G311))","v":0},null,{"$f":"IF(ROUND(G312,3)=0,0,G312-(SUM(I311+I309)))","v":0},null,{"$f":"IF(ROUND(I312,3)=0,0,I312-(SUM(K311+K309)))","v":0},null,{"$f":"IF(ROUND(K312,3)=0,0,K312-(SUM(M311+M309)))","v":0},null,{"$f":"IF(ROUND(M312,3)=0,0,M312-(SUM(O311+O309)))","v":0},null,{"$f":"IF(ROUND(O312,3)=0,0,O312-(SUM(Q311+Q309)))","v":0},null,{"$f":"IF(ROUND(Q312,3)=0,0,Q312-(SUM(S311+S309)))","v":0},null,{"$f":"IF(ROUND(S312,3)=0,0,S312-(SUM(U311+U309)))","v":0},null,{"$f":"IF(ROUND(U312,3)=0,0,U312-(SUM(W311+W309)))","v":0},null,{"$f":"$Y$60","v":""}]
[{"$f":"$A$61","v":"Auszahlung"},{"$f":"$B$61","v":"Stunden laufendes Jahr"},null,null,null,null,{"$f":"IF($AJ$19=0,0,$AJ$19)","v":0},null,{"$f":"IF($AK$19=0,0,$AK$19)","v":0},null,{"$f":"IF($AL$19=0,0,$AL$19)","v":0},null,{"$f":"IF($AM$19=0,0,$AM$19)","v":0},null,{"$f":"IF($AN$19=0,0,$AN$19)","v":0},null,{"$f":"IF($AO$19=0,0,$AO$19)","v":0},null,{"$f":"IF($AP$19=0,0,$AP$19)","v":0},null,{"$f":"IF($AQ$19=0,0,$AQ$19)","v":0},null,{"$f":"IF($AR$19=0,0,$AR$19)","v":0},null,{"$f":"IF($AS$19=0,0,$AS$19)","v":0},null,{"$f":"IF($AT$19=0,0,$AT$19)","v":0},null,{"$f":"IF($AU$19=0,0,$AU$19)","v":0},null,{"$f":"IF($AV$19=0,0,$AV$19)","v":0}]
[{"$f":"$A$62","v":"Fehlstunden"},{"$f":"$B$62","v":"laufendes Jahr (Kontrolle)"},null,null,null,{"$f":"$F$62","v":"fe"},{"$f":"IF($AJ$13=0,0,$AJ$13)","v":0},null,{"$f":"IF($AK$13=0,0,$AK$13)","v":0},null,{"$f":"IF($AL$13=0,0,$AL$13)","v":0},null,{"$f":"IF($AM$13=0,0,$AM$13)","v":0},null,{"$f":"IF($AN$13=0,0,$AN$13)","v":0},null,{"$f":"IF($AO$13=0,0,$AO$13)","v":0},null,{"$f":"IF($AP$13=0,0,$AP$13)","v":0},null,{"$f":"IF($AQ$13=0,0,$AQ$13)","v":0},null,{"$f":"IF($AR$13=0,0,$AR$13)","v":0},null,{"$f":"IF($AS$13=0,0,$AS$13)","v":0},null,{"$f":"IF($AT$13=0,0,$AT$13)","v":0},null,{"$f":"IF($AU$13=0,0,$AU$13)","v":0},null,{"$f":"IF($AV$13=0,0,$AV$13)","v":0}]
[{"$f":"$A$63","v":"Total inkl. Zeitzuschläge"},{"$f":"$B$63","v":"Stunden produktiv und unproduktiv"},null,null,null,null,{"$f":"IF($AG$36=0,0,$AG$36)","v":0},null,{"$f":"IF($AG$99=0,0,$AG$99)","v":0},null,{"$f":"IF($AG$162=0,0,$AG$162)","v":0},null,{"$f":"IF($AG$225=0,0,$AG$225)","v":0},null,{"$f":"IF($AG$288=0,0,$AG$288)","v":0},null,{"$f":"IF($AG$351=0,0,$AG$351)","v":0},null,{"$f":"IF($AG$414=0,0,$AG$414)","v":0},null,{"$f":"IF($AG$477=0,0,$AG$477)","v":0},null,{"$f":"IF($AG$540=0,0,$AG$540)","v":0},null,{"$f":"IF($AG$603=0,0,$AG$603)","v":0},null,{"$f":"IF($AG$666=0,0,$AG$666)","v":0},null,{"$f":"IF($AG$729=0,0,$AG$729)","v":0},null,{"$f":"SUM($G$63:$AD$63)","v":0}]
[{"$f":"$A$64","v":"Vergleich"},{"$f":"$B$64","v":"Stunden zu Soll-Stunden (inkl. allfälli-\nge Minusstunden Vorjahr)"},null,null,null,null,{"$f":"$G$64","v":-184},null,{"$f":"$I$64","v":-160},null,{"$f":"$K$64","v":-176},null,{"$f":"$M$64","v":-176},null,{"$f":"$O$64","v":-168},null,{"$f":"$Q$64","v":-176},null,{"$f":"$S$64","v":-184},null,{"$f":"$U$64","v":-168},null,{"$f":"$W$64","v":-176},null,{"$f":"$Y$64","v":-176},null,{"$f":"$AA$64","v":-168},null,{"$f":"$AC$64","v":-184},null,{"$f":"$AE$64","v":-2096}]
[null,{"$f":"$B$65","v":"Stunden zu Soll-Stunden (kumuliert)"},null,null,null,null,{"$f":"$G$65","v":-184},null,{"$f":"$I$65","v":-344},null,{"$f":"$K$65","v":-520},null,{"$f":"$M$65","v":-696},null,{"$f":"$O$65","v":-864},null,{"$f":"$Q$65","v":-1040},null,{"$f":"$S$65","v":-1224},null,{"$f":"$U$65","v":-1392},null,{"$f":"$W$65","v":-1568},null,{"$f":"$Y$65","v":-1744},null,{"$f":"$AA$65","v":-1912},null,{"$f":"$AC$65","v":-2096},null,{"$f":"$AE$65","v":0}]
[{"$f":"$A$66","v":"Ferienkontrolle"},{"$f":"$B$66","v":"Ferienguthaben Vorjahr"},null,null,null,null,{"$f":"IF($AA$4=0,0,$AA$4)","v":0},null,{"$f":"$I$66","v":"Ferienguthaben nach \nArt. 12.1 GAV"},null,null,null,{"$f":"IF($AA$5=0,0,$AA$5)","v":0},null,{"$f":"$O$66","v":"Ferienguthaben total"},null,null,null,{"$f":"SUM(G318+M318)","v":0},null,{"$f":"$U$66","v":"Ferien bezogen"},null,null,null,{"$f":"IF($AV$4=0,0,$AV$4)","v":0},null,{"$f":"$AA$66","v":"Aktuelles Ferienguthaben"},null,null,null,{"$f":"IF(S318=0,0,S318-Y318)","v":0}]
[]
[]
[{"$f":"$A$3","v":"Mitarbeiter/In"},{"$f":"IF($B$3=\"\",\"\",$B$3)","v":"Muster Peter"},null,null,null,null,null,null,null,null,null,null,null,null,null,null,null,null,null,null,null,null,null,null,null,null,null,null,null,null,null,{"$f":"AF3","v":0}]
[{"$f":"$A$4","v":"Anstellung %"},100,null,{"$f":"Labels!B94","v":"im Juni"}]
[{"$f":"$A$5","v":"Saldo für das Jahr"},null,null,{"$f":"IF($AE$64=0,0,$AE$64)","v":-2096}]
[{"$f":"TEXT(DATE(YEAR(AP28),MONTH(AP28)+5,1),\"MMMM\"&Labels!B13)","v":"Juni"},{"$f":"$B$9","v":"Saldo Monat + / -"},null,null,null,{"$f":"(AG327-(SUM(AG328:AG342)-AE349))*-1","v":-176},null,null,null,null,{"$f":"$K$9","v":" = "},{"$f":"$L$9","v":"Gelbe Felder müssen ausgefüllt werden (die übrigen werden automatisch berechnet)"}]
[{"$f":"$A$10","v":"Tag"},{"$f":"AF262+1","v":"2020-06-01"},{"$f":"B325+1","v":"2020-06-02"},{"$f":"C325+1","v":"2020-06-03"},"2020-06-04","2020-06-05","2020-06-06","2020-06-07","2020-06-08","2020-06-09","2020-06-10","2020-06-11","2020-06-12","2020-06-13","2020-06-14","2020-06-15","2020-06-16","2020-06-17","2020-06-18","2020-06-19","2020-06-20","2020-06-21","2020-06-22","2020-06-23","2020-06-24","2020-06-25","2020-06-26","2020-06-27","2020-06-28","2020-06-29","2020-06-30",null,{"$f":"COUNT(B327:AF327)&\" \"&Labels!$B$63","v":"22 Tage"}]
[{"$f":"$A$11","v":"Kalenderwoche"},{"$f":"IF(B325=\"\",\"\",TRUNC((B325-DATE(YEAR(B325+3-MOD(B325-2,7)),1,MOD(B325-2,7)-9))/7))","v":23},23,23,23,23,23,23,24,24,24,24,24,24,24,25,25,25,25,25,25,25,26,26,26,26,26,26,26,27,27,""]
[{"$f":"$A$12","v":"Sollstunden"},{"$f":"IF(MOD(B325,7)>=2,$J$7*$B$322%,\"\")","v":8},8,8,8,8,"","",8,8,8,8,8,"","",8,8,8,8,8,"","",8,8,8,8,8,"","",8,8,null,{"$f":"SUM(B327:AF327)","v":176}]
[{"$f":"$A$13","v":"Absenz in Std"},{"$f":"B934","v":0},{"$f":"C934","v":0},0,0,0,0,0,0,0,0,0,0,0,0,0,0,0,0,0,0,0,0,0,0,0,0,0,0,0,0,null,{"$f":"SUM(AO3:AO12)","v":0}]
[{"$f":"$A$14","v":"Code"},{"$f":"IF(B934<>0,IF(MAX(B921:B933)<B934,Labels!$B$163,INDEX($AH$921:$AH$933,MATCH(MAX(B921:B933),B921:B933,0))),\"\")","v":""},{"$f":"IF(C934<>0,IF(MAX(C921:C933)<C934,Labels!$B$163,INDEX($AH$921:$AH$933,MATCH(MAX(C921:C933),C921:C933,0))),\"\")","v":""},{"$f":"IF(D934<>0,IF(MAX(D921:D933)<D934,Labels!$B$163,INDEX($AH$921:$AH$933,MATCH(MAX(D921:D933),D921:D933,0))),\"\")","v":""},{"$f":"IF(E934<>0,IF(MAX(E921:E933)<E934,Labels!$B$163,INDEX($AH$921:$AH$933,MATCH(MAX(E921:E933),E921:E933,0))),\"\")","v":""},{"$f":"IF(F934<>0,IF(MAX(F921:F933)<F934,Labels!$B$163,INDEX($AH$921:$AH$933,MATCH(MAX(F921:F933),F921:F933,0))),\"\")","v":""},{"$f":"IF(G934<>0,IF(MAX(G921:G933)<G934,Labels!$B$163,INDEX($AH$921:$AH$933,MATCH(MAX(G921:G933),G921:G933,0))),\"\")","v":""},{"$f":"IF(H934<>0,IF(MAX(H921:H933)<H934,Labels!$B$163,INDEX($AH$921:$AH$933,MATCH(MAX(H921:H933),H921:H933,0))),\"\")","v":""},{"$f":"IF(I934<>0,IF(MAX(I921:I933)<I934,Labels!$B$163,INDEX($AH$921:$AH$933,MATCH(MAX(I921:I933),I921:I933,0))),\"\")","v":""},{"$f":"IF(J934<>0,IF(MAX(J921:J933)<J934,Labels!$B$163,INDEX($AH$921:$AH$933,MATCH(MAX(J921:J933),J921:J933,0))),\"\")","v":""},{"$f":"IF(K934<>0,IF(MAX(K921:K933)<K934,Labels!$B$163,INDEX($AH$921:$AH$933,MATCH(MAX(K921:K933),K921:K933,0))),\"\")","v":""},{"$f":"IF(L934<>0,IF(MAX(L921:L933)<L934,Labels!$B$163,INDEX($AH$921:$AH$933,MATCH(MAX(L921:L933),L921:L933,0))),\"\")","v":""},{"$f":"IF(M934<>0,IF(MAX(M921:M933)<M934,Labels!$B$163,INDEX($AH$921:$AH$933,MATCH(MAX(M921:M933),M921:M933,0))),\"\")","v":""},{"$f":"IF(N934<>0,IF(MAX(N921:N933)<N934,Labels!$B$163,INDEX($AH$921:$AH$933,MATCH(MAX(N921:N933),N921:N933,0))),\"\")","v":""},{"$f":"IF(O934<>0,IF(MAX(O921:O933)<O934,Labels!$B$163,INDEX($AH$921:$AH$933,MATCH(MAX(O921:O933),O921:O933,0))),\"\")","v":""},{"$f":"IF(P934<>0,IF(MAX(P921:P933)<P934,Labels!$B$163,INDEX($AH$921:$AH$933,MATCH(MAX(P921:P933),P921:P933,0))),\"\")","v":""},{"$f":"IF(Q934<>0,IF(MAX(Q921:Q933)<Q934,Labels!$B$163,INDEX($AH$921:$AH$933,MATCH(MAX(Q921:Q933),Q921:Q933,0))),\"\")","v":""},{"$f":"IF(R934<>0,IF(MAX(R921:R933)<R934,Labels!$B$163,INDEX($AH$921:$AH$933,MATCH(MAX(R921:R933),R921:R933,0))),\"\")","v":""},{"$f":"IF(S934<>0,IF(MAX(S921:S933)<S934,Labels!$B$163,INDEX($AH$921:$AH$933,MATCH(MAX(S921:S933),S921:S933,0))),\"\")","v":""},{"$f":"IF(T934<>0,IF(MAX(T921:T933)<T934,Labels!$B$163,INDEX($AH$921:$AH$933,MATCH(MAX(T921:T933),T921:T933,0))),\"\")","v":""},{"$f":"IF(U934<>0,IF(MAX(U921:U933)<U934,Labels!$B$163,INDEX($AH$921:$AH$933,MATCH(MAX(U921:U933),U921:U933,0))),\"\")","v":""},{"$f":"IF(V934<>0,IF(MAX(V921:V933)<V934,Labels!$B$163,INDEX($AH$921:$AH$933,MATCH(MAX(V921:V933),V921:V933,0))),\"\")","v":""},{"$f":"IF(W934<>0,IF(MAX(W921:W933)<W934,Labels!$B$163,INDEX($AH$921:$AH$933,MATCH(MAX(W921:W933),W921:W933,0))),\"\")","v":""},{"$f":"IF(X934<>0,IF(MAX(X921:X933)<X934,Labels!$B$163,INDEX($AH$921:$AH$933,MATCH(MAX(X921:X933),X921:X933,0))),\"\")","v":""},{"$f":"IF(Y934<>0,IF(MAX(Y921:Y933)<Y934,Labels!$B$163,INDEX($AH$921:$AH$933,MATCH(MAX(Y921:Y933),Y921:Y933,0))),\"\")","v":""},{"$f":"IF(Z934<>0,IF(MAX(Z921:Z933)<Z934,Labels!$B$163,INDEX($AH$921:$AH$933,MATCH(MAX(Z921:Z933),Z921:Z933,0))),\"\")","v":""},{"$f":"IF(AA934<>0,IF(MAX(AA921:AA933)<AA934,Labels!$B$163,INDEX($AH$921:$AH$933,MATCH(MAX(AA921:AA933),AA921:AA933,0))),\"\")","v":""},{"$f":"IF(AB934<>0,IF(MAX(AB921:AB933)<AB934,Labels!$B$163,INDEX($AH$921:$AH$933,MATCH(MAX(AB921:AB933),AB921:AB933,0))),\"\")","v":""},{"$f":"IF(AC934<>0,IF(MAX(AC921:AC933)<AC934,Labels!$B$163,INDEX($AH$921:$AH$933,MATCH(MAX(AC921:AC933),AC921:AC933,0))),\"\")","v":""},{"$f":"IF(AD934<>0,IF(MAX(AD921:AD933)<AD934,Labels!$B$163,INDEX($AH$921:$AH$933,MATCH(MAX(AD921:AD933),AD921:AD933,0))),\"\")","v":""},{"$f":"IF(AE934<>0,IF(MAX(AE921:AE933)<AE934,Labels!$B$163,INDEX($AH$921:$AH$933,MATCH(MAX(AE921:AE933),AE921:AE933,0))),\"\")","v":""}]
[{"$f":"$A$15","v":"00.00-06.00h"},null,null,null,null,null,null,null,null,null,null,null,null,null,null,null,null,null,null,null,null,null,null,null,null,null,null,null,null,null,null,null,{"$f":"SUM(B330:AF330)","v":0}]
[{"$f":"$A$16","v":"06.00-20.00h"},null,null,null,null,null,null,null,null,null,null,null,null,null,null,null,null,null,null,null,null,null,null,null,null,null,null,null,null,null,null,null,{"$f":"SUM(B331:AF331)","v":0}]
[{"$f":"$A$17","v":"20.00-24.00h"},null,null,null,null,null,null,null,null,null,null,null,null,null,null,null,null,null,null,null,null,null,null,null,null,null,null,null,null,null,null,null,{"$f":"SUM(B332:AF332)","v":0},"[0]"]
[{"$f":"$A$18","v":"Feiertag \"ft\""},{"$f":"IF(WEEKDAY(B325,2)<=6,IF(KALENDER!E13=\"x\",Labels!$B$118,\"\"),\"\")","v":""},{"$f":"IF(WEEKDAY(C325,2)<=6,IF(KALENDER!F13=\"x\",Labels!$B$118,\"\"),\"\")","v":""},{"$f":"IF(WEEKDAY(D325,2)<=6,IF(KALENDER!G13=\"x\",Labels!$B$118,\"\"),\"\")","v":""},{"$f":"IF(WEEKDAY(E325,2)<=6,IF(KALENDER!H13=\"x\",Labels!$B$118,\"\"),\"\")","v":""},{"$f":"IF(WEEKDAY(F325,2)<=6,IF(KALENDER!I13=\"x\",Labels!$B$118,\"\"),\"\")","v":""},{"$f":"IF(WEEKDAY(G325,2)<=6,IF(KALENDER!J13=\"x\",Labels!$B$118,\"\"),\"\")","v":""},{"$f":"IF(WEEKDAY(H325,2)<=6,IF(KALENDER!K13=\"x\",Labels!$B$118,\"\"),\"\")","v":""},{"$f":"IF(WEEKDAY(I325,2)<=6,IF(KALENDER!L13=\"x\",Labels!$B$118,\"\"),\"\")","v":""},{"$f":"IF(WEEKDAY(J325,2)<=6,IF(KALENDER!M13=\"x\",Labels!$B$118,\"\"),\"\")","v":""},{"$f":"IF(WEEKDAY(K325,2)<=6,IF(KALENDER!N13=\"x\",Labels!$B$118,\"\"),\"\")","v":""},{"$f":"IF(WEEKDAY(L325,2)<=6,IF(KALENDER!O13=\"x\",Labels!$B$118,\"\"),\"\")","v":""},{"$f":"IF(WEEKDAY(M325,2)<=6,IF(KALENDER!P13=\"x\",Labels!$B$118,\"\"),\"\")","v":""},{"$f":"IF(WEEKDAY(N325,2)<=6,IF(KALENDER!Q13=\"x\",Labels!$B$118,\"\"),\"\")","v":""},{"$f":"IF(WEEKDAY(O325,2)<=6,IF(KALENDER!R13=\"x\",Labels!$B$118,\"\"),\"\")","v":""},{"$f":"IF(WEEKDAY(P325,2)<=6,IF(KALENDER!S13=\"x\",Labels!$B$118,\"\"),\"\")","v":""},{"$f":"IF(WEEKDAY(Q325,2)<=6,IF(KALENDER!T13=\"x\",Labels!$B$118,\"\"),\"\")","v":""},{"$f":"IF(WEEKDAY(R325,2)<=6,IF(KALENDER!U13=\"x\",Labels!$B$118,\"\"),\"\")","v":""},{"$f":"IF(WEEKDAY(S325,2)<=6,IF(KALENDER!V13=\"x\",Labels!$B$118,\"\"),\"\")","v":""},{"$f":"IF(WEEKDAY(T325,2)<=6,IF(KALENDER!W13=\"x\",Labels!$B$118,\"\"),\"\")","v":""},{"$f":"IF(WEEKDAY(U325,2)<=6,IF(KALENDER!X13=\"x\",Labels!$B$118,\"\"),\"\")","v":""},{"$f":"IF(WEEKDAY(V325,2)<=6,IF(KALENDER!Y13=\"x\",Labels!$B$118,\"\"),\"\")","v":""},{"$f":"IF(WEEKDAY(W325,2)<=6,IF(KALENDER!Z13=\"x\",Labels!$B$118,\"\"),\"\")","v":""},{"$f":"IF(WEEKDAY(X325,2)<=6,IF(KALENDER!AA13=\"x\",Labels!$B$118,\"\"),\"\")","v":""},{"$f":"IF(WEEKDAY(Y325,2)<=6,IF(KALENDER!AB13=\"x\",Labels!$B$118,\"\"),\"\")","v":""},{"$f":"IF(WEEKDAY(Z325,2)<=6,IF(KALENDER!AC13=\"x\",Labels!$B$118,\"\"),\"\")","v":""},{"$f":"IF(WEEKDAY(AA325,2)<=6,IF(KALENDER!AD13=\"x\",Labels!$B$118,\"\"),\"\")","v":""},{"$f":"IF(WEEKDAY(AB325,2)<=6,IF(KALENDER!AE13=\"x\",Labels!$B$118,\"\"),\"\")","v":""},{"$f":"IF(WEEKDAY(AC325,2)<=6,IF(KALENDER!AF13=\"x\",Labels!$B$118,\"\"),\"\")","v":""},{"$f":"IF(WEEKDAY(AD325,2)<=6,IF(KALENDER!AG13=\"x\",Labels!$B$118,\"\"),\"\")","v":""},{"$f":"IF(WEEKDAY(AE325,2)<=6,IF(KALENDER!AH13=\"x\",Labels!$B$118,\"\"),\"\")","v":""},{"$f":"IF(WEEKDAY(AF325,2)<=6,IF(KALENDER!AI13=\"x\",Labels!$B$118,\"\"),\"\")","v":""}]
[{"$f":"$A$19","v":"Gutschrift \"ft\""},{"$f":"IF(AND(B333=Labels!$B$118,WEEKDAY(B325,2)<6),$J$7*$B$322%,\"\")","v":""},{"$f":"IF(AND(C333=Labels!$B$118,WEEKDAY(C325,2)<6),$J$7*$B$322%,\"\")","v":""},{"$f":"IF(AND(D333=Labels!$B$118,WEEKDAY(D325,2)<6),$J$7*$B$322%,\"\")","v":""},{"$f":"IF(AND(E333=Labels!$B$118,WEEKDAY(E325,2)<6),$J$7*$B$322%,\"\")","v":""},{"$f":"IF(AND(F333=Labels!$B$118,WEEKDAY(F325,2)<6),$J$7*$B$322%,\"\")","v":""},{"$f":"IF(AND(G333=Labels!$B$118,WEEKDAY(G325,2)<6),$J$7*$B$322%,\"\")","v":""},{"$f":"IF(AND(H333=Labels!$B$118,WEEKDAY(H325,2)<6),$J$7*$B$322%,\"\")","v":""},{"$f":"IF(AND(I333=Labels!$B$118,WEEKDAY(I325,2)<6),$J$7*$B$322%,\"\")","v":""},{"$f":"IF(AND(J333=Labels!$B$118,WEEKDAY(J325,2)<6),$J$7*$B$322%,\"\")","v":""},{"$f":"IF(AND(K333=Labels!$B$118,WEEKDAY(K325,2)<6),$J$7*$B$322%,\"\")","v":""},{"$f":"IF(AND(L333=Labels!$B$118,WEEKDAY(L325,2)<6),$J$7*$B$322%,\"\")","v":""},{"$f":"IF(AND(M333=Labels!$B$118,WEEKDAY(M325,2)<6),$J$7*$B$322%,\"\")","v":""},{"$f":"IF(AND(N333=Labels!$B$118,WEEKDAY(N325,2)<6),$J$7*$B$322%,\"\")","v":""},{"$f":"IF(AND(O333=Labels!$B$118,WEEKDAY(O325,2)<6),$J$7*$B$322%,\"\")","v":""},{"$f":"IF(AND(P333=Labels!$B$118,WEEKDAY(P325,2)<6),$J$7*$B$322%,\"\")","v":""},{"$f":"IF(AND(Q333=Labels!$B$118,WEEKDAY(Q325,2)<6),$J$7*$B$322%,\"\")","v":""},{"$f":"IF(AND(R333=Labels!$B$118,WEEKDAY(R325,2)<6),$J$7*$B$322%,\"\")","v":""},{"$f":"IF(AND(S333=Labels!$B$118,WEEKDAY(S325,2)<6),$J$7*$B$322%,\"\")","v":""},{"$f":"IF(AND(T333=Labels!$B$118,WEEKDAY(T325,2)<6),$J$7*$B$322%,\"\")","v":""},{"$f":"IF(AND(U333=Labels!$B$118,WEEKDAY(U325,2)<6),$J$7*$B$322%,\"\")","v":""},{"$f":"IF(AND(V333=Labels!$B$118,WEEKDAY(V325,2)<6),$J$7*$B$322%,\"\")","v":""},{"$f":"IF(AND(W333=Labels!$B$118,WEEKDAY(W325,2)<6),$J$7*$B$322%,\"\")","v":""},{"$f":"IF(AND(X333=Labels!$B$118,WEEKDAY(X325,2)<6),$J$7*$B$322%,\"\")","v":""},{"$f":"IF(AND(Y333=Labels!$B$118,WEEKDAY(Y325,2)<6),$J$7*$B$322%,\"\")","v":""},{"$f":"IF(AND(Z333=Labels!$B$118,WEEKDAY(Z325,2)<6),$J$7*$B$322%,\"\")","v":""},{"$f":"IF(AND(AA333=Labels!$B$118,WEEKDAY(AA325,2)<6),$J$7*$B$322%,\"\")","v":""},{"$f":"IF(AND(AB333=Labels!$B$118,WEEKDAY(AB325,2)<6),$J$7*$B$322%,\"\")","v":""},{"$f":"IF(AND(AC333=Labels!$B$118,WEEKDAY(AC325,2)<6),$J$7*$B$322%,\"\")","v":""},{"$f":"IF(AND(AD333=Labels!$B$118,WEEKDAY(AD325,2)<6),$J$7*$B$322%,\"\")","v":""},{"$f":"IF(AND(AE333=Labels!$B$118,WEEKDAY(AE325,2)<6),$J$7*$B$322%,\"\")","v":""},{"$f":"IF(AND(AF333=Labels!$B$118,WEEKDAY(AF325,2)<6),$J$7*$B$322%,\"\")","v":""},{"$f":"SUM(B334:AF334)","v":0}]
[{"$f":"$A$20","v":"Tagestotal"},{"$f":"SUM(B330:B332)","v":0},{"$f":"SUM(C330:C332)","v":0},0,0,0,0,0,0,0,0,0,0,0,0,0,0,0,0,0,0,0,0,0,0,0,0,0,0,0,0]
[{"$f":"$A$21","v":"."}]
[{"$f":"$A$22","v":"."}]
[{"$f":"$A$23","v":"Monatsübergang"},{"$f":"IF(WEEKDAY(B325)=1,TEXT(B325-1,\"MMM\"&Labels!B13),\"\")","v":""},null,null,null,null,null,null,null,null,null,null,null,null,null,null,null,null,null,null,null,null,null,null,null,null,null,null,null,null,{"$f":"IF(AND(WEEKDAY(AE325)>1,WEEKDAY(AE325)<7),TEXT(DATE($B$5,MONTH(AE325)+1,1),\"MMM\"&Labels!B13),\"\")","v":"Jul"}]
[{"$f":"$A$24","v":"Wochentotal"},{"$f":"IF(WEEKDAY(B325)=7,SUMIF($B263:$AF263,B326,$B272:$AF272)+SUMIF($B326:$AF326,B326,$B335:$AF335)+SUMIF($B389:$AF389,B326,$B398:$AF398),B338)","v":""},{"$f":"IF(WEEKDAY(C325)=7,SUMIF($B263:$AF263,C326,$B272:$AF272)+SUMIF($B326:$AF326,C326,$B335:$AF335)+SUMIF($B389:$AF389,C326,$B398:$AF398),\"\")","v":""},"","","",0,"","","","","","",0,"","","","","","",0,"","","","","","",0,"","",{"$f":"IF(WEEKDAY(AE325)=7,SUMIF($B263:$AF263,AE326,$B272:$AF272)+SUMIF($B326:$AF326,AE326,$B335:$AF335)+SUMIF($B389:$AF389,AE326,$B398:$AF398),AE338)","v":"Jul"}]
[{"$f":"$A$25","v":"Zeitzuschlag 1)"},{"$f":"IF(B347=\"FALSCH\",\"\",B347)","v":""},{"$f":"IF(C347=\"FALSCH\",\"\",C347)","v":""},"","","","","","","","","","","","","","","","","","","","","","","","","","","","",null,{"$f":"SUM(B340:AF340)","v":0}]
[{"$f":"$A$26","v":"Zeitzuschlag 2)"},{"$f":"IF((B330+B332)=0,\"\",SUM(B330,B332))","v":""},{"$f":"IF((C330+C332)=0,\"\",SUM(C330,C332))","v":""},"","","","","","","","","","","","","","","","","","","","","","","","","","","","",null,0,"[1]"]
[{"$f":"$A$27","v":"Zeitzuschlag 3)"},{"$f":"SUM(B343:B346)","v":0},{"$f":"SUM(C343:C346)","v":0},0,0,0,0,0,0,0,0,0,0,0,0,0,0,0,0,0,0,0,0,0,0,0,0,0,0,0,0,null,{"$f":"SUM(B342:AF342)","v":0},"[2]"]
[{"$f":"$A$28","v":"Sonntag Tag"},{"$f":"IF(WEEKDAY(B325)=1,B331,\"\")","v":""},{"$f":"IF(WEEKDAY(C325)=1,C331,\"\")","v":""},"","","","",0,"","","","","","",0,"","","","","","",0,"","","","","","",0,"","",null,0,"[3]"]
[{"$f":"$A$29","v":"Sonntag Nacht"},{"$f":"IF(WEEKDAY(B325)=1,SUM(B330+B332),\"\")","v":""},{"$f":"IF(WEEKDAY(C325)=1,SUM(C330+C332),\"\")","v":""},"","","","",0,"","","","","","",0,"","","","","","",0,"","","","","","",0,"","",null,0,"[4]"]
[{"$f":"$A$30","v":"ft-Tazuschlag"},{"$f":"IF(B333=Labels!$B$118,B331,\"\")","v":""},{"$f":"IF(C333=Labels!$B$118,C331,\"\")","v":""},{"$f":"IF(D333=Labels!$B$118,D331,\"\")","v":""},{"$f":"IF(E333=Labels!$B$118,E331,\"\")","v":""},{"$f":"IF(F333=Labels!$B$118,F331,\"\")","v":""},{"$f":"IF(G333=Labels!$B$118,G331,\"\")","v":""},{"$f":"IF(H333=Labels!$B$118,H331,\"\")","v":""},{"$f":"IF(I333=Labels!$B$118,I331,\"\")","v":""},{"$f":"IF(J333=Labels!$B$118,J331,\"\")","v":""},{"$f":"IF(K333=Labels!$B$118,K331,\"\")","v":""},{"$f":"IF(L333=Labels!$B$118,L331,\"\")","v":""},{"$f":"IF(M333=Labels!$B$118,M331,\"\")","v":""},{"$f":"IF(N333=Labels!$B$118,N331,\"\")","v":""},{"$f":"IF(O333=Labels!$B$118,O331,\"\")","v":""},{"$f":"IF(P333=Labels!$B$118,P331,\"\")","v":""},{"$f":"IF(Q333=Labels!$B$118,Q331,\"\")","v":""},{"$f":"IF(R333=Labels!$B$118,R331,\"\")","v":""},{"$f":"IF(S333=Labels!$B$118,S331,\"\")","v":""},{"$f":"IF(T333=Labels!$B$118,T331,\"\")","v":""},{"$f":"IF(U333=Labels!$B$118,U331,\"\")","v":""},{"$f":"IF(V333=Labels!$B$118,V331,\"\")","v":""},{"$f":"IF(W333=Labels!$B$118,W331,\"\")","v":""},{"$f":"IF(X333=Labels!$B$118,X331,\"\")","v":""},{"$f":"IF(Y333=Labels!$B$118,Y331,\"\")","v":""},{"$f":"IF(Z333=Labels!$B$118,Z331,\"\")","v":""},{"$f":"IF(AA333=Labels!$B$118,AA331,\"\")","v":""},{"$f":"IF(AB333=Labels!$B$118,AB331,\"\")","v":""},{"$f":"IF(AC333=Labels!$B$118,AC331,\"\")","v":""},{"$f":"IF(AD333=Labels!$B$118,AD331,\"\")","v":""},{"$f":"IF(AE333=Labels!$B$118,AE331,\"\")","v":""},null,0,"[5]"]
[{"$f":"$A$31","v":"ft-Nazuschlag"},{"$f":"IF(B333=Labels!$B$118,SUM(B330,B332),\"\")","v":""},{"$f":"IF(C333=Labels!$B$118,SUM(C330,C332),\"\")","v":""},{"$f":"IF(D333=Labels!$B$118,SUM(D330,D332),\"\")","v":""},{"$f":"IF(E333=Labels!$B$118,SUM(E330,E332),\"\")","v":""},{"$f":"IF(F333=Labels!$B$118,SUM(F330,F332),\"\")","v":""},{"$f":"IF(G333=Labels!$B$118,SUM(G330,G332),\"\")","v":""},{"$f":"IF(H333=Labels!$B$118,SUM(H330,H332),\"\")","v":""},{"$f":"IF(I333=Labels!$B$118,SUM(I330,I332),\"\")","v":""},{"$f":"IF(J333=Labels!$B$118,SUM(J330,J332),\"\")","v":""},{"$f":"IF(K333=Labels!$B$118,SUM(K330,K332),\"\")","v":""},{"$f":"IF(L333=Labels!$B$118,SUM(L330,L332),\"\")","v":""},{"$f":"IF(M333=Labels!$B$118,SUM(M330,M332),\"\")","v":""},{"$f":"IF(N333=Labels!$B$118,SUM(N330,N332),\"\")","v":""},{"$f":"IF(O333=Labels!$B$118,SUM(O330,O332),\"\")","v":""},{"$f":"IF(P333=Labels!$B$118,SUM(P330,P332),\"\")","v":""},{"$f":"IF(Q333=Labels!$B$118,SUM(Q330,Q332),\"\")","v":""},{"$f":"IF(R333=Labels!$B$118,SUM(R330,R332),\"\")","v":""},{"$f":"IF(S333=Labels!$B$118,SUM(S330,S332),\"\")","v":""},{"$f":"IF(T333=Labels!$B$118,SUM(T330,T332),\"\")","v":""},{"$f":"IF(U333=Labels!$B$118,SUM(U330,U332),\"\")","v":""},{"$f":"IF(V333=Labels!$B$118,SUM(V330,V332),\"\")","v":""},{"$f":"IF(W333=Labels!$B$118,SUM(W330,W332),\"\")","v":""},{"$f":"IF(X333=Labels!$B$118,SUM(X330,X332),\"\")","v":""},{"$f":"IF(Y333=Labels!$B$118,SUM(Y330,Y332),\"\")","v":""},{"$f":"IF(Z333=Labels!$B$118,SUM(Z330,Z332),\"\")","v":""},{"$f":"IF(AA333=Labels!$B$118,SUM(AA330,AA332),\"\")","v":""},{"$f":"IF(AB333=Labels!$B$118,SUM(AB330,AB332),\"\")","v":""},{"$f":"IF(AC333=Labels!$B$118,SUM(AC330,AC332),\"\")","v":""},{"$f":"IF(AD333=Labels!$B$118,SUM(AD330,AD332),\"\")","v":""},{"$f":"IF(AE333=Labels!$B$118,SUM(AE330,AE332),\"\")","v":""},null,0,"[6]"]
[{"$f":"$A$32","v":"Zuschlag  blind (Wochentotal)"},{"$f":"IF(OR(ISTEXT(B339),B339=\"\",B339<$B$7),\"\",ROUND(((B339-$B$7)*25%)/25,4)*25)","v":""},{"$f":"IF(OR(ISTEXT(C339),C339=\"\",C339<$B$7),\"\",ROUND(((C339-$B$7)*25%)/25,4)*25)","v":""},"","","","","","","","","","","","","","","","","","","","","","","","","","","","",null,{"$f":"AG331","v":0},"[7]"]
[null,{"$f":"$B$33","v":"1)   25% Zeitzuschlag für Überschreitung Wochentotal"},null,null,null,null,null,null,null,null,null,{"$f":"$L$33","v":"2) 100% Zeitzuschlag für Nachtarbeit"},null,null,null,null,null,null,null,{"$f":"$T$33","v":"Eingabe der ausbezahlten Stunden Vorjahressaldo"},null,null,null,null,null,null,null,null,null,null,null,null,{"$f":"SUM(AG330+AG332)","v":0},"[8]"]
[null,{"$f":"$B$34","v":"3) 100% Zeitzuschlag für Sonn- und Feiertagsarbeit"},null,null,null,null,null,null,null,null,null,null,null,null,null,null,null,null,null,{"$f":"$T$34","v":"Eingabe der ausbezahlten Stunden laufendes Jahr (Überstunden)"},null,null,null,null,null,null,null,null,null,null,null,null,{"$f":"SUM(AG330:AG332)","v":0},"[9]"]
[{"$f":"$A$35","v":"Bemerkungen"},null,null,null,null,null,null,null,null,null,null,null,null,null,null,null,null,null,null,null,null,null,null,null,null,null,null,null,null,null,null,null,{"$f":"SUM(AG328+AG334)","v":0},"[10]"]
[null,null,null,null,null,null,null,null,null,null,null,null,null,null,null,null,null,null,null,null,null,null,null,null,null,null,null,null,null,null,null,null,{"$f":"SUM(AG328:AG342)","v":0},"[11]"]
[null,null,null,null,null,null,null,null,null,null,null,null,null,null,null,null,null,null,null,null,null,null,null,null,null,null,null,null,null,null,null,null,{"$f":"AG327","v":176}]
[null,null,null,null,null,null,null,null,null,null,null,null,null,null,null,null,null,null,null,null,null,null,null,null,null,null,null,null,null,null,null,null,{"$f":"SUM(AG351-AG327)","v":-176}]
[{"$f":"$A$39","v":"Zusammenstellung"},null,null,null,null,null,{"$f":"$G$39","v":"Jan"},null,{"$f":"$I$39","v":"Feb"},null,{"$f":"$K$39","v":"Mrz"},null,{"$f":"$M$39","v":"Apr"},null,{"$f":"$O$39","v":"Mai"},null,{"$f":"$Q$39","v":"Jun"},null,{"$f":"$S$39","v":"Jul"},null,{"$f":"$U$39","v":"Aug"},null,{"$f":"$W$39","v":"Sep"},null,{"$f":"$Y$39","v":"Okt"},null,{"$f":"$AA$39","v":"Nov"},null,{"$f":"$AC$39","v":"Dez"},null,{"$f":"$AE$39","v":"Jahr"}]
[{"$f":"$A$40","v":"Anstellung %"},null,null,null,null,null,{"$f":"IF($B$4=0,0,$B$4)","v":100},null,{"$f":"IF($B$70=0,0,$B$70)","v":100},null,{"$f":"IF($B$133=0,0,$B$133)","v":100},null,{"$f":"IF($B$196=0,0,$B$196)","v":100},null,{"$f":"IF($B$259=0,0,$B$259)","v":100},null,{"$f":"IF($B$322=0,0,$B$322)","v":100},null,{"$f":"IF($B$385=0,0,$B$385)","v":100},null,{"$f":"IF($B$448=0,0,$B$448)","v":100},null,{"$f":"IF($B$511=0,0,$B$511)","v":100},null,{"$f":"IF($B$574=0,0,$B$574)","v":100},null,{"$f":"IF($B$637=0,0,$B$637)","v":100},null,{"$f":"IF($B$700=0,0,$B$700)","v":100}]
[{"$f":"$A$41","v":"Sollstunden gemäss GAV"},null,null,null,null,null,{"$f":"IF($AG$37=0,0,$AG$37)","v":184},null,{"$f":"IF($AG$100=0,0,$AG$100)","v":160},null,{"$f":"IF($AG$138=0,0,$AG$138)","v":176},null,{"$f":"IF($AG$226=0,0,$AG$226)","v":176},null,{"$f":"IF($AG$289=0,0,$AG$289)","v":168},null,{"$f":"IF($AG$352=0,0,$AG$352)","v":176},null,{"$f":"IF($AG$415=0,0,$AG$415)","v":184},null,{"$f":"IF($AG$478=0,0,$AG$478)","v":168},null,{"$f":"IF($AG$541=0,0,$AG$541)","v":176},null,{"$f":"IF($AG$604=0,0,$AG$604)","v":176},null,{"$f":"IF($AG$667=0,0,$AG$667)","v":168},null,{"$f":"IF($AG$730=0,0,$AG$730)","v":184},null,{"$f":"SUM(G356:AD356)","v":2096}]
[{"$f":"$A$42","v":"Produktive Stunden"},{"$f":"$B$42","v":"06.00 - 20.00 Uhr"},null,null,null,null,{"$f":"IF($AG$32=0,0,$AG$32)","v":0},null,{"$f":"IF($AG$95=0,0,$AG$95)","v":0},null,{"$f":"IF($AG$158=0,0,$AG$158)","v":0},null,{"$f":"IF($AG$221=0,0,$AG$221)","v":0},null,{"$f":"IF($AG$284=0,0,$AG$284)","v":0},null,{"$f":"IF($AG$347=0,0,$AG$347)","v":0},null,{"$f":"IF($AG$410=0,0,$AG$410)","v":0},null,{"$f":"IF($AG$473=0,0,$AG$473)","v":0},null,{"$f":"IF($AG$536=0,0,$AG$536)","v":0},null,{"$f":"IF($AG$599=0,0,$AG$599)","v":0},null,{"$f":"IF($AG$662=0,0,$AG$662)","v":0},null,{"$f":"IF($AG$725=0,0,$AG$725)","v":0},null,{"$f":"SUM(G357:AD357)","v":0}]
[null,{"$f":"$B$43","v":"Nacht-, Sonn-, Feiertagsarbeit"},null,null,null,null,{"$f":"IF($AG$33=0,0,$AG$33)","v":0},null,{"$f":"IF($AG$96=0,0,$AG$96)","v":0},null,{"$f":"IF($AG$159=0,0,$AG$159)","v":0},null,{"$f":"IF($AG$222=0,0,$AG$222)","v":0},null,{"$f":"IF($AG$285=0,0,$AG$285)","v":0},null,{"$f":"IF($AG$348=0,0,$AG$348)","v":0},null,{"$f":"IF($AG$411=0,0,$AG$411)","v":0},null,{"$f":"IF($AG$474=0,0,$AG$474)","v":0},null,{"$f":"IF($AG$537=0,0,$AG$537)","v":0},null,{"$f":"IF($AG$600=0,0,$AG$600)","v":0},null,{"$f":"IF($AG$663=0,0,$AG$663)","v":0},null,{"$f":"IF($AG$726=0,0,$AG$726)","v":0},null,{"$f":"SUM(G358:AD358)","v":0}]
[{"$f":"$A$44","v":"Zeitzuschläge"},{"$f":"$B$44","v":"aus Wochentotal"},null,null,null,null,{"$f":"IF($AG$25=0,0,$AG$25)","v":0},null,{"$f":"IF($AG$88=0,0,$AG$88)","v":0},null,{"$f":"IF($AG$151=0,0,$AG$151)","v":0},null,{"$f":"IF($AG$214=0,0,$AG$214)","v":0},null,{"$f":"IF($AG$277=0,0,$AG$277)","v":0},null,{"$f":"IF($AG$340=0,0,$AG$340)","v":0},null,{"$f":"IF($AG$403=0,0,$AG$403)","v":0},null,{"$f":"IF($AG$466=0,0,$AG$466)","v":0},null,{"$f":"IF($AG$529=0,0,$AG$529)","v":0},null,{"$f":"IF($AG$592=0,0,$AG$592)","v":0},null,{"$f":"IF($AG$655=0,0,$AG$655)","v":0},null,{"$f":"IF($AG$718=0,0,$AG$718)","v":0},null,{"$f":"SUM(G359:AD359)","v":0}]
[null,{"$f":"$B$45","v":"aus Nacht-, Sonn-, Feiertagsarbeiten"},null,null,null,null,{"$f":"IF($AJ$20=0,0,$AJ$20)","v":0},null,{"$f":"IF($AK$20=0,0,$AK$20)","v":0},null,{"$f":"IF($AL$20=0,0,$AL$20)","v":0},null,{"$f":"IF($AM$20=0,0,$AM$20)","v":0},null,{"$f":"IF($AN$20=0,0,$AN$20)","v":0},null,{"$f":"IF($AO$20=0,0,$AO$20)","v":0},null,{"$f":"IF($AP$20=0,0,$AP$20)","v":0},null,{"$f":"IF($AQ$20=0,0,$AQ$20)","v":0},null,{"$f":"IF($AR$20=0,0,$AR$20)","v":0},null,{"$f":"IF($AS$20=0,0,$AS$20)","v":0},null,{"$f":"IF($AT$20=0,0,$AT$20)","v":0},null,{"$f":"IF($AU$20=0,0,$AU$20)","v":0},null,{"$f":"SUM(G360:AD360)","v":0}]
[{"$f":"$A$46","v":"Unproduktive Stunden"}]
[{"$f":"$A$47","v":"   Absenzen, Kurzabsenzen Art. 11 GAV"},null,null,null,null,{"$f":"$F$47","v":"a"},{"$f":"IF($AJ$3=0,0,$AJ$3)","v":0},null,{"$f":"IF($AK$3=0,0,$AK$3)","v":0},null,{"$f":"IF($AL$3=0,0,$AL$3)","v":0},null,{"$f":"IF($AM$3=0,0,$AM$3)","v":0},null,{"$f":"IF($AN$3=0,0,$AN$3)","v":0},null,{"$f":"IF($AO$3=0,0,$AO$3)","v":0},null,{"$f":"IF($AP$3=0,0,$AP$3)","v":0},null,{"$f":"IF($AQ$3=0,0,$AQ$3)","v":0},null,{"$f":"IF($AR$3=0,0,$AR$3)","v":0},null,{"$f":"IF($AS$3=0,0,$AS$3)","v":0},null,{"$f":"IF(AT$3=0,0,$AT$3)","v":0},null,{"$f":"IF($AU$3=0,0,$AU$3)","v":0},null,{"$f":"IF($AV$3=0,0,$AV$3)","v":0}]
[{"$f":"$A$48","v":"   Ferien Art. 12.1 GAV"},null,null,null,null,{"$f":"$F$48","v":"f"},{"$f":"IF($AJ$4=0,0,$AJ$4)","v":0},null,{"$f":"IF($AK$4=0,0,$AK$4)","v":0},null,{"$f":"IF($AL$4=0,0,$AL$4)","v":0},null,{"$f":"IF($AM$4=0,0,$AM$4)","v":0},null,{"$f":"IF($AN$4=0,0,$AN$4)","v":0},null,{"$f":"IF($AO$4=0,0,$AO$4)","v":0},null,{"$f":"IF($AP$4=0,0,$AP$4)","v":0},null,{"$f":"IF($AQ$4=0,0,$AQ$4)","v":0},null,{"$f":"IF($AR$4=0,0,$AR$4)","v":0},null,{"$f":"IF($AS$4=0,0,$AS$4)","v":0},null,{"$f":"IF($AT$4=0,0,$AT$4)","v":0},null,{"$f":"IF($AU$4=0,0,$AU$4)","v":0},null,{"$f":"IF($AV$4=0,0,$AV$4)","v":0}]
[{"$f":"$A$49","v":"   Feiertage Art. 12.2 GAV"},null,{"$f":"IF($AJ$17=\"\",\"\",$AJ$17)","v":""},null,null,{"$f":"$F$49","v":"ft"},{"$f":"IF($AJ$15=0,0,$AJ$15)","v":0},null,{"$f":"IF($AK$15=0,0,$AK$15)","v":0},null,{"$f":"IF($AL$15=0,0,$AL$15)","v":0},null,{"$f":"IF($AM$15=0,0,$AM$15)","v":0},null,{"$f":"IF($AN$15=0,0,$AN$15)","v":0},null,{"$f":"IF($AO$15=0,0,$AO$15)","v":0},null,{"$f":"IF($AP$15=0,0,$AP$15)","v":0},null,{"$f":"IF($AQ$15=0,0,$AQ$15)","v":0},null,{"$f":"IF($AR$15=0,0,$AR$15)","v":0},null,{"$f":"IF($AS$15=0,0,$AS$15)","v":0},null,{"$f":"IF($AT$15=0,0,$AT$15)","v":0},null,{"$f":"IF($AU$15=0,0,$AU$15)","v":0},null,{"$f":"IF($AV$15=0,0,$AV$15)","v":0}]
[{"$f":"$A$50","v":"   Krankheit Art. 13 GAV"},null,null,null,null,{"$f":"$F$50","v":"k"},{"$f":"IF($AJ$5=0,0,$AJ$5)","v":0},null,{"$f":"IF($AK$5=0,0,$AK$5)","v":0},null,{"$f":"IF($AL$5=0,0,$AL$5)","v":0},null,{"$f":"IF($AM$5=0,0,$AM$5)","v":0},null,{"$f":"IF($AN$5=0,0,$AN$5)","v":0},null,{"$f":"IF($AO$5=0,0,$AO$5)","v":0},null,{"$f":"IF($AP$5=0,0,$AP$5)","v":0},null,{"$f":"IF($AQ$5=0,0,$AQ$5)","v":0},null,{"$f":"IF($AR$5=0,0,$AR$5)","v":0},null,{"$f":"IF($AS$5=0,0,$AS$5)","v":0},null,{"$f":"IF($AT$5=0,0,$AT$5)","v":0},null,{"$f":"IF($AU$5=0,0,$AU$5)","v":0},null,{"$f":"IF($AV$5=0,0,$AV$5)","v":0}]
[{"$f":"$A$51","v":"   Unfall Art. 14 GAV"},null,null,null,null,{"$f":"$F$51","v":"u"},{"$f":"IF($AJ$6=0,0,$AJ$6)","v":0},null,{"$f":"IF($AK$6=0,0,$AK$6)","v":0},null,{"$f":"IF($AL$6=0,0,$AL$6)","v":0},null,{"$f":"IF($AM$6=0,0,$AM$6)","v":0},null,{"$f":"IF($AN$6=0,0,$AN$6)","v":0},null,{"$f":"IF($AO$6=0,0,$AO$6)","v":0},null,{"$f":"IF($AP$6=0,0,$AP$6)","v":0},null,{"$f":"IF($AQ$6=0,0,$AQ$6)","v":0},null,{"$f":"IF($AR$6=0,0,$AR$6)","v":0},null,{"$f":"IF($AS$6=0,0,$AS$6)","v":0},null,{"$f":"IF($AT$6=0,0,$AT$6)","v":0},null,{"$f":"IF($AU$6=0,0,$AU$6)","v":0},null,{"$f":"IF($AV$6=0,0,$AV$6)","v":0}]
[{"$f":"$A$52","v":"   Schwangerschaft/Mutterschaft Art. 15 GAV"},null,null,null,null,{"$f":"$F$52","v":"s"},{"$f":"IF($AJ$7=0,0,$AJ$7)","v":0},null,{"$f":"IF($AK$7=0,0,$AK$7)","v":0},null,{"$f":"IF($AL$7=0,0,$AL$7)","v":0},null,{"$f":"IF($AM$7=0,0,$AM$7)","v":0},null,{"$f":"IF($AN$7=0,0,$AN$7)","v":0},null,{"$f":"IF($AO$7=0,0,$AO$7)","v":0},null,{"$f":"IF($AP$7=0,0,$AP$7)","v":0},null,{"$f":"IF($AQ$7=0,0,$AQ$7)","v":0},null,{"$f":"IF($AR$7=0,0,$AR$7)","v":0},null,{"$f":"IF($AS$7=0,0,$AS$7)","v":0},null,{"$f":"IF($AT$7=0,0,$AT$7)","v":0},null,{"$f":"IF($AU$7=0,0,$AU$7)","v":0},null,{"$f":"IF($AV$7=0,0,$AV$7)","v":0}]
[{"$f":"$A$53","v":"   Militär/Beförderung/Zivilschutz Art. 16 GAV"},null,null,null,null,{"$f":"$F$53","v":"m"},{"$f":"IF($AJ$8=0,0,$AJ$8)","v":0},null,{"$f":"IF($AK$8=0,0,$AK$8)","v":0},null,{"$f":"IF($AL$8=0,0,$AL$8)","v":0},null,{"$f":"IF($AM$8=0,0,$AM$8)","v":0},null,{"$f":"IF($AN$8=0,0,$AN$8)","v":0},null,{"$f":"IF($AO$8=0,0,$AO$8)","v":0},null,{"$f":"IF($AP$8=0,0,$AP$8)","v":0},null,{"$f":"IF($AQ$8=0,0,$AQ$8)","v":0},null,{"$f":"IF($AR$8=0,0,$AR$8)","v":0},null,{"$f":"IF($AS$8=0,0,$AS$8)","v":0},null,{"$f":"IF($AT$8=0,0,$AT$8)","v":0},null,{"$f":"IF($AU$8=0,0,$AU$8)","v":0},null,{"$f":"IF($AV$8=0,0,$AV$8)","v":0}]
[{"$f":"$A$54","v":"   Kurzarbeit und Schlechtwetterausfälle"},null,null,null,null,{"$f":"$F$54","v":"ka"},{"$f":"IF($AJ$11=0,0,$AJ$11)","v":0},null,{"$f":"IF($AK$11=0,0,$AK$11)","v":0},null,{"$f":"IF($AL$11=0,0,$AL$11)","v":0},null,{"$f":"IF($AM$11=0,0,$AM$11)","v":0},null,{"$f":"IF($AN$11=0,0,$AN$11)","v":0},null,{"$f":"IF($AO$11=0,0,$AO$11)","v":0},null,{"$f":"IF($AP$11=0,0,$AP$11)","v":0},null,{"$f":"IF($AQ$11=0,0,$AQ$11)","v":0},null,{"$f":"IF($AR$11=0,0,$AR$11)","v":0},null,{"$f":"IF($AS$11=0,0,$AS$11)","v":0},null,{"$f":"IF($AT$11=0,0,$AT$11)","v":0},null,{"$f":"IF($AU$11=0,0,$AU$11)","v":0},null,{"$f":"IF($AV$11=0,0,$AV$11)","v":0}]
[{"$f":"$A$55","v":"   Berufsschule"},null,null,null,null,{"$f":"$F$55","v":"bs"},{"$f":"IF($AJ$9=0,0,$AJ$9)","v":0},null,{"$f":"IF($AK$9=0,0,$AK$9)","v":0},null,{"$f":"IF($AL$9=0,0,$AL$9)","v":0},null,{"$f":"IF($AM$9=0,0,$AM$9)","v":0},null,{"$f":"IF($AN$9=0,0,$AN$9)","v":0},null,{"$f":"IF($AO$9=0,0,$AO$9)","v":0},null,{"$f":"IF($AP$9=0,0,$AP$9)","v":0},null,{"$f":"IF($AQ$9=0,0,$AQ$9)","v":0},null,{"$f":"IF($AR$9=0,0,$AR$9)","v":0},null,{"$f":"IF($AS$9=0,0,$AS$9)","v":0},null,{"$f":"IF($AT$9=0,0,$AT$9)","v":0},null,{"$f":"IF($AU$9=0,0,$AU$9)","v":0},null,{"$f":"IF($AV$9=0,0,$AV$9)","v":0}]
[{"$f":"$A$56","v":"   Kurse"},null,null,null,null,{"$f":"$F$56","v":"ku"},{"$f":"IF($AJ$10=0,0,$AJ$10)","v":0},null,{"$f":"IF($AK$10=0,0,$AK$10)","v":0},null,{"$f":"IF($AL$10=0,0,$AL$10)","v":0},null,{"$f":"IF($AM$10=0,0,$AM$10)","v":0},null,{"$f":"IF($AN$10=0,0,$AN$10)","v":0},null,{"$f":"IF($AO$10=0,0,$AO$10)","v":0},null,{"$f":"IF($AP$10=0,0,$AP$10)","v":0},null,{"$f":"IF($AQ$10=0,0,$AQ$10)","v":0},null,{"$f":"IF($AR$10=0,0,$AR$10)","v":0},null,{"$f":"IF($AS$10=0,0,$AS$10)","v":0},null,{"$f":"IF($AT$10=0,0,$AT$10)","v":0},null,{"$f":"IF($AU$10=0,0,$AU$10)","v":0},null,{"$f":"IF($AV$10=0,0,$AV$10)","v":0}]
[{"$f":"$A$57","v":"Kompensations-Std"},{"$f":"$B$57","v":"aus Vorjahr"},null,null,null,{"$f":"$F$57","v":"kv"},{"$f":"IF($AJ$12=0,0,$AJ$12)","v":0},null,{"$f":"IF($AK$12=0,0,$AK$12)","v":0},null,{"$f":"IF($AL$12=0,0,$AL$12)","v":0},null,{"$f":"IF($AM$12=0,0,$AM$12)","v":0},null,{"$f":"IF($AN$12=0,0,$AN$12)","v":0},null,{"$f":"IF($AO$12=0,0,$AO$12)","v":0},null,{"$f":"IF($AP$12=0,0,$AP$12)","v":0},null,{"$f":"IF($AQ$12=0,0,$AQ$12)","v":0},null,{"$f":"IF($AR$12=0,0,$AR$12)","v":0},null,null,null,null,null,null,null,{"$f":"IF($AV$12=0,0,$AV$12)","v":0}]
[null,{"$f":"$B$58","v":"aus laufendem Jahr (Kontrolle)"},null,null,null,{"$f":"$F$58","v":"kj"},{"$f":"IF($AJ$14=0,0,$AJ$14)","v":0},null,{"$f":"IF($AK$14=0,0,$AK$14)","v":0},null,{"$f":"IF($AL$14=0,0,$AL$14)","v":0},null,{"$f":"IF($AM$14=0,0,$AM$14)","v":0},null,{"$f":"IF($AN$14=0,0,$AN$14)","v":0},null,{"$f":"IF($AO$14=0,0,$AO$14)","v":0},null,{"$f":"IF($AP$14=0,0,$AP$14)","v":0},null,{"$f":"IF($AQ$14=0,0,$AQ$14)","v":0},null,{"$f":"IF($AR$14=0,0,$AR$14)","v":0},null,{"$f":"IF($AS$14=0,0,$AS$14)","v":0},null,{"$f":"IF($AT$14=0,0,$AT$14)","v":0},null,{"$f":"IF($AU$14=0,0,$AU$14)","v":0},null,{"$f":"IF($AV$14=0,0,$AV$14)","v":0}]
[{"$f":"$A$59","v":"Auszahlung"},{"$f":"$B$59","v":"Stunden Vorjahressaldo"},null,null,null,null,{"$f":"IF($AJ$18=0,0,$AJ$18)","v":0},null,{"$f":"IF($AK$18=0,0,$AK$18)","v":0},null,{"$f":"IF($AL$18=0,0,$AL$18)","v":0},null,{"$f":"IF($AM$18=0,0,$AM$18)","v":0},null,{"$f":"IF($AN$18=0,0,$AN$18)","v":0},null,{"$f":"IF($AO$18=0,0,$AO$18)","v":0},null,{"$f":"IF($AP$18=0,0,$AP$18)","v":0},null,{"$f":"IF($AQ$18=0,0,$AQ$18)","v":0},null,{"$f":"IF($AR$18=0,0,$AR$18)","v":0},null,null,null,null,null,null,null,{"$f":"IF($AV$18=0,0,$AV$18)","v":0}]
[{"$f":"$A$60","v":"Differenz"},{"$f":"$B$60","v":"nach Kompensation und Auszahlung"},null,null,null,null,{"$f":"IF(ROUND($P$4,3)=0,0,$P$4-SUM(G372+G374))","v":0},null,{"$f":"IF(ROUND(G375,3)=0,0,G375-(SUM(I374+I372)))","v":0},null,{"$f":"IF(ROUND(I375,3)=0,0,I375-(SUM(K374+K372)))","v":0},null,{"$f":"IF(ROUND(K375,3)=0,0,K375-(SUM(M374+M372)))","v":0},null,{"$f":"IF(ROUND(M375,3)=0,0,M375-(SUM(O374+O372)))","v":0},null,{"$f":"IF(ROUND(O375,3)=0,0,O375-(SUM(Q374+Q372)))","v":0},null,{"$f":"IF(ROUND(Q375,3)=0,0,Q375-(SUM(S374+S372)))","v":0},null,{"$f":"IF(ROUND(S375,3)=0,0,S375-(SUM(U374+U372)))","v":0},null,{"$f":"IF(ROUND(U375,3)=0,0,U375-(SUM(W374+W372)))","v":0},null,{"$f":"$Y$60","v":""}]
[{"$f":"$A$61","v":"Auszahlung"},{"$f":"$B$61","v":"Stunden laufendes Jahr"},null,null,null,null,{"$f":"IF($AJ$19=0,0,$AJ$19)","v":0},null,{"$f":"IF($AK$19=0,0,$AK$19)","v":0},null,{"$f":"IF($AL$19=0,0,$AL$19)","v":0},null,{"$f":"IF($AM$19=0,0,$AM$19)","v":0},null,{"$f":"IF($AN$19=0,0,$AN$19)","v":0},null,{"$f":"IF($AO$19=0,0,$AO$19)","v":0},null,{"$f":"IF($AP$19=0,0,$AP$19)","v":0},null,{"$f":"IF($AQ$19=0,0,$AQ$19)","v":0},null,{"$f":"IF($AR$19=0,0,$AR$19)","v":0},null,{"$f":"IF($AS$19=0,0,$AS$19)","v":0},null,{"$f":"IF($AT$19=0,0,$AT$19)","v":0},null,{"$f":"IF($AU$19=0,0,$AU$19)","v":0},null,{"$f":"IF($AV$19=0,0,$AV$19)","v":0}]
[{"$f":"$A$62","v":"Fehlstunden"},{"$f":"$B$62","v":"laufendes Jahr (Kontrolle)"},null,null,null,{"$f":"$F$62","v":"fe"},{"$f":"IF($AJ$13=0,0,$AJ$13)","v":0},null,{"$f":"IF($AK$13=0,0,$AK$13)","v":0},null,{"$f":"IF($AL$13=0,0,$AL$13)","v":0},null,{"$f":"IF($AM$13=0,0,$AM$13)","v":0},null,{"$f":"IF($AN$13=0,0,$AN$13)","v":0},null,{"$f":"IF($AO$13=0,0,$AO$13)","v":0},null,{"$f":"IF($AP$13=0,0,$AP$13)","v":0},null,{"$f":"IF($AQ$13=0,0,$AQ$13)","v":0},null,{"$f":"IF($AR$13=0,0,$AR$13)","v":0},null,{"$f":"IF($AS$13=0,0,$AS$13)","v":0},null,{"$f":"IF($AT$13=0,0,$AT$13)","v":0},null,{"$f":"IF($AU$13=0,0,$AU$13)","v":0},null,{"$f":"IF($AV$13=0,0,$AV$13)","v":0}]
[{"$f":"$A$63","v":"Total inkl. Zeitzuschläge"},{"$f":"$B$63","v":"Stunden produktiv und unproduktiv"},null,null,null,null,{"$f":"IF($AG$36=0,0,$AG$36)","v":0},null,{"$f":"IF($AG$99=0,0,$AG$99)","v":0},null,{"$f":"IF($AG$162=0,0,$AG$162)","v":0},null,{"$f":"IF($AG$225=0,0,$AG$225)","v":0},null,{"$f":"IF($AG$288=0,0,$AG$288)","v":0},null,{"$f":"IF($AG$351=0,0,$AG$351)","v":0},null,{"$f":"IF($AG$414=0,0,$AG$414)","v":0},null,{"$f":"IF($AG$477=0,0,$AG$477)","v":0},null,{"$f":"IF($AG$540=0,0,$AG$540)","v":0},null,{"$f":"IF($AG$603=0,0,$AG$603)","v":0},null,{"$f":"IF($AG$666=0,0,$AG$666)","v":0},null,{"$f":"IF($AG$729=0,0,$AG$729)","v":0},null,{"$f":"SUM($G$63:$AD$63)","v":0}]
[{"$f":"$A$64","v":"Vergleich"},{"$f":"$B$64","v":"Stunden zu Soll-Stunden (inkl. allfälli-\nge Minusstunden Vorjahr)"},null,null,null,null,{"$f":"$G$64","v":-184},null,{"$f":"$I$64","v":-160},null,{"$f":"$K$64","v":-176},null,{"$f":"$M$64","v":-176},null,{"$f":"$O$64","v":-168},null,{"$f":"$Q$64","v":-176},null,{"$f":"$S$64","v":-184},null,{"$f":"$U$64","v":-168},null,{"$f":"$W$64","v":-176},null,{"$f":"$Y$64","v":-176},null,{"$f":"$AA$64","v":-168},null,{"$f":"$AC$64","v":-184},null,{"$f":"$AE$64","v":-2096}]
[null,{"$f":"$B$65","v":"Stunden zu Soll-Stunden (kumuliert)"},null,null,null,null,{"$f":"$G$65","v":-184},null,{"$f":"$I$65","v":-344},null,{"$f":"$K$65","v":-520},null,{"$f":"$M$65","v":-696},null,{"$f":"$O$65","v":-864},null,{"$f":"$Q$65","v":-1040},null,{"$f":"$S$65","v":-1224},null,{"$f":"$U$65","v":-1392},null,{"$f":"$W$65","v":-1568},null,{"$f":"$Y$65","v":-1744},null,{"$f":"$AA$65","v":-1912},null,{"$f":"$AC$65","v":-2096},null,{"$f":"$AE$65","v":0}]
[{"$f":"$A$66","v":"Ferienkontrolle"},{"$f":"$B$66","v":"Ferienguthaben Vorjahr"},null,null,null,null,{"$f":"IF($AA$4=0,0,$AA$4)","v":0},null,{"$f":"$I$66","v":"Ferienguthaben nach \nArt. 12.1 GAV"},null,null,null,{"$f":"IF($AA$5=0,0,$AA$5)","v":0},null,{"$f":"$O$66","v":"Ferienguthaben total"},null,null,null,{"$f":"SUM(G381+M381)","v":0},null,{"$f":"$U$66","v":"Ferien bezogen"},null,null,null,{"$f":"IF($AV$4=0,0,$AV$4)","v":0},null,{"$f":"$AA$66","v":"Aktuelles Ferienguthaben"},null,null,null,{"$f":"IF(S381=0,0,S381-Y381)","v":0}]
[]
[]
[{"$f":"$A$3","v":"Mitarbeiter/In"},{"$f":"IF($B$3=\"\",\"\",$B$3)","v":"Muster Peter"},null,null,null,null,null,null,null,null,null,null,null,null,null,null,null,null,null,null,null,null,null,null,null,null,null,null,null,null,null,{"$f":"AF3","v":0}]
[{"$f":"$A$4","v":"Anstellung %"},100,null,{"$f":"Labels!B95","v":"im Juli"}]
[{"$f":"$A$5","v":"Saldo für das Jahr"},null,null,{"$f":"IF($AE$64=0,0,$AE$64)","v":-2096}]
[{"$f":"TEXT(DATE(YEAR(AP28),MONTH(AP28)+6,1),\"MMMM\"&Labels!B13)","v":"Juli"},{"$f":"$B$9","v":"Saldo Monat + / -"},null,null,null,{"$f":"(AG390-(SUM(AG391:AG405)-AE412))*-1","v":-184},null,null,null,null,{"$f":"$K$9","v":" = "},{"$f":"$L$9","v":"Gelbe Felder müssen ausgefüllt werden (die übrigen werden automatisch berechnet)"}]
[{"$f":"$A$10","v":"Tag"},{"$f":"AE325+1","v":"2020-07-01"},{"$f":"B388+1","v":"2020-07-02"},"2020-07-03","2020-07-04","2020-07-05","2020-07-06","2020-07-07","2020-07-08","2020-07-09","2020-07-10","2020-07-11","2020-07-12","2020-07-13","2020-07-14","2020-07-15","2020-07-16","2020-07-17","2020-07-18","2020-07-19","2020-07-20","2020-07-21","2020-07-22","2020-07-23","2020-07-24","2020-07-25","2020-07-26","2020-07-27","2020-07-28","2020-07-29","2020-07-30","2020-07-31",{"$f":"COUNT(B390:AF390)&\" \"&Labels!$B$63","v":"23 Tage"}]
[{"$f":"$A$11","v":"Kalenderwoche"},{"$f":"IF(B388=\"\",\"\",TRUNC((B388-DATE(YEAR(B388+3-MOD(B388-2,7)),1,MOD(B388-2,7)-9))/7))","v":27},27,27,27,27,28,28,28,28,28,28,28,29,29,29,29,29,29,29,30,30,30,30,30,30,30,31,31,31,31,31]
[{"$f":"$A$12","v":"Sollstunden"},{"$f":"IF(MOD(B388,7)>=2,$J$7*$B$385%,\"\")","v":8},8,8,"","",8,8,8,8,8,"","",8,8,8,8,8,"","",8,8,8,8,8,"","",8,8,8,8,8,{"$f":"SUM(B390:AF390)","v":184}]
[{"$f":"$A$13","v":"Absenz in Std"},{"$f":"B957","v":0},{"$f":"C957","v":0},0,0,0,0,0,0,0,0,0,0,0,0,0,0,0,0,0,0,0,0,0,0,0,0,0,0,0,0,0,{"$f":"SUM(AP3:AP12)","v":0}]
[{"$f":"$A$14","v":"Code"},{"$f":"IF(B957<>0,IF(MAX(B944:B956)<B957,Labels!$B$163,INDEX($AH$944:$AH$956,MATCH(MAX(B944:B956),B944:B956,0))),\"\")","v":""},{"$f":"IF(C957<>0,IF(MAX(C944:C956)<C957,Labels!$B$163,INDEX($AH$944:$AH$956,MATCH(MAX(C944:C956),C944:C956,0))),\"\")","v":""},{"$f":"IF(D957<>0,IF(MAX(D944:D956)<D957,Labels!$B$163,INDEX($AH$944:$AH$956,MATCH(MAX(D944:D956),D944:D956,0))),\"\")","v":""},{"$f":"IF(E957<>0,IF(MAX(E944:E956)<E957,Labels!$B$163,INDEX($AH$944:$AH$956,MATCH(MAX(E944:E956),E944:E956,0))),\"\")","v":""},{"$f":"IF(F957<>0,IF(MAX(F944:F956)<F957,Labels!$B$163,INDEX($AH$944:$AH$956,MATCH(MAX(F944:F956),F944:F956,0))),\"\")","v":""},{"$f":"IF(G957<>0,IF(MAX(G944:G956)<G957,Labels!$B$163,INDEX($AH$944:$AH$956,MATCH(MAX(G944:G956),G944:G956,0))),\"\")","v":""},{"$f":"IF(H957<>0,IF(MAX(H944:H956)<H957,Labels!$B$163,INDEX($AH$944:$AH$956,MATCH(MAX(H944:H956),H944:H956,0))),\"\")","v":""},{"$f":"IF(I957<>0,IF(MAX(I944:I956)<I957,Labels!$B$163,INDEX($AH$944:$AH$956,MATCH(MAX(I944:I956),I944:I956,0))),\"\")","v":""},{"$f":"IF(J957<>0,IF(MAX(J944:J956)<J957,Labels!$B$163,INDEX($AH$944:$AH$956,MATCH(MAX(J944:J956),J944:J956,0))),\"\")","v":""},{"$f":"IF(K957<>0,IF(MAX(K944:K956)<K957,Labels!$B$163,INDEX($AH$944:$AH$956,MATCH(MAX(K944:K956),K944:K956,0))),\"\")","v":""},{"$f":"IF(L957<>0,IF(MAX(L944:L956)<L957,Labels!$B$163,INDEX($AH$944:$AH$956,MATCH(MAX(L944:L956),L944:L956,0))),\"\")","v":""},{"$f":"IF(M957<>0,IF(MAX(M944:M956)<M957,Labels!$B$163,INDEX($AH$944:$AH$956,MATCH(MAX(M944:M956),M944:M956,0))),\"\")","v":""},{"$f":"IF(N957<>0,IF(MAX(N944:N956)<N957,Labels!$B$163,INDEX($AH$944:$AH$956,MATCH(MAX(N944:N956),N944:N956,0))),\"\")","v":""},{"$f":"IF(O957<>0,IF(MAX(O944:O956)<O957,Labels!$B$163,INDEX($AH$944:$AH$956,MATCH(MAX(O944:O956),O944:O956,0))),\"\")","v":""},{"$f":"IF(P957<>0,IF(MAX(P944:P956)<P957,Labels!$B$163,INDEX($AH$944:$AH$956,MATCH(MAX(P944:P956),P944:P956,0))),\"\")","v":""},{"$f":"IF(Q957<>0,IF(MAX(Q944:Q956)<Q957,Labels!$B$163,INDEX($AH$944:$AH$956,MATCH(MAX(Q944:Q956),Q944:Q956,0))),\"\")","v":""},{"$f":"IF(R957<>0,IF(MAX(R944:R956)<R957,Labels!$B$163,INDEX($AH$944:$AH$956,MATCH(MAX(R944:R956),R944:R956,0))),\"\")","v":""},{"$f":"IF(S957<>0,IF(MAX(S944:S956)<S957,Labels!$B$163,INDEX($AH$944:$AH$956,MATCH(MAX(S944:S956),S944:S956,0))),\"\")","v":""},{"$f":"IF(T957<>0,IF(MAX(T944:T956)<T957,Labels!$B$163,INDEX($AH$944:$AH$956,MATCH(MAX(T944:T956),T944:T956,0))),\"\")","v":""},{"$f":"IF(U957<>0,IF(MAX(U944:U956)<U957,Labels!$B$163,INDEX($AH$944:$AH$956,MATCH(MAX(U944:U956),U944:U956,0))),\"\")","v":""},{"$f":"IF(V957<>0,IF(MAX(V944:V956)<V957,Labels!$B$163,INDEX($AH$944:$AH$956,MATCH(MAX(V944:V956),V944:V956,0))),\"\")","v":""},{"$f":"IF(W957<>0,IF(MAX(W944:W956)<W957,Labels!$B$163,INDEX($AH$944:$AH$956,MATCH(MAX(W944:W956),W944:W956,0))),\"\")","v":""},{"$f":"IF(X957<>0,IF(MAX(X944:X956)<X957,Labels!$B$163,INDEX($AH$944:$AH$956,MATCH(MAX(X944:X956),X944:X956,0))),\"\")","v":""},{"$f":"IF(Y957<>0,IF(MAX(Y944:Y956)<Y957,Labels!$B$163,INDEX($AH$944:$AH$956,MATCH(MAX(Y944:Y956),Y944:Y956,0))),\"\")","v":""},{"$f":"IF(Z957<>0,IF(MAX(Z944:Z956)<Z957,Labels!$B$163,INDEX($AH$944:$AH$956,MATCH(MAX(Z944:Z956),Z944:Z956,0))),\"\")","v":""},{"$f":"IF(AA957<>0,IF(MAX(AA944:AA956)<AA957,Labels!$B$163,INDEX($AH$944:$AH$956,MATCH(MAX(AA944:AA956),AA944:AA956,0))),\"\")","v":""},{"$f":"IF(AB957<>0,IF(MAX(AB944:AB956)<AB957,Labels!$B$163,INDEX($AH$944:$AH$956,MATCH(MAX(AB944:AB956),AB944:AB956,0))),\"\")","v":""},{"$f":"IF(AC957<>0,IF(MAX(AC944:AC956)<AC957,Labels!$B$163,INDEX($AH$944:$AH$956,MATCH(MAX(AC944:AC956),AC944:AC956,0))),\"\")","v":""},{"$f":"IF(AD957<>0,IF(MAX(AD944:AD956)<AD957,Labels!$B$163,INDEX($AH$944:$AH$956,MATCH(MAX(AD944:AD956),AD944:AD956,0))),\"\")","v":""},{"$f":"IF(AE957<>0,IF(MAX(AE944:AE956)<AE957,Labels!$B$163,INDEX($AH$944:$AH$956,MATCH(MAX(AE944:AE956),AE944:AE956,0))),\"\")","v":""},{"$f":"IF(AF957<>0,IF(MAX(AF944:AF956)<AF957,Labels!$B$163,INDEX($AH$944:$AH$956,MATCH(MAX(AF944:AF956),AF944:AF956,0))),\"\")","v":""}]
[{"$f":"$A$15","v":"00.00-06.00h"},null,null,null,null,null,null,null,null,null,null,null,null,null,null,null,null,null,null,null,null,null,null,null,null,null,null,null,null,null,null,null,{"$f":"SUM(B393:AF393)","v":0}]
[{"$f":"$A$16","v":"06.00-20.00h"},null,null,null,null,null,null,null,null,null,null,null,null,null,null,null,null,null,null,null,null,null,null,null,null,null,null,null,null,null,null,null,{"$f":"SUM(B394:AF394)","v":0}]
[{"$f":"$A$17","v":"20.00-24.00h"},null,null,null,null,null,null,null,null,null,null,null,null,null,null,null,null,null,null,null,null,null,null,null,null,null,null,null,null,null,null,null,{"$f":"SUM(B395:AF395)","v":0},"[0]"]
[{"$f":"$A$18","v":"Feiertag \"ft\""},{"$f":"IF(WEEKDAY(B388,2)<=6,IF(KALENDER!E15=\"x\",Labels!$B$118,\"\"),\"\")","v":""},{"$f":"IF(WEEKDAY(C388,2)<=6,IF(KALENDER!F15=\"x\",Labels!$B$118,\"\"),\"\")","v":""},{"$f":"IF(WEEKDAY(D388,2)<=6,IF(KALENDER!G15=\"x\",Labels!$B$118,\"\"),\"\")","v":""},{"$f":"IF(WEEKDAY(E388,2)<=6,IF(KALENDER!H15=\"x\",Labels!$B$118,\"\"),\"\")","v":""},{"$f":"IF(WEEKDAY(F388,2)<=6,IF(KALENDER!I15=\"x\",Labels!$B$118,\"\"),\"\")","v":""},{"$f":"IF(WEEKDAY(G388,2)<=6,IF(KALENDER!J15=\"x\",Labels!$B$118,\"\"),\"\")","v":""},{"$f":"IF(WEEKDAY(H388,2)<=6,IF(KALENDER!K15=\"x\",Labels!$B$118,\"\"),\"\")","v":""},{"$f":"IF(WEEKDAY(I388,2)<=6,IF(KALENDER!L15=\"x\",Labels!$B$118,\"\"),\"\")","v":""},{"$f":"IF(WEEKDAY(J388,2)<=6,IF(KALENDER!M15=\"x\",Labels!$B$118,\"\"),\"\")","v":""},{"$f":"IF(WEEKDAY(K388,2)<=6,IF(KALENDER!N15=\"x\",Labels!$B$118,\"\"),\"\")","v":""},{"$f":"IF(WEEKDAY(L388,2)<=6,IF(KALENDER!O15=\"x\",Labels!$B$118,\"\"),\"\")","v":""},{"$f":"IF(WEEKDAY(M388,2)<=6,IF(KALENDER!P15=\"x\",Labels!$B$118,\"\"),\"\")","v":""},{"$f":"IF(WEEKDAY(N388,2)<=6,IF(KALENDER!Q15=\"x\",Labels!$B$118,\"\"),\"\")","v":""},{"$f":"IF(WEEKDAY(O388,2)<=6,IF(KALENDER!R15=\"x\",Labels!$B$118,\"\"),\"\")","v":""},{"$f":"IF(WEEKDAY(P388,2)<=6,IF(KALENDER!S15=\"x\",Labels!$B$118,\"\"),\"\")","v":""},{"$f":"IF(WEEKDAY(Q388,2)<=6,IF(KALENDER!T15=\"x\",Labels!$B$118,\"\"),\"\")","v":""},{"$f":"IF(WEEKDAY(R388,2)<=6,IF(KALENDER!U15=\"x\",Labels!$B$118,\"\"),\"\")","v":""},{"$f":"IF(WEEKDAY(S388,2)<=6,IF(KALENDER!V15=\"x\",Labels!$B$118,\"\"),\"\")","v":""},{"$f":"IF(WEEKDAY(T388,2)<=6,IF(KALENDER!W15=\"x\",Labels!$B$118,\"\"),\"\")","v":""},{"$f":"IF(WEEKDAY(U388,2)<=6,IF(KALENDER!X15=\"x\",Labels!$B$118,\"\"),\"\")","v":""},{"$f":"IF(WEEKDAY(V388,2)<=6,IF(KALENDER!Y15=\"x\",Labels!$B$118,\"\"),\"\")","v":""},{"$f":"IF(WEEKDAY(W388,2)<=6,IF(KALENDER!Z15=\"x\",Labels!$B$118,\"\"),\"\")","v":""},{"$f":"IF(WEEKDAY(X388,2)<=6,IF(KALENDER!AA15=\"x\",Labels!$B$118,\"\"),\"\")","v":""},{"$f":"IF(WEEKDAY(Y388,2)<=6,IF(KALENDER!AB15=\"x\",Labels!$B$118,\"\"),\"\")","v":""},{"$f":"IF(WEEKDAY(Z388,2)<=6,IF(KALENDER!AC15=\"x\",Labels!$B$118,\"\"),\"\")","v":""},{"$f":"IF(WEEKDAY(AA388,2)<=6,IF(KALENDER!AD15=\"x\",Labels!$B$118,\"\"),\"\")","v":""},{"$f":"IF(WEEKDAY(AB388,2)<=6,IF(KALENDER!AE15=\"x\",Labels!$B$118,\"\"),\"\")","v":""},{"$f":"IF(WEEKDAY(AC388,2)<=6,IF(KALENDER!AF15=\"x\",Labels!$B$118,\"\"),\"\")","v":""},{"$f":"IF(WEEKDAY(AD388,2)<=6,IF(KALENDER!AG15=\"x\",Labels!$B$118,\"\"),\"\")","v":""},{"$f":"IF(WEEKDAY(AE388,2)<=6,IF(KALENDER!AH15=\"x\",Labels!$B$118,\"\"),\"\")","v":""},{"$f":"IF(WEEKDAY(AF388,2)<=6,IF(KALENDER!AI15=\"x\",Labels!$B$118,\"\"),\"\")","v":""}]
[{"$f":"$A$19","v":"Gutschrift \"ft\""},{"$f":"IF(AND(B396=Labels!$B$118,WEEKDAY(B388,2)<6),$J$7*$B$385%,\"\")","v":""},{"$f":"IF(AND(C396=Labels!$B$118,WEEKDAY(C388,2)<6),$J$7*$B$385%,\"\")","v":""},{"$f":"IF(AND(D396=Labels!$B$118,WEEKDAY(D388,2)<6),$J$7*$B$385%,\"\")","v":""},{"$f":"IF(AND(E396=Labels!$B$118,WEEKDAY(E388,2)<6),$J$7*$B$385%,\"\")","v":""},{"$f":"IF(AND(F396=Labels!$B$118,WEEKDAY(F388,2)<6),$J$7*$B$385%,\"\")","v":""},{"$f":"IF(AND(G396=Labels!$B$118,WEEKDAY(G388,2)<6),$J$7*$B$385%,\"\")","v":""},{"$f":"IF(AND(H396=Labels!$B$118,WEEKDAY(H388,2)<6),$J$7*$B$385%,\"\")","v":""},{"$f":"IF(AND(I396=Labels!$B$118,WEEKDAY(I388,2)<6),$J$7*$B$385%,\"\")","v":""},{"$f":"IF(AND(J396=Labels!$B$118,WEEKDAY(J388,2)<6),$J$7*$B$385%,\"\")","v":""},{"$f":"IF(AND(K396=Labels!$B$118,WEEKDAY(K388,2)<6),$J$7*$B$385%,\"\")","v":""},{"$f":"IF(AND(L396=Labels!$B$118,WEEKDAY(L388,2)<6),$J$7*$B$385%,\"\")","v":""},{"$f":"IF(AND(M396=Labels!$B$118,WEEKDAY(M388,2)<6),$J$7*$B$385%,\"\")","v":""},{"$f":"IF(AND(N396=Labels!$B$118,WEEKDAY(N388,2)<6),$J$7*$B$385%,\"\")","v":""},{"$f":"IF(AND(O396=Labels!$B$118,WEEKDAY(O388,2)<6),$J$7*$B$385%,\"\")","v":""},{"$f":"IF(AND(P396=Labels!$B$118,WEEKDAY(P388,2)<6),$J$7*$B$385%,\"\")","v":""},{"$f":"IF(AND(Q396=Labels!$B$118,WEEKDAY(Q388,2)<6),$J$7*$B$385%,\"\")","v":""},{"$f":"IF(AND(R396=Labels!$B$118,WEEKDAY(R388,2)<6),$J$7*$B$385%,\"\")","v":""},{"$f":"IF(AND(S396=Labels!$B$118,WEEKDAY(S388,2)<6),$J$7*$B$385%,\"\")","v":""},{"$f":"IF(AND(T396=Labels!$B$118,WEEKDAY(T388,2)<6),$J$7*$B$385%,\"\")","v":""},{"$f":"IF(AND(U396=Labels!$B$118,WEEKDAY(U388,2)<6),$J$7*$B$385%,\"\")","v":""},{"$f":"IF(AND(V396=Labels!$B$118,WEEKDAY(V388,2)<6),$J$7*$B$385%,\"\")","v":""},{"$f":"IF(AND(W396=Labels!$B$118,WEEKDAY(W388,2)<6),$J$7*$B$385%,\"\")","v":""},{"$f":"IF(AND(X396=Labels!$B$118,WEEKDAY(X388,2)<6),$J$7*$B$385%,\"\")","v":""},{"$f":"IF(AND(Y396=Labels!$B$118,WEEKDAY(Y388,2)<6),$J$7*$B$385%,\"\")","v":""},{"$f":"IF(AND(Z396=Labels!$B$118,WEEKDAY(Z388,2)<6),$J$7*$B$385%,\"\")","v":""},{"$f":"IF(AND(AA396=Labels!$B$118,WEEKDAY(AA388,2)<6),$J$7*$B$385%,\"\")","v":""},{"$f":"IF(AND(AB396=Labels!$B$118,WEEKDAY(AB388,2)<6),$J$7*$B$385%,\"\")","v":""},{"$f":"IF(AND(AC396=Labels!$B$118,WEEKDAY(AC388,2)<6),$J$7*$B$385%,\"\")","v":""},{"$f":"IF(AND(AD396=Labels!$B$118,WEEKDAY(AD388,2)<6),$J$7*$B$385%,\"\")","v":""},{"$f":"IF(AND(AE396=Labels!$B$118,WEEKDAY(AE388,2)<6),$J$7*$B$385%,\"\")","v":""},{"$f":"IF(AND(AF396=Labels!$B$118,WEEKDAY(AF388,2)<6),$J$7*$B$385%,\"\")","v":""},{"$f":"SUM(B397:AF397)","v":0}]
[{"$f":"$A$20","v":"Tagestotal"},{"$f":"SUM(B393:B395)","v":0},{"$f":"SUM(C393:C395)","v":0},0,0,0,0,0,0,0,0,0,0,0,0,0,0,0,0,0,0,0,0,0,0,0,0,0,0,0,0,0]
[{"$f":"$A$21","v":"."}]
[{"$f":"$A$22","v":"."}]
[{"$f":"$A$23","v":"Monatsübergang"},{"$f":"IF(WEEKDAY(B388)=1,TEXT(B388-1,\"MMM\"&Labels!B13),\"\")","v":""},null,null,null,null,null,null,null,null,null,null,null,null,null,null,null,null,null,null,null,null,null,null,null,null,null,null,null,null,null,{"$f":"IF(AND(WEEKDAY(AF388)>1,WEEKDAY(AF388)<7),TEXT(DATE($B$5,MONTH(AF388)+1,1),\"MMM\"&Labels!B13),\"\")","v":"Aug"}]
[{"$f":"$A$24","v":"Wochentotal"},{"$f":"IF(WEEKDAY(B388)=7,SUMIF($B326:$AF326,B389,$B335:$AF335)+SUMIF($B389:$AF389,B389,$B398:$AF398)+SUMIF($B452:$AF452,B389,$B461:$AF461),B401)","v":""},{"$f":"IF(WEEKDAY(C388)=7,SUMIF($B326:$AF326,C389,$B335:$AF335)+SUMIF($B389:$AF389,C389,$B398:$AF398)+SUMIF($B452:$AF452,C389,$B461:$AF461),\"\")","v":""},"",0,"","","","","","",0,"","","","","","",0,"","","","","","",0,"","","","","",{"$f":"IF(WEEKDAY(AF388)=7,SUMIF($B326:$AF326,AF389,$B335:$AF335)+SUMIF($B389:$AF389,AF389,$B398:$AF398)+SUMIF($B452:$AF452,AF389,$B461:$AF461),AF401)","v":"Aug"}]
[{"$f":"$A$25","v":"Zeitzuschlag 1)"},{"$f":"IF(B410=\"FALSCH\",\"\",B410)","v":""},{"$f":"IF(C410=\"FALSCH\",\"\",C410)","v":""},"","","","","","","","","","","","","","","","","","","","","","","","","","","","","",{"$f":"SUM(B403:AF403)","v":0}]
[{"$f":"$A$26","v":"Zeitzuschlag 2)"},{"$f":"IF((B393+B395)=0,\"\",SUM(B393,B395))","v":""},{"$f":"IF((C393+C395)=0,\"\",SUM(C393,C395))","v":""},"","","","","","","","","","","","","","","","","","","","","","","","","","","","","",0,"[1]"]
[{"$f":"$A$27","v":"Zeitzuschlag 3)"},{"$f":"SUM(B406:B409)","v":0},{"$f":"SUM(C406:C409)","v":0},0,0,0,0,0,0,0,0,0,0,0,0,0,0,0,0,0,0,0,0,0,0,0,0,0,0,0,0,0,{"$f":"SUM(B405:AF405)","v":0},"[2]"]
[{"$f":"$A$28","v":"Sonntag Tag"},{"$f":"IF(WEEKDAY(B388)=1,B394,\"\")","v":""},{"$f":"IF(WEEKDAY(C388)=1,C394,\"\")","v":""},"","",0,"","","","","","",0,"","","","","","",0,"","","","","","",0,"","","","","",0,"[3]"]
[{"$f":"$A$29","v":"Sonntag Nacht"},{"$f":"IF(WEEKDAY(B388)=1,SUM(B393+B395),\"\")","v":""},{"$f":"IF(WEEKDAY(C388)=1,SUM(C393+C395),\"\")","v":""},"","",0,"","","","","","",0,"","","","","","",0,"","","","","","",0,"","","","","",0,"[4]"]
[{"$f":"$A$30","v":"ft-Tazuschlag"},{"$f":"IF(B396=Labels!$B$118,B394,\"\")","v":""},{"$f":"IF(C396=Labels!$B$118,C394,\"\")","v":""},{"$f":"IF(D396=Labels!$B$118,D394,\"\")","v":""},{"$f":"IF(E396=Labels!$B$118,E394,\"\")","v":""},{"$f":"IF(F396=Labels!$B$118,F394,\"\")","v":""},{"$f":"IF(G396=Labels!$B$118,G394,\"\")","v":""},{"$f":"IF(H396=Labels!$B$118,H394,\"\")","v":""},{"$f":"IF(I396=Labels!$B$118,I394,\"\")","v":""},{"$f":"IF(J396=Labels!$B$118,J394,\"\")","v":""},{"$f":"IF(K396=Labels!$B$118,K394,\"\")","v":""},{"$f":"IF(L396=Labels!$B$118,L394,\"\")","v":""},{"$f":"IF(M396=Labels!$B$118,M394,\"\")","v":""},{"$f":"IF(N396=Labels!$B$118,N394,\"\")","v":""},{"$f":"IF(O396=Labels!$B$118,O394,\"\")","v":""},{"$f":"IF(P396=Labels!$B$118,P394,\"\")","v":""},{"$f":"IF(Q396=Labels!$B$118,Q394,\"\")","v":""},{"$f":"IF(R396=Labels!$B$118,R394,\"\")","v":""},{"$f":"IF(S396=Labels!$B$118,S394,\"\")","v":""},{"$f":"IF(T396=Labels!$B$118,T394,\"\")","v":""},{"$f":"IF(U396=Labels!$B$118,U394,\"\")","v":""},{"$f":"IF(V396=Labels!$B$118,V394,\"\")","v":""},{"$f":"IF(W396=Labels!$B$118,W394,\"\")","v":""},{"$f":"IF(X396=Labels!$B$118,X394,\"\")","v":""},{"$f":"IF(Y396=Labels!$B$118,Y394,\"\")","v":""},{"$f":"IF(Z396=Labels!$B$118,Z394,\"\")","v":""},{"$f":"IF(AA396=Labels!$B$118,AA394,\"\")","v":""},{"$f":"IF(AB396=Labels!$B$118,AB394,\"\")","v":""},{"$f":"IF(AC396=Labels!$B$118,AC394,\"\")","v":""},{"$f":"IF(AD396=Labels!$B$118,AD394,\"\")","v":""},{"$f":"IF(AE396=Labels!$B$118,AE394,\"\")","v":""},{"$f":"IF(AF396=Labels!$B$118,AF394,\"\")","v":""},0,"[5]"]
[{"$f":"$A$31","v":"ft-Nazuschlag"},{"$f":"IF(B396=Labels!$B$118,SUM(B393,B395),\"\")","v":""},{"$f":"IF(C396=Labels!$B$118,SUM(C393,C395),\"\")","v":""},{"$f":"IF(D396=Labels!$B$118,SUM(D393,D395),\"\")","v":""},{"$f":"IF(E396=Labels!$B$118,SUM(E393,E395),\"\")","v":""},{"$f":"IF(F396=Labels!$B$118,SUM(F393,F395),\"\")","v":""},{"$f":"IF(G396=Labels!$B$118,SUM(G393,G395),\"\")","v":""},{"$f":"IF(H396=Labels!$B$118,SUM(H393,H395),\"\")","v":""},{"$f":"IF(I396=Labels!$B$118,SUM(I393,I395),\"\")","v":""},{"$f":"IF(J396=Labels!$B$118,SUM(J393,J395),\"\")","v":""},{"$f":"IF(K396=Labels!$B$118,SUM(K393,K395),\"\")","v":""},{"$f":"IF(L396=Labels!$B$118,SUM(L393,L395),\"\")","v":""},{"$f":"IF(M396=Labels!$B$118,SUM(M393,M395),\"\")","v":""},{"$f":"IF(N396=Labels!$B$118,SUM(N393,N395),\"\")","v":""},{"$f":"IF(O396=Labels!$B$118,SUM(O393,O395),\"\")","v":""},{"$f":"IF(P396=Labels!$B$118,SUM(P393,P395),\"\")","v":""},{"$f":"IF(Q396=Labels!$B$118,SUM(Q393,Q395),\"\")","v":""},{"$f":"IF(R396=Labels!$B$118,SUM(R393,R395),\"\")","v":""},{"$f":"IF(S396=Labels!$B$118,SUM(S393,S395),\"\")","v":""},{"$f":"IF(T396=Labels!$B$118,SUM(T393,T395),\"\")","v":""},{"$f":"IF(U396=Labels!$B$118,SUM(U393,U395),\"\")","v":""},{"$f":"IF(V396=Labels!$B$118,SUM(V393,V395),\"\")","v":""},{"$f":"IF(W396=Labels!$B$118,SUM(W393,W395),\"\")","v":""},{"$f":"IF(X396=Labels!$B$118,SUM(X393,X395),\"\")","v":""},{"$f":"IF(Y396=Labels!$B$118,SUM(Y393,Y395),\"\")","v":""},{"$f":"IF(Z396=Labels!$B$118,SUM(Z393,Z395),\"\")","v":""},{"$f":"IF(AA396=Labels!$B$118,SUM(AA393,AA395),\"\")","v":""},{"$f":"IF(AB396=Labels!$B$118,SUM(AB393,AB395),\"\")","v":""},{"$f":"IF(AC396=Labels!$B$118,SUM(AC393,AC395),\"\")","v":""},{"$f":"IF(AD396=Labels!$B$118,SUM(AD393,AD395),\"\")","v":""},{"$f":"IF(AE396=Labels!$B$118,SUM(AE393,AE395),\"\")","v":""},{"$f":"IF(AF396=Labels!$B$118,SUM(AF393,AF395),\"\")","v":""},0,"[6]"]
[{"$f":"$A$32","v":"Zuschlag  blind (Wochentotal)"},{"$f":"IF(OR(ISTEXT(B402),B402=\"\",B402<$B$7),\"\",ROUND(((B402-$B$7)*25%)/25,4)*25)","v":""},{"$f":"IF(OR(ISTEXT(C402),C402=\"\",C402<$B$7),\"\",ROUND(((C402-$B$7)*25%)/25,4)*25)","v":""},"","","","","","","","","","","","","","","","","","","","","","","","","","","","","",{"$f":"AG394","v":0},"[7]"]
[null,{"$f":"$B$33","v":"1)   25% Zeitzuschlag für Überschreitung Wochentotal"},null,null,null,null,null,null,null,null,null,{"$f":"$L$33","v":"2) 100% Zeitzuschlag für Nachtarbeit"},null,null,null,null,null,null,null,{"$f":"$T$33","v":"Eingabe der ausbezahlten Stunden Vorjahressaldo"},null,null,null,null,null,null,null,null,null,null,null,null,{"$f":"SUM(AG393+AG395)","v":0},"[8]"]
[null,{"$f":"$B$34","v":"3) 100% Zeitzuschlag für Sonn- und Feiertagsarbeit"},null,null,null,null,null,null,null,null,null,null,null,null,null,null,null,null,null,{"$f":"$T$34","v":"Eingabe der ausbezahlten Stunden laufendes Jahr (Überstunden)"},null,null,null,null,null,null,null,null,null,null,null,null,{"$f":"SUM(AG393:AG395)","v":0},"[9]"]
[{"$f":"$A$35","v":"Bemerkungen"},null,null,null,null,null,null,null,null,null,null,null,null,null,null,null,null,null,null,null,null,null,null,null,null,null,null,null,null,null,null,null,{"$f":"SUM(AG391+AG397)","v":0},"[10]"]
[null,null,null,null,null,null,null,null,null,null,null,null,null,null,null,null,null,null,null,null,null,null,null,null,null,null,null,null,null,null,null,null,{"$f":"SUM(AG391:AG405)","v":0},"[11]"]
[null,null,null,null,null,null,null,null,null,null,null,null,null,null,null,null,null,null,null,null,null,null,null,null,null,null,null,null,null,null,null,null,{"$f":"AG390","v":184}]
[null,null,null,null,null,null,null,null,null,null,null,null,null,null,null,null,null,null,null,null,null,null,null,null,null,null,null,null,null,null,null,null,{"$f":"SUM(AG414-AG390)","v":-184}]
[{"$f":"$A$39","v":"Zusammenstellung"},null,null,null,null,null,{"$f":"$G$39","v":"Jan"},null,{"$f":"$I$39","v":"Feb"},null,{"$f":"$K$39","v":"Mrz"},null,{"$f":"$M$39","v":"Apr"},null,{"$f":"$O$39","v":"Mai"},null,{"$f":"$Q$39","v":"Jun"},null,{"$f":"$S$39","v":"Jul"},null,{"$f":"$U$39","v":"Aug"},null,{"$f":"$W$39","v":"Sep"},null,{"$f":"$Y$39","v":"Okt"},null,{"$f":"$AA$39","v":"Nov"},null,{"$f":"$AC$39","v":"Dez"},null,{"$f":"$AE$39","v":"Jahr"}]
[{"$f":"$A$40","v":"Anstellung %"},null,null,null,null,null,{"$f":"IF($B$4=0,0,$B$4)","v":100},null,{"$f":"IF($B$70=0,0,$B$70)","v":100},null,{"$f":"IF($B$133=0,0,$B$133)","v":100},null,{"$f":"IF($B$196=0,0,$B$196)","v":100},null,{"$f":"IF($B$259=0,0,$B$259)","v":100},null,{"$f":"IF($B$322=0,0,$B$322)","v":100},null,{"$f":"IF($B$385=0,0,$B$385)","v":100},null,{"$f":"IF($B$448=0,0,$B$448)","v":100},null,{"$f":"IF($B$511=0,0,$B$511)","v":100},null,{"$f":"IF($B$574=0,0,$B$574)","v":100},null,{"$f":"IF($B$637=0,0,$B$637)","v":100},null,{"$f":"IF($B$700=0,0,$B$700)","v":100}]
[{"$f":"$A$41","v":"Sollstunden gemäss GAV"},null,null,null,null,null,{"$f":"IF($AG$37=0,0,$AG$37)","v":184},null,{"$f":"IF($AG$100=0,0,$AG$100)","v":160},null,{"$f":"IF($AG$138=0,0,$AG$138)","v":176},null,{"$f":"IF($AG$226=0,0,$AG$226)","v":176},null,{"$f":"IF($AG$289=0,0,$AG$289)","v":168},null,{"$f":"IF($AG$352=0,0,$AG$352)","v":176},null,{"$f":"IF($AG$415=0,0,$AG$415)","v":184},null,{"$f":"IF($AG$478=0,0,$AG$478)","v":168},null,{"$f":"IF($AG$541=0,0,$AG$541)","v":176},null,{"$f":"IF($AG$604=0,0,$AG$604)","v":176},null,{"$f":"IF($AG$667=0,0,$AG$667)","v":168},null,{"$f":"IF($AG$730=0,0,$AG$730)","v":184},null,{"$f":"SUM(G419:AD419)","v":2096}]
[{"$f":"$A$42","v":"Produktive Stunden"},{"$f":"$B$42","v":"06.00 - 20.00 Uhr"},null,null,null,null,{"$f":"IF($AG$32=0,0,$AG$32)","v":0},null,{"$f":"IF($AG$95=0,0,$AG$95)","v":0},null,{"$f":"IF($AG$158=0,0,$AG$158)","v":0},null,{"$f":"IF($AG$221=0,0,$AG$221)","v":0},null,{"$f":"IF($AG$284=0,0,$AG$284)","v":0},null,{"$f":"IF($AG$347=0,0,$AG$347)","v":0},null,{"$f":"IF($AG$410=0,0,$AG$410)","v":0},null,{"$f":"IF($AG$473=0,0,$AG$473)","v":0},null,{"$f":"IF($AG$536=0,0,$AG$536)","v":0},null,{"$f":"IF($AG$599=0,0,$AG$599)","v":0},null,{"$f":"IF($AG$662=0,0,$AG$662)","v":0},null,{"$f":"IF($AG$725=0,0,$AG$725)","v":0},null,{"$f":"SUM(G420:AD420)","v":0}]
[null,{"$f":"$B$43","v":"Nacht-, Sonn-, Feiertagsarbeit"},null,null,null,null,{"$f":"IF($AG$33=0,0,$AG$33)","v":0},null,{"$f":"IF($AG$96=0,0,$AG$96)","v":0},null,{"$f":"IF($AG$159=0,0,$AG$159)","v":0},null,{"$f":"IF($AG$222=0,0,$AG$222)","v":0},null,{"$f":"IF($AG$285=0,0,$AG$285)","v":0},null,{"$f":"IF($AG$348=0,0,$AG$348)","v":0},null,{"$f":"IF($AG$411=0,0,$AG$411)","v":0},null,{"$f":"IF($AG$474=0,0,$AG$474)","v":0},null,{"$f":"IF($AG$537=0,0,$AG$537)","v":0},null,{"$f":"IF($AG$600=0,0,$AG$600)","v":0},null,{"$f":"IF($AG$663=0,0,$AG$663)","v":0},null,{"$f":"IF($AG$726=0,0,$AG$726)","v":0},null,{"$f":"SUM(G421:AD421)","v":0}]
[{"$f":"$A$44","v":"Zeitzuschläge"},{"$f":"$B$44","v":"aus Wochentotal"},null,null,null,null,{"$f":"IF($AG$25=0,0,$AG$25)","v":0},null,{"$f":"IF($AG$88=0,0,$AG$88)","v":0},null,{"$f":"IF($AG$151=0,0,$AG$151)","v":0},null,{"$f":"IF($AG$214=0,0,$AG$214)","v":0},null,{"$f":"IF($AG$277=0,0,$AG$277)","v":0},null,{"$f":"IF($AG$340=0,0,$AG$340)","v":0},null,{"$f":"IF($AG$403=0,0,$AG$403)","v":0},null,{"$f":"IF($AG$466=0,0,$AG$466)","v":0},null,{"$f":"IF($AG$529=0,0,$AG$529)","v":0},null,{"$f":"IF($AG$592=0,0,$AG$592)","v":0},null,{"$f":"IF($AG$655=0,0,$AG$655)","v":0},null,{"$f":"IF($AG$718=0,0,$AG$718)","v":0},null,{"$f":"SUM(G422:AD422)","v":0}]
[null,{"$f":"$B$45","v":"aus Nacht-, Sonn-, Feiertagsarbeiten"},null,null,null,null,{"$f":"IF($AJ$20=0,0,$AJ$20)","v":0},null,{"$f":"IF($AK$20=0,0,$AK$20)","v":0},null,{"$f":"IF($AL$20=0,0,$AL$20)","v":0},null,{"$f":"IF($AM$20=0,0,$AM$20)","v":0},null,{"$f":"IF($AN$20=0,0,$AN$20)","v":0},null,{"$f":"IF($AO$20=0,0,$AO$20)","v":0},null,{"$f":"IF($AP$20=0,0,$AP$20)","v":0},null,{"$f":"IF($AQ$20=0,0,$AQ$20)","v":0},null,{"$f":"IF($AR$20=0,0,$AR$20)","v":0},null,{"$f":"IF($AS$20=0,0,$AS$20)","v":0},null,{"$f":"IF($AT$20=0,0,$AT$20)","v":0},null,{"$f":"IF($AU$20=0,0,$AU$20)","v":0},null,{"$f":"SUM(G423:AD423)","v":0}]
[{"$f":"$A$46","v":"Unproduktive Stunden"}]
[{"$f":"$A$47","v":"   Absenzen, Kurzabsenzen Art. 11 GAV"},null,null,null,null,{"$f":"$F$47","v":"a"},{"$f":"IF($AJ$3=0,0,$AJ$3)","v":0},null,{"$f":"IF($AK$3=0,0,$AK$3)","v":0},null,{"$f":"IF($AL$3=0,0,$AL$3)","v":0},null,{"$f":"IF($AM$3=0,0,$AM$3)","v":0},null,{"$f":"IF($AN$3=0,0,$AN$3)","v":0},null,{"$f":"IF($AO$3=0,0,$AO$3)","v":0},null,{"$f":"IF($AP$3=0,0,$AP$3)","v":0},null,{"$f":"IF($AQ$3=0,0,$AQ$3)","v":0},null,{"$f":"IF($AR$3=0,0,$AR$3)","v":0},null,{"$f":"IF($AS$3=0,0,$AS$3)","v":0},null,{"$f":"IF(AT$3=0,0,$AT$3)","v":0},null,{"$f":"IF($AU$3=0,0,$AU$3)","v":0},null,{"$f":"IF($AV$3=0,0,$AV$3)","v":0}]
[{"$f":"$A$48","v":"   Ferien Art. 12.1 GAV"},null,null,null,null,{"$f":"$F$48","v":"f"},{"$f":"IF($AJ$4=0,0,$AJ$4)","v":0},null,{"$f":"IF($AK$4=0,0,$AK$4)","v":0},null,{"$f":"IF($AL$4=0,0,$AL$4)","v":0},null,{"$f":"IF($AM$4=0,0,$AM$4)","v":0},null,{"$f":"IF($AN$4=0,0,$AN$4)","v":0},null,{"$f":"IF($AO$4=0,0,$AO$4)","v":0},null,{"$f":"IF($AP$4=0,0,$AP$4)","v":0},null,{"$f":"IF($AQ$4=0,0,$AQ$4)","v":0},null,{"$f":"IF($AR$4=0,0,$AR$4)","v":0},null,{"$f":"IF($AS$4=0,0,$AS$4)","v":0},null,{"$f":"IF($AT$4=0,0,$AT$4)","v":0},null,{"$f":"IF($AU$4=0,0,$AU$4)","v":0},null,{"$f":"IF($AV$4=0,0,$AV$4)","v":0}]
[{"$f":"$A$49","v":"   Feiertage Art. 12.2 GAV"},null,{"$f":"IF($AJ$17=\"\",\"\",$AJ$17)","v":""},null,null,{"$f":"$F$49","v":"ft"},{"$f":"IF($AJ$15=0,0,$AJ$15)","v":0},null,{"$f":"IF($AK$15=0,0,$AK$15)","v":0},null,{"$f":"IF($AL$15=0,0,$AL$15)","v":0},null,{"$f":"IF($AM$15=0,0,$AM$15)","v":0},null,{"$f":"IF($AN$15=0,0,$AN$15)","v":0},null,{"$f":"IF($AO$15=0,0,$AO$15)","v":0},null,{"$f":"IF($AP$15=0,0,$AP$15)","v":0},null,{"$f":"IF($AQ$15=0,0,$AQ$15)","v":0},null,{"$f":"IF($AR$15=0,0,$AR$15)","v":0},null,{"$f":"IF($AS$15=0,0,$AS$15)","v":0},null,{"$f":"IF($AT$15=0,0,$AT$15)","v":0},null,{"$f":"IF($AU$15=0,0,$AU$15)","v":0},null,{"$f":"IF($AV$15=0,0,$AV$15)","v":0}]
[{"$f":"$A$50","v":"   Krankheit Art. 13 GAV"},null,null,null,null,{"$f":"$F$50","v":"k"},{"$f":"IF($AJ$5=0,0,$AJ$5)","v":0},null,{"$f":"IF($AK$5=0,0,$AK$5)","v":0},null,{"$f":"IF($AL$5=0,0,$AL$5)","v":0},null,{"$f":"IF($AM$5=0,0,$AM$5)","v":0},null,{"$f":"IF($AN$5=0,0,$AN$5)","v":0},null,{"$f":"IF($AO$5=0,0,$AO$5)","v":0},null,{"$f":"IF($AP$5=0,0,$AP$5)","v":0},null,{"$f":"IF($AQ$5=0,0,$AQ$5)","v":0},null,{"$f":"IF($AR$5=0,0,$AR$5)","v":0},null,{"$f":"IF($AS$5=0,0,$AS$5)","v":0},null,{"$f":"IF($AT$5=0,0,$AT$5)","v":0},null,{"$f":"IF($AU$5=0,0,$AU$5)","v":0},null,{"$f":"IF($AV$5=0,0,$AV$5)","v":0}]
[{"$f":"$A$51","v":"   Unfall Art. 14 GAV"},null,null,null,null,{"$f":"$F$51","v":"u"},{"$f":"IF($AJ$6=0,0,$AJ$6)","v":0},null,{"$f":"IF($AK$6=0,0,$AK$6)","v":0},null,{"$f":"IF($AL$6=0,0,$AL$6)","v":0},null,{"$f":"IF($AM$6=0,0,$AM$6)","v":0},null,{"$f":"IF($AN$6=0,0,$AN$6)","v":0},null,{"$f":"IF($AO$6=0,0,$AO$6)","v":0},null,{"$f":"IF($AP$6=0,0,$AP$6)","v":0},null,{"$f":"IF($AQ$6=0,0,$AQ$6)","v":0},null,{"$f":"IF($AR$6=0,0,$AR$6)","v":0},null,{"$f":"IF($AS$6=0,0,$AS$6)","v":0},null,{"$f":"IF($AT$6=0,0,$AT$6)","v":0},null,{"$f":"IF($AU$6=0,0,$AU$6)","v":0},null,{"$f":"IF($AV$6=0,0,$AV$6)","v":0}]
[{"$f":"$A$52","v":"   Schwangerschaft/Mutterschaft Art. 15 GAV"},null,null,null,null,{"$f":"$F$52","v":"s"},{"$f":"IF($AJ$7=0,0,$AJ$7)","v":0},null,{"$f":"IF($AK$7=0,0,$AK$7)","v":0},null,{"$f":"IF($AL$7=0,0,$AL$7)","v":0},null,{"$f":"IF($AM$7=0,0,$AM$7)","v":0},null,{"$f":"IF($AN$7=0,0,$AN$7)","v":0},null,{"$f":"IF($AO$7=0,0,$AO$7)","v":0},null,{"$f":"IF($AP$7=0,0,$AP$7)","v":0},null,{"$f":"IF($AQ$7=0,0,$AQ$7)","v":0},null,{"$f":"IF($AR$7=0,0,$AR$7)","v":0},null,{"$f":"IF($AS$7=0,0,$AS$7)","v":0},null,{"$f":"IF($AT$7=0,0,$AT$7)","v":0},null,{"$f":"IF($AU$7=0,0,$AU$7)","v":0},null,{"$f":"IF($AV$7=0,0,$AV$7)","v":0}]
[{"$f":"$A$53","v":"   Militär/Beförderung/Zivilschutz Art. 16 GAV"},null,null,null,null,{"$f":"$F$53","v":"m"},{"$f":"IF($AJ$8=0,0,$AJ$8)","v":0},null,{"$f":"IF($AK$8=0,0,$AK$8)","v":0},null,{"$f":"IF($AL$8=0,0,$AL$8)","v":0},null,{"$f":"IF($AM$8=0,0,$AM$8)","v":0},null,{"$f":"IF($AN$8=0,0,$AN$8)","v":0},null,{"$f":"IF($AO$8=0,0,$AO$8)","v":0},null,{"$f":"IF($AP$8=0,0,$AP$8)","v":0},null,{"$f":"IF($AQ$8=0,0,$AQ$8)","v":0},null,{"$f":"IF($AR$8=0,0,$AR$8)","v":0},null,{"$f":"IF($AS$8=0,0,$AS$8)","v":0},null,{"$f":"IF($AT$8=0,0,$AT$8)","v":0},null,{"$f":"IF($AU$8=0,0,$AU$8)","v":0},null,{"$f":"IF($AV$8=0,0,$AV$8)","v":0}]
[{"$f":"$A$54","v":"   Kurzarbeit und Schlechtwetterausfälle"},null,null,null,null,{"$f":"$F$54","v":"ka"},{"$f":"IF($AJ$11=0,0,$AJ$11)","v":0},null,{"$f":"IF($AK$11=0,0,$AK$11)","v":0},null,{"$f":"IF($AL$11=0,0,$AL$11)","v":0},null,{"$f":"IF($AM$11=0,0,$AM$11)","v":0},null,{"$f":"IF($AN$11=0,0,$AN$11)","v":0},null,{"$f":"IF($AO$11=0,0,$AO$11)","v":0},null,{"$f":"IF($AP$11=0,0,$AP$11)","v":0},null,{"$f":"IF($AQ$11=0,0,$AQ$11)","v":0},null,{"$f":"IF($AR$11=0,0,$AR$11)","v":0},null,{"$f":"IF($AS$11=0,0,$AS$11)","v":0},null,{"$f":"IF($AT$11=0,0,$AT$11)","v":0},null,{"$f":"IF($AU$11=0,0,$AU$11)","v":0},null,{"$f":"IF($AV$11=0,0,$AV$11)","v":0}]
[{"$f":"$A$55","v":"   Berufsschule"},null,null,null,null,{"$f":"$F$55","v":"bs"},{"$f":"IF($AJ$9=0,0,$AJ$9)","v":0},null,{"$f":"IF($AK$9=0,0,$AK$9)","v":0},null,{"$f":"IF($AL$9=0,0,$AL$9)","v":0},null,{"$f":"IF($AM$9=0,0,$AM$9)","v":0},null,{"$f":"IF($AN$9=0,0,$AN$9)","v":0},null,{"$f":"IF($AO$9=0,0,$AO$9)","v":0},null,{"$f":"IF($AP$9=0,0,$AP$9)","v":0},null,{"$f":"IF($AQ$9=0,0,$AQ$9)","v":0},null,{"$f":"IF($AR$9=0,0,$AR$9)","v":0},null,{"$f":"IF($AS$9=0,0,$AS$9)","v":0},null,{"$f":"IF($AT$9=0,0,$AT$9)","v":0},null,{"$f":"IF($AU$9=0,0,$AU$9)","v":0},null,{"$f":"IF($AV$9=0,0,$AV$9)","v":0}]
[{"$f":"$A$56","v":"   Kurse"},null,null,null,null,{"$f":"$F$56","v":"ku"},{"$f":"IF($AJ$10=0,0,$AJ$10)","v":0},null,{"$f":"IF($AK$10=0,0,$AK$10)","v":0},null,{"$f":"IF($AL$10=0,0,$AL$10)","v":0},null,{"$f":"IF($AM$10=0,0,$AM$10)","v":0},null,{"$f":"IF($AN$10=0,0,$AN$10)","v":0},null,{"$f":"IF($AO$10=0,0,$AO$10)","v":0},null,{"$f":"IF($AP$10=0,0,$AP$10)","v":0},null,{"$f":"IF($AQ$10=0,0,$AQ$10)","v":0},null,{"$f":"IF($AR$10=0,0,$AR$10)","v":0},null,{"$f":"IF($AS$10=0,0,$AS$10)","v":0},null,{"$f":"IF($AT$10=0,0,$AT$10)","v":0},null,{"$f":"IF($AU$10=0,0,$AU$10)","v":0},null,{"$f":"IF($AV$10=0,0,$AV$10)","v":0}]
[{"$f":"$A$57","v":"Kompensations-Std"},{"$f":"$B$57","v":"aus Vorjahr"},null,null,null,{"$f":"$F$57","v":"kv"},{"$f":"IF($AJ$12=0,0,$AJ$12)","v":0},null,{"$f":"IF($AK$12=0,0,$AK$12)","v":0},null,{"$f":"IF($AL$12=0,0,$AL$12)","v":0},null,{"$f":"IF($AM$12=0,0,$AM$12)","v":0},null,{"$f":"IF($AN$12=0,0,$AN$12)","v":0},null,{"$f":"IF($AO$12=0,0,$AO$12)","v":0},null,{"$f":"IF($AP$12=0,0,$AP$12)","v":0},null,{"$f":"IF($AQ$12=0,0,$AQ$12)","v":0},null,{"$f":"IF($AR$12=0,0,$AR$12)","v":0},null,null,null,null,null,null,null,{"$f":"IF($AV$12=0,0,$AV$12)","v":0}]
[null,{"$f":"$B$58","v":"aus laufendem Jahr (Kontrolle)"},null,null,null,{"$f":"$F$58","v":"kj"},{"$f":"IF($AJ$14=0,0,$AJ$14)","v":0},null,{"$f":"IF($AK$14=0,0,$AK$14)","v":0},null,{"$f":"IF($AL$14=0,0,$AL$14)","v":0},null,{"$f":"IF($AM$14=0,0,$AM$14)","v":0},null,{"$f":"IF($AN$14=0,0,$AN$14)","v":0},null,{"$f":"IF($AO$14=0,0,$AO$14)","v":0},null,{"$f":"IF($AP$14=0,0,$AP$14)","v":0},null,{"$f":"IF($AQ$14=0,0,$AQ$14)","v":0},null,{"$f":"IF($AR$14=0,0,$AR$14)","v":0},null,{"$f":"IF($AS$14=0,0,$AS$14)","v":0},null,{"$f":"IF($AT$14=0,0,$AT$14)","v":0},null,{"$f":"IF($AU$14=0,0,$AU$14)","v":0},null,{"$f":"IF($AV$14=0,0,$AV$14)","v":0}]
[{"$f":"$A$59","v":"Auszahlung"},{"$f":"$B$59","v":"Stunden Vorjahressaldo"},null,null,null,null,{"$f":"IF($AJ$18=0,0,$AJ$18)","v":0},null,{"$f":"IF($AK$18=0,0,$AK$18)","v":0},null,{"$f":"IF($AL$18=0,0,$AL$18)","v":0},null,{"$f":"IF($AM$18=0,0,$AM$18)","v":0},null,{"$f":"IF($AN$18=0,0,$AN$18)","v":0},null,{"$f":"IF($AO$18=0,0,$AO$18)","v":0},null,{"$f":"IF($AP$18=0,0,$AP$18)","v":0},null,{"$f":"IF($AQ$18=0,0,$AQ$18)","v":0},null,{"$f":"IF($AR$18=0,0,$AR$18)","v":0},null,null,null,null,null,null,null,{"$f":"IF($AV$18=0,0,$AV$18)","v":0}]
[{"$f":"$A$60","v":"Differenz"},{"$f":"$B$60","v":"nach Kompensation und Auszahlung"},null,null,null,null,{"$f":"IF(ROUND($P$4,3)=0,0,$P$4-SUM(G435+G437))","v":0},null,{"$f":"IF(ROUND(G438,3)=0,0,G438-(SUM(I437+I435)))","v":0},null,{"$f":"IF(ROUND(I438,3)=0,0,I438-(SUM(K437+K435)))","v":0},null,{"$f":"IF(ROUND(K438,3)=0,0,K438-(SUM(M437+M435)))","v":0},null,{"$f":"IF(ROUND(M438,3)=0,0,M438-(SUM(O437+O435)))","v":0},null,{"$f":"IF(ROUND(O438,3)=0,0,O438-(SUM(Q437+Q435)))","v":0},null,{"$f":"IF(ROUND(Q438,3)=0,0,Q438-(SUM(S437+S435)))","v":0},null,{"$f":"IF(ROUND(S438,3)=0,0,S438-(SUM(U437+U435)))","v":0},null,{"$f":"IF(ROUND(U438,3)=0,0,U438-(SUM(W437+W435)))","v":0},null,{"$f":"$Y$60","v":""}]
[{"$f":"$A$61","v":"Auszahlung"},{"$f":"$B$61","v":"Stunden laufendes Jahr"},null,null,null,null,{"$f":"IF($AJ$19=0,0,$AJ$19)","v":0},null,{"$f":"IF($AK$19=0,0,$AK$19)","v":0},null,{"$f":"IF($AL$19=0,0,$AL$19)","v":0},null,{"$f":"IF($AM$19=0,0,$AM$19)","v":0},null,{"$f":"IF($AN$19=0,0,$AN$19)","v":0},null,{"$f":"IF($AO$19=0,0,$AO$19)","v":0},null,{"$f":"IF($AP$19=0,0,$AP$19)","v":0},null,{"$f":"IF($AQ$19=0,0,$AQ$19)","v":0},null,{"$f":"IF($AR$19=0,0,$AR$19)","v":0},null,{"$f":"IF($AS$19=0,0,$AS$19)","v":0},null,{"$f":"IF($AT$19=0,0,$AT$19)","v":0},null,{"$f":"IF($AU$19=0,0,$AU$19)","v":0},null,{"$f":"IF($AV$19=0,0,$AV$19)","v":0}]
[{"$f":"$A$62","v":"Fehlstunden"},{"$f":"$B$62","v":"laufendes Jahr (Kontrolle)"},null,null,null,{"$f":"$F$62","v":"fe"},{"$f":"IF($AJ$13=0,0,$AJ$13)","v":0},null,{"$f":"IF($AK$13=0,0,$AK$13)","v":0},null,{"$f":"IF($AL$13=0,0,$AL$13)","v":0},null,{"$f":"IF($AM$13=0,0,$AM$13)","v":0},null,{"$f":"IF($AN$13=0,0,$AN$13)","v":0},null,{"$f":"IF($AO$13=0,0,$AO$13)","v":0},null,{"$f":"IF($AP$13=0,0,$AP$13)","v":0},null,{"$f":"IF($AQ$13=0,0,$AQ$13)","v":0},null,{"$f":"IF($AR$13=0,0,$AR$13)","v":0},null,{"$f":"IF($AS$13=0,0,$AS$13)","v":0},null,{"$f":"IF($AT$13=0,0,$AT$13)","v":0},null,{"$f":"IF($AU$13=0,0,$AU$13)","v":0},null,{"$f":"IF($AV$13=0,0,$AV$13)","v":0}]
[{"$f":"$A$63","v":"Total inkl. Zeitzuschläge"},{"$f":"$B$63","v":"Stunden produktiv und unproduktiv"},null,null,null,null,{"$f":"IF($AG$36=0,0,$AG$36)","v":0},null,{"$f":"IF($AG$99=0,0,$AG$99)","v":0},null,{"$f":"IF($AG$162=0,0,$AG$162)","v":0},null,{"$f":"IF($AG$225=0,0,$AG$225)","v":0},null,{"$f":"IF($AG$288=0,0,$AG$288)","v":0},null,{"$f":"IF($AG$351=0,0,$AG$351)","v":0},null,{"$f":"IF($AG$414=0,0,$AG$414)","v":0},null,{"$f":"IF($AG$477=0,0,$AG$477)","v":0},null,{"$f":"IF($AG$540=0,0,$AG$540)","v":0},null,{"$f":"IF($AG$603=0,0,$AG$603)","v":0},null,{"$f":"IF($AG$666=0,0,$AG$666)","v":0},null,{"$f":"IF($AG$729=0,0,$AG$729)","v":0},null,{"$f":"SUM($G$63:$AD$63)","v":0}]
[{"$f":"$A$64","v":"Vergleich"},{"$f":"$B$64","v":"Stunden zu Soll-Stunden (inkl. allfälli-\nge Minusstunden Vorjahr)"},null,null,null,null,{"$f":"$G$64","v":-184},null,{"$f":"$I$64","v":-160},null,{"$f":"$K$64","v":-176},null,{"$f":"$M$64","v":-176},null,{"$f":"$O$64","v":-168},null,{"$f":"$Q$64","v":-176},null,{"$f":"$S$64","v":-184},null,{"$f":"$U$64","v":-168},null,{"$f":"$W$64","v":-176},null,{"$f":"$Y$64","v":-176},null,{"$f":"$AA$64","v":-168},null,{"$f":"$AC$64","v":-184},null,{"$f":"$AE$64","v":-2096}]
[null,{"$f":"$B$65","v":"Stunden zu Soll-Stunden (kumuliert)"},null,null,null,null,{"$f":"$G$65","v":-184},null,{"$f":"$I$65","v":-344},null,{"$f":"$K$65","v":-520},null,{"$f":"$M$65","v":-696},null,{"$f":"$O$65","v":-864},null,{"$f":"$Q$65","v":-1040},null,{"$f":"$S$65","v":-1224},null,{"$f":"$U$65","v":-1392},null,{"$f":"$W$65","v":-1568},null,{"$f":"$Y$65","v":-1744},null,{"$f":"$AA$65","v":-1912},null,{"$f":"$AC$65","v":-2096},null,{"$f":"$AE$65","v":0}]
[{"$f":"$A$66","v":"Ferienkontrolle"},{"$f":"$B$66","v":"Ferienguthaben Vorjahr"},null,null,null,null,{"$f":"IF($AA$4=0,0,$AA$4)","v":0},null,{"$f":"$I$66","v":"Ferienguthaben nach \nArt. 12.1 GAV"},null,null,null,{"$f":"IF($AA$5=0,0,$AA$5)","v":0},null,{"$f":"$O$66","v":"Ferienguthaben total"},null,null,null,{"$f":"SUM(G444+M444)","v":0},null,{"$f":"$U$66","v":"Ferien bezogen"},null,null,null,{"$f":"IF($AV$4=0,0,$AV$4)","v":0},null,{"$f":"$AA$66","v":"Aktuelles Ferienguthaben"},null,null,null,{"$f":"IF(S444=0,0,S444-Y444)","v":0}]
[]
[]
[{"$f":"$A$3","v":"Mitarbeiter/In"},{"$f":"IF($B$3=\"\",\"\",$B$3)","v":"Muster Peter"},null,null,null,null,null,null,null,null,null,null,null,null,null,null,null,null,null,null,null,null,null,null,null,null,null,null,null,null,null,{"$f":"AF3","v":0}]
[{"$f":"$A$4","v":"Anstellung %"},100,null,{"$f":"Labels!B96","v":"im August"}]
[{"$f":"$A$5","v":"Saldo für das Jahr"},null,null,{"$f":"IF($AE$64=0,0,$AE$64)","v":-2096}]
[{"$f":"TEXT(DATE(YEAR(AP28),MONTH(AP28)+7,1),\"MMMM\"&Labels!B13)","v":"August"},{"$f":"$B$9","v":"Saldo Monat + / -"},null,null,null,{"$f":"(AG453-(SUM(AG454:AG468)-AE475))*-1","v":-168},null,null,null,null,{"$f":"$K$9","v":" = "},{"$f":"$L$9","v":"Gelbe Felder müssen ausgefüllt werden (die übrigen werden automatisch berechnet)"}]
[{"$f":"$A$10","v":"Tag"},{"$f":"AF388+1","v":"2020-08-01"},{"$f":"B451+1","v":"2020-08-02"},{"$f":"C451+1","v":"2020-08-03"},"2020-08-04","2020-08-05","2020-08-06","2020-08-07","2020-08-08","2020-08-09","2020-08-10","2020-08-11","2020-08-12","2020-08-13","2020-08-14","2020-08-15","2020-08-16","2020-08-17","2020-08-18","2020-08-19","2020-08-20","2020-08-21","2020-08-22","2020-08-23","2020-08-24","2020-08-25","2020-08-26","2020-08-27","2020-08-28","2020-08-29","2020-08-30","2020-08-31",{"$f":"COUNT(B453:AF453)&\" \"&Labels!$B$63","v":"21 Tage"}]
[{"$f":"$A$11","v":"Kalenderwoche"},{"$f":"IF(B451=\"\",\"\",TRUNC((B451-DATE(YEAR(B451+3-MOD(B451-2,7)),1,MOD(B451-2,7)-9))/7))","v":31},31,32,32,32,32,32,32,32,33,33,33,33,33,33,33,34,34,34,34,34,34,34,35,35,35,35,35,35,35,36]
[{"$f":"$A$12","v":"Sollstunden"},{"$f":"IF(MOD(B451,7)>=2,$J$7*$B$448%,\"\")","v":""},"",8,8,8,8,8,"","",8,8,8,8,8,"","",8,8,8,8,8,"","",8,8,8,8,8,"","",8,{"$f":"SUM(B453:AF453)","v":168}]
[{"$f":"$A$13","v":"Absenz in Std"},{"$f":"B980","v":0},{"$f":"C980","v":0},0,0,0,0,0,0,0,0,0,0,0,0,0,0,0,0,0,0,0,0,0,0,0,0,0,0,0,0,0,{"$f":"SUM(AQ3:AQ12)","v":0}]
[{"$f":"$A$14","v":"Code"},{"$f":"IF(B980<>0,IF(MAX(B967:B979)<B980,Labels!$B$163,INDEX($AH$967:$AH$979,MATCH(MAX(B967:B979),B967:B979,0))),\"\")","v":""},{"$f":"IF(C980<>0,IF(MAX(C967:C979)<C980,Labels!$B$163,INDEX($AH$967:$AH$979,MATCH(MAX(C967:C979),C967:C979,0))),\"\")","v":""},{"$f":"IF(D980<>0,IF(MAX(D967:D979)<D980,Labels!$B$163,INDEX($AH$967:$AH$979,MATCH(MAX(D967:D979),D967:D979,0))),\"\")","v":""},{"$f":"IF(E980<>0,IF(MAX(E967:E979)<E980,Labels!$B$163,INDEX($AH$967:$AH$979,MATCH(MAX(E967:E979),E967:E979,0))),\"\")","v":""},{"$f":"IF(F980<>0,IF(MAX(F967:F979)<F980,Labels!$B$163,INDEX($AH$967:$AH$979,MATCH(MAX(F967:F979),F967:F979,0))),\"\")","v":""},{"$f":"IF(G980<>0,IF(MAX(G967:G979)<G980,Labels!$B$163,INDEX($AH$967:$AH$979,MATCH(MAX(G967:G979),G967:G979,0))),\"\")","v":""},{"$f":"IF(H980<>0,IF(MAX(H967:H979)<H980,Labels!$B$163,INDEX($AH$967:$AH$979,MATCH(MAX(H967:H979),H967:H979,0))),\"\")","v":""},{"$f":"IF(I980<>0,IF(MAX(I967:I979)<I980,Labels!$B$163,INDEX($AH$967:$AH$979,MATCH(MAX(I967:I979),I967:I979,0))),\"\")","v":""},{"$f":"IF(J980<>0,IF(MAX(J967:J979)<J980,Labels!$B$163,INDEX($AH$967:$AH$979,MATCH(MAX(J967:J979),J967:J979,0))),\"\")","v":""},{"$f":"IF(K980<>0,IF(MAX(K967:K979)<K980,Labels!$B$163,INDEX($AH$967:$AH$979,MATCH(MAX(K967:K979),K967:K979,0))),\"\")","v":""},{"$f":"IF(L980<>0,IF(MAX(L967:L979)<L980,Labels!$B$163,INDEX($AH$967:$AH$979,MATCH(MAX(L967:L979),L967:L979,0))),\"\")","v":""},{"$f":"IF(M980<>0,IF(MAX(M967:M979)<M980,Labels!$B$163,INDEX($AH$967:$AH$979,MATCH(MAX(M967:M979),M967:M979,0))),\"\")","v":""},{"$f":"IF(N980<>0,IF(MAX(N967:N979)<N980,Labels!$B$163,INDEX($AH$967:$AH$979,MATCH(MAX(N967:N979),N967:N979,0))),\"\")","v":""},{"$f":"IF(O980<>0,IF(MAX(O967:O979)<O980,Labels!$B$163,INDEX($AH$967:$AH$979,MATCH(MAX(O967:O979),O967:O979,0))),\"\")","v":""},{"$f":"IF(P980<>0,IF(MAX(P967:P979)<P980,Labels!$B$163,INDEX($AH$967:$AH$979,MATCH(MAX(P967:P979),P967:P979,0))),\"\")","v":""},{"$f":"IF(Q980<>0,IF(MAX(Q967:Q979)<Q980,Labels!$B$163,INDEX($AH$967:$AH$979,MATCH(MAX(Q967:Q979),Q967:Q979,0))),\"\")","v":""},{"$f":"IF(R980<>0,IF(MAX(R967:R979)<R980,Labels!$B$163,INDEX($AH$967:$AH$979,MATCH(MAX(R967:R979),R967:R979,0))),\"\")","v":""},{"$f":"IF(S980<>0,IF(MAX(S967:S979)<S980,Labels!$B$163,INDEX($AH$967:$AH$979,MATCH(MAX(S967:S979),S967:S979,0))),\"\")","v":""},{"$f":"IF(T980<>0,IF(MAX(T967:T979)<T980,Labels!$B$163,INDEX($AH$967:$AH$979,MATCH(MAX(T967:T979),T967:T979,0))),\"\")","v":""},{"$f":"IF(U980<>0,IF(MAX(U967:U979)<U980,Labels!$B$163,INDEX($AH$967:$AH$979,MATCH(MAX(U967:U979),U967:U979,0))),\"\")","v":""},{"$f":"IF(V980<>0,IF(MAX(V967:V979)<V980,Labels!$B$163,INDEX($AH$967:$AH$979,MATCH(MAX(V967:V979),V967:V979,0))),\"\")","v":""},{"$f":"IF(W980<>0,IF(MAX(W967:W979)<W980,Labels!$B$163,INDEX($AH$967:$AH$979,MATCH(MAX(W967:W979),W967:W979,0))),\"\")","v":""},{"$f":"IF(X980<>0,IF(MAX(X967:X979)<X980,Labels!$B$163,INDEX($AH$967:$AH$979,MATCH(MAX(X967:X979),X967:X979,0))),\"\")","v":""},{"$f":"IF(Y980<>0,IF(MAX(Y967:Y979)<Y980,Labels!$B$163,INDEX($AH$967:$AH$979,MATCH(MAX(Y967:Y979),Y967:Y979,0))),\"\")","v":""},{"$f":"IF(Z980<>0,IF(MAX(Z967:Z979)<Z980,Labels!$B$163,INDEX($AH$967:$AH$979,MATCH(MAX(Z967:Z979),Z967:Z979,0))),\"\")","v":""},{"$f":"IF(AA980<>0,IF(MAX(AA967:AA979)<AA980,Labels!$B$163,INDEX($AH$967:$AH$979,MATCH(MAX(AA967:AA979),AA967:AA979,0))),\"\")","v":""},{"$f":"IF(AB980<>0,IF(MAX(AB967:AB979)<AB980,Labels!$B$163,INDEX($AH$967:$AH$979,MATCH(MAX(AB967:AB979),AB967:AB979,0))),\"\")","v":""},{"$f":"IF(AC980<>0,IF(MAX(AC967:AC979)<AC980,Labels!$B$163,INDEX($AH$967:$AH$979,MATCH(MAX(AC967:AC979),AC967:AC979,0))),\"\")","v":""},{"$f":"IF(AD980<>0,IF(MAX(AD967:AD979)<AD980,Labels!$B$163,INDEX($AH$967:$AH$979,MATCH(MAX(AD967:AD979),AD967:AD979,0))),\"\")","v":""},{"$f":"IF(AE980<>0,IF(MAX(AE967:AE979)<AE980,Labels!$B$163,INDEX($AH$967:$AH$979,MATCH(MAX(AE967:AE979),AE967:AE979,0))),\"\")","v":""},{"$f":"IF(AF980<>0,IF(MAX(AF967:AF979)<AF980,Labels!$B$163,INDEX($AH$967:$AH$979,MATCH(MAX(AF967:AF979),AF967:AF979,0))),\"\")","v":""}]
[{"$f":"$A$15","v":"00.00-06.00h"},null,null,null,null,null,null,null,null,null,null,null,null,null,null,null,null,null,null,null,null,null,null,null,null,null,null,null,null,null,null,null,{"$f":"SUM(B456:AF456)","v":0}]
[{"$f":"$A$16","v":"06.00-20.00h"},null,null,null,null,null,null,null,null,null,null,null,null,null,null,null,null,null,null,null,null,null,null,null,null,null,null,null,null,null,null,null,{"$f":"SUM(B457:AF457)","v":0}]
[{"$f":"$A$17","v":"20.00-24.00h"},null,null,null,null,null,null,null,null,null,null,null,null,null,null,null,null,null,null,null,null,null,null,null,null,null,null,null,null,null,null,null,{"$f":"SUM(B458:AF458)","v":0},"[0]"]
[{"$f":"$A$18","v":"Feiertag \"ft\""},{"$f":"IF(WEEKDAY(B451,2)<=6,IF(KALENDER!E17=\"x\",Labels!$B$118,\"\"),\"\")","v":""},{"$f":"IF(WEEKDAY(C451,2)<=6,IF(KALENDER!F17=\"x\",Labels!$B$118,\"\"),\"\")","v":""},{"$f":"IF(WEEKDAY(D451,2)<=6,IF(KALENDER!G17=\"x\",Labels!$B$118,\"\"),\"\")","v":""},{"$f":"IF(WEEKDAY(E451,2)<=6,IF(KALENDER!H17=\"x\",Labels!$B$118,\"\"),\"\")","v":""},{"$f":"IF(WEEKDAY(F451,2)<=6,IF(KALENDER!I17=\"x\",Labels!$B$118,\"\"),\"\")","v":""},{"$f":"IF(WEEKDAY(G451,2)<=6,IF(KALENDER!J17=\"x\",Labels!$B$118,\"\"),\"\")","v":""},{"$f":"IF(WEEKDAY(H451,2)<=6,IF(KALENDER!K17=\"x\",Labels!$B$118,\"\"),\"\")","v":""},{"$f":"IF(WEEKDAY(I451,2)<=6,IF(KALENDER!L17=\"x\",Labels!$B$118,\"\"),\"\")","v":""},{"$f":"IF(WEEKDAY(J451,2)<=6,IF(KALENDER!M17=\"x\",Labels!$B$118,\"\"),\"\")","v":""},{"$f":"IF(WEEKDAY(K451,2)<=6,IF(KALENDER!N17=\"x\",Labels!$B$118,\"\"),\"\")","v":""},{"$f":"IF(WEEKDAY(L451,2)<=6,IF(KALENDER!O17=\"x\",Labels!$B$118,\"\"),\"\")","v":""},{"$f":"IF(WEEKDAY(M451,2)<=6,IF(KALENDER!P17=\"x\",Labels!$B$118,\"\"),\"\")","v":""},{"$f":"IF(WEEKDAY(N451,2)<=6,IF(KALENDER!Q17=\"x\",Labels!$B$118,\"\"),\"\")","v":""},{"$f":"IF(WEEKDAY(O451,2)<=6,IF(KALENDER!R17=\"x\",Labels!$B$118,\"\"),\"\")","v":""},{"$f":"IF(WEEKDAY(P451,2)<=6,IF(KALENDER!S17=\"x\",Labels!$B$118,\"\"),\"\")","v":""},{"$f":"IF(WEEKDAY(Q451,2)<=6,IF(KALENDER!T17=\"x\",Labels!$B$118,\"\"),\"\")","v":""},{"$f":"IF(WEEKDAY(R451,2)<=6,IF(KALENDER!U17=\"x\",Labels!$B$118,\"\"),\"\")","v":""},{"$f":"IF(WEEKDAY(S451,2)<=6,IF(KALENDER!V17=\"x\",Labels!$B$118,\"\"),\"\")","v":""},{"$f":"IF(WEEKDAY(T451,2)<=6,IF(KALENDER!W17=\"x\",Labels!$B$118,\"\"),\"\")","v":""},{"$f":"IF(WEEKDAY(U451,2)<=6,IF(KALENDER!X17=\"x\",Labels!$B$118,\"\"),\"\")","v":""},{"$f":"IF(WEEKDAY(V451,2)<=6,IF(KALENDER!Y17=\"x\",Labels!$B$118,\"\"),\"\")","v":""},{"$f":"IF(WEEKDAY(W451,2)<=6,IF(KALENDER!Z17=\"x\",Labels!$B$118,\"\"),\"\")","v":""},{"$f":"IF(WEEKDAY(X451,2)<=6,IF(KALENDER!AA17=\"x\",Labels!$B$118,\"\"),\"\")","v":""},{"$f":"IF(WEEKDAY(Y451,2)<=6,IF(KALENDER!AB17=\"x\",Labels!$B$118,\"\"),\"\")","v":""},{"$f":"IF(WEEKDAY(Z451,2)<=6,IF(KALENDER!AC17=\"x\",Labels!$B$118,\"\"),\"\")","v":""},{"$f":"IF(WEEKDAY(AA451,2)<=6,IF(KALENDER!AD17=\"x\",Labels!$B$118,\"\"),\"\")","v":""},{"$f":"IF(WEEKDAY(AB451,2)<=6,IF(KALENDER!AE17=\"x\",Labels!$B$118,\"\"),\"\")","v":""},{"$f":"IF(WEEKDAY(AC451,2)<=6,IF(KALENDER!AF17=\"x\",Labels!$B$118,\"\"),\"\")","v":""},{"$f":"IF(WEEKDAY(AD451,2)<=6,IF(KALENDER!AG17=\"x\",Labels!$B$118,\"\"),\"\")","v":""},{"$f":"IF(WEEKDAY(AE451,2)<=6,IF(KALENDER!AH17=\"x\",Labels!$B$118,\"\"),\"\")","v":""},{"$f":"IF(WEEKDAY(AF451,2)<=6,IF(KALENDER!AI17=\"x\",Labels!$B$118,\"\"),\"\")","v":""}]
[{"$f":"$A$19","v":"Gutschrift \"ft\""},{"$f":"IF(AND(B459=Labels!$B$118,WEEKDAY(B451,2)<6),$J$7*$B$448%,\"\")","v":""},{"$f":"IF(AND(C459=Labels!$B$118,WEEKDAY(C451,2)<6),$J$7*$B$448%,\"\")","v":""},{"$f":"IF(AND(D459=Labels!$B$118,WEEKDAY(D451,2)<6),$J$7*$B$448%,\"\")","v":""},{"$f":"IF(AND(E459=Labels!$B$118,WEEKDAY(E451,2)<6),$J$7*$B$448%,\"\")","v":""},{"$f":"IF(AND(F459=Labels!$B$118,WEEKDAY(F451,2)<6),$J$7*$B$448%,\"\")","v":""},{"$f":"IF(AND(G459=Labels!$B$118,WEEKDAY(G451,2)<6),$J$7*$B$448%,\"\")","v":""},{"$f":"IF(AND(H459=Labels!$B$118,WEEKDAY(H451,2)<6),$J$7*$B$448%,\"\")","v":""},{"$f":"IF(AND(I459=Labels!$B$118,WEEKDAY(I451,2)<6),$J$7*$B$448%,\"\")","v":""},{"$f":"IF(AND(J459=Labels!$B$118,WEEKDAY(J451,2)<6),$J$7*$B$448%,\"\")","v":""},{"$f":"IF(AND(K459=Labels!$B$118,WEEKDAY(K451,2)<6),$J$7*$B$448%,\"\")","v":""},{"$f":"IF(AND(L459=Labels!$B$118,WEEKDAY(L451,2)<6),$J$7*$B$448%,\"\")","v":""},{"$f":"IF(AND(M459=Labels!$B$118,WEEKDAY(M451,2)<6),$J$7*$B$448%,\"\")","v":""},{"$f":"IF(AND(N459=Labels!$B$118,WEEKDAY(N451,2)<6),$J$7*$B$448%,\"\")","v":""},{"$f":"IF(AND(O459=Labels!$B$118,WEEKDAY(O451,2)<6),$J$7*$B$448%,\"\")","v":""},{"$f":"IF(AND(P459=Labels!$B$118,WEEKDAY(P451,2)<6),$J$7*$B$448%,\"\")","v":""},{"$f":"IF(AND(Q459=Labels!$B$118,WEEKDAY(Q451,2)<6),$J$7*$B$448%,\"\")","v":""},{"$f":"IF(AND(R459=Labels!$B$118,WEEKDAY(R451,2)<6),$J$7*$B$448%,\"\")","v":""},{"$f":"IF(AND(S459=Labels!$B$118,WEEKDAY(S451,2)<6),$J$7*$B$448%,\"\")","v":""},{"$f":"IF(AND(T459=Labels!$B$118,WEEKDAY(T451,2)<6),$J$7*$B$448%,\"\")","v":""},{"$f":"IF(AND(U459=Labels!$B$118,WEEKDAY(U451,2)<6),$J$7*$B$448%,\"\")","v":""},{"$f":"IF(AND(V459=Labels!$B$118,WEEKDAY(V451,2)<6),$J$7*$B$448%,\"\")","v":""},{"$f":"IF(AND(W459=Labels!$B$118,WEEKDAY(W451,2)<6),$J$7*$B$448%,\"\")","v":""},{"$f":"IF(AND(X459=Labels!$B$118,WEEKDAY(X451,2)<6),$J$7*$B$448%,\"\")","v":""},{"$f":"IF(AND(Y459=Labels!$B$118,WEEKDAY(Y451,2)<6),$J$7*$B$448%,\"\")","v":""},{"$f":"IF(AND(Z459=Labels!$B$118,WEEKDAY(Z451,2)<6),$J$7*$B$448%,\"\")","v":""},{"$f":"IF(AND(AA459=Labels!$B$118,WEEKDAY(AA451,2)<6),$J$7*$B$448%,\"\")","v":""},{"$f":"IF(AND(AB459=Labels!$B$118,WEEKDAY(AB451,2)<6),$J$7*$B$448%,\"\")","v":""},{"$f":"IF(AND(AC459=Labels!$B$118,WEEKDAY(AC451,2)<6),$J$7*$B$448%,\"\")","v":""},{"$f":"IF(AND(AD459=Labels!$B$118,WEEKDAY(AD451,2)<6),$J$7*$B$448%,\"\")","v":""},{"$f":"IF(AND(AE459=Labels!$B$118,WEEKDAY(AE451,2)<6),$J$7*$B$448%,\"\")","v":""},{"$f":"IF(AND(AF459=Labels!$B$118,WEEKDAY(AF451,2)<6),$J$7*$B$448%,\"\")","v":""},{"$f":"SUM(B460:AF460)","v":0}]
[{"$f":"$A$20","v":"Tagestotal"},{"$f":"SUM(B456:B458)","v":0},{"$f":"SUM(C456:C458)","v":0},0,0,0,0,0,0,0,0,0,0,0,0,0,0,0,0,0,0,0,0,0,0,0,0,0,0,0,0,0]
[{"$f":"$A$21","v":"."}]
[{"$f":"$A$22","v":"."}]
[{"$f":"$A$23","v":"Monatsübergang"},{"$f":"IF(WEEKDAY(B451)=1,TEXT(B451-1,\"MMM\"&Labels!B13),\"\")","v":""},null,null,null,null,null,null,null,null,null,null,null,null,null,null,null,null,null,null,null,null,null,null,null,null,null,null,null,null,null,{"$f":"IF(AND(WEEKDAY(AF451)>1,WEEKDAY(AF451)<7),TEXT(DATE($B$5,MONTH(AF451)+1,1),\"MMM\"&Labels!B13),\"\")","v":"Sep"}]
[{"$f":"$A$24","v":"Wochentotal"},{"$f":"IF(WEEKDAY(B451)=7,SUMIF($B389:$AF389,B452,$B398:$AF398)+SUMIF($B452:$AF452,B452,$B461:$AF461)+SUMIF($B515:$AF515,B452,$B524:$AF524),B464)","v":0},{"$f":"IF(WEEKDAY(C451)=7,SUMIF($B389:$AF389,C452,$B398:$AF398)+SUMIF($B452:$AF452,C452,$B461:$AF461)+SUMIF($B515:$AF515,C452,$B524:$AF524),\"\")","v":""},"","","","","",0,"","","","","","",0,"","","","","","",0,"","","","","","",0,"",{"$f":"IF(WEEKDAY(AF451)=7,SUMIF($B389:$AF389,AF452,$B398:$AF398)+SUMIF($B452:$AF452,AF452,$B461:$AF461)+SUMIF($B515:$AF515,AF452,$B524:$AF524),AF464)","v":"Sep"}]
[{"$f":"$A$25","v":"Zeitzuschlag 1)"},{"$f":"IF(B473=\"FALSCH\",\"\",B473)","v":""},{"$f":"IF(C473=\"FALSCH\",\"\",C473)","v":""},"","","","","","","","","","","","","","","","","","","","","","","","","","","","","",{"$f":"SUM(B466:AF466)","v":0}]
[{"$f":"$A$26","v":"Zeitzuschlag 2)"},{"$f":"IF((B456+B458)=0,\"\",SUM(B456,B458))","v":""},{"$f":"IF((C456+C458)=0,\"\",SUM(C456,C458))","v":""},"","","","","","","","","","","","","","","","","","","","","","","","","","","","","",0,"[1]"]
[{"$f":"$A$27","v":"Zeitzuschlag 3)"},{"$f":"SUM(B469:B472)","v":0},{"$f":"SUM(C469:C472)","v":0},0,0,0,0,0,0,0,0,0,0,0,0,0,0,0,0,0,0,0,0,0,0,0,0,0,0,0,0,0,{"$f":"SUM(B468:AF468)","v":0},"[2]"]
[{"$f":"$A$28","v":"Sonntag Tag"},{"$f":"IF(WEEKDAY(B451)=1,B457,\"\")","v":""},{"$f":"IF(WEEKDAY(C451)=1,C457,\"\")","v":0},"","","","","","",0,"","","","","","",0,"","","","","","",0,"","","","","","",0,"",0,"[3]"]
[{"$f":"$A$29","v":"Sonntag Nacht"},{"$f":"IF(WEEKDAY(B451)=1,SUM(B456+B458),\"\")","v":""},{"$f":"IF(WEEKDAY(C451)=1,SUM(C456+C458),\"\")","v":0},"","","","","","",0,"","","","","","",0,"","","","","","",0,"","","","","","",0,"",0,"[4]"]
[{"$f":"$A$30","v":"ft-Tazuschlag"},{"$f":"IF(B459=Labels!$B$118,B457,\"\")","v":""},{"$f":"IF(C459=Labels!$B$118,C457,\"\")","v":""},{"$f":"IF(D459=Labels!$B$118,D457,\"\")","v":""},{"$f":"IF(E459=Labels!$B$118,E457,\"\")","v":""},{"$f":"IF(F459=Labels!$B$118,F457,\"\")","v":""},{"$f":"IF(G459=Labels!$B$118,G457,\"\")","v":""},{"$f":"IF(H459=Labels!$B$118,H457,\"\")","v":""},{"$f":"IF(I459=Labels!$B$118,I457,\"\")","v":""},{"$f":"IF(J459=Labels!$B$118,J457,\"\")","v":""},{"$f":"IF(K459=Labels!$B$118,K457,\"\")","v":""},{"$f":"IF(L459=Labels!$B$118,L457,\"\")","v":""},{"$f":"IF(M459=Labels!$B$118,M457,\"\")","v":""},{"$f":"IF(N459=Labels!$B$118,N457,\"\")","v":""},{"$f":"IF(O459=Labels!$B$118,O457,\"\")","v":""},{"$f":"IF(P459=Labels!$B$118,P457,\"\")","v":""},{"$f":"IF(Q459=Labels!$B$118,Q457,\"\")","v":""},{"$f":"IF(R459=Labels!$B$118,R457,\"\")","v":""},{"$f":"IF(S459=Labels!$B$118,S457,\"\")","v":""},{"$f":"IF(T459=Labels!$B$118,T457,\"\")","v":""},{"$f":"IF(U459=Labels!$B$118,U457,\"\")","v":""},{"$f":"IF(V459=Labels!$B$118,V457,\"\")","v":""},{"$f":"IF(W459=Labels!$B$118,W457,\"\")","v":""},{"$f":"IF(X459=Labels!$B$118,X457,\"\")","v":""},{"$f":"IF(Y459=Labels!$B$118,Y457,\"\")","v":""},{"$f":"IF(Z459=Labels!$B$118,Z457,\"\")","v":""},{"$f":"IF(AA459=Labels!$B$118,AA457,\"\")","v":""},{"$f":"IF(AB459=Labels!$B$118,AB457,\"\")","v":""},{"$f":"IF(AC459=Labels!$B$118,AC457,\"\")","v":""},{"$f":"IF(AD459=Labels!$B$118,AD457,\"\")","v":""},{"$f":"IF(AE459=Labels!$B$118,AE457,\"\")","v":""},{"$f":"IF(AF459=Labels!$B$118,AF457,\"\")","v":""},0,"[5]"]
[{"$f":"$A$31","v":"ft-Nazuschlag"},{"$f":"IF(B459=Labels!$B$118,SUM(B456,B458),\"\")","v":""},{"$f":"IF(C459=Labels!$B$118,SUM(C456,C458),\"\")","v":""},{"$f":"IF(D459=Labels!$B$118,SUM(D456,D458),\"\")","v":""},{"$f":"IF(E459=Labels!$B$118,SUM(E456,E458),\"\")","v":""},{"$f":"IF(F459=Labels!$B$118,SUM(F456,F458),\"\")","v":""},{"$f":"IF(G459=Labels!$B$118,SUM(G456,G458),\"\")","v":""},{"$f":"IF(H459=Labels!$B$118,SUM(H456,H458),\"\")","v":""},{"$f":"IF(I459=Labels!$B$118,SUM(I456,I458),\"\")","v":""},{"$f":"IF(J459=Labels!$B$118,SUM(J456,J458),\"\")","v":""},{"$f":"IF(K459=Labels!$B$118,SUM(K456,K458),\"\")","v":""},{"$f":"IF(L459=Labels!$B$118,SUM(L456,L458),\"\")","v":""},{"$f":"IF(M459=Labels!$B$118,SUM(M456,M458),\"\")","v":""},{"$f":"IF(N459=Labels!$B$118,SUM(N456,N458),\"\")","v":""},{"$f":"IF(O459=Labels!$B$118,SUM(O456,O458),\"\")","v":""},{"$f":"IF(P459=Labels!$B$118,SUM(P456,P458),\"\")","v":""},{"$f":"IF(Q459=Labels!$B$118,SUM(Q456,Q458),\"\")","v":""},{"$f":"IF(R459=Labels!$B$118,SUM(R456,R458),\"\")","v":""},{"$f":"IF(S459=Labels!$B$118,SUM(S456,S458),\"\")","v":""},{"$f":"IF(T459=Labels!$B$118,SUM(T456,T458),\"\")","v":""},{"$f":"IF(U459=Labels!$B$118,SUM(U456,U458),\"\")","v":""},{"$f":"IF(V459=Labels!$B$118,SUM(V456,V458),\"\")","v":""},{"$f":"IF(W459=Labels!$B$118,SUM(W456,W458),\"\")","v":""},{"$f":"IF(X459=Labels!$B$118,SUM(X456,X458),\"\")","v":""},{"$f":"IF(Y459=Labels!$B$118,SUM(Y456,Y458),\"\")","v":""},{"$f":"IF(Z459=Labels!$B$118,SUM(Z456,Z458),\"\")","v":""},{"$f":"IF(AA459=Labels!$B$118,SUM(AA456,AA458),\"\")","v":""},{"$f":"IF(AB459=Labels!$B$118,SUM(AB456,AB458),\"\")","v":""},{"$f":"IF(AC459=Labels!$B$118,SUM(AC456,AC458),\"\")","v":""},{"$f":"IF(AD459=Labels!$B$118,SUM(AD456,AD458),\"\")","v":""},{"$f":"IF(AE459=Labels!$B$118,SUM(AE456,AE458),\"\")","v":""},{"$f":"IF(AF459=Labels!$B$118,SUM(AF456,AF458),\"\")","v":""},0,"[6]"]
[{"$f":"$A$32","v":"Zuschlag  blind (Wochentotal)"},{"$f":"IF(OR(ISTEXT(B465),B465=\"\",B465<$B$7),\"\",ROUND(((B465-$B$7)*25%)/25,4)*25)","v":""},{"$f":"IF(OR(ISTEXT(C465),C465=\"\",C465<$B$7),\"\",ROUND(((C465-$B$7)*25%)/25,4)*25)","v":""},"","","","","","","","","","","","","","","","","","","","","","","","","","","","","",{"$f":"AG457","v":0},"[7]"]
[null,{"$f":"$B$33","v":"1)   25% Zeitzuschlag für Überschreitung Wochentotal"},null,null,null,null,null,null,null,null,null,{"$f":"$L$33","v":"2) 100% Zeitzuschlag für Nachtarbeit"},null,null,null,null,null,null,null,{"$f":"$T$33","v":"Eingabe der ausbezahlten Stunden Vorjahressaldo"},null,null,null,null,null,null,null,null,null,null,null,null,{"$f":"SUM(AG456+AG458)","v":0},"[8]"]
[null,{"$f":"$B$34","v":"3) 100% Zeitzuschlag für Sonn- und Feiertagsarbeit"},null,null,null,null,null,null,null,null,null,null,null,null,null,null,null,null,null,{"$f":"$T$34","v":"Eingabe der ausbezahlten Stunden laufendes Jahr (Überstunden)"},null,null,null,null,null,null,null,null,null,null,null,null,{"$f":"SUM(AG456:AG458)","v":0},"[9]"]
[{"$f":"$A$35","v":"Bemerkungen"},null,null,null,null,null,null,null,null,null,null,null,null,null,null,null,null,null,null,null,null,null,null,null,null,null,null,null,null,null,null,null,{"$f":"SUM(AG454+AG460)","v":0},"[10]"]
[null,null,null,null,null,null,null,null,null,null,null,null,null,null,null,null,null,null,null,null,null,null,null,null,null,null,null,null,null,null,null,null,{"$f":"SUM(AG454:AG468)","v":0},"[11]"]
[null,null,null,null,null,null,null,null,null,null,null,null,null,null,null,null,null,null,null,null,null,null,null,null,null,null,null,null,null,null,null,null,{"$f":"AG453","v":168}]
[null,null,null,null,null,null,null,null,null,null,null,null,null,null,null,null,null,null,null,null,null,null,null,null,null,null,null,null,null,null,null,null,{"$f":"SUM(AG477-AG453)","v":-168}]
[{"$f":"$A$39","v":"Zusammenstellung"},null,null,null,null,null,{"$f":"$G$39","v":"Jan"},null,{"$f":"$I$39","v":"Feb"},null,{"$f":"$K$39","v":"Mrz"},null,{"$f":"$M$39","v":"Apr"},null,{"$f":"$O$39","v":"Mai"},null,{"$f":"$Q$39","v":"Jun"},null,{"$f":"$S$39","v":"Jul"},null,{"$f":"$U$39","v":"Aug"},null,{"$f":"$W$39","v":"Sep"},null,{"$f":"$Y$39","v":"Okt"},null,{"$f":"$AA$39","v":"Nov"},null,{"$f":"$AC$39","v":"Dez"},null,{"$f":"$AE$39","v":"Jahr"}]
[{"$f":"$A$40","v":"Anstellung %"},null,null,null,null,null,{"$f":"IF($B$4=0,0,$B$4)","v":100},null,{"$f":"IF($B$70=0,0,$B$70)","v":100},null,{"$f":"IF($B$133=0,0,$B$133)","v":100},null,{"$f":"IF($B$196=0,0,$B$196)","v":100},null,{"$f":"IF($B$259=0,0,$B$259)","v":100},null,{"$f":"IF($B$322=0,0,$B$322)","v":100},null,{"$f":"IF($B$385=0,0,$B$385)","v":100},null,{"$f":"IF($B$448=0,0,$B$448)","v":100},null,{"$f":"IF($B$511=0,0,$B$511)","v":100},null,{"$f":"IF($B$574=0,0,$B$574)","v":100},null,{"$f":"IF($B$637=0,0,$B$637)","v":100},null,{"$f":"IF($B$700=0,0,$B$700)","v":100}]
[{"$f":"$A$41","v":"Sollstunden gemäss GAV"},null,null,null,null,null,{"$f":"IF($AG$37=0,0,$AG$37)","v":184},null,{"$f":"IF($AG$100=0,0,$AG$100)","v":160},null,{"$f":"IF($AG$138=0,0,$AG$138)","v":176},null,{"$f":"IF($AG$226=0,0,$AG$226)","v":176},null,{"$f":"IF($AG$289=0,0,$AG$289)","v":168},null,{"$f":"IF($AG$352=0,0,$AG$352)","v":176},null,{"$f":"IF($AG$415=0,0,$AG$415)","v":184},null,{"$f":"IF($AG$478=0,0,$AG$478)","v":168},null,{"$f":"IF($AG$541=0,0,$AG$541)","v":176},null,{"$f":"IF($AG$604=0,0,$AG$604)","v":176},null,{"$f":"IF($AG$667=0,0,$AG$667)","v":168},null,{"$f":"IF($AG$730=0,0,$AG$730)","v":184},null,{"$f":"SUM(G482:AD482)","v":2096}]
[{"$f":"$A$42","v":"Produktive Stunden"},{"$f":"$B$42","v":"06.00 - 20.00 Uhr"},null,null,null,null,{"$f":"IF($AG$32=0,0,$AG$32)","v":0},null,{"$f":"IF($AG$95=0,0,$AG$95)","v":0},null,{"$f":"IF($AG$158=0,0,$AG$158)","v":0},null,{"$f":"IF($AG$221=0,0,$AG$221)","v":0},null,{"$f":"IF($AG$284=0,0,$AG$284)","v":0},null,{"$f":"IF($AG$347=0,0,$AG$347)","v":0},null,{"$f":"IF($AG$410=0,0,$AG$410)","v":0},null,{"$f":"IF($AG$473=0,0,$AG$473)","v":0},null,{"$f":"IF($AG$536=0,0,$AG$536)","v":0},null,{"$f":"IF($AG$599=0,0,$AG$599)","v":0},null,{"$f":"IF($AG$662=0,0,$AG$662)","v":0},null,{"$f":"IF($AG$725=0,0,$AG$725)","v":0},null,{"$f":"SUM(G483:AD483)","v":0}]
[null,{"$f":"$B$43","v":"Nacht-, Sonn-, Feiertagsarbeit"},null,null,null,null,{"$f":"IF($AG$33=0,0,$AG$33)","v":0},null,{"$f":"IF($AG$96=0,0,$AG$96)","v":0},null,{"$f":"IF($AG$159=0,0,$AG$159)","v":0},null,{"$f":"IF($AG$222=0,0,$AG$222)","v":0},null,{"$f":"IF($AG$285=0,0,$AG$285)","v":0},null,{"$f":"IF($AG$348=0,0,$AG$348)","v":0},null,{"$f":"IF($AG$411=0,0,$AG$411)","v":0},null,{"$f":"IF($AG$474=0,0,$AG$474)","v":0},null,{"$f":"IF($AG$537=0,0,$AG$537)","v":0},null,{"$f":"IF($AG$600=0,0,$AG$600)","v":0},null,{"$f":"IF($AG$663=0,0,$AG$663)","v":0},null,{"$f":"IF($AG$726=0,0,$AG$726)","v":0},null,{"$f":"SUM(G484:AD484)","v":0}]
[{"$f":"$A$44","v":"Zeitzuschläge"},{"$f":"$B$44","v":"aus Wochentotal"},null,null,null,null,{"$f":"IF($AG$25=0,0,$AG$25)","v":0},null,{"$f":"IF($AG$88=0,0,$AG$88)","v":0},null,{"$f":"IF($AG$151=0,0,$AG$151)","v":0},null,{"$f":"IF($AG$214=0,0,$AG$214)","v":0},null,{"$f":"IF($AG$277=0,0,$AG$277)","v":0},null,{"$f":"IF($AG$340=0,0,$AG$340)","v":0},null,{"$f":"IF($AG$403=0,0,$AG$403)","v":0},null,{"$f":"IF($AG$466=0,0,$AG$466)","v":0},null,{"$f":"IF($AG$529=0,0,$AG$529)","v":0},null,{"$f":"IF($AG$592=0,0,$AG$592)","v":0},null,{"$f":"IF($AG$655=0,0,$AG$655)","v":0},null,{"$f":"IF($AG$718=0,0,$AG$718)","v":0},null,{"$f":"SUM(G485:AD485)","v":0}]
[null,{"$f":"$B$45","v":"aus Nacht-, Sonn-, Feiertagsarbeiten"},null,null,null,null,{"$f":"IF($AJ$20=0,0,$AJ$20)","v":0},null,{"$f":"IF($AK$20=0,0,$AK$20)","v":0},null,{"$f":"IF($AL$20=0,0,$AL$20)","v":0},null,{"$f":"IF($AM$20=0,0,$AM$20)","v":0},null,{"$f":"IF($AN$20=0,0,$AN$20)","v":0},null,{"$f":"IF($AO$20=0,0,$AO$20)","v":0},null,{"$f":"IF($AP$20=0,0,$AP$20)","v":0},null,{"$f":"IF($AQ$20=0,0,$AQ$20)","v":0},null,{"$f":"IF($AR$20=0,0,$AR$20)","v":0},null,{"$f":"IF($AS$20=0,0,$AS$20)","v":0},null,{"$f":"IF($AT$20=0,0,$AT$20)","v":0},null,{"$f":"IF($AU$20=0,0,$AU$20)","v":0},null,{"$f":"SUM(G486:AD486)","v":0}]
[{"$f":"$A$46","v":"Unproduktive Stunden"}]
[{"$f":"$A$47","v":"   Absenzen, Kurzabsenzen Art. 11 GAV"},null,null,null,null,{"$f":"$F$47","v":"a"},{"$f":"IF($AJ$3=0,0,$AJ$3)","v":0},null,{"$f":"IF($AK$3=0,0,$AK$3)","v":0},null,{"$f":"IF($AL$3=0,0,$AL$3)","v":0},null,{"$f":"IF($AM$3=0,0,$AM$3)","v":0},null,{"$f":"IF($AN$3=0,0,$AN$3)","v":0},null,{"$f":"IF($AO$3=0,0,$AO$3)","v":0},null,{"$f":"IF($AP$3=0,0,$AP$3)","v":0},null,{"$f":"IF($AQ$3=0,0,$AQ$3)","v":0},null,{"$f":"IF($AR$3=0,0,$AR$3)","v":0},null,{"$f":"IF($AS$3=0,0,$AS$3)","v":0},null,{"$f":"IF(AT$3=0,0,$AT$3)","v":0},null,{"$f":"IF($AU$3=0,0,$AU$3)","v":0},null,{"$f":"IF($AV$3=0,0,$AV$3)","v":0}]
[{"$f":"$A$48","v":"   Ferien Art. 12.1 GAV"},null,null,null,null,{"$f":"$F$48","v":"f"},{"$f":"IF($AJ$4=0,0,$AJ$4)","v":0},null,{"$f":"IF($AK$4=0,0,$AK$4)","v":0},null,{"$f":"IF($AL$4=0,0,$AL$4)","v":0},null,{"$f":"IF($AM$4=0,0,$AM$4)","v":0},null,{"$f":"IF($AN$4=0,0,$AN$4)","v":0},null,{"$f":"IF($AO$4=0,0,$AO$4)","v":0},null,{"$f":"IF($AP$4=0,0,$AP$4)","v":0},null,{"$f":"IF($AQ$4=0,0,$AQ$4)","v":0},null,{"$f":"IF($AR$4=0,0,$AR$4)","v":0},null,{"$f":"IF($AS$4=0,0,$AS$4)","v":0},null,{"$f":"IF($AT$4=0,0,$AT$4)","v":0},null,{"$f":"IF($AU$4=0,0,$AU$4)","v":0},null,{"$f":"IF($AV$4=0,0,$AV$4)","v":0}]
[{"$f":"$A$49","v":"   Feiertage Art. 12.2 GAV"},null,{"$f":"IF($AJ$17=\"\",\"\",$AJ$17)","v":""},null,null,{"$f":"$F$49","v":"ft"},{"$f":"IF($AJ$15=0,0,$AJ$15)","v":0},null,{"$f":"IF($AK$15=0,0,$AK$15)","v":0},null,{"$f":"IF($AL$15=0,0,$AL$15)","v":0},null,{"$f":"IF($AM$15=0,0,$AM$15)","v":0},null,{"$f":"IF($AN$15=0,0,$AN$15)","v":0},null,{"$f":"IF($AO$15=0,0,$AO$15)","v":0},null,{"$f":"IF($AP$15=0,0,$AP$15)","v":0},null,{"$f":"IF($AQ$15=0,0,$AQ$15)","v":0},null,{"$f":"IF($AR$15=0,0,$AR$15)","v":0},null,{"$f":"IF($AS$15=0,0,$AS$15)","v":0},null,{"$f":"IF($AT$15=0,0,$AT$15)","v":0},null,{"$f":"IF($AU$15=0,0,$AU$15)","v":0},null,{"$f":"IF($AV$15=0,0,$AV$15)","v":0}]
[{"$f":"$A$50","v":"   Krankheit Art. 13 GAV"},null,null,null,null,{"$f":"$F$50","v":"k"},{"$f":"IF($AJ$5=0,0,$AJ$5)","v":0},null,{"$f":"IF($AK$5=0,0,$AK$5)","v":0},null,{"$f":"IF($AL$5=0,0,$AL$5)","v":0},null,{"$f":"IF($AM$5=0,0,$AM$5)","v":0},null,{"$f":"IF($AN$5=0,0,$AN$5)","v":0},null,{"$f":"IF($AO$5=0,0,$AO$5)","v":0},null,{"$f":"IF($AP$5=0,0,$AP$5)","v":0},null,{"$f":"IF($AQ$5=0,0,$AQ$5)","v":0},null,{"$f":"IF($AR$5=0,0,$AR$5)","v":0},null,{"$f":"IF($AS$5=0,0,$AS$5)","v":0},null,{"$f":"IF($AT$5=0,0,$AT$5)","v":0},null,{"$f":"IF($AU$5=0,0,$AU$5)","v":0},null,{"$f":"IF($AV$5=0,0,$AV$5)","v":0}]
[{"$f":"$A$51","v":"   Unfall Art. 14 GAV"},null,null,null,null,{"$f":"$F$51","v":"u"},{"$f":"IF($AJ$6=0,0,$AJ$6)","v":0},null,{"$f":"IF($AK$6=0,0,$AK$6)","v":0},null,{"$f":"IF($AL$6=0,0,$AL$6)","v":0},null,{"$f":"IF($AM$6=0,0,$AM$6)","v":0},null,{"$f":"IF($AN$6=0,0,$AN$6)","v":0},null,{"$f":"IF($AO$6=0,0,$AO$6)","v":0},null,{"$f":"IF($AP$6=0,0,$AP$6)","v":0},null,{"$f":"IF($AQ$6=0,0,$AQ$6)","v":0},null,{"$f":"IF($AR$6=0,0,$AR$6)","v":0},null,{"$f":"IF($AS$6=0,0,$AS$6)","v":0},null,{"$f":"IF($AT$6=0,0,$AT$6)","v":0},null,{"$f":"IF($AU$6=0,0,$AU$6)","v":0},null,{"$f":"IF($AV$6=0,0,$AV$6)","v":0}]
[{"$f":"$A$52","v":"   Schwangerschaft/Mutterschaft Art. 15 GAV"},null,null,null,null,{"$f":"$F$52","v":"s"},{"$f":"IF($AJ$7=0,0,$AJ$7)","v":0},null,{"$f":"IF($AK$7=0,0,$AK$7)","v":0},null,{"$f":"IF($AL$7=0,0,$AL$7)","v":0},null,{"$f":"IF($AM$7=0,0,$AM$7)","v":0},null,{"$f":"IF($AN$7=0,0,$AN$7)","v":0},null,{"$f":"IF($AO$7=0,0,$AO$7)","v":0},null,{"$f":"IF($AP$7=0,0,$AP$7)","v":0},null,{"$f":"IF($AQ$7=0,0,$AQ$7)","v":0},null,{"$f":"IF($AR$7=0,0,$AR$7)","v":0},null,{"$f":"IF($AS$7=0,0,$AS$7)","v":0},null,{"$f":"IF($AT$7=0,0,$AT$7)","v":0},null,{"$f":"IF($AU$7=0,0,$AU$7)","v":0},null,{"$f":"IF($AV$7=0,0,$AV$7)","v":0}]
[{"$f":"$A$53","v":"   Militär/Beförderung/Zivilschutz Art. 16 GAV"},null,null,null,null,{"$f":"$F$53","v":"m"},{"$f":"IF($AJ$8=0,0,$AJ$8)","v":0},null,{"$f":"IF($AK$8=0,0,$AK$8)","v":0},null,{"$f":"IF($AL$8=0,0,$AL$8)","v":0},null,{"$f":"IF($AM$8=0,0,$AM$8)","v":0},null,{"$f":"IF($AN$8=0,0,$AN$8)","v":0},null,{"$f":"IF($AO$8=0,0,$AO$8)","v":0},null,{"$f":"IF($AP$8=0,0,$AP$8)","v":0},null,{"$f":"IF($AQ$8=0,0,$AQ$8)","v":0},null,{"$f":"IF($AR$8=0,0,$AR$8)","v":0},null,{"$f":"IF($AS$8=0,0,$AS$8)","v":0},null,{"$f":"IF($AT$8=0,0,$AT$8)","v":0},null,{"$f":"IF($AU$8=0,0,$AU$8)","v":0},null,{"$f":"IF($AV$8=0,0,$AV$8)","v":0}]
[{"$f":"$A$54","v":"   Kurzarbeit und Schlechtwetterausfälle"},null,null,null,null,{"$f":"$F$54","v":"ka"},{"$f":"IF($AJ$11=0,0,$AJ$11)","v":0},null,{"$f":"IF($AK$11=0,0,$AK$11)","v":0},null,{"$f":"IF($AL$11=0,0,$AL$11)","v":0},null,{"$f":"IF($AM$11=0,0,$AM$11)","v":0},null,{"$f":"IF($AN$11=0,0,$AN$11)","v":0},null,{"$f":"IF($AO$11=0,0,$AO$11)","v":0},null,{"$f":"IF($AP$11=0,0,$AP$11)","v":0},null,{"$f":"IF($AQ$11=0,0,$AQ$11)","v":0},null,{"$f":"IF($AR$11=0,0,$AR$11)","v":0},null,{"$f":"IF($AS$11=0,0,$AS$11)","v":0},null,{"$f":"IF($AT$11=0,0,$AT$11)","v":0},null,{"$f":"IF($AU$11=0,0,$AU$11)","v":0},null,{"$f":"IF($AV$11=0,0,$AV$11)","v":0}]
[{"$f":"$A$55","v":"   Berufsschule"},null,null,null,null,{"$f":"$F$55","v":"bs"},{"$f":"IF($AJ$9=0,0,$AJ$9)","v":0},null,{"$f":"IF($AK$9=0,0,$AK$9)","v":0},null,{"$f":"IF($AL$9=0,0,$AL$9)","v":0},null,{"$f":"IF($AM$9=0,0,$AM$9)","v":0},null,{"$f":"IF($AN$9=0,0,$AN$9)","v":0},null,{"$f":"IF($AO$9=0,0,$AO$9)","v":0},null,{"$f":"IF($AP$9=0,0,$AP$9)","v":0},null,{"$f":"IF($AQ$9=0,0,$AQ$9)","v":0},null,{"$f":"IF($AR$9=0,0,$AR$9)","v":0},null,{"$f":"IF($AS$9=0,0,$AS$9)","v":0},null,{"$f":"IF($AT$9=0,0,$AT$9)","v":0},null,{"$f":"IF($AU$9=0,0,$AU$9)","v":0},null,{"$f":"IF($AV$9=0,0,$AV$9)","v":0}]
[{"$f":"$A$56","v":"   Kurse"},null,null,null,null,{"$f":"$F$56","v":"ku"},{"$f":"IF($AJ$10=0,0,$AJ$10)","v":0},null,{"$f":"IF($AK$10=0,0,$AK$10)","v":0},null,{"$f":"IF($AL$10=0,0,$AL$10)","v":0},null,{"$f":"IF($AM$10=0,0,$AM$10)","v":0},null,{"$f":"IF($AN$10=0,0,$AN$10)","v":0},null,{"$f":"IF($AO$10=0,0,$AO$10)","v":0},null,{"$f":"IF($AP$10=0,0,$AP$10)","v":0},null,{"$f":"IF($AQ$10=0,0,$AQ$10)","v":0},null,{"$f":"IF($AR$10=0,0,$AR$10)","v":0},null,{"$f":"IF($AS$10=0,0,$AS$10)","v":0},null,{"$f":"IF($AT$10=0,0,$AT$10)","v":0},null,{"$f":"IF($AU$10=0,0,$AU$10)","v":0},null,{"$f":"IF($AV$10=0,0,$AV$10)","v":0}]
[{"$f":"$A$57","v":"Kompensations-Std"},{"$f":"$B$57","v":"aus Vorjahr"},null,null,null,{"$f":"$F$57","v":"kv"},{"$f":"IF($AJ$12=0,0,$AJ$12)","v":0},null,{"$f":"IF($AK$12=0,0,$AK$12)","v":0},null,{"$f":"IF($AL$12=0,0,$AL$12)","v":0},null,{"$f":"IF($AM$12=0,0,$AM$12)","v":0},null,{"$f":"IF($AN$12=0,0,$AN$12)","v":0},null,{"$f":"IF($AO$12=0,0,$AO$12)","v":0},null,{"$f":"IF($AP$12=0,0,$AP$12)","v":0},null,{"$f":"IF($AQ$12=0,0,$AQ$12)","v":0},null,{"$f":"IF($AR$12=0,0,$AR$12)","v":0},null,null,null,null,null,null,null,{"$f":"IF($AV$12=0,0,$AV$12)","v":0}]
[null,{"$f":"$B$58","v":"aus laufendem Jahr (Kontrolle)"},null,null,null,{"$f":"$F$58","v":"kj"},{"$f":"IF($AJ$14=0,0,$AJ$14)","v":0},null,{"$f":"IF($AK$14=0,0,$AK$14)","v":0},null,{"$f":"IF($AL$14=0,0,$AL$14)","v":0},null,{"$f":"IF($AM$14=0,0,$AM$14)","v":0},null,{"$f":"IF($AN$14=0,0,$AN$14)","v":0},null,{"$f":"IF($AO$14=0,0,$AO$14)","v":0},null,{"$f":"IF($AP$14=0,0,$AP$14)","v":0},null,{"$f":"IF($AQ$14=0,0,$AQ$14)","v":0},null,{"$f":"IF($AR$14=0,0,$AR$14)","v":0},null,{"$f":"IF($AS$14=0,0,$AS$14)","v":0},null,{"$f":"IF($AT$14=0,0,$AT$14)","v":0},null,{"$f":"IF($AU$14=0,0,$AU$14)","v":0},null,{"$f":"IF($AV$14=0,0,$AV$14)","v":0}]
[{"$f":"$A$59","v":"Auszahlung"},{"$f":"$B$59","v":"Stunden Vorjahressaldo"},null,null,null,null,{"$f":"IF($AJ$18=0,0,$AJ$18)","v":0},null,{"$f":"IF($AK$18=0,0,$AK$18)","v":0},null,{"$f":"IF($AL$18=0,0,$AL$18)","v":0},null,{"$f":"IF($AM$18=0,0,$AM$18)","v":0},null,{"$f":"IF($AN$18=0,0,$AN$18)","v":0},null,{"$f":"IF($AO$18=0,0,$AO$18)","v":0},null,{"$f":"IF($AP$18=0,0,$AP$18)","v":0},null,{"$f":"IF($AQ$18=0,0,$AQ$18)","v":0},null,{"$f":"IF($AR$18=0,0,$AR$18)","v":0},null,null,null,null,null,null,null,{"$f":"IF($AV$18=0,0,$AV$18)","v":0}]
[{"$f":"$A$60","v":"Differenz"},{"$f":"$B$60","v":"nach Kompensation und Auszahlung"},null,null,null,null,{"$f":"IF(ROUND($P$4,3)=0,0,$P$4-SUM(G498+G500))","v":0},null,{"$f":"IF(ROUND(G501,3)=0,0,G501-(SUM(I500+I498)))","v":0},null,{"$f":"IF(ROUND(I501,3)=0,0,I501-(SUM(K500+K498)))","v":0},null,{"$f":"IF(ROUND(K501,3)=0,0,K501-(SUM(M500+M498)))","v":0},null,{"$f":"IF(ROUND(M501,3)=0,0,M501-(SUM(O500+O498)))","v":0},null,{"$f":"IF(ROUND(O501,3)=0,0,O501-(SUM(Q500+Q498)))","v":0},null,{"$f":"IF(ROUND(Q501,3)=0,0,Q501-(SUM(S500+S498)))","v":0},null,{"$f":"IF(ROUND(S501,3)=0,0,S501-(SUM(U500+U498)))","v":0},null,{"$f":"IF(ROUND(U501,3)=0,0,U501-(SUM(W500+W498)))","v":0},null,{"$f":"$Y$60","v":""}]
[{"$f":"$A$61","v":"Auszahlung"},{"$f":"$B$61","v":"Stunden laufendes Jahr"},null,null,null,null,{"$f":"IF($AJ$19=0,0,$AJ$19)","v":0},null,{"$f":"IF($AK$19=0,0,$AK$19)","v":0},null,{"$f":"IF($AL$19=0,0,$AL$19)","v":0},null,{"$f":"IF($AM$19=0,0,$AM$19)","v":0},null,{"$f":"IF($AN$19=0,0,$AN$19)","v":0},null,{"$f":"IF($AO$19=0,0,$AO$19)","v":0},null,{"$f":"IF($AP$19=0,0,$AP$19)","v":0},null,{"$f":"IF($AQ$19=0,0,$AQ$19)","v":0},null,{"$f":"IF($AR$19=0,0,$AR$19)","v":0},null,{"$f":"IF($AS$19=0,0,$AS$19)","v":0},null,{"$f":"IF($AT$19=0,0,$AT$19)","v":0},null,{"$f":"IF($AU$19=0,0,$AU$19)","v":0},null,{"$f":"IF($AV$19=0,0,$AV$19)","v":0}]
[{"$f":"$A$62","v":"Fehlstunden"},{"$f":"$B$62","v":"laufendes Jahr (Kontrolle)"},null,null,null,{"$f":"$F$62","v":"fe"},{"$f":"IF($AJ$13=0,0,$AJ$13)","v":0},null,{"$f":"IF($AK$13=0,0,$AK$13)","v":0},null,{"$f":"IF($AL$13=0,0,$AL$13)","v":0},null,{"$f":"IF($AM$13=0,0,$AM$13)","v":0},null,{"$f":"IF($AN$13=0,0,$AN$13)","v":0},null,{"$f":"IF($AO$13=0,0,$AO$13)","v":0},null,{"$f":"IF($AP$13=0,0,$AP$13)","v":0},null,{"$f":"IF($AQ$13=0,0,$AQ$13)","v":0},null,{"$f":"IF($AR$13=0,0,$AR$13)","v":0},null,{"$f":"IF($AS$13=0,0,$AS$13)","v":0},null,{"$f":"IF($AT$13=0,0,$AT$13)","v":0},null,{"$f":"IF($AU$13=0,0,$AU$13)","v":0},null,{"$f":"IF($AV$13=0,0,$AV$13)","v":0}]
[{"$f":"$A$63","v":"Total inkl. Zeitzuschläge"},{"$f":"$B$63","v":"Stunden produktiv und unproduktiv"},null,null,null,null,{"$f":"IF($AG$36=0,0,$AG$36)","v":0},null,{"$f":"IF($AG$99=0,0,$AG$99)","v":0},null,{"$f":"IF($AG$162=0,0,$AG$162)","v":0},null,{"$f":"IF($AG$225=0,0,$AG$225)","v":0},null,{"$f":"IF($AG$288=0,0,$AG$288)","v":0},null,{"$f":"IF($AG$351=0,0,$AG$351)","v":0},null,{"$f":"IF($AG$414=0,0,$AG$414)","v":0},null,{"$f":"IF($AG$477=0,0,$AG$477)","v":0},null,{"$f":"IF($AG$540=0,0,$AG$540)","v":0},null,{"$f":"IF($AG$603=0,0,$AG$603)","v":0},null,{"$f":"IF($AG$666=0,0,$AG$666)","v":0},null,{"$f":"IF($AG$729=0,0,$AG$729)","v":0},null,{"$f":"SUM($G$63:$AD$63)","v":0}]
[{"$f":"$A$64","v":"Vergleich"},{"$f":"$B$64","v":"Stunden zu Soll-Stunden (inkl. allfälli-\nge Minusstunden Vorjahr)"},null,null,null,null,{"$f":"$G$64","v":-184},null,{"$f":"$I$64","v":-160},null,{"$f":"$K$64","v":-176},null,{"$f":"$M$64","v":-176},null,{"$f":"$O$64","v":-168},null,{"$f":"$Q$64","v":-176},null,{"$f":"$S$64","v":-184},null,{"$f":"$U$64","v":-168},null,{"$f":"$W$64","v":-176},null,{"$f":"$Y$64","v":-176},null,{"$f":"$AA$64","v":-168},null,{"$f":"$AC$64","v":-184},null,{"$f":"$AE$64","v":-2096}]
[null,{"$f":"$B$65","v":"Stunden zu Soll-Stunden (kumuliert)"},null,null,null,null,{"$f":"$G$65","v":-184},null,{"$f":"$I$65","v":-344},null,{"$f":"$K$65","v":-520},null,{"$f":"$M$65","v":-696},null,{"$f":"$O$65","v":-864},null,{"$f":"$Q$65","v":-1040},null,{"$f":"$S$65","v":-1224},null,{"$f":"$U$65","v":-1392},null,{"$f":"$W$65","v":-1568},null,{"$f":"$Y$65","v":-1744},null,{"$f":"$AA$65","v":-1912},null,{"$f":"$AC$65","v":-2096},null,{"$f":"$AE$65","v":0}]
[{"$f":"$A$66","v":"Ferienkontrolle"},{"$f":"$B$66","v":"Ferienguthaben Vorjahr"},null,null,null,null,{"$f":"IF($AA$4=0,0,$AA$4)","v":0},null,{"$f":"$I$66","v":"Ferienguthaben nach \nArt. 12.1 GAV"},null,null,null,{"$f":"IF($AA$5=0,0,$AA$5)","v":0},null,{"$f":"$O$66","v":"Ferienguthaben total"},null,null,null,{"$f":"SUM(G507+M507)","v":0},null,{"$f":"$U$66","v":"Ferien bezogen"},null,null,null,{"$f":"IF($AV$4=0,0,$AV$4)","v":0},null,{"$f":"$AA$66","v":"Aktuelles Ferienguthaben"},null,null,null,{"$f":"IF(S507=0,0,S507-Y507)","v":0}]
[]
[]
[{"$f":"$A$3","v":"Mitarbeiter/In"},{"$f":"IF($B$3=\"\",\"\",$B$3)","v":"Muster Peter"},null,null,null,null,null,null,null,null,null,null,null,null,null,null,null,null,null,null,null,null,null,null,null,null,null,null,null,null,null,{"$f":"AF3","v":0}]
[{"$f":"$A$4","v":"Anstellung %"},100,null,{"$f":"Labels!B97","v":"im September"}]
[{"$f":"$A$5","v":"Saldo für das Jahr"},null,null,{"$f":"IF($AE$64=0,0,$AE$64)","v":-2096}]
[{"$f":"TEXT(DATE(YEAR(AP28),MONTH(AP28)+8,1),\"MMMM\"&Labels!B13)","v":"September"},{"$f":"$B$9","v":"Saldo Monat + / -"},null,null,null,{"$f":"(AG516-(SUM(AG517:AG531)-AE538))*-1","v":-176},null,null,null,null,{"$f":"$K$9","v":" = "},{"$f":"$L$9","v":"Gelbe Felder müssen ausgefüllt werden (die übrigen werden automatisch berechnet)"}]
[{"$f":"$A$10","v":"Tag"},{"$f":"AF451+1","v":"2020-09-01"},{"$f":"B514+1","v":"2020-09-02"},{"$f":"C514+1","v":"2020-09-03"},"2020-09-04","2020-09-05","2020-09-06","2020-09-07","2020-09-08","2020-09-09","2020-09-10","2020-09-11","2020-09-12","2020-09-13","2020-09-14","2020-09-15","2020-09-16","2020-09-17","2020-09-18","2020-09-19","2020-09-20","2020-09-21","2020-09-22","2020-09-23","2020-09-24","2020-09-25","2020-09-26","2020-09-27","2020-09-28","2020-09-29","2020-09-30",null,{"$f":"COUNT(B516:AF516)&\" \"&Labels!$B$63","v":"22 Tage"}]
[{"$f":"$A$11","v":"Kalenderwoche"},{"$f":"IF(B514=\"\",\"\",TRUNC((B514-DATE(YEAR(B514+3-MOD(B514-2,7)),1,MOD(B514-2,7)-9))/7))","v":36},36,36,36,36,36,37,37,37,37,37,37,37,38,38,38,38,38,38,38,39,39,39,39,39,39,39,40,40,40,""]
[{"$f":"$A$12","v":"Sollstunden"},{"$f":"IF(MOD(B514,7)>=2,$J$7*$B$511%,\"\")","v":8},8,8,8,"","",8,8,8,8,8,"","",8,8,8,8,8,"","",8,8,8,8,8,"","",8,8,8,null,{"$f":"SUM(B516:AF516)","v":176}]
[{"$f":"$A$13","v":"Absenz in Std"},{"$f":"B1003","v":0},{"$f":"C1003","v":0},0,0,0,0,0,0,0,0,0,0,0,0,0,0,0,0,0,0,0,0,0,0,0,0,0,0,0,0,null,{"$f":"SUM(AR3:AR12)","v":0}]
[{"$f":"$A$14","v":"Code"},{"$f":"IF(B1003<>0,IF(MAX(B990:B1002)<B1003,Labels!$B$163,INDEX($AH$990:$AH$1002,MATCH(MAX(B990:B1002),B990:B1002,0))),\"\")","v":""},{"$f":"IF(C1003<>0,IF(MAX(C990:C1002)<C1003,Labels!$B$163,INDEX($AH$990:$AH$1002,MATCH(MAX(C990:C1002),C990:C1002,0))),\"\")","v":""},{"$f":"IF(D1003<>0,IF(MAX(D990:D1002)<D1003,Labels!$B$163,INDEX($AH$990:$AH$1002,MATCH(MAX(D990:D1002),D990:D1002,0))),\"\")","v":""},{"$f":"IF(E1003<>0,IF(MAX(E990:E1002)<E1003,Labels!$B$163,INDEX($AH$990:$AH$1002,MATCH(MAX(E990:E1002),E990:E1002,0))),\"\")","v":""},{"$f":"IF(F1003<>0,IF(MAX(F990:F1002)<F1003,Labels!$B$163,INDEX($AH$990:$AH$1002,MATCH(MAX(F990:F1002),F990:F1002,0))),\"\")","v":""},{"$f":"IF(G1003<>0,IF(MAX(G990:G1002)<G1003,Labels!$B$163,INDEX($AH$990:$AH$1002,MATCH(MAX(G990:G1002),G990:G1002,0))),\"\")","v":""},{"$f":"IF(H1003<>0,IF(MAX(H990:H1002)<H1003,Labels!$B$163,INDEX($AH$990:$AH$1002,MATCH(MAX(H990:H1002),H990:H1002,0))),\"\")","v":""},{"$f":"IF(I1003<>0,IF(MAX(I990:I1002)<I1003,Labels!$B$163,INDEX($AH$990:$AH$1002,MATCH(MAX(I990:I1002),I990:I1002,0))),\"\")","v":""},{"$f":"IF(J1003<>0,IF(MAX(J990:J1002)<J1003,Labels!$B$163,INDEX($AH$990:$AH$1002,MATCH(MAX(J990:J1002),J990:J1002,0))),\"\")","v":""},{"$f":"IF(K1003<>0,IF(MAX(K990:K1002)<K1003,Labels!$B$163,INDEX($AH$990:$AH$1002,MATCH(MAX(K990:K1002),K990:K1002,0))),\"\")","v":""},{"$f":"IF(L1003<>0,IF(MAX(L990:L1002)<L1003,Labels!$B$163,INDEX($AH$990:$AH$1002,MATCH(MAX(L990:L1002),L990:L1002,0))),\"\")","v":""},{"$f":"IF(M1003<>0,IF(MAX(M990:M1002)<M1003,Labels!$B$163,INDEX($AH$990:$AH$1002,MATCH(MAX(M990:M1002),M990:M1002,0))),\"\")","v":""},{"$f":"IF(N1003<>0,IF(MAX(N990:N1002)<N1003,Labels!$B$163,INDEX($AH$990:$AH$1002,MATCH(MAX(N990:N1002),N990:N1002,0))),\"\")","v":""},{"$f":"IF(O1003<>0,IF(MAX(O990:O1002)<O1003,Labels!$B$163,INDEX($AH$990:$AH$1002,MATCH(MAX(O990:O1002),O990:O1002,0))),\"\")","v":""},{"$f":"IF(P1003<>0,IF(MAX(P990:P1002)<P1003,Labels!$B$163,INDEX($AH$990:$AH$1002,MATCH(MAX(P990:P1002),P990:P1002,0))),\"\")","v":""},{"$f":"IF(Q1003<>0,IF(MAX(Q990:Q1002)<Q1003,Labels!$B$163,INDEX($AH$990:$AH$1002,MATCH(MAX(Q990:Q1002),Q990:Q1002,0))),\"\")","v":""},{"$f":"IF(R1003<>0,IF(MAX(R990:R1002)<R1003,Labels!$B$163,INDEX($AH$990:$AH$1002,MATCH(MAX(R990:R1002),R990:R1002,0))),\"\")","v":""},{"$f":"IF(S1003<>0,IF(MAX(S990:S1002)<S1003,Labels!$B$163,INDEX($AH$990:$AH$1002,MATCH(MAX(S990:S1002),S990:S1002,0))),\"\")","v":""},{"$f":"IF(T1003<>0,IF(MAX(T990:T1002)<T1003,Labels!$B$163,INDEX($AH$990:$AH$1002,MATCH(MAX(T990:T1002),T990:T1002,0))),\"\")","v":""},{"$f":"IF(U1003<>0,IF(MAX(U990:U1002)<U1003,Labels!$B$163,INDEX($AH$990:$AH$1002,MATCH(MAX(U990:U1002),U990:U1002,0))),\"\")","v":""},{"$f":"IF(V1003<>0,IF(MAX(V990:V1002)<V1003,Labels!$B$163,INDEX($AH$990:$AH$1002,MATCH(MAX(V990:V1002),V990:V1002,0))),\"\")","v":""},{"$f":"IF(W1003<>0,IF(MAX(W990:W1002)<W1003,Labels!$B$163,INDEX($AH$990:$AH$1002,MATCH(MAX(W990:W1002),W990:W1002,0))),\"\")","v":""},{"$f":"IF(X1003<>0,IF(MAX(X990:X1002)<X1003,Labels!$B$163,INDEX($AH$990:$AH$1002,MATCH(MAX(X990:X1002),X990:X1002,0))),\"\")","v":""},{"$f":"IF(Y1003<>0,IF(MAX(Y990:Y1002)<Y1003,Labels!$B$163,INDEX($AH$990:$AH$1002,MATCH(MAX(Y990:Y1002),Y990:Y1002,0))),\"\")","v":""},{"$f":"IF(Z1003<>0,IF(MAX(Z990:Z1002)<Z1003,Labels!$B$163,INDEX($AH$990:$AH$1002,MATCH(MAX(Z990:Z1002),Z990:Z1002,0))),\"\")","v":""},{"$f":"IF(AA1003<>0,IF(MAX(AA990:AA1002)<AA1003,Labels!$B$163,INDEX($AH$990:$AH$1002,MATCH(MAX(AA990:AA1002),AA990:AA1002,0))),\"\")","v":""},{"$f":"IF(AB1003<>0,IF(MAX(AB990:AB1002)<AB1003,Labels!$B$163,INDEX($AH$990:$AH$1002,MATCH(MAX(AB990:AB1002),AB990:AB1002,0))),\"\")","v":""},{"$f":"IF(AC1003<>0,IF(MAX(AC990:AC1002)<AC1003,Labels!$B$163,INDEX($AH$990:$AH$1002,MATCH(MAX(AC990:AC1002),AC990:AC1002,0))),\"\")","v":""},{"$f":"IF(AD1003<>0,IF(MAX(AD990:AD1002)<AD1003,Labels!$B$163,INDEX($AH$990:$AH$1002,MATCH(MAX(AD990:AD1002),AD990:AD1002,0))),\"\")","v":""},{"$f":"IF(AE1003<>0,IF(MAX(AE990:AE1002)<AE1003,Labels!$B$163,INDEX($AH$990:$AH$1002,MATCH(MAX(AE990:AE1002),AE990:AE1002,0))),\"\")","v":""}]
[{"$f":"$A$15","v":"00.00-06.00h"},null,null,null,null,null,null,null,null,null,null,null,null,null,null,null,null,null,null,null,null,null,null,null,null,null,null,null,null,null,null,null,{"$f":"SUM(B519:AF519)","v":0}]
[{"$f":"$A$16","v":"06.00-20.00h"},null,null,null,null,null,null,null,null,null,null,null,null,null,null,null,null,null,null,null,null,null,null,null,null,null,null,null,null,null,null,null,{"$f":"SUM(B520:AF520)","v":0}]
[{"$f":"$A$17","v":"20.00-24.00h"},null,null,null,null,null,null,null,null,null,null,null,null,null,null,null,null,null,null,null,null,null,null,null,null,null,null,null,null,null,null,null,{"$f":"SUM(B521:AF521)","v":0},"[0]"]
[{"$f":"$A$18","v":"Feiertag \"ft\""},{"$f":"IF(WEEKDAY(B514,2)<=6,IF(KALENDER!E19=\"x\",Labels!$B$118,\"\"),\"\")","v":""},{"$f":"IF(WEEKDAY(C514,2)<=6,IF(KALENDER!F19=\"x\",Labels!$B$118,\"\"),\"\")","v":""},{"$f":"IF(WEEKDAY(D514,2)<=6,IF(KALENDER!G19=\"x\",Labels!$B$118,\"\"),\"\")","v":""},{"$f":"IF(WEEKDAY(E514,2)<=6,IF(KALENDER!H19=\"x\",Labels!$B$118,\"\"),\"\")","v":""},{"$f":"IF(WEEKDAY(F514,2)<=6,IF(KALENDER!I19=\"x\",Labels!$B$118,\"\"),\"\")","v":""},{"$f":"IF(WEEKDAY(G514,2)<=6,IF(KALENDER!J19=\"x\",Labels!$B$118,\"\"),\"\")","v":""},{"$f":"IF(WEEKDAY(H514,2)<=6,IF(KALENDER!K19=\"x\",Labels!$B$118,\"\"),\"\")","v":""},{"$f":"IF(WEEKDAY(I514,2)<=6,IF(KALENDER!L19=\"x\",Labels!$B$118,\"\"),\"\")","v":""},{"$f":"IF(WEEKDAY(J514,2)<=6,IF(KALENDER!M19=\"x\",Labels!$B$118,\"\"),\"\")","v":""},{"$f":"IF(WEEKDAY(K514,2)<=6,IF(KALENDER!N19=\"x\",Labels!$B$118,\"\"),\"\")","v":""},{"$f":"IF(WEEKDAY(L514,2)<=6,IF(KALENDER!O19=\"x\",Labels!$B$118,\"\"),\"\")","v":""},{"$f":"IF(WEEKDAY(M514,2)<=6,IF(KALENDER!P19=\"x\",Labels!$B$118,\"\"),\"\")","v":""},{"$f":"IF(WEEKDAY(N514,2)<=6,IF(KALENDER!Q19=\"x\",Labels!$B$118,\"\"),\"\")","v":""},{"$f":"IF(WEEKDAY(O514,2)<=6,IF(KALENDER!R19=\"x\",Labels!$B$118,\"\"),\"\")","v":""},{"$f":"IF(WEEKDAY(P514,2)<=6,IF(KALENDER!S19=\"x\",Labels!$B$118,\"\"),\"\")","v":""},{"$f":"IF(WEEKDAY(Q514,2)<=6,IF(KALENDER!T19=\"x\",Labels!$B$118,\"\"),\"\")","v":""},{"$f":"IF(WEEKDAY(R514,2)<=6,IF(KALENDER!U19=\"x\",Labels!$B$118,\"\"),\"\")","v":""},{"$f":"IF(WEEKDAY(S514,2)<=6,IF(KALENDER!V19=\"x\",Labels!$B$118,\"\"),\"\")","v":""},{"$f":"IF(WEEKDAY(T514,2)<=6,IF(KALENDER!W19=\"x\",Labels!$B$118,\"\"),\"\")","v":""},{"$f":"IF(WEEKDAY(U514,2)<=6,IF(KALENDER!X19=\"x\",Labels!$B$118,\"\"),\"\")","v":""},{"$f":"IF(WEEKDAY(V514,2)<=6,IF(KALENDER!Y19=\"x\",Labels!$B$118,\"\"),\"\")","v":""},{"$f":"IF(WEEKDAY(W514,2)<=6,IF(KALENDER!Z19=\"x\",Labels!$B$118,\"\"),\"\")","v":""},{"$f":"IF(WEEKDAY(X514,2)<=6,IF(KALENDER!AA19=\"x\",Labels!$B$118,\"\"),\"\")","v":""},{"$f":"IF(WEEKDAY(Y514,2)<=6,IF(KALENDER!AB19=\"x\",Labels!$B$118,\"\"),\"\")","v":""},{"$f":"IF(WEEKDAY(Z514,2)<=6,IF(KALENDER!AC19=\"x\",Labels!$B$118,\"\"),\"\")","v":""},{"$f":"IF(WEEKDAY(AA514,2)<=6,IF(KALENDER!AD19=\"x\",Labels!$B$118,\"\"),\"\")","v":""},{"$f":"IF(WEEKDAY(AB514,2)<=6,IF(KALENDER!AE19=\"x\",Labels!$B$118,\"\"),\"\")","v":""},{"$f":"IF(WEEKDAY(AC514,2)<=6,IF(KALENDER!AF19=\"x\",Labels!$B$118,\"\"),\"\")","v":""},{"$f":"IF(WEEKDAY(AD514,2)<=6,IF(KALENDER!AG19=\"x\",Labels!$B$118,\"\"),\"\")","v":""},{"$f":"IF(WEEKDAY(AE514,2)<=6,IF(KALENDER!AH19=\"x\",Labels!$B$118,\"\"),\"\")","v":""},{"$f":"IF(WEEKDAY(AF514,2)<=6,IF(KALENDER!AI19=\"x\",Labels!$B$118,\"\"),\"\")","v":""}]
[{"$f":"$A$19","v":"Gutschrift \"ft\""},{"$f":"IF(AND(B522=Labels!$B$118,WEEKDAY(B514,2)<6),$J$7*$B$511%,\"\")","v":""},{"$f":"IF(AND(C522=Labels!$B$118,WEEKDAY(C514,2)<6),$J$7*$B$511%,\"\")","v":""},{"$f":"IF(AND(D522=Labels!$B$118,WEEKDAY(D514,2)<6),$J$7*$B$511%,\"\")","v":""},{"$f":"IF(AND(E522=Labels!$B$118,WEEKDAY(E514,2)<6),$J$7*$B$511%,\"\")","v":""},{"$f":"IF(AND(F522=Labels!$B$118,WEEKDAY(F514,2)<6),$J$7*$B$511%,\"\")","v":""},{"$f":"IF(AND(G522=Labels!$B$118,WEEKDAY(G514,2)<6),$J$7*$B$511%,\"\")","v":""},{"$f":"IF(AND(H522=Labels!$B$118,WEEKDAY(H514,2)<6),$J$7*$B$511%,\"\")","v":""},{"$f":"IF(AND(I522=Labels!$B$118,WEEKDAY(I514,2)<6),$J$7*$B$511%,\"\")","v":""},{"$f":"IF(AND(J522=Labels!$B$118,WEEKDAY(J514,2)<6),$J$7*$B$511%,\"\")","v":""},{"$f":"IF(AND(K522=Labels!$B$118,WEEKDAY(K514,2)<6),$J$7*$B$511%,\"\")","v":""},{"$f":"IF(AND(L522=Labels!$B$118,WEEKDAY(L514,2)<6),$J$7*$B$511%,\"\")","v":""},{"$f":"IF(AND(M522=Labels!$B$118,WEEKDAY(M514,2)<6),$J$7*$B$511%,\"\")","v":""},{"$f":"IF(AND(N522=Labels!$B$118,WEEKDAY(N514,2)<6),$J$7*$B$511%,\"\")","v":""},{"$f":"IF(AND(O522=Labels!$B$118,WEEKDAY(O514,2)<6),$J$7*$B$511%,\"\")","v":""},{"$f":"IF(AND(P522=Labels!$B$118,WEEKDAY(P514,2)<6),$J$7*$B$511%,\"\")","v":""},{"$f":"IF(AND(Q522=Labels!$B$118,WEEKDAY(Q514,2)<6),$J$7*$B$511%,\"\")","v":""},{"$f":"IF(AND(R522=Labels!$B$118,WEEKDAY(R514,2)<6),$J$7*$B$511%,\"\")","v":""},{"$f":"IF(AND(S522=Labels!$B$118,WEEKDAY(S514,2)<6),$J$7*$B$511%,\"\")","v":""},{"$f":"IF(AND(T522=Labels!$B$118,WEEKDAY(T514,2)<6),$J$7*$B$511%,\"\")","v":""},{"$f":"IF(AND(U522=Labels!$B$118,WEEKDAY(U514,2)<6),$J$7*$B$511%,\"\")","v":""},{"$f":"IF(AND(V522=Labels!$B$118,WEEKDAY(V514,2)<6),$J$7*$B$511%,\"\")","v":""},{"$f":"IF(AND(W522=Labels!$B$118,WEEKDAY(W514,2)<6),$J$7*$B$511%,\"\")","v":""},{"$f":"IF(AND(X522=Labels!$B$118,WEEKDAY(X514,2)<6),$J$7*$B$511%,\"\")","v":""},{"$f":"IF(AND(Y522=Labels!$B$118,WEEKDAY(Y514,2)<6),$J$7*$B$511%,\"\")","v":""},{"$f":"IF(AND(Z522=Labels!$B$118,WEEKDAY(Z514,2)<6),$J$7*$B$511%,\"\")","v":""},{"$f":"IF(AND(AA522=Labels!$B$118,WEEKDAY(AA514,2)<6),$J$7*$B$511%,\"\")","v":""},{"$f":"IF(AND(AB522=Labels!$B$118,WEEKDAY(AB514,2)<6),$J$7*$B$511%,\"\")","v":""},{"$f":"IF(AND(AC522=Labels!$B$118,WEEKDAY(AC514,2)<6),$J$7*$B$511%,\"\")","v":""},{"$f":"IF(AND(AD522=Labels!$B$118,WEEKDAY(AD514,2)<6),$J$7*$B$511%,\"\")","v":""},{"$f":"IF(AND(AE522=Labels!$B$118,WEEKDAY(AE514,2)<6),$J$7*$B$511%,\"\")","v":""},{"$f":"IF(AND(AF522=Labels!$B$118,WEEKDAY(AF514,2)<6),$J$7*$B$511%,\"\")","v":""},{"$f":"SUM(B523:AF523)","v":0}]
[{"$f":"$A$20","v":"Tagestotal"},{"$f":"SUM(B519:B521)","v":0},{"$f":"SUM(C519:C521)","v":0},0,0,0,0,0,0,0,0,0,0,0,0,0,0,0,0,0,0,0,0,0,0,0,0,0,0,0,0,0]
[{"$f":"$A$21","v":"."}]
[{"$f":"$A$22","v":"."}]
[{"$f":"$A$23","v":"Monatsübergang"},{"$f":"IF(WEEKDAY(B514)=1,TEXT(B514-1,\"MMM\"&Labels!B13),\"\")","v":""},null,null,null,null,null,null,null,null,null,null,null,null,null,null,null,null,null,null,null,null,null,null,null,null,null,null,null,null,{"$f":"IF(AND(WEEKDAY(AE514)>1,WEEKDAY(AE514)<7),TEXT(DATE($B$5,MONTH(AE514)+1,1),\"MMM\"&Labels!B13),\"\")","v":"Okt"}]
[{"$f":"$A$24","v":"Wochentotal"},{"$f":"IF(WEEKDAY(B514)=7,SUMIF($B452:$AF452,B515,$B461:$AF461)+SUMIF($B515:$AF515,B515,$B524:$AF524)+SUMIF($B578:$AF578,B515,$B587:$AF587),B527)","v":""},{"$f":"IF(WEEKDAY(C514)=7,SUMIF($B452:$AF452,C515,$B461:$AF461)+SUMIF($B515:$AF515,C515,$B524:$AF524)+SUMIF($B578:$AF578,C515,$B587:$AF587),\"\")","v":""},"","",0,"","","","","","",0,"","","","","","",0,"","","","","","",0,"","","",{"$f":"IF(WEEKDAY(AE514)=7,SUMIF($B452:$AF452,AE515,$B461:$AF461)+SUMIF($B515:$AF515,AE515,$B524:$AF524)+SUMIF($B578:$AF578,AE515,$B587:$AF587),AE527)","v":"Okt"}]
[{"$f":"$A$25","v":"Zeitzuschlag 1)"},{"$f":"IF(B536=\"FALSCH\",\"\",B536)","v":""},{"$f":"IF(C536=\"FALSCH\",\"\",C536)","v":""},"","","","","","","","","","","","","","","","","","","","","","","","","","","","",null,{"$f":"SUM(B529:AF529)","v":0}]
[{"$f":"$A$26","v":"Zeitzuschlag 2)"},{"$f":"IF((B519+B521)=0,\"\",SUM(B519,B521))","v":""},{"$f":"IF((C519+C521)=0,\"\",SUM(C519,C521))","v":""},"","","","","","","","","","","","","","","","","","","","","","","","","","","","",null,0,"[1]"]
[{"$f":"$A$27","v":"Zeitzuschlag 3)"},{"$f":"SUM(B532:B535)","v":0},{"$f":"SUM(C532:C535)","v":0},0,0,0,0,0,0,0,0,0,0,0,0,0,0,0,0,0,0,0,0,0,0,0,0,0,0,0,0,null,{"$f":"SUM(B531:AF531)","v":0},"[2]"]
[{"$f":"$A$28","v":"Sonntag Tag"},{"$f":"IF(WEEKDAY(B514)=1,B520,\"\")","v":""},{"$f":"IF(WEEKDAY(C514)=1,C520,\"\")","v":""},"","","",0,"","","","","","",0,"","","","","","",0,"","","","","","",0,"","","",null,0,"[3]"]
[{"$f":"$A$29","v":"Sonntag Nacht"},{"$f":"IF(WEEKDAY(B514)=1,SUM(B519+B521),\"\")","v":""},{"$f":"IF(WEEKDAY(C514)=1,SUM(C519+C521),\"\")","v":""},"","","",0,"","","","","","",0,"","","","","","",0,"","","","","","",0,"","","",null,0,"[4]"]
[{"$f":"$A$30","v":"ft-Tazuschlag"},{"$f":"IF(B522=Labels!$B$118,B520,\"\")","v":""},{"$f":"IF(C522=Labels!$B$118,C520,\"\")","v":""},{"$f":"IF(D522=Labels!$B$118,D520,\"\")","v":""},{"$f":"IF(E522=Labels!$B$118,E520,\"\")","v":""},{"$f":"IF(F522=Labels!$B$118,F520,\"\")","v":""},{"$f":"IF(G522=Labels!$B$118,G520,\"\")","v":""},{"$f":"IF(H522=Labels!$B$118,H520,\"\")","v":""},{"$f":"IF(I522=Labels!$B$118,I520,\"\")","v":""},{"$f":"IF(J522=Labels!$B$118,J520,\"\")","v":""},{"$f":"IF(K522=Labels!$B$118,K520,\"\")","v":""},{"$f":"IF(L522=Labels!$B$118,L520,\"\")","v":""},{"$f":"IF(M522=Labels!$B$118,M520,\"\")","v":""},{"$f":"IF(N522=Labels!$B$118,N520,\"\")","v":""},{"$f":"IF(O522=Labels!$B$118,O520,\"\")","v":""},{"$f":"IF(P522=Labels!$B$118,P520,\"\")","v":""},{"$f":"IF(Q522=Labels!$B$118,Q520,\"\")","v":""},{"$f":"IF(R522=Labels!$B$118,R520,\"\")","v":""},{"$f":"IF(S522=Labels!$B$118,S520,\"\")","v":""},{"$f":"IF(T522=Labels!$B$118,T520,\"\")","v":""},{"$f":"IF(U522=Labels!$B$118,U520,\"\")","v":""},{"$f":"IF(V522=Labels!$B$118,V520,\"\")","v":""},{"$f":"IF(W522=Labels!$B$118,W520,\"\")","v":""},{"$f":"IF(X522=Labels!$B$118,X520,\"\")","v":""},{"$f":"IF(Y522=Labels!$B$118,Y520,\"\")","v":""},{"$f":"IF(Z522=Labels!$B$118,Z520,\"\")","v":""},{"$f":"IF(AA522=Labels!$B$118,AA520,\"\")","v":""},{"$f":"IF(AB522=Labels!$B$118,AB520,\"\")","v":""},{"$f":"IF(AC522=Labels!$B$118,AC520,\"\")","v":""},{"$f":"IF(AD522=Labels!$B$118,AD520,\"\")","v":""},{"$f":"IF(AE522=Labels!$B$118,AE520,\"\")","v":""},null,0,"[5]"]
[{"$f":"$A$31","v":"ft-Nazuschlag"},{"$f":"IF(B522=Labels!$B$118,SUM(B519,B521),\"\")","v":""},{"$f":"IF(C522=Labels!$B$118,SUM(C519,C521),\"\")","v":""},{"$f":"IF(D522=Labels!$B$118,SUM(D519,D521),\"\")","v":""},{"$f":"IF(E522=Labels!$B$118,SUM(E519,E521),\"\")","v":""},{"$f":"IF(F522=Labels!$B$118,SUM(F519,F521),\"\")","v":""},{"$f":"IF(G522=Labels!$B$118,SUM(G519,G521),\"\")","v":""},{"$f":"IF(H522=Labels!$B$118,SUM(H519,H521),\"\")","v":""},{"$f":"IF(I522=Labels!$B$118,SUM(I519,I521),\"\")","v":""},{"$f":"IF(J522=Labels!$B$118,SUM(J519,J521),\"\")","v":""},{"$f":"IF(K522=Labels!$B$118,SUM(K519,K521),\"\")","v":""},{"$f":"IF(L522=Labels!$B$118,SUM(L519,L521),\"\")","v":""},{"$f":"IF(M522=Labels!$B$118,SUM(M519,M521),\"\")","v":""},{"$f":"IF(N522=Labels!$B$118,SUM(N519,N521),\"\")","v":""},{"$f":"IF(O522=Labels!$B$118,SUM(O519,O521),\"\")","v":""},{"$f":"IF(P522=Labels!$B$118,SUM(P519,P521),\"\")","v":""},{"$f":"IF(Q522=Labels!$B$118,SUM(Q519,Q521),\"\")","v":""},{"$f":"IF(R522=Labels!$B$118,SUM(R519,R521),\"\")","v":""},{"$f":"IF(S522=Labels!$B$118,SUM(S519,S521),\"\")","v":""},{"$f":"IF(T522=Labels!$B$118,SUM(T519,T521),\"\")","v":""},{"$f":"IF(U522=Labels!$B$118,SUM(U519,U521),\"\")","v":""},{"$f":"IF(V522=Labels!$B$118,SUM(V519,V521),\"\")","v":""},{"$f":"IF(W522=Labels!$B$118,SUM(W519,W521),\"\")","v":""},{"$f":"IF(X522=Labels!$B$118,SUM(X519,X521),\"\")","v":""},{"$f":"IF(Y522=Labels!$B$118,SUM(Y519,Y521),\"\")","v":""},{"$f":"IF(Z522=Labels!$B$118,SUM(Z519,Z521),\"\")","v":""},{"$f":"IF(AA522=Labels!$B$118,SUM(AA519,AA521),\"\")","v":""},{"$f":"IF(AB522=Labels!$B$118,SUM(AB519,AB521),\"\")","v":""},{"$f":"IF(AC522=Labels!$B$118,SUM(AC519,AC521),\"\")","v":""},{"$f":"IF(AD522=Labels!$B$118,SUM(AD519,AD521),\"\")","v":""},{"$f":"IF(AE522=Labels!$B$118,SUM(AE519,AE521),\"\")","v":""},null,0,"[6]"]
[{"$f":"$A$32","v":"Zuschlag  blind (Wochentotal)"},{"$f":"IF(OR(ISTEXT(B528),B528=\"\",B528<$B$7),\"\",ROUND(((B528-$B$7)*25%)/25,4)*25)","v":""},{"$f":"IF(OR(ISTEXT(C528),C528=\"\",C528<$B$7),\"\",ROUND(((C528-$B$7)*25%)/25,4)*25)","v":""},"","","","","","","","","","","","","","","","","","","","","","","","","","","","",null,{"$f":"AG520","v":0},"[7]"]
[null,{"$f":"$B$33","v":"1)   25% Zeitzuschlag für Überschreitung Wochentotal"},null,null,null,null,null,null,null,null,null,{"$f":"$L$33","v":"2) 100% Zeitzuschlag für Nachtarbeit"},null,null,null,null,null,null,null,{"$f":"$T$33","v":"Eingabe der ausbezahlten Stunden Vorjahressaldo"},null,null,null,null,null,null,null,null,null,null,null,null,{"$f":"SUM(AG519+AG521)","v":0},"[8]"]
[null,{"$f":"$B$34","v":"3) 100% Zeitzuschlag für Sonn- und Feiertagsarbeit"},null,null,null,null,null,null,null,null,null,null,null,null,null,null,null,null,null,{"$f":"$T$34","v":"Eingabe der ausbezahlten Stunden laufendes Jahr (Überstunden)"},null,null,null,null,null,null,null,null,null,null,null,null,{"$f":"SUM(AG519:AG521)","v":0},"[9]"]
[{"$f":"$A$35","v":"Bemerkungen"},null,null,null,null,null,null,null,null,null,null,null,null,null,null,null,null,null,null,null,null,null,null,null,null,null,null,null,null,null,null,null,{"$f":"SUM(AG517+AG523)","v":0},"[10]"]
[null,null,null,null,null,null,null,null,null,null,null,null,null,null,null,null,null,null,null,null,null,null,null,null,null,null,null,null,null,null,null,null,{"$f":"SUM(AG517:AG531)","v":0},"[11]"]
[null,null,null,null,null,null,null,null,null,null,null,null,null,null,null,null,null,null,null,null,null,null,null,null,null,null,null,null,null,null,null,null,{"$f":"AG516","v":176}]
[null,null,null,null,null,null,null,null,null,null,null,null,null,null,null,null,null,null,null,null,null,null,null,null,null,null,null,null,null,null,null,null,{"$f":"SUM(AG540-AG516)","v":-176}]
[{"$f":"$A$39","v":"Zusammenstellung"},null,null,null,null,null,{"$f":"$G$39","v":"Jan"},null,{"$f":"$I$39","v":"Feb"},null,{"$f":"$K$39","v":"Mrz"},null,{"$f":"$M$39","v":"Apr"},null,{"$f":"$O$39","v":"Mai"},null,{"$f":"$Q$39","v":"Jun"},null,{"$f":"$S$39","v":"Jul"},null,{"$f":"$U$39","v":"Aug"},null,{"$f":"$W$39","v":"Sep"},null,{"$f":"$Y$39","v":"Okt"},null,{"$f":"$AA$39","v":"Nov"},null,{"$f":"$AC$39","v":"Dez"},null,{"$f":"$AE$39","v":"Jahr"}]
[{"$f":"$A$40","v":"Anstellung %"},null,null,null,null,null,{"$f":"IF($B$4=0,0,$B$4)","v":100},null,{"$f":"IF($B$70=0,0,$B$70)","v":100},null,{"$f":"IF($B$133=0,0,$B$133)","v":100},null,{"$f":"IF($B$196=0,0,$B$196)","v":100},null,{"$f":"IF($B$259=0,0,$B$259)","v":100},null,{"$f":"IF($B$322=0,0,$B$322)","v":100},null,{"$f":"IF($B$385=0,0,$B$385)","v":100},null,{"$f":"IF($B$448=0,0,$B$448)","v":100},null,{"$f":"IF($B$511=0,0,$B$511)","v":100},null,{"$f":"IF($B$574=0,0,$B$574)","v":100},null,{"$f":"IF($B$637=0,0,$B$637)","v":100},null,{"$f":"IF($B$700=0,0,$B$700)","v":100}]
[{"$f":"$A$41","v":"Sollstunden gemäss GAV"},null,null,null,null,null,{"$f":"IF($AG$37=0,0,$AG$37)","v":184},null,{"$f":"IF($AG$100=0,0,$AG$100)","v":160},null,{"$f":"IF($AG$138=0,0,$AG$138)","v":176},null,{"$f":"IF($AG$226=0,0,$AG$226)","v":176},null,{"$f":"IF($AG$289=0,0,$AG$289)","v":168},null,{"$f":"IF($AG$352=0,0,$AG$352)","v":176},null,{"$f":"IF($AG$415=0,0,$AG$415)","v":184},null,{"$f":"IF($AG$478=0,0,$AG$478)","v":168},null,{"$f":"IF($AG$541=0,0,$AG$541)","v":176},null,{"$f":"IF($AG$604=0,0,$AG$604)","v":176},null,{"$f":"IF($AG$667=0,0,$AG$667)","v":168},null,{"$f":"IF($AG$730=0,0,$AG$730)","v":184},null,{"$f":"SUM(G545:AD545)","v":2096}]
[{"$f":"$A$42","v":"Produktive Stunden"},{"$f":"$B$42","v":"06.00 - 20.00 Uhr"},null,null,null,null,{"$f":"IF($AG$32=0,0,$AG$32)","v":0},null,{"$f":"IF($AG$95=0,0,$AG$95)","v":0},null,{"$f":"IF($AG$158=0,0,$AG$158)","v":0},null,{"$f":"IF($AG$221=0,0,$AG$221)","v":0},null,{"$f":"IF($AG$284=0,0,$AG$284)","v":0},null,{"$f":"IF($AG$347=0,0,$AG$347)","v":0},null,{"$f":"IF($AG$410=0,0,$AG$410)","v":0},null,{"$f":"IF($AG$473=0,0,$AG$473)","v":0},null,{"$f":"IF($AG$536=0,0,$AG$536)","v":0},null,{"$f":"IF($AG$599=0,0,$AG$599)","v":0},null,{"$f":"IF($AG$662=0,0,$AG$662)","v":0},null,{"$f":"IF($AG$725=0,0,$AG$725)","v":0},null,{"$f":"SUM(G546:AD546)","v":0}]
[null,{"$f":"$B$43","v":"Nacht-, Sonn-, Feiertagsarbeit"},null,null,null,null,{"$f":"IF($AG$33=0,0,$AG$33)","v":0},null,{"$f":"IF($AG$96=0,0,$AG$96)","v":0},null,{"$f":"IF($AG$159=0,0,$AG$159)","v":0},null,{"$f":"IF($AG$222=0,0,$AG$222)","v":0},null,{"$f":"IF($AG$285=0,0,$AG$285)","v":0},null,{"$f":"IF($AG$348=0,0,$AG$348)","v":0},null,{"$f":"IF($AG$411=0,0,$AG$411)","v":0},null,{"$f":"IF($AG$474=0,0,$AG$474)","v":0},null,{"$f":"IF($AG$537=0,0,$AG$537)","v":0},null,{"$f":"IF($AG$600=0,0,$AG$600)","v":0},null,{"$f":"IF($AG$663=0,0,$AG$663)","v":0},null,{"$f":"IF($AG$726=0,0,$AG$726)","v":0},null,{"$f":"SUM(G547:AD547)","v":0}]
[{"$f":"$A$44","v":"Zeitzuschläge"},{"$f":"$B$44","v":"aus Wochentotal"},null,null,null,null,{"$f":"IF($AG$25=0,0,$AG$25)","v":0},null,{"$f":"IF($AG$88=0,0,$AG$88)","v":0},null,{"$f":"IF($AG$151=0,0,$AG$151)","v":0},null,{"$f":"IF($AG$214=0,0,$AG$214)","v":0},null,{"$f":"IF($AG$277=0,0,$AG$277)","v":0},null,{"$f":"IF($AG$340=0,0,$AG$340)","v":0},null,{"$f":"IF($AG$403=0,0,$AG$403)","v":0},null,{"$f":"IF($AG$466=0,0,$AG$466)","v":0},null,{"$f":"IF($AG$529=0,0,$AG$529)","v":0},null,{"$f":"IF($AG$592=0,0,$AG$592)","v":0},null,{"$f":"IF($AG$655=0,0,$AG$655)","v":0},null,{"$f":"IF($AG$718=0,0,$AG$718)","v":0},null,{"$f":"SUM(G548:AD548)","v":0}]
[null,{"$f":"$B$45","v":"aus Nacht-, Sonn-, Feiertagsarbeiten"},null,null,null,null,{"$f":"IF($AJ$20=0,0,$AJ$20)","v":0},null,{"$f":"IF($AK$20=0,0,$AK$20)","v":0},null,{"$f":"IF($AL$20=0,0,$AL$20)","v":0},null,{"$f":"IF($AM$20=0,0,$AM$20)","v":0},null,{"$f":"IF($AN$20=0,0,$AN$20)","v":0},null,{"$f":"IF($AO$20=0,0,$AO$20)","v":0},null,{"$f":"IF($AP$20=0,0,$AP$20)","v":0},null,{"$f":"IF($AQ$20=0,0,$AQ$20)","v":0},null,{"$f":"IF($AR$20=0,0,$AR$20)","v":0},null,{"$f":"IF($AS$20=0,0,$AS$20)","v":0},null,{"$f":"IF($AT$20=0,0,$AT$20)","v":0},null,{"$f":"IF($AU$20=0,0,$AU$20)","v":0},null,{"$f":"SUM(G549:AD549)","v":0}]
[{"$f":"$A$46","v":"Unproduktive Stunden"}]
[{"$f":"$A$47","v":"   Absenzen, Kurzabsenzen Art. 11 GAV"},null,null,null,null,{"$f":"$F$47","v":"a"},{"$f":"IF($AJ$3=0,0,$AJ$3)","v":0},null,{"$f":"IF($AK$3=0,0,$AK$3)","v":0},null,{"$f":"IF($AL$3=0,0,$AL$3)","v":0},null,{"$f":"IF($AM$3=0,0,$AM$3)","v":0},null,{"$f":"IF($AN$3=0,0,$AN$3)","v":0},null,{"$f":"IF($AO$3=0,0,$AO$3)","v":0},null,{"$f":"IF($AP$3=0,0,$AP$3)","v":0},null,{"$f":"IF($AQ$3=0,0,$AQ$3)","v":0},null,{"$f":"IF($AR$3=0,0,$AR$3)","v":0},null,{"$f":"IF($AS$3=0,0,$AS$3)","v":0},null,{"$f":"IF(AT$3=0,0,$AT$3)","v":0},null,{"$f":"IF($AU$3=0,0,$AU$3)","v":0},null,{"$f":"IF($AV$3=0,0,$AV$3)","v":0}]
[{"$f":"$A$48","v":"   Ferien Art. 12.1 GAV"},null,null,null,null,{"$f":"$F$48","v":"f"},{"$f":"IF($AJ$4=0,0,$AJ$4)","v":0},null,{"$f":"IF($AK$4=0,0,$AK$4)","v":0},null,{"$f":"IF($AL$4=0,0,$AL$4)","v":0},null,{"$f":"IF($AM$4=0,0,$AM$4)","v":0},null,{"$f":"IF($AN$4=0,0,$AN$4)","v":0},null,{"$f":"IF($AO$4=0,0,$AO$4)","v":0},null,{"$f":"IF($AP$4=0,0,$AP$4)","v":0},null,{"$f":"IF($AQ$4=0,0,$AQ$4)","v":0},null,{"$f":"IF($AR$4=0,0,$AR$4)","v":0},null,{"$f":"IF($AS$4=0,0,$AS$4)","v":0},null,{"$f":"IF($AT$4=0,0,$AT$4)","v":0},null,{"$f":"IF($AU$4=0,0,$AU$4)","v":0},null,{"$f":"IF($AV$4=0,0,$AV$4)","v":0}]
[{"$f":"$A$49","v":"   Feiertage Art. 12.2 GAV"},null,{"$f":"IF($AJ$17=\"\",\"\",$AJ$17)","v":""},null,null,{"$f":"$F$49","v":"ft"},{"$f":"IF($AJ$15=0,0,$AJ$15)","v":0},null,{"$f":"IF($AK$15=0,0,$AK$15)","v":0},null,{"$f":"IF($AL$15=0,0,$AL$15)","v":0},null,{"$f":"IF($AM$15=0,0,$AM$15)","v":0},null,{"$f":"IF($AN$15=0,0,$AN$15)","v":0},null,{"$f":"IF($AO$15=0,0,$AO$15)","v":0},null,{"$f":"IF($AP$15=0,0,$AP$15)","v":0},null,{"$f":"IF($AQ$15=0,0,$AQ$15)","v":0},null,{"$f":"IF($AR$15=0,0,$AR$15)","v":0},null,{"$f":"IF($AS$15=0,0,$AS$15)","v":0},null,{"$f":"IF($AT$15=0,0,$AT$15)","v":0},null,{"$f":"IF($AU$15=0,0,$AU$15)","v":0},null,{"$f":"IF($AV$15=0,0,$AV$15)","v":0}]
[{"$f":"$A$50","v":"   Krankheit Art. 13 GAV"},null,null,null,null,{"$f":"$F$50","v":"k"},{"$f":"IF($AJ$5=0,0,$AJ$5)","v":0},null,{"$f":"IF($AK$5=0,0,$AK$5)","v":0},null,{"$f":"IF($AL$5=0,0,$AL$5)","v":0},null,{"$f":"IF($AM$5=0,0,$AM$5)","v":0},null,{"$f":"IF($AN$5=0,0,$AN$5)","v":0},null,{"$f":"IF($AO$5=0,0,$AO$5)","v":0},null,{"$f":"IF($AP$5=0,0,$AP$5)","v":0},null,{"$f":"IF($AQ$5=0,0,$AQ$5)","v":0},null,{"$f":"IF($AR$5=0,0,$AR$5)","v":0},null,{"$f":"IF($AS$5=0,0,$AS$5)","v":0},null,{"$f":"IF($AT$5=0,0,$AT$5)","v":0},null,{"$f":"IF($AU$5=0,0,$AU$5)","v":0},null,{"$f":"IF($AV$5=0,0,$AV$5)","v":0}]
[{"$f":"$A$51","v":"   Unfall Art. 14 GAV"},null,null,null,null,{"$f":"$F$51","v":"u"},{"$f":"IF($AJ$6=0,0,$AJ$6)","v":0},null,{"$f":"IF($AK$6=0,0,$AK$6)","v":0},null,{"$f":"IF($AL$6=0,0,$AL$6)","v":0},null,{"$f":"IF($AM$6=0,0,$AM$6)","v":0},null,{"$f":"IF($AN$6=0,0,$AN$6)","v":0},null,{"$f":"IF($AO$6=0,0,$AO$6)","v":0},null,{"$f":"IF($AP$6=0,0,$AP$6)","v":0},null,{"$f":"IF($AQ$6=0,0,$AQ$6)","v":0},null,{"$f":"IF($AR$6=0,0,$AR$6)","v":0},null,{"$f":"IF($AS$6=0,0,$AS$6)","v":0},null,{"$f":"IF($AT$6=0,0,$AT$6)","v":0},null,{"$f":"IF($AU$6=0,0,$AU$6)","v":0},null,{"$f":"IF($AV$6=0,0,$AV$6)","v":0}]
[{"$f":"$A$52","v":"   Schwangerschaft/Mutterschaft Art. 15 GAV"},null,null,null,null,{"$f":"$F$52","v":"s"},{"$f":"IF($AJ$7=0,0,$AJ$7)","v":0},null,{"$f":"IF($AK$7=0,0,$AK$7)","v":0},null,{"$f":"IF($AL$7=0,0,$AL$7)","v":0},null,{"$f":"IF($AM$7=0,0,$AM$7)","v":0},null,{"$f":"IF($AN$7=0,0,$AN$7)","v":0},null,{"$f":"IF($AO$7=0,0,$AO$7)","v":0},null,{"$f":"IF($AP$7=0,0,$AP$7)","v":0},null,{"$f":"IF($AQ$7=0,0,$AQ$7)","v":0},null,{"$f":"IF($AR$7=0,0,$AR$7)","v":0},null,{"$f":"IF($AS$7=0,0,$AS$7)","v":0},null,{"$f":"IF($AT$7=0,0,$AT$7)","v":0},null,{"$f":"IF($AU$7=0,0,$AU$7)","v":0},null,{"$f":"IF($AV$7=0,0,$AV$7)","v":0}]
[{"$f":"$A$53","v":"   Militär/Beförderung/Zivilschutz Art. 16 GAV"},null,null,null,null,{"$f":"$F$53","v":"m"},{"$f":"IF($AJ$8=0,0,$AJ$8)","v":0},null,{"$f":"IF($AK$8=0,0,$AK$8)","v":0},null,{"$f":"IF($AL$8=0,0,$AL$8)","v":0},null,{"$f":"IF($AM$8=0,0,$AM$8)","v":0},null,{"$f":"IF($AN$8=0,0,$AN$8)","v":0},null,{"$f":"IF($AO$8=0,0,$AO$8)","v":0},null,{"$f":"IF($AP$8=0,0,$AP$8)","v":0},null,{"$f":"IF($AQ$8=0,0,$AQ$8)","v":0},null,{"$f":"IF($AR$8=0,0,$AR$8)","v":0},null,{"$f":"IF($AS$8=0,0,$AS$8)","v":0},null,{"$f":"IF($AT$8=0,0,$AT$8)","v":0},null,{"$f":"IF($AU$8=0,0,$AU$8)","v":0},null,{"$f":"IF($AV$8=0,0,$AV$8)","v":0}]
[{"$f":"$A$54","v":"   Kurzarbeit und Schlechtwetterausfälle"},null,null,null,null,{"$f":"$F$54","v":"ka"},{"$f":"IF($AJ$11=0,0,$AJ$11)","v":0},null,{"$f":"IF($AK$11=0,0,$AK$11)","v":0},null,{"$f":"IF($AL$11=0,0,$AL$11)","v":0},null,{"$f":"IF($AM$11=0,0,$AM$11)","v":0},null,{"$f":"IF($AN$11=0,0,$AN$11)","v":0},null,{"$f":"IF($AO$11=0,0,$AO$11)","v":0},null,{"$f":"IF($AP$11=0,0,$AP$11)","v":0},null,{"$f":"IF($AQ$11=0,0,$AQ$11)","v":0},null,{"$f":"IF($AR$11=0,0,$AR$11)","v":0},null,{"$f":"IF($AS$11=0,0,$AS$11)","v":0},null,{"$f":"IF($AT$11=0,0,$AT$11)","v":0},null,{"$f":"IF($AU$11=0,0,$AU$11)","v":0},null,{"$f":"IF($AV$11=0,0,$AV$11)","v":0}]
[{"$f":"$A$55","v":"   Berufsschule"},null,null,null,null,{"$f":"$F$55","v":"bs"},{"$f":"IF($AJ$9=0,0,$AJ$9)","v":0},null,{"$f":"IF($AK$9=0,0,$AK$9)","v":0},null,{"$f":"IF($AL$9=0,0,$AL$9)","v":0},null,{"$f":"IF($AM$9=0,0,$AM$9)","v":0},null,{"$f":"IF($AN$9=0,0,$AN$9)","v":0},null,{"$f":"IF($AO$9=0,0,$AO$9)","v":0},null,{"$f":"IF($AP$9=0,0,$AP$9)","v":0},null,{"$f":"IF($AQ$9=0,0,$AQ$9)","v":0},null,{"$f":"IF($AR$9=0,0,$AR$9)","v":0},null,{"$f":"IF($AS$9=0,0,$AS$9)","v":0},null,{"$f":"IF($AT$9=0,0,$AT$9)","v":0},null,{"$f":"IF($AU$9=0,0,$AU$9)","v":0},null,{"$f":"IF($AV$9=0,0,$AV$9)","v":0}]
[{"$f":"$A$56","v":"   Kurse"},null,null,null,null,{"$f":"$F$56","v":"ku"},{"$f":"IF($AJ$10=0,0,$AJ$10)","v":0},null,{"$f":"IF($AK$10=0,0,$AK$10)","v":0},null,{"$f":"IF($AL$10=0,0,$AL$10)","v":0},null,{"$f":"IF($AM$10=0,0,$AM$10)","v":0},null,{"$f":"IF($AN$10=0,0,$AN$10)","v":0},null,{"$f":"IF($AO$10=0,0,$AO$10)","v":0},null,{"$f":"IF($AP$10=0,0,$AP$10)","v":0},null,{"$f":"IF($AQ$10=0,0,$AQ$10)","v":0},null,{"$f":"IF($AR$10=0,0,$AR$10)","v":0},null,{"$f":"IF($AS$10=0,0,$AS$10)","v":0},null,{"$f":"IF($AT$10=0,0,$AT$10)","v":0},null,{"$f":"IF($AU$10=0,0,$AU$10)","v":0},null,{"$f":"IF($AV$10=0,0,$AV$10)","v":0}]
[{"$f":"$A$57","v":"Kompensations-Std"},{"$f":"$B$57","v":"aus Vorjahr"},null,null,null,{"$f":"$F$57","v":"kv"},{"$f":"IF($AJ$12=0,0,$AJ$12)","v":0},null,{"$f":"IF($AK$12=0,0,$AK$12)","v":0},null,{"$f":"IF($AL$12=0,0,$AL$12)","v":0},null,{"$f":"IF($AM$12=0,0,$AM$12)","v":0},null,{"$f":"IF($AN$12=0,0,$AN$12)","v":0},null,{"$f":"IF($AO$12=0,0,$AO$12)","v":0},null,{"$f":"IF($AP$12=0,0,$AP$12)","v":0},null,{"$f":"IF($AQ$12=0,0,$AQ$12)","v":0},null,{"$f":"IF($AR$12=0,0,$AR$12)","v":0},null,null,null,null,null,null,null,{"$f":"IF($AV$12=0,0,$AV$12)","v":0}]
[null,{"$f":"$B$58","v":"aus laufendem Jahr (Kontrolle)"},null,null,null,{"$f":"$F$58","v":"kj"},{"$f":"IF($AJ$14=0,0,$AJ$14)","v":0},null,{"$f":"IF($AK$14=0,0,$AK$14)","v":0},null,{"$f":"IF($AL$14=0,0,$AL$14)","v":0},null,{"$f":"IF($AM$14=0,0,$AM$14)","v":0},null,{"$f":"IF($AN$14=0,0,$AN$14)","v":0},null,{"$f":"IF($AO$14=0,0,$AO$14)","v":0},null,{"$f":"IF($AP$14=0,0,$AP$14)","v":0},null,{"$f":"IF($AQ$14=0,0,$AQ$14)","v":0},null,{"$f":"IF($AR$14=0,0,$AR$14)","v":0},null,{"$f":"IF($AS$14=0,0,$AS$14)","v":0},null,{"$f":"IF($AT$14=0,0,$AT$14)","v":0},null,{"$f":"IF($AU$14=0,0,$AU$14)","v":0},null,{"$f":"IF($AV$14=0,0,$AV$14)","v":0}]
[{"$f":"$A$59","v":"Auszahlung"},{"$f":"$B$59","v":"Stunden Vorjahressaldo"},null,null,null,null,{"$f":"IF($AJ$18=0,0,$AJ$18)","v":0},null,{"$f":"IF($AK$18=0,0,$AK$18)","v":0},null,{"$f":"IF($AL$18=0,0,$AL$18)","v":0},null,{"$f":"IF($AM$18=0,0,$AM$18)","v":0},null,{"$f":"IF($AN$18=0,0,$AN$18)","v":0},null,{"$f":"IF($AO$18=0,0,$AO$18)","v":0},null,{"$f":"IF($AP$18=0,0,$AP$18)","v":0},null,{"$f":"IF($AQ$18=0,0,$AQ$18)","v":0},null,{"$f":"IF($AR$18=0,0,$AR$18)","v":0},null,null,null,null,null,null,null,{"$f":"IF($AV$18=0,0,$AV$18)","v":0}]
[{"$f":"$A$60","v":"Differenz"},{"$f":"$B$60","v":"nach Kompensation und Auszahlung"},null,null,null,null,{"$f":"IF(ROUND($P$4,3)=0,0,$P$4-SUM(G561+G563))","v":0},null,{"$f":"IF(ROUND(G564,3)=0,0,G564-(SUM(I563+I561)))","v":0},null,{"$f":"IF(ROUND(I564,3)=0,0,I564-(SUM(K563+K561)))","v":0},null,{"$f":"IF(ROUND(K564,3)=0,0,K564-(SUM(M563+M561)))","v":0},null,{"$f":"IF(ROUND(M564,3)=0,0,M564-(SUM(O563+O561)))","v":0},null,{"$f":"IF(ROUND(O564,3)=0,0,O564-(SUM(Q563+Q561)))","v":0},null,{"$f":"IF(ROUND(Q564,3)=0,0,Q564-(SUM(S563+S561)))","v":0},null,{"$f":"IF(ROUND(S564,3)=0,0,S564-(SUM(U563+U561)))","v":0},null,{"$f":"IF(U564=0,0,U564-(SUM(W563+W561)))","v":0},null,{"$f":"$Y$60","v":""}]
[{"$f":"$A$61","v":"Auszahlung"},{"$f":"$B$61","v":"Stunden laufendes Jahr"},null,null,null,null,{"$f":"IF($AJ$19=0,0,$AJ$19)","v":0},null,{"$f":"IF($AK$19=0,0,$AK$19)","v":0},null,{"$f":"IF($AL$19=0,0,$AL$19)","v":0},null,{"$f":"IF($AM$19=0,0,$AM$19)","v":0},null,{"$f":"IF($AN$19=0,0,$AN$19)","v":0},null,{"$f":"IF($AO$19=0,0,$AO$19)","v":0},null,{"$f":"IF($AP$19=0,0,$AP$19)","v":0},null,{"$f":"IF($AQ$19=0,0,$AQ$19)","v":0},null,{"$f":"IF($AR$19=0,0,$AR$19)","v":0},null,{"$f":"IF($AS$19=0,0,$AS$19)","v":0},null,{"$f":"IF($AT$19=0,0,$AT$19)","v":0},null,{"$f":"IF($AU$19=0,0,$AU$19)","v":0},null,{"$f":"IF($AV$19=0,0,$AV$19)","v":0}]
[{"$f":"$A$62","v":"Fehlstunden"},{"$f":"$B$62","v":"laufendes Jahr (Kontrolle)"},null,null,null,{"$f":"$F$62","v":"fe"},{"$f":"IF($AJ$13=0,0,$AJ$13)","v":0},null,{"$f":"IF($AK$13=0,0,$AK$13)","v":0},null,{"$f":"IF($AL$13=0,0,$AL$13)","v":0},null,{"$f":"IF($AM$13=0,0,$AM$13)","v":0},null,{"$f":"IF($AN$13=0,0,$AN$13)","v":0},null,{"$f":"IF($AO$13=0,0,$AO$13)","v":0},null,{"$f":"IF($AP$13=0,0,$AP$13)","v":0},null,{"$f":"IF($AQ$13=0,0,$AQ$13)","v":0},null,{"$f":"IF($AR$13=0,0,$AR$13)","v":0},null,{"$f":"IF($AS$13=0,0,$AS$13)","v":0},null,{"$f":"IF($AT$13=0,0,$AT$13)","v":0},null,{"$f":"IF($AU$13=0,0,$AU$13)","v":0},null,{"$f":"IF($AV$13=0,0,$AV$13)","v":0}]
[{"$f":"$A$63","v":"Total inkl. Zeitzuschläge"},{"$f":"$B$63","v":"Stunden produktiv und unproduktiv"},null,null,null,null,{"$f":"IF($AG$36=0,0,$AG$36)","v":0},null,{"$f":"IF($AG$99=0,0,$AG$99)","v":0},null,{"$f":"IF($AG$162=0,0,$AG$162)","v":0},null,{"$f":"IF($AG$225=0,0,$AG$225)","v":0},null,{"$f":"IF($AG$288=0,0,$AG$288)","v":0},null,{"$f":"IF($AG$351=0,0,$AG$351)","v":0},null,{"$f":"IF($AG$414=0,0,$AG$414)","v":0},null,{"$f":"IF($AG$477=0,0,$AG$477)","v":0},null,{"$f":"IF($AG$540=0,0,$AG$540)","v":0},null,{"$f":"IF($AG$603=0,0,$AG$603)","v":0},null,{"$f":"IF($AG$666=0,0,$AG$666)","v":0},null,{"$f":"IF($AG$729=0,0,$AG$729)","v":0},null,{"$f":"SUM($G$63:$AD$63)","v":0}]
[{"$f":"$A$64","v":"Vergleich"},{"$f":"$B$64","v":"Stunden zu Soll-Stunden (inkl. allfälli-\nge Minusstunden Vorjahr)"},null,null,null,null,{"$f":"$G$64","v":-184},null,{"$f":"$I$64","v":-160},null,{"$f":"$K$64","v":-176},null,{"$f":"$M$64","v":-176},null,{"$f":"$O$64","v":-168},null,{"$f":"$Q$64","v":-176},null,{"$f":"$S$64","v":-184},null,{"$f":"$U$64","v":-168},null,{"$f":"$W$64","v":-176},null,{"$f":"$Y$64","v":-176},null,{"$f":"$AA$64","v":-168},null,{"$f":"$AC$64","v":-184},null,{"$f":"$AE$64","v":-2096}]
[null,{"$f":"$B$65","v":"Stunden zu Soll-Stunden (kumuliert)"},null,null,null,null,{"$f":"$G$65","v":-184},null,{"$f":"$I$65","v":-344},null,{"$f":"$K$65","v":-520},null,{"$f":"$M$65","v":-696},null,{"$f":"$O$65","v":-864},null,{"$f":"$Q$65","v":-1040},null,{"$f":"$S$65","v":-1224},null,{"$f":"$U$65","v":-1392},null,{"$f":"$W$65","v":-1568},null,{"$f":"$Y$65","v":-1744},null,{"$f":"$AA$65","v":-1912},null,{"$f":"$AC$65","v":-2096},null,{"$f":"$AE$65","v":0}]
[{"$f":"$A$66","v":"Ferienkontrolle"},{"$f":"$B$66","v":"Ferienguthaben Vorjahr"},null,null,null,null,{"$f":"IF($AA$4=0,0,$AA$4)","v":0},null,{"$f":"$I$66","v":"Ferienguthaben nach \nArt. 12.1 GAV"},null,null,null,{"$f":"IF($AA$5=0,0,$AA$5)","v":0},null,{"$f":"$O$66","v":"Ferienguthaben total"},null,null,null,{"$f":"SUM(G570+M570)","v":0},null,{"$f":"$U$66","v":"Ferien bezogen"},null,null,null,{"$f":"IF($AV$4=0,0,$AV$4)","v":0},null,{"$f":"$AA$66","v":"Aktuelles Ferienguthaben"},null,null,null,{"$f":"IF(S570=0,0,S570-Y570)","v":0}]
[]
[]
[{"$f":"$A$3","v":"Mitarbeiter/In"},{"$f":"IF($B$3=\"\",\"\",$B$3)","v":"Muster Peter"},null,null,null,null,null,null,null,null,null,null,null,null,null,null,null,null,null,null,null,null,null,null,null,null,null,null,null,null,null,{"$f":"AF3","v":0}]
[{"$f":"$A$4","v":"Anstellung %"},100,null,{"$f":"Labels!B98","v":"im Oktober"}]
[{"$f":"$A$5","v":"Saldo für das Jahr"},null,null,{"$f":"IF($AE$64=0,0,$AE$64)","v":-2096}]
[{"$f":"TEXT(DATE(YEAR(AP28),MONTH(AP28)+9,1),\"MMMM\"&Labels!B13)","v":"Oktober"},{"$f":"$B$9","v":"Saldo Monat + / -"},null,null,null,{"$f":"(AG579-(SUM(AG580:AG594)-AE601))*-1","v":-176},null,null,null,null,{"$f":"$K$9","v":" = "},{"$f":"$L$9","v":"Gelbe Felder müssen ausgefüllt werden (die übrigen werden automatisch berechnet)"}]
[{"$f":"$A$10","v":"Tag"},{"$f":"AE514+1","v":"2020-10-01"},{"$f":"B577+1","v":"2020-10-02"},{"$f":"C577+1","v":"2020-10-03"},"2020-10-04","2020-10-05","2020-10-06","2020-10-07","2020-10-08","2020-10-09","2020-10-10","2020-10-11","2020-10-12","2020-10-13","2020-10-14","2020-10-15","2020-10-16","2020-10-17","2020-10-18","2020-10-19","2020-10-20","2020-10-21","2020-10-22","2020-10-23","2020-10-24","2020-10-25","2020-10-26","2020-10-27","2020-10-28","2020-10-29","2020-10-30","2020-10-31",{"$f":"COUNT(B579:AF579)&\" \"&Labels!$B$63","v":"22 Tage"}]
[{"$f":"$A$11","v":"Kalenderwoche"},{"$f":"IF(B577=\"\",\"\",TRUNC((B577-DATE(YEAR(B577+3-MOD(B577-2,7)),1,MOD(B577-2,7)-9))/7))","v":40},40,40,40,41,41,41,41,41,41,41,42,42,42,42,42,42,42,43,43,43,43,43,43,43,44,44,44,44,44,44]
[{"$f":"$A$12","v":"Sollstunden"},{"$f":"IF(MOD(B577,7)>=2,$J$7*$B$574%,\"\")","v":8},8,"","",8,8,8,8,8,"","",8,8,8,8,8,"","",8,8,8,8,8,"","",8,8,8,8,8,"",{"$f":"SUM(B579:AF579)","v":176}]
[{"$f":"$A$13","v":"Absenz in Std"},{"$f":"B1026","v":0},{"$f":"C1026","v":0},0,0,0,0,0,0,0,0,0,0,0,0,0,0,0,0,0,0,0,0,0,0,0,0,0,0,0,0,0,{"$f":"SUM(AS3:AS12)","v":0}]
[{"$f":"$A$14","v":"Code"},{"$f":"IF(B1026<>0,IF(MAX(B1013:B1025)<B1026,Labels!$B$163,INDEX($AH$1013:$AH$1025,MATCH(MAX(B1013:B1025),B1013:B1025,0))),\"\")","v":""},{"$f":"IF(C1026<>0,IF(MAX(C1013:C1025)<C1026,Labels!$B$163,INDEX($AH$1013:$AH$1025,MATCH(MAX(C1013:C1025),C1013:C1025,0))),\"\")","v":""},{"$f":"IF(D1026<>0,IF(MAX(D1013:D1025)<D1026,Labels!$B$163,INDEX($AH$1013:$AH$1025,MATCH(MAX(D1013:D1025),D1013:D1025,0))),\"\")","v":""},{"$f":"IF(E1026<>0,IF(MAX(E1013:E1025)<E1026,Labels!$B$163,INDEX($AH$1013:$AH$1025,MATCH(MAX(E1013:E1025),E1013:E1025,0))),\"\")","v":""},{"$f":"IF(F1026<>0,IF(MAX(F1013:F1025)<F1026,Labels!$B$163,INDEX($AH$1013:$AH$1025,MATCH(MAX(F1013:F1025),F1013:F1025,0))),\"\")","v":""},{"$f":"IF(G1026<>0,IF(MAX(G1013:G1025)<G1026,Labels!$B$163,INDEX($AH$1013:$AH$1025,MATCH(MAX(G1013:G1025),G1013:G1025,0))),\"\")","v":""},{"$f":"IF(H1026<>0,IF(MAX(H1013:H1025)<H1026,Labels!$B$163,INDEX($AH$1013:$AH$1025,MATCH(MAX(H1013:H1025),H1013:H1025,0))),\"\")","v":""},{"$f":"IF(I1026<>0,IF(MAX(I1013:I1025)<I1026,Labels!$B$163,INDEX($AH$1013:$AH$1025,MATCH(MAX(I1013:I1025),I1013:I1025,0))),\"\")","v":""},{"$f":"IF(J1026<>0,IF(MAX(J1013:J1025)<J1026,Labels!$B$163,INDEX($AH$1013:$AH$1025,MATCH(MAX(J1013:J1025),J1013:J1025,0))),\"\")","v":""},{"$f":"IF(K1026<>0,IF(MAX(K1013:K1025)<K1026,Labels!$B$163,INDEX($AH$1013:$AH$1025,MATCH(MAX(K1013:K1025),K1013:K1025,0))),\"\")","v":""},{"$f":"IF(L1026<>0,IF(MAX(L1013:L1025)<L1026,Labels!$B$163,INDEX($AH$1013:$AH$1025,MATCH(MAX(L1013:L1025),L1013:L1025,0))),\"\")","v":""},{"$f":"IF(M1026<>0,IF(MAX(M1013:M1025)<M1026,Labels!$B$163,INDEX($AH$1013:$AH$1025,MATCH(MAX(M1013:M1025),M1013:M1025,0))),\"\")","v":""},{"$f":"IF(N1026<>0,IF(MAX(N1013:N1025)<N1026,Labels!$B$163,INDEX($AH$1013:$AH$1025,MATCH(MAX(N1013:N1025),N1013:N1025,0))),\"\")","v":""},{"$f":"IF(O1026<>0,IF(MAX(O1013:O1025)<O1026,Labels!$B$163,INDEX($AH$1013:$AH$1025,MATCH(MAX(O1013:O1025),O1013:O1025,0))),\"\")","v":""},{"$f":"IF(P1026<>0,IF(MAX(P1013:P1025)<P1026,Labels!$B$163,INDEX($AH$1013:$AH$1025,MATCH(MAX(P1013:P1025),P1013:P1025,0))),\"\")","v":""},{"$f":"IF(Q1026<>0,IF(MAX(Q1013:Q1025)<Q1026,Labels!$B$163,INDEX($AH$1013:$AH$1025,MATCH(MAX(Q1013:Q1025),Q1013:Q1025,0))),\"\")","v":""},{"$f":"IF(R1026<>0,IF(MAX(R1013:R1025)<R1026,Labels!$B$163,INDEX($AH$1013:$AH$1025,MATCH(MAX(R1013:R1025),R1013:R1025,0))),\"\")","v":""},{"$f":"IF(S1026<>0,IF(MAX(S1013:S1025)<S1026,Labels!$B$163,INDEX($AH$1013:$AH$1025,MATCH(MAX(S1013:S1025),S1013:S1025,0))),\"\")","v":""},{"$f":"IF(T1026<>0,IF(MAX(T1013:T1025)<T1026,Labels!$B$163,INDEX($AH$1013:$AH$1025,MATCH(MAX(T1013:T1025),T1013:T1025,0))),\"\")","v":""},{"$f":"IF(U1026<>0,IF(MAX(U1013:U1025)<U1026,Labels!$B$163,INDEX($AH$1013:$AH$1025,MATCH(MAX(U1013:U1025),U1013:U1025,0))),\"\")","v":""},{"$f":"IF(V1026<>0,IF(MAX(V1013:V1025)<V1026,Labels!$B$163,INDEX($AH$1013:$AH$1025,MATCH(MAX(V1013:V1025),V1013:V1025,0))),\"\")","v":""},{"$f":"IF(W1026<>0,IF(MAX(W1013:W1025)<W1026,Labels!$B$163,INDEX($AH$1013:$AH$1025,MATCH(MAX(W1013:W1025),W1013:W1025,0))),\"\")","v":""},{"$f":"IF(X1026<>0,IF(MAX(X1013:X1025)<X1026,Labels!$B$163,INDEX($AH$1013:$AH$1025,MATCH(MAX(X1013:X1025),X1013:X1025,0))),\"\")","v":""},{"$f":"IF(Y1026<>0,IF(MAX(Y1013:Y1025)<Y1026,Labels!$B$163,INDEX($AH$1013:$AH$1025,MATCH(MAX(Y1013:Y1025),Y1013:Y1025,0))),\"\")","v":""},{"$f":"IF(Z1026<>0,IF(MAX(Z1013:Z1025)<Z1026,Labels!$B$163,INDEX($AH$1013:$AH$1025,MATCH(MAX(Z1013:Z1025),Z1013:Z1025,0))),\"\")","v":""},{"$f":"IF(AA1026<>0,IF(MAX(AA1013:AA1025)<AA1026,Labels!$B$163,INDEX($AH$1013:$AH$1025,MATCH(MAX(AA1013:AA1025),AA1013:AA1025,0))),\"\")","v":""},{"$f":"IF(AB1026<>0,IF(MAX(AB1013:AB1025)<AB1026,Labels!$B$163,INDEX($AH$1013:$AH$1025,MATCH(MAX(AB1013:AB1025),AB1013:AB1025,0))),\"\")","v":""},{"$f":"IF(AC1026<>0,IF(MAX(AC1013:AC1025)<AC1026,Labels!$B$163,INDEX($AH$1013:$AH$1025,MATCH(MAX(AC1013:AC1025),AC1013:AC1025,0))),\"\")","v":""},{"$f":"IF(AD1026<>0,IF(MAX(AD1013:AD1025)<AD1026,Labels!$B$163,INDEX($AH$1013:$AH$1025,MATCH(MAX(AD1013:AD1025),AD1013:AD1025,0))),\"\")","v":""},{"$f":"IF(AE1026<>0,IF(MAX(AE1013:AE1025)<AE1026,Labels!$B$163,INDEX($AH$1013:$AH$1025,MATCH(MAX(AE1013:AE1025),AE1013:AE1025,0))),\"\")","v":""},{"$f":"IF(AF1026<>0,IF(MAX(AF1013:AF1025)<AF1026,Labels!$B$163,INDEX($AH$1013:$AH$1025,MATCH(MAX(AF1013:AF1025),AF1013:AF1025,0))),\"\")","v":""}]
[{"$f":"$A$15","v":"00.00-06.00h"},null,null,null,null,null,null,null,null,null,null,null,null,null,null,null,null,null,null,null,null,null,null,null,null,null,null,null,null,null,null,null,{"$f":"SUM(B582:AF582)","v":0}]
[{"$f":"$A$16","v":"06.00-20.00h"},null,null,null,null,null,null,null,null,null,null,null,null,null,null,null,null,null,null,null,null,null,null,null,null,null,null,null,null,null,null,null,{"$f":"SUM(B583:AF583)","v":0}]
[{"$f":"$A$17","v":"20.00-24.00h"},null,null,null,null,null,null,null,null,null,null,null,null,null,null,null,null,null,null,null,null,null,null,null,null,null,null,null,null,null,null,null,{"$f":"SUM(B584:AF584)","v":0},"[0]"]
[{"$f":"$A$18","v":"Feiertag \"ft\""},{"$f":"IF(WEEKDAY(B577,2)<=6,IF(KALENDER!E21=\"x\",Labels!$B$118,\"\"),\"\")","v":""},{"$f":"IF(WEEKDAY(C577,2)<=6,IF(KALENDER!F21=\"x\",Labels!$B$118,\"\"),\"\")","v":""},{"$f":"IF(WEEKDAY(D577,2)<=6,IF(KALENDER!G21=\"x\",Labels!$B$118,\"\"),\"\")","v":""},{"$f":"IF(WEEKDAY(E577,2)<=6,IF(KALENDER!H21=\"x\",Labels!$B$118,\"\"),\"\")","v":""},{"$f":"IF(WEEKDAY(F577,2)<=6,IF(KALENDER!I21=\"x\",Labels!$B$118,\"\"),\"\")","v":""},{"$f":"IF(WEEKDAY(G577,2)<=6,IF(KALENDER!J21=\"x\",Labels!$B$118,\"\"),\"\")","v":""},{"$f":"IF(WEEKDAY(H577,2)<=6,IF(KALENDER!K21=\"x\",Labels!$B$118,\"\"),\"\")","v":""},{"$f":"IF(WEEKDAY(I577,2)<=6,IF(KALENDER!L21=\"x\",Labels!$B$118,\"\"),\"\")","v":""},{"$f":"IF(WEEKDAY(J577,2)<=6,IF(KALENDER!M21=\"x\",Labels!$B$118,\"\"),\"\")","v":""},{"$f":"IF(WEEKDAY(K577,2)<=6,IF(KALENDER!N21=\"x\",Labels!$B$118,\"\"),\"\")","v":""},{"$f":"IF(WEEKDAY(L577,2)<=6,IF(KALENDER!O21=\"x\",Labels!$B$118,\"\"),\"\")","v":""},{"$f":"IF(WEEKDAY(M577,2)<=6,IF(KALENDER!P21=\"x\",Labels!$B$118,\"\"),\"\")","v":""},{"$f":"IF(WEEKDAY(N577,2)<=6,IF(KALENDER!Q21=\"x\",Labels!$B$118,\"\"),\"\")","v":""},{"$f":"IF(WEEKDAY(O577,2)<=6,IF(KALENDER!R21=\"x\",Labels!$B$118,\"\"),\"\")","v":""},{"$f":"IF(WEEKDAY(P577,2)<=6,IF(KALENDER!S21=\"x\",Labels!$B$118,\"\"),\"\")","v":""},{"$f":"IF(WEEKDAY(Q577,2)<=6,IF(KALENDER!T21=\"x\",Labels!$B$118,\"\"),\"\")","v":""},{"$f":"IF(WEEKDAY(R577,2)<=6,IF(KALENDER!U21=\"x\",Labels!$B$118,\"\"),\"\")","v":""},{"$f":"IF(WEEKDAY(S577,2)<=6,IF(KALENDER!V21=\"x\",Labels!$B$118,\"\"),\"\")","v":""},{"$f":"IF(WEEKDAY(T577,2)<=6,IF(KALENDER!W21=\"x\",Labels!$B$118,\"\"),\"\")","v":""},{"$f":"IF(WEEKDAY(U577,2)<=6,IF(KALENDER!X21=\"x\",Labels!$B$118,\"\"),\"\")","v":""},{"$f":"IF(WEEKDAY(V577,2)<=6,IF(KALENDER!Y21=\"x\",Labels!$B$118,\"\"),\"\")","v":""},{"$f":"IF(WEEKDAY(W577,2)<=6,IF(KALENDER!Z21=\"x\",Labels!$B$118,\"\"),\"\")","v":""},{"$f":"IF(WEEKDAY(X577,2)<=6,IF(KALENDER!AA21=\"x\",Labels!$B$118,\"\"),\"\")","v":""},{"$f":"IF(WEEKDAY(Y577,2)<=6,IF(KALENDER!AB21=\"x\",Labels!$B$118,\"\"),\"\")","v":""},{"$f":"IF(WEEKDAY(Z577,2)<=6,IF(KALENDER!AC21=\"x\",Labels!$B$118,\"\"),\"\")","v":""},{"$f":"IF(WEEKDAY(AA577,2)<=6,IF(KALENDER!AD21=\"x\",Labels!$B$118,\"\"),\"\")","v":""},{"$f":"IF(WEEKDAY(AB577,2)<=6,IF(KALENDER!AE21=\"x\",Labels!$B$118,\"\"),\"\")","v":""},{"$f":"IF(WEEKDAY(AC577,2)<=6,IF(KALENDER!AF21=\"x\",Labels!$B$118,\"\"),\"\")","v":""},{"$f":"IF(WEEKDAY(AD577,2)<=6,IF(KALENDER!AG21=\"x\",Labels!$B$118,\"\"),\"\")","v":""},{"$f":"IF(WEEKDAY(AE577,2)<=6,IF(KALENDER!AH21=\"x\",Labels!$B$118,\"\"),\"\")","v":""},{"$f":"IF(WEEKDAY(AF577,2)<=6,IF(KALENDER!AI21=\"x\",Labels!$B$118,\"\"),\"\")","v":""}]
[{"$f":"$A$19","v":"Gutschrift \"ft\""},{"$f":"IF(AND(B585=Labels!$B$118,WEEKDAY(B577,2)<6),$J$7*$B$574%,\"\")","v":""},{"$f":"IF(AND(C585=Labels!$B$118,WEEKDAY(C577,2)<6),$J$7*$B$574%,\"\")","v":""},{"$f":"IF(AND(D585=Labels!$B$118,WEEKDAY(D577,2)<6),$J$7*$B$574%,\"\")","v":""},{"$f":"IF(AND(E585=Labels!$B$118,WEEKDAY(E577,2)<6),$J$7*$B$574%,\"\")","v":""},{"$f":"IF(AND(F585=Labels!$B$118,WEEKDAY(F577,2)<6),$J$7*$B$574%,\"\")","v":""},{"$f":"IF(AND(G585=Labels!$B$118,WEEKDAY(G577,2)<6),$J$7*$B$574%,\"\")","v":""},{"$f":"IF(AND(H585=Labels!$B$118,WEEKDAY(H577,2)<6),$J$7*$B$574%,\"\")","v":""},{"$f":"IF(AND(I585=Labels!$B$118,WEEKDAY(I577,2)<6),$J$7*$B$574%,\"\")","v":""},{"$f":"IF(AND(J585=Labels!$B$118,WEEKDAY(J577,2)<6),$J$7*$B$574%,\"\")","v":""},{"$f":"IF(AND(K585=Labels!$B$118,WEEKDAY(K577,2)<6),$J$7*$B$574%,\"\")","v":""},{"$f":"IF(AND(L585=Labels!$B$118,WEEKDAY(L577,2)<6),$J$7*$B$574%,\"\")","v":""},{"$f":"IF(AND(M585=Labels!$B$118,WEEKDAY(M577,2)<6),$J$7*$B$574%,\"\")","v":""},{"$f":"IF(AND(N585=Labels!$B$118,WEEKDAY(N577,2)<6),$J$7*$B$574%,\"\")","v":""},{"$f":"IF(AND(O585=Labels!$B$118,WEEKDAY(O577,2)<6),$J$7*$B$574%,\"\")","v":""},{"$f":"IF(AND(P585=Labels!$B$118,WEEKDAY(P577,2)<6),$J$7*$B$574%,\"\")","v":""},{"$f":"IF(AND(Q585=Labels!$B$118,WEEKDAY(Q577,2)<6),$J$7*$B$574%,\"\")","v":""},{"$f":"IF(AND(R585=Labels!$B$118,WEEKDAY(R577,2)<6),$J$7*$B$574%,\"\")","v":""},{"$f":"IF(AND(S585=Labels!$B$118,WEEKDAY(S577,2)<6),$J$7*$B$574%,\"\")","v":""},{"$f":"IF(AND(T585=Labels!$B$118,WEEKDAY(T577,2)<6),$J$7*$B$574%,\"\")","v":""},{"$f":"IF(AND(U585=Labels!$B$118,WEEKDAY(U577,2)<6),$J$7*$B$574%,\"\")","v":""},{"$f":"IF(AND(V585=Labels!$B$118,WEEKDAY(V577,2)<6),$J$7*$B$574%,\"\")","v":""},{"$f":"IF(AND(W585=Labels!$B$118,WEEKDAY(W577,2)<6),$J$7*$B$574%,\"\")","v":""},{"$f":"IF(AND(X585=Labels!$B$118,WEEKDAY(X577,2)<6),$J$7*$B$574%,\"\")","v":""},{"$f":"IF(AND(Y585=Labels!$B$118,WEEKDAY(Y577,2)<6),$J$7*$B$574%,\"\")","v":""},{"$f":"IF(AND(Z585=Labels!$B$118,WEEKDAY(Z577,2)<6),$J$7*$B$574%,\"\")","v":""},{"$f":"IF(AND(AA585=Labels!$B$118,WEEKDAY(AA577,2)<6),$J$7*$B$574%,\"\")","v":""},{"$f":"IF(AND(AB585=Labels!$B$118,WEEKDAY(AB577,2)<6),$J$7*$B$574%,\"\")","v":""},{"$f":"IF(AND(AC585=Labels!$B$118,WEEKDAY(AC577,2)<6),$J$7*$B$574%,\"\")","v":""},{"$f":"IF(AND(AD585=Labels!$B$118,WEEKDAY(AD577,2)<6),$J$7*$B$574%,\"\")","v":""},{"$f":"IF(AND(AE585=Labels!$B$118,WEEKDAY(AE577,2)<6),$J$7*$B$574%,\"\")","v":""},{"$f":"IF(AND(AF585=Labels!$B$118,WEEKDAY(AF577,2)<6),$J$7*$B$574%,\"\")","v":""},{"$f":"SUM(B586:AF586)","v":0}]
[{"$f":"$A$20","v":"Tagestotal"},{"$f":"SUM(B582:B584)","v":0},{"$f":"SUM(C582:C584)","v":0},0,0,0,0,0,0,0,0,0,0,0,0,0,0,0,0,0,0,0,0,0,0,0,0,0,0,0,0,0]
[{"$f":"$A$21","v":"."}]
[{"$f":"$A$22","v":"."}]
[{"$f":"$A$23","v":"Monatsübergang"},{"$f":"IF(WEEKDAY(B577)=1,TEXT(B577-1,\"MMM\"&Labels!B13),\"\")","v":""},null,null,null,null,null,null,null,null,null,null,null,null,null,null,null,null,null,null,null,null,null,null,null,null,null,null,null,null,null,{"$f":"IF(AND(WEEKDAY(AF577)>1,WEEKDAY(AF577)<7),TEXT(DATE($B$5,MONTH(AF577)+1,1),\"MMM\"&Labels!B13),\"\")","v":""}]
[{"$f":"$A$24","v":"Wochentotal"},{"$f":"IF(WEEKDAY(B577)=7,SUMIF($B515:$AF515,B578,$B524:$AF524)+SUMIF($B578:$AF578,B578,$B587:$AF587)+SUMIF($B641:$AF641,B578,$B650:$AF650),B590)","v":""},{"$f":"IF(WEEKDAY(C577)=7,SUMIF($B515:$AF515,C578,$B524:$AF524)+SUMIF($B578:$AF578,C578,$B587:$AF587)+SUMIF($B641:$AF641,C578,$B650:$AF650),\"\")","v":""},0,"","","","","","",0,"","","","","","",0,"","","","","","",0,"","","","","","",{"$f":"IF(WEEKDAY(AF577)=7,SUMIF($B515:$AF515,AF578,$B524:$AF524)+SUMIF($B578:$AF578,AF578,$B587:$AF587)+SUMIF($B641:$AF641,AF578,$B650:$AF650),AF590)","v":0}]
[{"$f":"$A$25","v":"Zeitzuschlag 1)"},{"$f":"IF(B599=\"FALSCH\",\"\",B599)","v":""},{"$f":"IF(C599=\"FALSCH\",\"\",C599)","v":""},"","","","","","","","","","","","","","","","","","","","","","","","","","","","","",{"$f":"SUM(B592:AF592)","v":0}]
[{"$f":"$A$26","v":"Zeitzuschlag 2)"},{"$f":"IF((B582+B584)=0,\"\",SUM(B582,B584))","v":""},{"$f":"IF((C582+C584)=0,\"\",SUM(C582,C584))","v":""},"","","","","","","","","","","","","","","","","","","","","","","","","","","","","",0,"[1]"]
[{"$f":"$A$27","v":"Zeitzuschlag 3)"},{"$f":"SUM(B595:B598)","v":0},{"$f":"SUM(C595:C598)","v":0},0,0,0,0,0,0,0,0,0,0,0,0,0,0,0,0,0,0,0,0,0,0,0,0,0,0,0,0,0,{"$f":"SUM(B594:AF594)","v":0},"[2]"]
[{"$f":"$A$28","v":"Sonntag Tag"},{"$f":"IF(WEEKDAY(B577)=1,B583,\"\")","v":""},{"$f":"IF(WEEKDAY(C577)=1,C583,\"\")","v":""},"",0,"","","","","","",0,"","","","","","",0,"","","","","","",0,"","","","","","",0,"[3]"]
[{"$f":"$A$29","v":"Sonntag Nacht"},{"$f":"IF(WEEKDAY(B577)=1,SUM(B582+B584),\"\")","v":""},{"$f":"IF(WEEKDAY(C577)=1,SUM(C582+C584),\"\")","v":""},"",0,"","","","","","",0,"","","","","","",0,"","","","","","",0,"","","","","","",0,"[4]"]
[{"$f":"$A$30","v":"ft-Tazuschlag"},{"$f":"IF(B585=Labels!$B$118,B583,\"\")","v":""},{"$f":"IF(C585=Labels!$B$118,C583,\"\")","v":""},{"$f":"IF(D585=Labels!$B$118,D583,\"\")","v":""},{"$f":"IF(E585=Labels!$B$118,E583,\"\")","v":""},{"$f":"IF(F585=Labels!$B$118,F583,\"\")","v":""},{"$f":"IF(G585=Labels!$B$118,G583,\"\")","v":""},{"$f":"IF(H585=Labels!$B$118,H583,\"\")","v":""},{"$f":"IF(I585=Labels!$B$118,I583,\"\")","v":""},{"$f":"IF(J585=Labels!$B$118,J583,\"\")","v":""},{"$f":"IF(K585=Labels!$B$118,K583,\"\")","v":""},{"$f":"IF(L585=Labels!$B$118,L583,\"\")","v":""},{"$f":"IF(M585=Labels!$B$118,M583,\"\")","v":""},{"$f":"IF(N585=Labels!$B$118,N583,\"\")","v":""},{"$f":"IF(O585=Labels!$B$118,O583,\"\")","v":""},{"$f":"IF(P585=Labels!$B$118,P583,\"\")","v":""},{"$f":"IF(Q585=Labels!$B$118,Q583,\"\")","v":""},{"$f":"IF(R585=Labels!$B$118,R583,\"\")","v":""},{"$f":"IF(S585=Labels!$B$118,S583,\"\")","v":""},{"$f":"IF(T585=Labels!$B$118,T583,\"\")","v":""},{"$f":"IF(U585=Labels!$B$118,U583,\"\")","v":""},{"$f":"IF(V585=Labels!$B$118,V583,\"\")","v":""},{"$f":"IF(W585=Labels!$B$118,W583,\"\")","v":""},{"$f":"IF(X585=Labels!$B$118,X583,\"\")","v":""},{"$f":"IF(Y585=Labels!$B$118,Y583,\"\")","v":""},{"$f":"IF(Z585=Labels!$B$118,Z583,\"\")","v":""},{"$f":"IF(AA585=Labels!$B$118,AA583,\"\")","v":""},{"$f":"IF(AB585=Labels!$B$118,AB583,\"\")","v":""},{"$f":"IF(AC585=Labels!$B$118,AC583,\"\")","v":""},{"$f":"IF(AD585=Labels!$B$118,AD583,\"\")","v":""},{"$f":"IF(AE585=Labels!$B$118,AE583,\"\")","v":""},{"$f":"IF(AF585=Labels!$B$118,AF583,\"\")","v":""},0,"[5]"]
[{"$f":"$A$31","v":"ft-Nazuschlag"},{"$f":"IF(B585=Labels!$B$118,SUM(B582,B584),\"\")","v":""},{"$f":"IF(C585=Labels!$B$118,SUM(C582,C584),\"\")","v":""},{"$f":"IF(D585=Labels!$B$118,SUM(D582,D584),\"\")","v":""},{"$f":"IF(E585=Labels!$B$118,SUM(E582,E584),\"\")","v":""},{"$f":"IF(F585=Labels!$B$118,SUM(F582,F584),\"\")","v":""},{"$f":"IF(G585=Labels!$B$118,SUM(G582,G584),\"\")","v":""},{"$f":"IF(H585=Labels!$B$118,SUM(H582,H584),\"\")","v":""},{"$f":"IF(I585=Labels!$B$118,SUM(I582,I584),\"\")","v":""},{"$f":"IF(J585=Labels!$B$118,SUM(J582,J584),\"\")","v":""},{"$f":"IF(K585=Labels!$B$118,SUM(K582,K584),\"\")","v":""},{"$f":"IF(L585=Labels!$B$118,SUM(L582,L584),\"\")","v":""},{"$f":"IF(M585=Labels!$B$118,SUM(M582,M584),\"\")","v":""},{"$f":"IF(N585=Labels!$B$118,SUM(N582,N584),\"\")","v":""},{"$f":"IF(O585=Labels!$B$118,SUM(O582,O584),\"\")","v":""},{"$f":"IF(P585=Labels!$B$118,SUM(P582,P584),\"\")","v":""},{"$f":"IF(Q585=Labels!$B$118,SUM(Q582,Q584),\"\")","v":""},{"$f":"IF(R585=Labels!$B$118,SUM(R582,R584),\"\")","v":""},{"$f":"IF(S585=Labels!$B$118,SUM(S582,S584),\"\")","v":""},{"$f":"IF(T585=Labels!$B$118,SUM(T582,T584),\"\")","v":""},{"$f":"IF(U585=Labels!$B$118,SUM(U582,U584),\"\")","v":""},{"$f":"IF(V585=Labels!$B$118,SUM(V582,V584),\"\")","v":""},{"$f":"IF(W585=Labels!$B$118,SUM(W582,W584),\"\")","v":""},{"$f":"IF(X585=Labels!$B$118,SUM(X582,X584),\"\")","v":""},{"$f":"IF(Y585=Labels!$B$118,SUM(Y582,Y584),\"\")","v":""},{"$f":"IF(Z585=Labels!$B$118,SUM(Z582,Z584),\"\")","v":""},{"$f":"IF(AA585=Labels!$B$118,SUM(AA582,AA584),\"\")","v":""},{"$f":"IF(AB585=Labels!$B$118,SUM(AB582,AB584),\"\")","v":""},{"$f":"IF(AC585=Labels!$B$118,SUM(AC582,AC584),\"\")","v":""},{"$f":"IF(AD585=Labels!$B$118,SUM(AD582,AD584),\"\")","v":""},{"$f":"IF(AE585=Labels!$B$118,SUM(AE582,AE584),\"\")","v":""},{"$f":"IF(AF585=Labels!$B$118,SUM(AF582,AF584),\"\")","v":""},0,"[6]"]
[{"$f":"$A$32","v":"Zuschlag  blind (Wochentotal)"},{"$f":"IF(OR(ISTEXT(B591),B591=\"\",B591<$B$7),\"\",ROUND(((B591-$B$7)*25%)/25,4)*25)","v":""},{"$f":"IF(OR(ISTEXT(C591),C591=\"\",C591<$B$7),\"\",ROUND(((C591-$B$7)*25%)/25,4)*25)","v":""},"","","","","","","","","","","","","","","","","","","","","","","","","","","","","",{"$f":"AG583","v":0},"[7]"]
[null,{"$f":"$B$33","v":"1)   25% Zeitzuschlag für Überschreitung Wochentotal"},null,null,null,null,null,null,null,null,null,{"$f":"$L$33","v":"2) 100% Zeitzuschlag für Nachtarbeit"},null,null,null,null,null,null,null,null,null,null,null,null,null,null,null,null,null,null,null,null,{"$f":"SUM(AG582+AG584)","v":0},"[8]"]
[null,{"$f":"$B$34","v":"3) 100% Zeitzuschlag für Sonn- und Feiertagsarbeit"},null,null,null,null,null,null,null,null,null,null,null,null,null,null,null,null,null,{"$f":"$T$34","v":"Eingabe der ausbezahlten Stunden laufendes Jahr (Überstunden)"},null,null,null,null,null,null,null,null,null,null,null,null,{"$f":"SUM(AG582:AG584)","v":0},"[9]"]
[{"$f":"$A$35","v":"Bemerkungen"},null,null,null,null,null,null,null,null,null,null,null,null,null,null,null,null,null,null,null,null,null,null,null,null,null,null,null,null,null,null,null,{"$f":"SUM(AG580+AG586)","v":0},"[10]"]
[null,null,null,null,null,null,null,null,null,null,null,null,null,null,null,null,null,null,null,null,null,null,null,null,null,null,null,null,null,null,null,null,{"$f":"SUM(AG580:AG594)","v":0},"[11]"]
[null,null,null,null,null,null,null,null,null,null,null,null,null,null,null,null,null,null,null,null,null,null,null,null,null,null,null,null,null,null,null,null,{"$f":"AG579","v":176}]
[null,null,null,null,null,null,null,null,null,null,null,null,null,null,null,null,null,null,null,null,null,null,null,null,null,null,null,null,null,null,null,null,{"$f":"SUM(AG603-AG579)","v":-176}]
[{"$f":"$A$39","v":"Zusammenstellung"},null,null,null,null,null,{"$f":"$G$39","v":"Jan"},null,{"$f":"$I$39","v":"Feb"},null,{"$f":"$K$39","v":"Mrz"},null,{"$f":"$M$39","v":"Apr"},null,{"$f":"$O$39","v":"Mai"},null,{"$f":"$Q$39","v":"Jun"},null,{"$f":"$S$39","v":"Jul"},null,{"$f":"$U$39","v":"Aug"},null,{"$f":"$W$39","v":"Sep"},null,{"$f":"$Y$39","v":"Okt"},null,{"$f":"$AA$39","v":"Nov"},null,{"$f":"$AC$39","v":"Dez"},null,{"$f":"$AE$39","v":"Jahr"}]
[{"$f":"$A$40","v":"Anstellung %"},null,null,null,null,null,{"$f":"IF($B$4=0,0,$B$4)","v":100},null,{"$f":"IF($B$70=0,0,$B$70)","v":100},null,{"$f":"IF($B$133=0,0,$B$133)","v":100},null,{"$f":"IF($B$196=0,0,$B$196)","v":100},null,{"$f":"IF($B$259=0,0,$B$259)","v":100},null,{"$f":"IF($B$322=0,0,$B$322)","v":100},null,{"$f":"IF($B$385=0,0,$B$385)","v":100},null,{"$f":"IF($B$448=0,0,$B$448)","v":100},null,{"$f":"IF($B$511=0,0,$B$511)","v":100},null,{"$f":"IF($B$574=0,0,$B$574)","v":100},null,{"$f":"IF($B$637=0,0,$B$637)","v":100},null,{"$f":"IF($B$700=0,0,$B$700)","v":100}]
[{"$f":"$A$41","v":"Sollstunden gemäss GAV"},null,null,null,null,null,{"$f":"IF($AG$37=0,0,$AG$37)","v":184},null,{"$f":"IF($AG$100=0,0,$AG$100)","v":160},null,{"$f":"IF($AG$138=0,0,$AG$138)","v":176},null,{"$f":"IF($AG$226=0,0,$AG$226)","v":176},null,{"$f":"IF($AG$289=0,0,$AG$289)","v":168},null,{"$f":"IF($AG$352=0,0,$AG$352)","v":176},null,{"$f":"IF($AG$415=0,0,$AG$415)","v":184},null,{"$f":"IF($AG$478=0,0,$AG$478)","v":168},null,{"$f":"IF($AG$541=0,0,$AG$541)","v":176},null,{"$f":"IF($AG$604=0,0,$AG$604)","v":176},null,{"$f":"IF($AG$667=0,0,$AG$667)","v":168},null,{"$f":"IF($AG$730=0,0,$AG$730)","v":184},null,{"$f":"SUM(G608:AD608)","v":2096}]
[{"$f":"$A$42","v":"Produktive Stunden"},{"$f":"$B$42","v":"06.00 - 20.00 Uhr"},null,null,null,null,{"$f":"IF($AG$32=0,0,$AG$32)","v":0},null,{"$f":"IF($AG$95=0,0,$AG$95)","v":0},null,{"$f":"IF($AG$158=0,0,$AG$158)","v":0},null,{"$f":"IF($AG$221=0,0,$AG$221)","v":0},null,{"$f":"IF($AG$284=0,0,$AG$284)","v":0},null,{"$f":"IF($AG$347=0,0,$AG$347)","v":0},null,{"$f":"IF($AG$410=0,0,$AG$410)","v":0},null,{"$f":"IF($AG$473=0,0,$AG$473)","v":0},null,{"$f":"IF($AG$536=0,0,$AG$536)","v":0},null,{"$f":"IF($AG$599=0,0,$AG$599)","v":0},null,{"$f":"IF($AG$662=0,0,$AG$662)","v":0},null,{"$f":"IF($AG$725=0,0,$AG$725)","v":0},null,{"$f":"SUM(G609:AD609)","v":0}]
[null,{"$f":"$B$43","v":"Nacht-, Sonn-, Feiertagsarbeit"},null,null,null,null,{"$f":"IF($AG$33=0,0,$AG$33)","v":0},null,{"$f":"IF($AG$96=0,0,$AG$96)","v":0},null,{"$f":"IF($AG$159=0,0,$AG$159)","v":0},null,{"$f":"IF($AG$222=0,0,$AG$222)","v":0},null,{"$f":"IF($AG$285=0,0,$AG$285)","v":0},null,{"$f":"IF($AG$348=0,0,$AG$348)","v":0},null,{"$f":"IF($AG$411=0,0,$AG$411)","v":0},null,{"$f":"IF($AG$474=0,0,$AG$474)","v":0},null,{"$f":"IF($AG$537=0,0,$AG$537)","v":0},null,{"$f":"IF($AG$600=0,0,$AG$600)","v":0},null,{"$f":"IF($AG$663=0,0,$AG$663)","v":0},null,{"$f":"IF($AG$726=0,0,$AG$726)","v":0},null,{"$f":"SUM(G610:AD610)","v":0}]
[{"$f":"$A$44","v":"Zeitzuschläge"},{"$f":"$B$44","v":"aus Wochentotal"},null,null,null,null,{"$f":"IF($AG$25=0,0,$AG$25)","v":0},null,{"$f":"IF($AG$88=0,0,$AG$88)","v":0},null,{"$f":"IF($AG$151=0,0,$AG$151)","v":0},null,{"$f":"IF($AG$214=0,0,$AG$214)","v":0},null,{"$f":"IF($AG$277=0,0,$AG$277)","v":0},null,{"$f":"IF($AG$340=0,0,$AG$340)","v":0},null,{"$f":"IF($AG$403=0,0,$AG$403)","v":0},null,{"$f":"IF($AG$466=0,0,$AG$466)","v":0},null,{"$f":"IF($AG$529=0,0,$AG$529)","v":0},null,{"$f":"IF($AG$592=0,0,$AG$592)","v":0},null,{"$f":"IF($AG$655=0,0,$AG$655)","v":0},null,{"$f":"IF($AG$718=0,0,$AG$718)","v":0},null,{"$f":"SUM(G611:AD611)","v":0}]
[null,{"$f":"$B$45","v":"aus Nacht-, Sonn-, Feiertagsarbeiten"},null,null,null,null,{"$f":"IF($AJ$20=0,0,$AJ$20)","v":0},null,{"$f":"IF($AK$20=0,0,$AK$20)","v":0},null,{"$f":"IF($AL$20=0,0,$AL$20)","v":0},null,{"$f":"IF($AM$20=0,0,$AM$20)","v":0},null,{"$f":"IF($AN$20=0,0,$AN$20)","v":0},null,{"$f":"IF($AO$20=0,0,$AO$20)","v":0},null,{"$f":"IF($AP$20=0,0,$AP$20)","v":0},null,{"$f":"IF($AQ$20=0,0,$AQ$20)","v":0},null,{"$f":"IF($AR$20=0,0,$AR$20)","v":0},null,{"$f":"IF($AS$20=0,0,$AS$20)","v":0},null,{"$f":"IF($AT$20=0,0,$AT$20)","v":0},null,{"$f":"IF($AU$20=0,0,$AU$20)","v":0},null,{"$f":"SUM(G612:AD612)","v":0}]
[{"$f":"$A$46","v":"Unproduktive Stunden"}]
[{"$f":"$A$47","v":"   Absenzen, Kurzabsenzen Art. 11 GAV"},null,null,null,null,{"$f":"$F$47","v":"a"},{"$f":"IF($AJ$3=0,0,$AJ$3)","v":0},null,{"$f":"IF($AK$3=0,0,$AK$3)","v":0},null,{"$f":"IF($AL$3=0,0,$AL$3)","v":0},null,{"$f":"IF($AM$3=0,0,$AM$3)","v":0},null,{"$f":"IF($AN$3=0,0,$AN$3)","v":0},null,{"$f":"IF($AO$3=0,0,$AO$3)","v":0},null,{"$f":"IF($AP$3=0,0,$AP$3)","v":0},null,{"$f":"IF($AQ$3=0,0,$AQ$3)","v":0},null,{"$f":"IF($AR$3=0,0,$AR$3)","v":0},null,{"$f":"IF($AS$3=0,0,$AS$3)","v":0},null,{"$f":"IF(AT$3=0,0,$AT$3)","v":0},null,{"$f":"IF($AU$3=0,0,$AU$3)","v":0},null,{"$f":"IF($AV$3=0,0,$AV$3)","v":0}]
[{"$f":"$A$48","v":"   Ferien Art. 12.1 GAV"},null,null,null,null,{"$f":"$F$48","v":"f"},{"$f":"IF($AJ$4=0,0,$AJ$4)","v":0},null,{"$f":"IF($AK$4=0,0,$AK$4)","v":0},null,{"$f":"IF($AL$4=0,0,$AL$4)","v":0},null,{"$f":"IF($AM$4=0,0,$AM$4)","v":0},null,{"$f":"IF($AN$4=0,0,$AN$4)","v":0},null,{"$f":"IF($AO$4=0,0,$AO$4)","v":0},null,{"$f":"IF($AP$4=0,0,$AP$4)","v":0},null,{"$f":"IF($AQ$4=0,0,$AQ$4)","v":0},null,{"$f":"IF($AR$4=0,0,$AR$4)","v":0},null,{"$f":"IF($AS$4=0,0,$AS$4)","v":0},null,{"$f":"IF($AT$4=0,0,$AT$4)","v":0},null,{"$f":"IF($AU$4=0,0,$AU$4)","v":0},null,{"$f":"IF($AV$4=0,0,$AV$4)","v":0}]
[{"$f":"$A$49","v":"   Feiertage Art. 12.2 GAV"},null,{"$f":"IF($AJ$17=\"\",\"\",$AJ$17)","v":""},null,null,{"$f":"$F$49","v":"ft"},{"$f":"IF($AJ$15=0,0,$AJ$15)","v":0},null,{"$f":"IF($AK$15=0,0,$AK$15)","v":0},null,{"$f":"IF($AL$15=0,0,$AL$15)","v":0},null,{"$f":"IF($AM$15=0,0,$AM$15)","v":0},null,{"$f":"IF($AN$15=0,0,$AN$15)","v":0},null,{"$f":"IF($AO$15=0,0,$AO$15)","v":0},null,{"$f":"IF($AP$15=0,0,$AP$15)","v":0},null,{"$f":"IF($AQ$15=0,0,$AQ$15)","v":0},null,{"$f":"IF($AR$15=0,0,$AR$15)","v":0},null,{"$f":"IF($AS$15=0,0,$AS$15)","v":0},null,{"$f":"IF($AT$15=0,0,$AT$15)","v":0},null,{"$f":"IF($AU$15=0,0,$AU$15)","v":0},null,{"$f":"IF($AV$15=0,0,$AV$15)","v":0}]
[{"$f":"$A$50","v":"   Krankheit Art. 13 GAV"},null,null,null,null,{"$f":"$F$50","v":"k"},{"$f":"IF($AJ$5=0,0,$AJ$5)","v":0},null,{"$f":"IF($AK$5=0,0,$AK$5)","v":0},null,{"$f":"IF($AL$5=0,0,$AL$5)","v":0},null,{"$f":"IF($AM$5=0,0,$AM$5)","v":0},null,{"$f":"IF($AN$5=0,0,$AN$5)","v":0},null,{"$f":"IF($AO$5=0,0,$AO$5)","v":0},null,{"$f":"IF($AP$5=0,0,$AP$5)","v":0},null,{"$f":"IF($AQ$5=0,0,$AQ$5)","v":0},null,{"$f":"IF($AR$5=0,0,$AR$5)","v":0},null,{"$f":"IF($AS$5=0,0,$AS$5)","v":0},null,{"$f":"IF($AT$5=0,0,$AT$5)","v":0},null,{"$f":"IF($AU$5=0,0,$AU$5)","v":0},null,{"$f":"IF($AV$5=0,0,$AV$5)","v":0}]
[{"$f":"$A$51","v":"   Unfall Art. 14 GAV"},null,null,null,null,{"$f":"$F$51","v":"u"},{"$f":"IF($AJ$6=0,0,$AJ$6)","v":0},null,{"$f":"IF($AK$6=0,0,$AK$6)","v":0},null,{"$f":"IF($AL$6=0,0,$AL$6)","v":0},null,{"$f":"IF($AM$6=0,0,$AM$6)","v":0},null,{"$f":"IF($AN$6=0,0,$AN$6)","v":0},null,{"$f":"IF($AO$6=0,0,$AO$6)","v":0},null,{"$f":"IF($AP$6=0,0,$AP$6)","v":0},null,{"$f":"IF($AQ$6=0,0,$AQ$6)","v":0},null,{"$f":"IF($AR$6=0,0,$AR$6)","v":0},null,{"$f":"IF($AS$6=0,0,$AS$6)","v":0},null,{"$f":"IF($AT$6=0,0,$AT$6)","v":0},null,{"$f":"IF($AU$6=0,0,$AU$6)","v":0},null,{"$f":"IF($AV$6=0,0,$AV$6)","v":0}]
[{"$f":"$A$52","v":"   Schwangerschaft/Mutterschaft Art. 15 GAV"},null,null,null,null,{"$f":"$F$52","v":"s"},{"$f":"IF($AJ$7=0,0,$AJ$7)","v":0},null,{"$f":"IF($AK$7=0,0,$AK$7)","v":0},null,{"$f":"IF($AL$7=0,0,$AL$7)","v":0},null,{"$f":"IF($AM$7=0,0,$AM$7)","v":0},null,{"$f":"IF($AN$7=0,0,$AN$7)","v":0},null,{"$f":"IF($AO$7=0,0,$AO$7)","v":0},null,{"$f":"IF($AP$7=0,0,$AP$7)","v":0},null,{"$f":"IF($AQ$7=0,0,$AQ$7)","v":0},null,{"$f":"IF($AR$7=0,0,$AR$7)","v":0},null,{"$f":"IF($AS$7=0,0,$AS$7)","v":0},null,{"$f":"IF($AT$7=0,0,$AT$7)","v":0},null,{"$f":"IF($AU$7=0,0,$AU$7)","v":0},null,{"$f":"IF($AV$7=0,0,$AV$7)","v":0}]
[{"$f":"$A$53","v":"   Militär/Beförderung/Zivilschutz Art. 16 GAV"},null,null,null,null,{"$f":"$F$53","v":"m"},{"$f":"IF($AJ$8=0,0,$AJ$8)","v":0},null,{"$f":"IF($AK$8=0,0,$AK$8)","v":0},null,{"$f":"IF($AL$8=0,0,$AL$8)","v":0},null,{"$f":"IF($AM$8=0,0,$AM$8)","v":0},null,{"$f":"IF($AN$8=0,0,$AN$8)","v":0},null,{"$f":"IF($AO$8=0,0,$AO$8)","v":0},null,{"$f":"IF($AP$8=0,0,$AP$8)","v":0},null,{"$f":"IF($AQ$8=0,0,$AQ$8)","v":0},null,{"$f":"IF($AR$8=0,0,$AR$8)","v":0},null,{"$f":"IF($AS$8=0,0,$AS$8)","v":0},null,{"$f":"IF($AT$8=0,0,$AT$8)","v":0},null,{"$f":"IF($AU$8=0,0,$AU$8)","v":0},null,{"$f":"IF($AV$8=0,0,$AV$8)","v":0}]
[{"$f":"$A$54","v":"   Kurzarbeit und Schlechtwetterausfälle"},null,null,null,null,{"$f":"$F$54","v":"ka"},{"$f":"IF($AJ$11=0,0,$AJ$11)","v":0},null,{"$f":"IF($AK$11=0,0,$AK$11)","v":0},null,{"$f":"IF($AL$11=0,0,$AL$11)","v":0},null,{"$f":"IF($AM$11=0,0,$AM$11)","v":0},null,{"$f":"IF($AN$11=0,0,$AN$11)","v":0},null,{"$f":"IF($AO$11=0,0,$AO$11)","v":0},null,{"$f":"IF($AP$11=0,0,$AP$11)","v":0},null,{"$f":"IF($AQ$11=0,0,$AQ$11)","v":0},null,{"$f":"IF($AR$11=0,0,$AR$11)","v":0},null,{"$f":"IF($AS$11=0,0,$AS$11)","v":0},null,{"$f":"IF($AT$11=0,0,$AT$11)","v":0},null,{"$f":"IF($AU$11=0,0,$AU$11)","v":0},null,{"$f":"IF($AV$11=0,0,$AV$11)","v":0}]
[{"$f":"$A$55","v":"   Berufsschule"},null,null,null,null,{"$f":"$F$55","v":"bs"},{"$f":"IF($AJ$9=0,0,$AJ$9)","v":0},null,{"$f":"IF($AK$9=0,0,$AK$9)","v":0},null,{"$f":"IF($AL$9=0,0,$AL$9)","v":0},null,{"$f":"IF($AM$9=0,0,$AM$9)","v":0},null,{"$f":"IF($AN$9=0,0,$AN$9)","v":0},null,{"$f":"IF($AO$9=0,0,$AO$9)","v":0},null,{"$f":"IF($AP$9=0,0,$AP$9)","v":0},null,{"$f":"IF($AQ$9=0,0,$AQ$9)","v":0},null,{"$f":"IF($AR$9=0,0,$AR$9)","v":0},null,{"$f":"IF($AS$9=0,0,$AS$9)","v":0},null,{"$f":"IF($AT$9=0,0,$AT$9)","v":0},null,{"$f":"IF($AU$9=0,0,$AU$9)","v":0},null,{"$f":"IF($AV$9=0,0,$AV$9)","v":0}]
[{"$f":"$A$56","v":"   Kurse"},null,null,null,null,{"$f":"$F$56","v":"ku"},{"$f":"IF($AJ$10=0,0,$AJ$10)","v":0},null,{"$f":"IF($AK$10=0,0,$AK$10)","v":0},null,{"$f":"IF($AL$10=0,0,$AL$10)","v":0},null,{"$f":"IF($AM$10=0,0,$AM$10)","v":0},null,{"$f":"IF($AN$10=0,0,$AN$10)","v":0},null,{"$f":"IF($AO$10=0,0,$AO$10)","v":0},null,{"$f":"IF($AP$10=0,0,$AP$10)","v":0},null,{"$f":"IF($AQ$10=0,0,$AQ$10)","v":0},null,{"$f":"IF($AR$10=0,0,$AR$10)","v":0},null,{"$f":"IF($AS$10=0,0,$AS$10)","v":0},null,{"$f":"IF($AT$10=0,0,$AT$10)","v":0},null,{"$f":"IF($AU$10=0,0,$AU$10)","v":0},null,{"$f":"IF($AV$10=0,0,$AV$10)","v":0}]
[{"$f":"$A$57","v":"Kompensations-Std"},{"$f":"$B$57","v":"aus Vorjahr"},null,null,null,{"$f":"$F$57","v":"kv"},{"$f":"IF($AJ$12=0,0,$AJ$12)","v":0},null,{"$f":"IF($AK$12=0,0,$AK$12)","v":0},null,{"$f":"IF($AL$12=0,0,$AL$12)","v":0},null,{"$f":"IF($AM$12=0,0,$AM$12)","v":0},null,{"$f":"IF($AN$12=0,0,$AN$12)","v":0},null,{"$f":"IF($AO$12=0,0,$AO$12)","v":0},null,{"$f":"IF($AP$12=0,0,$AP$12)","v":0},null,{"$f":"IF($AQ$12=0,0,$AQ$12)","v":0},null,{"$f":"IF($AR$12=0,0,$AR$12)","v":0},null,null,null,null,null,null,null,{"$f":"IF($AV$12=0,0,$AV$12)","v":0}]
[null,{"$f":"$B$58","v":"aus laufendem Jahr (Kontrolle)"},null,null,null,{"$f":"$F$58","v":"kj"},{"$f":"IF($AJ$14=0,0,$AJ$14)","v":0},null,{"$f":"IF($AK$14=0,0,$AK$14)","v":0},null,{"$f":"IF($AL$14=0,0,$AL$14)","v":0},null,{"$f":"IF($AM$14=0,0,$AM$14)","v":0},null,{"$f":"IF($AN$14=0,0,$AN$14)","v":0},null,{"$f":"IF($AO$14=0,0,$AO$14)","v":0},null,{"$f":"IF($AP$14=0,0,$AP$14)","v":0},null,{"$f":"IF($AQ$14=0,0,$AQ$14)","v":0},null,{"$f":"IF($AR$14=0,0,$AR$14)","v":0},null,{"$f":"IF($AS$14=0,0,$AS$14)","v":0},null,{"$f":"IF($AT$14=0,0,$AT$14)","v":0},null,{"$f":"IF($AU$14=0,0,$AU$14)","v":0},null,{"$f":"IF($AV$14=0,0,$AV$14)","v":0}]
[{"$f":"$A$59","v":"Auszahlung"},{"$f":"$B$59","v":"Stunden Vorjahressaldo"},null,null,null,null,{"$f":"IF($AJ$18=0,0,$AJ$18)","v":0},null,{"$f":"IF($AK$18=0,0,$AK$18)","v":0},null,{"$f":"IF($AL$18=0,0,$AL$18)","v":0},null,{"$f":"IF($AM$18=0,0,$AM$18)","v":0},null,{"$f":"IF($AN$18=0,0,$AN$18)","v":0},null,{"$f":"IF($AO$18=0,0,$AO$18)","v":0},null,{"$f":"IF($AP$18=0,0,$AP$18)","v":0},null,{"$f":"IF($AQ$18=0,0,$AQ$18)","v":0},null,{"$f":"IF($AR$18=0,0,$AR$18)","v":0},null,null,null,null,null,null,null,{"$f":"IF($AV$18=0,0,$AV$18)","v":0}]
[{"$f":"$A$60","v":"Differenz"},{"$f":"$B$60","v":"nach Kompensation und Auszahlung"},null,null,null,null,{"$f":"IF(ROUND($P$4,3)=0,0,$P$4-SUM(G624+G626))","v":0},null,{"$f":"IF(ROUND(G627,3)=0,0,G627-(SUM(I626+I624)))","v":0},null,{"$f":"IF(ROUND(I627,3)=0,0,I627-(SUM(K626+K624)))","v":0},null,{"$f":"IF(ROUND(K627,3)=0,0,K627-(SUM(M626+M624)))","v":0},null,{"$f":"IF(ROUND(M627,3)=0,0,M627-(SUM(O626+O624)))","v":0},null,{"$f":"IF(ROUND(O627,3)=0,0,O627-(SUM(Q626+Q624)))","v":0},null,{"$f":"IF(ROUND(Q627,3)=0,0,Q627-(SUM(S626+S624)))","v":0},null,{"$f":"IF(ROUND(S627,3)=0,0,S627-(SUM(U626+U624)))","v":0},null,{"$f":"IF(ROUND(U627,3)=0,0,U627-(SUM(W626+W624)))","v":0},null,{"$f":"$Y$60","v":""}]
[{"$f":"$A$61","v":"Auszahlung"},{"$f":"$B$61","v":"Stunden laufendes Jahr"},null,null,null,null,{"$f":"IF($AJ$19=0,0,$AJ$19)","v":0},null,{"$f":"IF($AK$19=0,0,$AK$19)","v":0},null,{"$f":"IF($AL$19=0,0,$AL$19)","v":0},null,{"$f":"IF($AM$19=0,0,$AM$19)","v":0},null,{"$f":"IF($AN$19=0,0,$AN$19)","v":0},null,{"$f":"IF($AO$19=0,0,$AO$19)","v":0},null,{"$f":"IF($AP$19=0,0,$AP$19)","v":0},null,{"$f":"IF($AQ$19=0,0,$AQ$19)","v":0},null,{"$f":"IF($AR$19=0,0,$AR$19)","v":0},null,{"$f":"IF($AS$19=0,0,$AS$19)","v":0},null,{"$f":"IF($AT$19=0,0,$AT$19)","v":0},null,{"$f":"IF($AU$19=0,0,$AU$19)","v":0},null,{"$f":"IF($AV$19=0,0,$AV$19)","v":0}]
[{"$f":"$A$62","v":"Fehlstunden"},{"$f":"$B$62","v":"laufendes Jahr (Kontrolle)"},null,null,null,{"$f":"$F$62","v":"fe"},{"$f":"IF($AJ$13=0,0,$AJ$13)","v":0},null,{"$f":"IF($AK$13=0,0,$AK$13)","v":0},null,{"$f":"IF($AL$13=0,0,$AL$13)","v":0},null,{"$f":"IF($AM$13=0,0,$AM$13)","v":0},null,{"$f":"IF($AN$13=0,0,$AN$13)","v":0},null,{"$f":"IF($AO$13=0,0,$AO$13)","v":0},null,{"$f":"IF($AP$13=0,0,$AP$13)","v":0},null,{"$f":"IF($AQ$13=0,0,$AQ$13)","v":0},null,{"$f":"IF($AR$13=0,0,$AR$13)","v":0},null,{"$f":"IF($AS$13=0,0,$AS$13)","v":0},null,{"$f":"IF($AT$13=0,0,$AT$13)","v":0},null,{"$f":"IF($AU$13=0,0,$AU$13)","v":0},null,{"$f":"IF($AV$13=0,0,$AV$13)","v":0}]
[{"$f":"$A$63","v":"Total inkl. Zeitzuschläge"},{"$f":"$B$63","v":"Stunden produktiv und unproduktiv"},null,null,null,null,{"$f":"IF($AG$36=0,0,$AG$36)","v":0},null,{"$f":"IF($AG$99=0,0,$AG$99)","v":0},null,{"$f":"IF($AG$162=0,0,$AG$162)","v":0},null,{"$f":"IF($AG$225=0,0,$AG$225)","v":0},null,{"$f":"IF($AG$288=0,0,$AG$288)","v":0},null,{"$f":"IF($AG$351=0,0,$AG$351)","v":0},null,{"$f":"IF($AG$414=0,0,$AG$414)","v":0},null,{"$f":"IF($AG$477=0,0,$AG$477)","v":0},null,{"$f":"IF($AG$540=0,0,$AG$540)","v":0},null,{"$f":"IF($AG$603=0,0,$AG$603)","v":0},null,{"$f":"IF($AG$666=0,0,$AG$666)","v":0},null,{"$f":"IF($AG$729=0,0,$AG$729)","v":0},null,{"$f":"SUM($G$63:$AD$63)","v":0}]
[{"$f":"$A$64","v":"Vergleich"},{"$f":"$B$64","v":"Stunden zu Soll-Stunden (inkl. allfälli-\nge Minusstunden Vorjahr)"},null,null,null,null,{"$f":"$G$64","v":-184},null,{"$f":"$I$64","v":-160},null,{"$f":"$K$64","v":-176},null,{"$f":"$M$64","v":-176},null,{"$f":"$O$64","v":-168},null,{"$f":"$Q$64","v":-176},null,{"$f":"$S$64","v":-184},null,{"$f":"$U$64","v":-168},null,{"$f":"$W$64","v":-176},null,{"$f":"$Y$64","v":-176},null,{"$f":"$AA$64","v":-168},null,{"$f":"$AC$64","v":-184},null,{"$f":"$AE$64","v":-2096}]
[null,{"$f":"$B$65","v":"Stunden zu Soll-Stunden (kumuliert)"},null,null,null,null,{"$f":"$G$65","v":-184},null,{"$f":"$I$65","v":-344},null,{"$f":"$K$65","v":-520},null,{"$f":"$M$65","v":-696},null,{"$f":"$O$65","v":-864},null,{"$f":"$Q$65","v":-1040},null,{"$f":"$S$65","v":-1224},null,{"$f":"$U$65","v":-1392},null,{"$f":"$W$65","v":-1568},null,{"$f":"$Y$65","v":-1744},null,{"$f":"$AA$65","v":-1912},null,{"$f":"$AC$65","v":-2096},null,{"$f":"$AE$65","v":0}]
[{"$f":"$A$66","v":"Ferienkontrolle"},{"$f":"$B$66","v":"Ferienguthaben Vorjahr"},null,null,null,null,{"$f":"IF($AA$4=0,0,$AA$4)","v":0},null,{"$f":"$I$66","v":"Ferienguthaben nach \nArt. 12.1 GAV"},null,null,null,{"$f":"IF($AA$5=0,0,$AA$5)","v":0},null,{"$f":"$O$66","v":"Ferienguthaben total"},null,null,null,{"$f":"SUM(G633+M633)","v":0},null,{"$f":"$U$66","v":"Ferien bezogen"},null,null,null,{"$f":"IF($AV$4=0,0,$AV$4)","v":0},null,{"$f":"$AA$66","v":"Aktuelles Ferienguthaben"},null,null,null,{"$f":"IF(S633=0,0,S633-Y633)","v":0}]
[]
[]
[{"$f":"$A$3","v":"Mitarbeiter/In"},{"$f":"IF($B$3=\"\",\"\",$B$3)","v":"Muster Peter"},null,null,null,null,null,null,null,null,null,null,null,null,null,null,null,null,null,null,null,null,null,null,null,null,null,null,null,null,null,{"$f":"AF3","v":0}]
[{"$f":"$A$4","v":"Anstellung %"},100,null,{"$f":"Labels!B99","v":"im November"}]
[{"$f":"$A$5","v":"Saldo für das Jahr"},null,null,{"$f":"IF($AE$64=0,0,$AE$64)","v":-2096}]
[{"$f":"TEXT(DATE(YEAR(AP28),MONTH(AP28)+10,1),\"MMMM\"&Labels!B13)","v":"November"},{"$f":"$B$9","v":"Saldo Monat + / -"},null,null,null,{"$f":"(AG642-(SUM(AG643:AG657)-AE664))*-1","v":-168},null,null,null,null,{"$f":"$K$9","v":" = "},{"$f":"$L$9","v":"Gelbe Felder müssen ausgefüllt werden (die übrigen werden automatisch berechnet)"}]
[{"$f":"$A$10","v":"Tag"},{"$f":"AF577+1","v":"2020-11-01"},{"$f":"B640+1","v":"2020-11-02"},{"$f":"C640+1","v":"2020-11-03"},"2020-11-04","2020-11-05","2020-11-06","2020-11-07","2020-11-08","2020-11-09","2020-11-10","2020-11-11","2020-11-12","2020-11-13","2020-11-14","2020-11-15","2020-11-16","2020-11-17","2020-11-18","2020-11-19","2020-11-20","2020-11-21","2020-11-22","2020-11-23","2020-11-24","2020-11-25","2020-11-26","2020-11-27","2020-11-28","2020-11-29","2020-11-30",null,{"$f":"COUNT(B642:AF642)&\" \"&Labels!$B$63","v":"21 Tage"}]
[{"$f":"$A$11","v":"Kalenderwoche"},{"$f":"IF(B640=\"\",\"\",TRUNC((B640-DATE(YEAR(B640+3-MOD(B640-2,7)),1,MOD(B640-2,7)-9))/7))","v":44},45,45,45,45,45,45,45,46,46,46,46,46,46,46,47,47,47,47,47,47,47,48,48,48,48,48,48,48,49,""]
[{"$f":"$A$12","v":"Sollstunden"},{"$f":"IF(MOD(B640,7)>=2,$J$7*$B$637%,\"\")","v":""},8,8,8,8,8,"","",8,8,8,8,8,"","",8,8,8,8,8,"","",8,8,8,8,8,"","",8,null,{"$f":"SUM(B642:AF642)","v":168}]
[{"$f":"$A$13","v":"Absenz in Std"},{"$f":"B1049","v":0},{"$f":"C1049","v":0},0,0,0,0,0,0,0,0,0,0,0,0,0,0,0,0,0,0,0,0,0,0,0,0,0,0,0,0,null,{"$f":"SUM(AT3:AT12)","v":0}]
[{"$f":"$A$14","v":"Code"},{"$f":"IF(B1049<>0,IF(MAX(B1036:B1048)<B1049,Labels!$B$163,INDEX($AH$1036:$AH$1048,MATCH(MAX(B1036:B1048),B1036:B1048,0))),\"\")","v":""},{"$f":"IF(C1049<>0,IF(MAX(C1036:C1048)<C1049,Labels!$B$163,INDEX($AH$1036:$AH$1048,MATCH(MAX(C1036:C1048),C1036:C1048,0))),\"\")","v":""},{"$f":"IF(D1049<>0,IF(MAX(D1036:D1048)<D1049,Labels!$B$163,INDEX($AH$1036:$AH$1048,MATCH(MAX(D1036:D1048),D1036:D1048,0))),\"\")","v":""},{"$f":"IF(E1049<>0,IF(MAX(E1036:E1048)<E1049,Labels!$B$163,INDEX($AH$1036:$AH$1048,MATCH(MAX(E1036:E1048),E1036:E1048,0))),\"\")","v":""},{"$f":"IF(F1049<>0,IF(MAX(F1036:F1048)<F1049,Labels!$B$163,INDEX($AH$1036:$AH$1048,MATCH(MAX(F1036:F1048),F1036:F1048,0))),\"\")","v":""},{"$f":"IF(G1049<>0,IF(MAX(G1036:G1048)<G1049,Labels!$B$163,INDEX($AH$1036:$AH$1048,MATCH(MAX(G1036:G1048),G1036:G1048,0))),\"\")","v":""},{"$f":"IF(H1049<>0,IF(MAX(H1036:H1048)<H1049,Labels!$B$163,INDEX($AH$1036:$AH$1048,MATCH(MAX(H1036:H1048),H1036:H1048,0))),\"\")","v":""},{"$f":"IF(I1049<>0,IF(MAX(I1036:I1048)<I1049,Labels!$B$163,INDEX($AH$1036:$AH$1048,MATCH(MAX(I1036:I1048),I1036:I1048,0))),\"\")","v":""},{"$f":"IF(J1049<>0,IF(MAX(J1036:J1048)<J1049,Labels!$B$163,INDEX($AH$1036:$AH$1048,MATCH(MAX(J1036:J1048),J1036:J1048,0))),\"\")","v":""},{"$f":"IF(K1049<>0,IF(MAX(K1036:K1048)<K1049,Labels!$B$163,INDEX($AH$1036:$AH$1048,MATCH(MAX(K1036:K1048),K1036:K1048,0))),\"\")","v":""},{"$f":"IF(L1049<>0,IF(MAX(L1036:L1048)<L1049,Labels!$B$163,INDEX($AH$1036:$AH$1048,MATCH(MAX(L1036:L1048),L1036:L1048,0))),\"\")","v":""},{"$f":"IF(M1049<>0,IF(MAX(M1036:M1048)<M1049,Labels!$B$163,INDEX($AH$1036:$AH$1048,MATCH(MAX(M1036:M1048),M1036:M1048,0))),\"\")","v":""},{"$f":"IF(N1049<>0,IF(MAX(N1036:N1048)<N1049,Labels!$B$163,INDEX($AH$1036:$AH$1048,MATCH(MAX(N1036:N1048),N1036:N1048,0))),\"\")","v":""},{"$f":"IF(O1049<>0,IF(MAX(O1036:O1048)<O1049,Labels!$B$163,INDEX($AH$1036:$AH$1048,MATCH(MAX(O1036:O1048),O1036:O1048,0))),\"\")","v":""},{"$f":"IF(P1049<>0,IF(MAX(P1036:P1048)<P1049,Labels!$B$163,INDEX($AH$1036:$AH$1048,MATCH(MAX(P1036:P1048),P1036:P1048,0))),\"\")","v":""},{"$f":"IF(Q1049<>0,IF(MAX(Q1036:Q1048)<Q1049,Labels!$B$163,INDEX($AH$1036:$AH$1048,MATCH(MAX(Q1036:Q1048),Q1036:Q1048,0))),\"\")","v":""},{"$f":"IF(R1049<>0,IF(MAX(R1036:R1048)<R1049,Labels!$B$163,INDEX($AH$1036:$AH$1048,MATCH(MAX(R1036:R1048),R1036:R1048,0))),\"\")","v":""},{"$f":"IF(S1049<>0,IF(MAX(S1036:S1048)<S1049,Labels!$B$163,INDEX($AH$1036:$AH$1048,MATCH(MAX(S1036:S1048),S1036:S1048,0))),\"\")","v":""},{"$f":"IF(T1049<>0,IF(MAX(T1036:T1048)<T1049,Labels!$B$163,INDEX($AH$1036:$AH$1048,MATCH(MAX(T1036:T1048),T1036:T1048,0))),\"\")","v":""},{"$f":"IF(U1049<>0,IF(MAX(U1036:U1048)<U1049,Labels!$B$163,INDEX($AH$1036:$AH$1048,MATCH(MAX(U1036:U1048),U1036:U1048,0))),\"\")","v":""},{"$f":"IF(V1049<>0,IF(MAX(V1036:V1048)<V1049,Labels!$B$163,INDEX($AH$1036:$AH$1048,MATCH(MAX(V1036:V1048),V1036:V1048,0))),\"\")","v":""},{"$f":"IF(W1049<>0,IF(MAX(W1036:W1048)<W1049,Labels!$B$163,INDEX($AH$1036:$AH$1048,MATCH(MAX(W1036:W1048),W1036:W1048,0))),\"\")","v":""},{"$f":"IF(X1049<>0,IF(MAX(X1036:X1048)<X1049,Labels!$B$163,INDEX($AH$1036:$AH$1048,MATCH(MAX(X1036:X1048),X1036:X1048,0))),\"\")","v":""},{"$f":"IF(Y1049<>0,IF(MAX(Y1036:Y1048)<Y1049,Labels!$B$163,INDEX($AH$1036:$AH$1048,MATCH(MAX(Y1036:Y1048),Y1036:Y1048,0))),\"\")","v":""},{"$f":"IF(Z1049<>0,IF(MAX(Z1036:Z1048)<Z1049,Labels!$B$163,INDEX($AH$1036:$AH$1048,MATCH(MAX(Z1036:Z1048),Z1036:Z1048,0))),\"\")","v":""},{"$f":"IF(AA1049<>0,IF(MAX(AA1036:AA1048)<AA1049,Labels!$B$163,INDEX($AH$1036:$AH$1048,MATCH(MAX(AA1036:AA1048),AA1036:AA1048,0))),\"\")","v":""},{"$f":"IF(AB1049<>0,IF(MAX(AB1036:AB1048)<AB1049,Labels!$B$163,INDEX($AH$1036:$AH$1048,MATCH(MAX(AB1036:AB1048),AB1036:AB1048,0))),\"\")","v":""},{"$f":"IF(AC1049<>0,IF(MAX(AC1036:AC1048)<AC1049,Labels!$B$163,INDEX($AH$1036:$AH$1048,MATCH(MAX(AC1036:AC1048),AC1036:AC1048,0))),\"\")","v":""},{"$f":"IF(AD1049<>0,IF(MAX(AD1036:AD1048)<AD1049,Labels!$B$163,INDEX($AH$1036:$AH$1048,MATCH(MAX(AD1036:AD1048),AD1036:AD1048,0))),\"\")","v":""},{"$f":"IF(AE1049<>0,IF(MAX(AE1036:AE1048)<AE1049,Labels!$B$163,INDEX($AH$1036:$AH$1048,MATCH(MAX(AE1036:AE1048),AE1036:AE1048,0))),\"\")","v":""}]
[{"$f":"$A$15","v":"00.00-06.00h"},null,null,null,null,null,null,null,null,null,null,null,null,null,null,null,null,null,null,null,null,null,null,null,null,null,null,null,null,null,null,null,{"$f":"SUM(B645:AF645)","v":0}]
[{"$f":"$A$16","v":"06.00-20.00h"},null,null,null,null,null,null,null,null,null,null,null,null,null,null,null,null,null,null,null,null,null,null,null,null,null,null,null,null,null,null,null,{"$f":"SUM(B646:AF646)","v":0}]
[{"$f":"$A$17","v":"20.00-24.00h"},null,null,null,null,null,null,null,null,null,null,null,null,null,null,null,null,null,null,null,null,null,null,null,null,null,null,null,null,null,null,null,{"$f":"SUM(B647:AF647)","v":0},"[0]"]
[{"$f":"$A$18","v":"Feiertag \"ft\""},{"$f":"IF(WEEKDAY(B640,2)<=6,IF(KALENDER!E23=\"x\",Labels!$B$118,\"\"),\"\")","v":""},{"$f":"IF(WEEKDAY(C640,2)<=6,IF(KALENDER!F23=\"x\",Labels!$B$118,\"\"),\"\")","v":""},{"$f":"IF(WEEKDAY(D640,2)<=6,IF(KALENDER!G23=\"x\",Labels!$B$118,\"\"),\"\")","v":""},{"$f":"IF(WEEKDAY(E640,2)<=6,IF(KALENDER!H23=\"x\",Labels!$B$118,\"\"),\"\")","v":""},{"$f":"IF(WEEKDAY(F640,2)<=6,IF(KALENDER!I23=\"x\",Labels!$B$118,\"\"),\"\")","v":""},{"$f":"IF(WEEKDAY(G640,2)<=6,IF(KALENDER!J23=\"x\",Labels!$B$118,\"\"),\"\")","v":""},{"$f":"IF(WEEKDAY(H640,2)<=6,IF(KALENDER!K23=\"x\",Labels!$B$118,\"\"),\"\")","v":""},{"$f":"IF(WEEKDAY(I640,2)<=6,IF(KALENDER!L23=\"x\",Labels!$B$118,\"\"),\"\")","v":""},{"$f":"IF(WEEKDAY(J640,2)<=6,IF(KALENDER!M23=\"x\",Labels!$B$118,\"\"),\"\")","v":""},{"$f":"IF(WEEKDAY(K640,2)<=6,IF(KALENDER!N23=\"x\",Labels!$B$118,\"\"),\"\")","v":""},{"$f":"IF(WEEKDAY(L640,2)<=6,IF(KALENDER!O23=\"x\",Labels!$B$118,\"\"),\"\")","v":""},{"$f":"IF(WEEKDAY(M640,2)<=6,IF(KALENDER!P23=\"x\",Labels!$B$118,\"\"),\"\")","v":""},{"$f":"IF(WEEKDAY(N640,2)<=6,IF(KALENDER!Q23=\"x\",Labels!$B$118,\"\"),\"\")","v":""},{"$f":"IF(WEEKDAY(O640,2)<=6,IF(KALENDER!R23=\"x\",Labels!$B$118,\"\"),\"\")","v":""},{"$f":"IF(WEEKDAY(P640,2)<=6,IF(KALENDER!S23=\"x\",Labels!$B$118,\"\"),\"\")","v":""},{"$f":"IF(WEEKDAY(Q640,2)<=6,IF(KALENDER!T23=\"x\",Labels!$B$118,\"\"),\"\")","v":""},{"$f":"IF(WEEKDAY(R640,2)<=6,IF(KALENDER!U23=\"x\",Labels!$B$118,\"\"),\"\")","v":""},{"$f":"IF(WEEKDAY(S640,2)<=6,IF(KALENDER!V23=\"x\",Labels!$B$118,\"\"),\"\")","v":""},{"$f":"IF(WEEKDAY(T640,2)<=6,IF(KALENDER!W23=\"x\",Labels!$B$118,\"\"),\"\")","v":""},{"$f":"IF(WEEKDAY(U640,2)<=6,IF(KALENDER!X23=\"x\",Labels!$B$118,\"\"),\"\")","v":""},{"$f":"IF(WEEKDAY(V640,2)<=6,IF(KALENDER!Y23=\"x\",Labels!$B$118,\"\"),\"\")","v":""},{"$f":"IF(WEEKDAY(W640,2)<=6,IF(KALENDER!Z23=\"x\",Labels!$B$118,\"\"),\"\")","v":""},{"$f":"IF(WEEKDAY(X640,2)<=6,IF(KALENDER!AA23=\"x\",Labels!$B$118,\"\"),\"\")","v":""},{"$f":"IF(WEEKDAY(Y640,2)<=6,IF(KALENDER!AB23=\"x\",Labels!$B$118,\"\"),\"\")","v":""},{"$f":"IF(WEEKDAY(Z640,2)<=6,IF(KALENDER!AC23=\"x\",Labels!$B$118,\"\"),\"\")","v":""},{"$f":"IF(WEEKDAY(AA640,2)<=6,IF(KALENDER!AD23=\"x\",Labels!$B$118,\"\"),\"\")","v":""},{"$f":"IF(WEEKDAY(AB640,2)<=6,IF(KALENDER!AE23=\"x\",Labels!$B$118,\"\"),\"\")","v":""},{"$f":"IF(WEEKDAY(AC640,2)<=6,IF(KALENDER!AF23=\"x\",Labels!$B$118,\"\"),\"\")","v":""},{"$f":"IF(WEEKDAY(AD640,2)<=6,IF(KALENDER!AG23=\"x\",Labels!$B$118,\"\"),\"\")","v":""},{"$f":"IF(WEEKDAY(AE640,2)<=6,IF(KALENDER!AH23=\"x\",Labels!$B$118,\"\"),\"\")","v":""},{"$f":"IF(WEEKDAY(AF640,2)<=6,IF(KALENDER!AI23=\"x\",Labels!$B$118,\"\"),\"\")","v":""}]
[{"$f":"$A$19","v":"Gutschrift \"ft\""},{"$f":"IF(AND(B648=Labels!$B$118,WEEKDAY(B640,2)<6),$J$7*$B$637%,\"\")","v":""},{"$f":"IF(AND(C648=Labels!$B$118,WEEKDAY(C640,2)<6),$J$7*$B$637%,\"\")","v":""},{"$f":"IF(AND(D648=Labels!$B$118,WEEKDAY(D640,2)<6),$J$7*$B$637%,\"\")","v":""},{"$f":"IF(AND(E648=Labels!$B$118,WEEKDAY(E640,2)<6),$J$7*$B$637%,\"\")","v":""},{"$f":"IF(AND(F648=Labels!$B$118,WEEKDAY(F640,2)<6),$J$7*$B$637%,\"\")","v":""},{"$f":"IF(AND(G648=Labels!$B$118,WEEKDAY(G640,2)<6),$J$7*$B$637%,\"\")","v":""},{"$f":"IF(AND(H648=Labels!$B$118,WEEKDAY(H640,2)<6),$J$7*$B$637%,\"\")","v":""},{"$f":"IF(AND(I648=Labels!$B$118,WEEKDAY(I640,2)<6),$J$7*$B$637%,\"\")","v":""},{"$f":"IF(AND(J648=Labels!$B$118,WEEKDAY(J640,2)<6),$J$7*$B$637%,\"\")","v":""},{"$f":"IF(AND(K648=Labels!$B$118,WEEKDAY(K640,2)<6),$J$7*$B$637%,\"\")","v":""},{"$f":"IF(AND(L648=Labels!$B$118,WEEKDAY(L640,2)<6),$J$7*$B$637%,\"\")","v":""},{"$f":"IF(AND(M648=Labels!$B$118,WEEKDAY(M640,2)<6),$J$7*$B$637%,\"\")","v":""},{"$f":"IF(AND(N648=Labels!$B$118,WEEKDAY(N640,2)<6),$J$7*$B$637%,\"\")","v":""},{"$f":"IF(AND(O648=Labels!$B$118,WEEKDAY(O640,2)<6),$J$7*$B$637%,\"\")","v":""},{"$f":"IF(AND(P648=Labels!$B$118,WEEKDAY(P640,2)<6),$J$7*$B$637%,\"\")","v":""},{"$f":"IF(AND(Q648=Labels!$B$118,WEEKDAY(Q640,2)<6),$J$7*$B$637%,\"\")","v":""},{"$f":"IF(AND(R648=Labels!$B$118,WEEKDAY(R640,2)<6),$J$7*$B$637%,\"\")","v":""},{"$f":"IF(AND(S648=Labels!$B$118,WEEKDAY(S640,2)<6),$J$7*$B$637%,\"\")","v":""},{"$f":"IF(AND(T648=Labels!$B$118,WEEKDAY(T640,2)<6),$J$7*$B$637%,\"\")","v":""},{"$f":"IF(AND(U648=Labels!$B$118,WEEKDAY(U640,2)<6),$J$7*$B$637%,\"\")","v":""},{"$f":"IF(AND(V648=Labels!$B$118,WEEKDAY(V640,2)<6),$J$7*$B$637%,\"\")","v":""},{"$f":"IF(AND(W648=Labels!$B$118,WEEKDAY(W640,2)<6),$J$7*$B$637%,\"\")","v":""},{"$f":"IF(AND(X648=Labels!$B$118,WEEKDAY(X640,2)<6),$J$7*$B$637%,\"\")","v":""},{"$f":"IF(AND(Y648=Labels!$B$118,WEEKDAY(Y640,2)<6),$J$7*$B$637%,\"\")","v":""},{"$f":"IF(AND(Z648=Labels!$B$118,WEEKDAY(Z640,2)<6),$J$7*$B$637%,\"\")","v":""},{"$f":"IF(AND(AA648=Labels!$B$118,WEEKDAY(AA640,2)<6),$J$7*$B$637%,\"\")","v":""},{"$f":"IF(AND(AB648=Labels!$B$118,WEEKDAY(AB640,2)<6),$J$7*$B$637%,\"\")","v":""},{"$f":"IF(AND(AC648=Labels!$B$118,WEEKDAY(AC640,2)<6),$J$7*$B$637%,\"\")","v":""},{"$f":"IF(AND(AD648=Labels!$B$118,WEEKDAY(AD640,2)<6),$J$7*$B$637%,\"\")","v":""},{"$f":"IF(AND(AE648=Labels!$B$118,WEEKDAY(AE640,2)<6),$J$7*$B$637%,\"\")","v":""},{"$f":"IF(AND(AF648=Labels!$B$118,WEEKDAY(AF640,2)<6),$J$7*$B$637%,\"\")","v":""},{"$f":"SUM(B649:AF649)","v":0}]
[{"$f":"$A$20","v":"Tagestotal"},{"$f":"SUM(B645:B647)","v":0},{"$f":"SUM(C645:C647)","v":0},0,0,0,0,0,0,0,0,0,0,0,0,0,0,0,0,0,0,0,0,0,0,0,0,0,0,0,0]
[{"$f":"$A$21","v":"."}]
[{"$f":"$A$22","v":"."}]
[{"$f":"$A$23","v":"Monatsübergang"},{"$f":"IF(WEEKDAY(B640)=1,TEXT(B640-1,\"MMM\"&Labels!B13),\"\")","v":"Okt"},null,null,null,null,null,null,null,null,null,null,null,null,null,null,null,null,null,null,null,null,null,null,null,null,null,null,null,null,{"$f":"IF(AND(WEEKDAY(AE640)>1,WEEKDAY(AE640)<7),TEXT(DATE($B$5,MONTH(AE640)+1,1),\"MMM\"&Labels!B13),\"\")","v":"Dez"}]
[{"$f":"$A$24","v":"Wochentotal"},{"$f":"IF(WEEKDAY(B640)=7,SUMIF($B578:$AF578,B641,$B587:$AF587)+SUMIF($B641:$AF641,B641,$B650:$AF650)+SUMIF($B704:$AF704,B641,$B713:$AF713),B653)","v":"Okt"},{"$f":"IF(WEEKDAY(C640)=7,SUMIF($B578:$AF578,C641,$B587:$AF587)+SUMIF($B641:$AF641,C641,$B650:$AF650)+SUMIF($B704:$AF704,C641,$B713:$AF713),\"\")","v":""},"","","","",0,"","","","","","",0,"","","","","","",0,"","","","","","",0,"",{"$f":"IF(WEEKDAY(AE640)=7,SUMIF($B578:$AF578,AE641,$B587:$AF587)+SUMIF($B641:$AF641,AE641,$B650:$AF650)+SUMIF($B704:$AF704,AE641,$B713:$AF713),AE653)","v":"Dez"}]
[{"$f":"$A$25","v":"Zeitzuschlag 1)"},{"$f":"IF(B662=\"FALSCH\",\"\",B662)","v":""},{"$f":"IF(C662=\"FALSCH\",\"\",C662)","v":""},"","","","","","","","","","","","","","","","","","","","","","","","","","","","",null,{"$f":"SUM(B655:AF655)","v":0}]
[{"$f":"$A$26","v":"Zeitzuschlag 2)"},{"$f":"IF((B645+B647)=0,\"\",SUM(B645,B647))","v":""},{"$f":"IF((C645+C647)=0,\"\",SUM(C645,C647))","v":""},"","","","","","","","","","","","","","","","","","","","","","","","","","","","",null,0,"[1]"]
[{"$f":"$A$27","v":"Zeitzuschlag 3)"},{"$f":"SUM(B658:B661)","v":0},{"$f":"SUM(C658:C661)","v":0},0,0,0,0,0,0,0,0,0,0,0,0,0,0,0,0,0,0,0,0,0,0,0,0,0,0,0,0,null,{"$f":"SUM(B657:AF657)","v":0},"[2]"]
[{"$f":"$A$28","v":"Sonntag Tag"},{"$f":"IF(WEEKDAY(B640)=1,B646,\"\")","v":0},{"$f":"IF(WEEKDAY(C640)=1,C646,\"\")","v":""},"","","","","",0,"","","","","","",0,"","","","","","",0,"","","","","","",0,"",null,0,"[3]"]
[{"$f":"$A$29","v":"Sonntag Nacht"},{"$f":"IF(WEEKDAY(B640)=1,SUM(B645+B647),\"\")","v":0},{"$f":"IF(WEEKDAY(C640)=1,SUM(C645+C647),\"\")","v":""},"","","","","",0,"","","","","","",0,"","","","","","",0,"","","","","","",0,"",null,0,"[4]"]
[{"$f":"$A$30","v":"ft-Tazuschlag"},{"$f":"IF(B648=Labels!$B$118,B646,\"\")","v":""},{"$f":"IF(C648=Labels!$B$118,C646,\"\")","v":""},{"$f":"IF(D648=Labels!$B$118,D646,\"\")","v":""},{"$f":"IF(E648=Labels!$B$118,E646,\"\")","v":""},{"$f":"IF(F648=Labels!$B$118,F646,\"\")","v":""},{"$f":"IF(G648=Labels!$B$118,G646,\"\")","v":""},{"$f":"IF(H648=Labels!$B$118,H646,\"\")","v":""},{"$f":"IF(I648=Labels!$B$118,I646,\"\")","v":""},{"$f":"IF(J648=Labels!$B$118,J646,\"\")","v":""},{"$f":"IF(K648=Labels!$B$118,K646,\"\")","v":""},{"$f":"IF(L648=Labels!$B$118,L646,\"\")","v":""},{"$f":"IF(M648=Labels!$B$118,M646,\"\")","v":""},{"$f":"IF(N648=Labels!$B$118,N646,\"\")","v":""},{"$f":"IF(O648=Labels!$B$118,O646,\"\")","v":""},{"$f":"IF(P648=Labels!$B$118,P646,\"\")","v":""},{"$f":"IF(Q648=Labels!$B$118,Q646,\"\")","v":""},{"$f":"IF(R648=Labels!$B$118,R646,\"\")","v":""},{"$f":"IF(S648=Labels!$B$118,S646,\"\")","v":""},{"$f":"IF(T648=Labels!$B$118,T646,\"\")","v":""},{"$f":"IF(U648=Labels!$B$118,U646,\"\")","v":""},{"$f":"IF(V648=Labels!$B$118,V646,\"\")","v":""},{"$f":"IF(W648=Labels!$B$118,W646,\"\")","v":""},{"$f":"IF(X648=Labels!$B$118,X646,\"\")","v":""},{"$f":"IF(Y648=Labels!$B$118,Y646,\"\")","v":""},{"$f":"IF(Z648=Labels!$B$118,Z646,\"\")","v":""},{"$f":"IF(AA648=Labels!$B$118,AA646,\"\")","v":""},{"$f":"IF(AB648=Labels!$B$118,AB646,\"\")","v":""},{"$f":"IF(AC648=Labels!$B$118,AC646,\"\")","v":""},{"$f":"IF(AD648=Labels!$B$118,AD646,\"\")","v":""},{"$f":"IF(AE648=Labels!$B$118,AE646,\"\")","v":""},null,0,"[5]"]
[{"$f":"$A$31","v":"ft-Nazuschlag"},{"$f":"IF(B648=Labels!$B$118,SUM(B645,B647),\"\")","v":""},{"$f":"IF(C648=Labels!$B$118,SUM(C645,C647),\"\")","v":""},{"$f":"IF(D648=Labels!$B$118,SUM(D645,D647),\"\")","v":""},{"$f":"IF(E648=Labels!$B$118,SUM(E645,E647),\"\")","v":""},{"$f":"IF(F648=Labels!$B$118,SUM(F645,F647),\"\")","v":""},{"$f":"IF(G648=Labels!$B$118,SUM(G645,G647),\"\")","v":""},{"$f":"IF(H648=Labels!$B$118,SUM(H645,H647),\"\")","v":""},{"$f":"IF(I648=Labels!$B$118,SUM(I645,I647),\"\")","v":""},{"$f":"IF(J648=Labels!$B$118,SUM(J645,J647),\"\")","v":""},{"$f":"IF(K648=Labels!$B$118,SUM(K645,K647),\"\")","v":""},{"$f":"IF(L648=Labels!$B$118,SUM(L645,L647),\"\")","v":""},{"$f":"IF(M648=Labels!$B$118,SUM(M645,M647),\"\")","v":""},{"$f":"IF(N648=Labels!$B$118,SUM(N645,N647),\"\")","v":""},{"$f":"IF(O648=Labels!$B$118,SUM(O645,O647),\"\")","v":""},{"$f":"IF(P648=Labels!$B$118,SUM(P645,P647),\"\")","v":""},{"$f":"IF(Q648=Labels!$B$118,SUM(Q645,Q647),\"\")","v":""},{"$f":"IF(R648=Labels!$B$118,SUM(R645,R647),\"\")","v":""},{"$f":"IF(S648=Labels!$B$118,SUM(S645,S647),\"\")","v":""},{"$f":"IF(T648=Labels!$B$118,SUM(T645,T647),\"\")","v":""},{"$f":"IF(U648=Labels!$B$118,SUM(U645,U647),\"\")","v":""},{"$f":"IF(V648=Labels!$B$118,SUM(V645,V647),\"\")","v":""},{"$f":"IF(W648=Labels!$B$118,SUM(W645,W647),\"\")","v":""},{"$f":"IF(X648=Labels!$B$118,SUM(X645,X647),\"\")","v":""},{"$f":"IF(Y648=Labels!$B$118,SUM(Y645,Y647),\"\")","v":""},{"$f":"IF(Z648=Labels!$B$118,SUM(Z645,Z647),\"\")","v":""},{"$f":"IF(AA648=Labels!$B$118,SUM(AA645,AA647),\"\")","v":""},{"$f":"IF(AB648=Labels!$B$118,SUM(AB645,AB647),\"\")","v":""},{"$f":"IF(AC648=Labels!$B$118,SUM(AC645,AC647),\"\")","v":""},{"$f":"IF(AD648=Labels!$B$118,SUM(AD645,AD647),\"\")","v":""},{"$f":"IF(AE648=Labels!$B$118,SUM(AE645,AE647),\"\")","v":""},null,0,"[6]"]
[{"$f":"$A$32","v":"Zuschlag  blind (Wochentotal)"},{"$f":"IF(OR(ISTEXT(B654),B654=\"\",B654<$B$7),\"\",ROUND(((B654-$B$7)*25%)/25,4)*25)","v":""},{"$f":"IF(OR(ISTEXT(C654),C654=\"\",C654<$B$7),\"\",ROUND(((C654-$B$7)*25%)/25,4)*25)","v":""},"","","","","","","","","","","","","","","","","","","","","","","","","","","","",null,{"$f":"AG646","v":0},"[7]"]
[null,{"$f":"$B$33","v":"1)   25% Zeitzuschlag für Überschreitung Wochentotal"},null,null,null,null,null,null,null,null,null,{"$f":"$L$33","v":"2) 100% Zeitzuschlag für Nachtarbeit"},null,null,null,null,null,null,null,null,null,null,null,null,null,null,null,null,null,null,null,null,{"$f":"SUM(AG645+AG647)","v":0},"[8]"]
[null,{"$f":"$B$34","v":"3) 100% Zeitzuschlag für Sonn- und Feiertagsarbeit"},null,null,null,null,null,null,null,null,null,null,null,null,null,null,null,null,null,{"$f":"$T$34","v":"Eingabe der ausbezahlten Stunden laufendes Jahr (Überstunden)"},null,null,null,null,null,null,null,null,null,null,null,null,{"$f":"SUM(AG645:AG647)","v":0},"[9]"]
[{"$f":"$A$35","v":"Bemerkungen"},null,null,null,null,null,null,null,null,null,null,null,null,null,null,null,null,null,null,null,null,null,null,null,null,null,null,null,null,null,null,null,{"$f":"SUM(AG643+AG649)","v":0},"[10]"]
[null,null,null,null,null,null,null,null,null,null,null,null,null,null,null,null,null,null,null,null,null,null,null,null,null,null,null,null,null,null,null,null,{"$f":"SUM(AG643:AG657)","v":0},"[11]"]
[null,null,null,null,null,null,null,null,null,null,null,null,null,null,null,null,null,null,null,null,null,null,null,null,null,null,null,null,null,null,null,null,{"$f":"AG642","v":168}]
[null,null,null,null,null,null,null,null,null,null,null,null,null,null,null,null,null,null,null,null,null,null,null,null,null,null,null,null,null,null,null,null,{"$f":"SUM(AG666-AG642)","v":-168}]
[{"$f":"$A$39","v":"Zusammenstellung"},null,null,null,null,null,{"$f":"$G$39","v":"Jan"},null,{"$f":"$I$39","v":"Feb"},null,{"$f":"$K$39","v":"Mrz"},null,{"$f":"$M$39","v":"Apr"},null,{"$f":"$O$39","v":"Mai"},null,{"$f":"$Q$39","v":"Jun"},null,{"$f":"$S$39","v":"Jul"},null,{"$f":"$U$39","v":"Aug"},null,{"$f":"$W$39","v":"Sep"},null,{"$f":"$Y$39","v":"Okt"},null,{"$f":"$AA$39","v":"Nov"},null,{"$f":"$AC$39","v":"Dez"},null,{"$f":"$AE$39","v":"Jahr"}]
[{"$f":"$A$40","v":"Anstellung %"},null,null,null,null,null,{"$f":"IF($B$4=0,0,$B$4)","v":100},null,{"$f":"IF($B$70=0,0,$B$70)","v":100},null,{"$f":"IF($B$133=0,0,$B$133)","v":100},null,{"$f":"IF($B$196=0,0,$B$196)","v":100},null,{"$f":"IF($B$259=0,0,$B$259)","v":100},null,{"$f":"IF($B$322=0,0,$B$322)","v":100},null,{"$f":"IF($B$385=0,0,$B$385)","v":100},null,{"$f":"IF($B$448=0,0,$B$448)","v":100},null,{"$f":"IF($B$511=0,0,$B$511)","v":100},null,{"$f":"IF($B$574=0,0,$B$574)","v":100},null,{"$f":"IF($B$637=0,0,$B$637)","v":100},null,{"$f":"IF($B$700=0,0,$B$700)","v":100}]
[{"$f":"$A$41","v":"Sollstunden gemäss GAV"},null,null,null,null,null,{"$f":"IF($AG$37=0,0,$AG$37)","v":184},null,{"$f":"IF($AG$100=0,0,$AG$100)","v":160},null,{"$f":"IF($AG$138=0,0,$AG$138)","v":176},null,{"$f":"IF($AG$226=0,0,$AG$226)","v":176},null,{"$f":"IF($AG$289=0,0,$AG$289)","v":168},null,{"$f":"IF($AG$352=0,0,$AG$352)","v":176},null,{"$f":"IF($AG$415=0,0,$AG$415)","v":184},null,{"$f":"IF($AG$478=0,0,$AG$478)","v":168},null,{"$f":"IF($AG$541=0,0,$AG$541)","v":176},null,{"$f":"IF($AG$604=0,0,$AG$604)","v":176},null,{"$f":"IF($AG$667=0,0,$AG$667)","v":168},null,{"$f":"IF($AG$730=0,0,$AG$730)","v":184},null,{"$f":"SUM(G671:AD671)","v":2096}]
[{"$f":"$A$42","v":"Produktive Stunden"},{"$f":"$B$42","v":"06.00 - 20.00 Uhr"},null,null,null,null,{"$f":"IF($AG$32=0,0,$AG$32)","v":0},null,{"$f":"IF($AG$95=0,0,$AG$95)","v":0},null,{"$f":"IF($AG$158=0,0,$AG$158)","v":0},null,{"$f":"IF($AG$221=0,0,$AG$221)","v":0},null,{"$f":"IF($AG$284=0,0,$AG$284)","v":0},null,{"$f":"IF($AG$347=0,0,$AG$347)","v":0},null,{"$f":"IF($AG$410=0,0,$AG$410)","v":0},null,{"$f":"IF($AG$473=0,0,$AG$473)","v":0},null,{"$f":"IF($AG$536=0,0,$AG$536)","v":0},null,{"$f":"IF($AG$599=0,0,$AG$599)","v":0},null,{"$f":"IF($AG$662=0,0,$AG$662)","v":0},null,{"$f":"IF($AG$725=0,0,$AG$725)","v":0},null,{"$f":"SUM(G672:AD672)","v":0}]
[null,{"$f":"$B$43","v":"Nacht-, Sonn-, Feiertagsarbeit"},null,null,null,null,{"$f":"IF($AG$33=0,0,$AG$33)","v":0},null,{"$f":"IF($AG$96=0,0,$AG$96)","v":0},null,{"$f":"IF($AG$159=0,0,$AG$159)","v":0},null,{"$f":"IF($AG$222=0,0,$AG$222)","v":0},null,{"$f":"IF($AG$285=0,0,$AG$285)","v":0},null,{"$f":"IF($AG$348=0,0,$AG$348)","v":0},null,{"$f":"IF($AG$411=0,0,$AG$411)","v":0},null,{"$f":"IF($AG$474=0,0,$AG$474)","v":0},null,{"$f":"IF($AG$537=0,0,$AG$537)","v":0},null,{"$f":"IF($AG$600=0,0,$AG$600)","v":0},null,{"$f":"IF($AG$663=0,0,$AG$663)","v":0},null,{"$f":"IF($AG$726=0,0,$AG$726)","v":0},null,{"$f":"SUM(G673:AD673)","v":0}]
[{"$f":"$A$44","v":"Zeitzuschläge"},{"$f":"$B$44","v":"aus Wochentotal"},null,null,null,null,{"$f":"IF($AG$25=0,0,$AG$25)","v":0},null,{"$f":"IF($AG$88=0,0,$AG$88)","v":0},null,{"$f":"IF($AG$151=0,0,$AG$151)","v":0},null,{"$f":"IF($AG$214=0,0,$AG$214)","v":0},null,{"$f":"IF($AG$277=0,0,$AG$277)","v":0},null,{"$f":"IF($AG$340=0,0,$AG$340)","v":0},null,{"$f":"IF($AG$403=0,0,$AG$403)","v":0},null,{"$f":"IF($AG$466=0,0,$AG$466)","v":0},null,{"$f":"IF($AG$529=0,0,$AG$529)","v":0},null,{"$f":"IF($AG$592=0,0,$AG$592)","v":0},null,{"$f":"IF($AG$655=0,0,$AG$655)","v":0},null,{"$f":"IF($AG$718=0,0,$AG$718)","v":0},null,{"$f":"SUM(G674:AD674)","v":0}]
[null,{"$f":"$B$45","v":"aus Nacht-, Sonn-, Feiertagsarbeiten"},null,null,null,null,{"$f":"IF($AJ$20=0,0,$AJ$20)","v":0},null,{"$f":"IF($AK$20=0,0,$AK$20)","v":0},null,{"$f":"IF($AL$20=0,0,$AL$20)","v":0},null,{"$f":"IF($AM$20=0,0,$AM$20)","v":0},null,{"$f":"IF($AN$20=0,0,$AN$20)","v":0},null,{"$f":"IF($AO$20=0,0,$AO$20)","v":0},null,{"$f":"IF($AP$20=0,0,$AP$20)","v":0},null,{"$f":"IF($AQ$20=0,0,$AQ$20)","v":0},null,{"$f":"IF($AR$20=0,0,$AR$20)","v":0},null,{"$f":"IF($AS$20=0,0,$AS$20)","v":0},null,{"$f":"IF($AT$20=0,0,$AT$20)","v":0},null,{"$f":"IF($AU$20=0,0,$AU$20)","v":0},null,{"$f":"SUM(G675:AD675)","v":0}]
[{"$f":"$A$46","v":"Unproduktive Stunden"}]
[{"$f":"$A$47","v":"   Absenzen, Kurzabsenzen Art. 11 GAV"},null,null,null,null,{"$f":"$F$47","v":"a"},{"$f":"IF($AJ$3=0,0,$AJ$3)","v":0},null,{"$f":"IF($AK$3=0,0,$AK$3)","v":0},null,{"$f":"IF($AL$3=0,0,$AL$3)","v":0},null,{"$f":"IF($AM$3=0,0,$AM$3)","v":0},null,{"$f":"IF($AN$3=0,0,$AN$3)","v":0},null,{"$f":"IF($AO$3=0,0,$AO$3)","v":0},null,{"$f":"IF($AP$3=0,0,$AP$3)","v":0},null,{"$f":"IF($AQ$3=0,0,$AQ$3)","v":0},null,{"$f":"IF($AR$3=0,0,$AR$3)","v":0},null,{"$f":"IF($AS$3=0,0,$AS$3)","v":0},null,{"$f":"IF(AT$3=0,0,$AT$3)","v":0},null,{"$f":"IF($AU$3=0,0,$AU$3)","v":0},null,{"$f":"IF($AV$3=0,0,$AV$3)","v":0}]
[{"$f":"$A$48","v":"   Ferien Art. 12.1 GAV"},null,null,null,null,{"$f":"$F$48","v":"f"},{"$f":"IF($AJ$4=0,0,$AJ$4)","v":0},null,{"$f":"IF($AK$4=0,0,$AK$4)","v":0},null,{"$f":"IF($AL$4=0,0,$AL$4)","v":0},null,{"$f":"IF($AM$4=0,0,$AM$4)","v":0},null,{"$f":"IF($AN$4=0,0,$AN$4)","v":0},null,{"$f":"IF($AO$4=0,0,$AO$4)","v":0},null,{"$f":"IF($AP$4=0,0,$AP$4)","v":0},null,{"$f":"IF($AQ$4=0,0,$AQ$4)","v":0},null,{"$f":"IF($AR$4=0,0,$AR$4)","v":0},null,{"$f":"IF($AS$4=0,0,$AS$4)","v":0},null,{"$f":"IF($AT$4=0,0,$AT$4)","v":0},null,{"$f":"IF($AU$4=0,0,$AU$4)","v":0},null,{"$f":"IF($AV$4=0,0,$AV$4)","v":0}]
[{"$f":"$A$49","v":"   Feiertage Art. 12.2 GAV"},null,{"$f":"IF($AJ$17=\"\",\"\",$AJ$17)","v":""},null,null,{"$f":"$F$49","v":"ft"},{"$f":"IF($AJ$15=0,0,$AJ$15)","v":0},null,{"$f":"IF($AK$15=0,0,$AK$15)","v":0},null,{"$f":"IF($AL$15=0,0,$AL$15)","v":0},null,{"$f":"IF($AM$15=0,0,$AM$15)","v":0},null,{"$f":"IF($AN$15=0,0,$AN$15)","v":0},null,{"$f":"IF($AO$15=0,0,$AO$15)","v":0},null,{"$f":"IF($AP$15=0,0,$AP$15)","v":0},null,{"$f":"IF($AQ$15=0,0,$AQ$15)","v":0},null,{"$f":"IF($AR$15=0,0,$AR$15)","v":0},null,{"$f":"IF($AS$15=0,0,$AS$15)","v":0},null,{"$f":"IF($AT$15=0,0,$AT$15)","v":0},null,{"$f":"IF($AU$15=0,0,$AU$15)","v":0},null,{"$f":"IF($AV$15=0,0,$AV$15)","v":0}]
[{"$f":"$A$50","v":"   Krankheit Art. 13 GAV"},null,null,null,null,{"$f":"$F$50","v":"k"},{"$f":"IF($AJ$5=0,0,$AJ$5)","v":0},null,{"$f":"IF($AK$5=0,0,$AK$5)","v":0},null,{"$f":"IF($AL$5=0,0,$AL$5)","v":0},null,{"$f":"IF($AM$5=0,0,$AM$5)","v":0},null,{"$f":"IF($AN$5=0,0,$AN$5)","v":0},null,{"$f":"IF($AO$5=0,0,$AO$5)","v":0},null,{"$f":"IF($AP$5=0,0,$AP$5)","v":0},null,{"$f":"IF($AQ$5=0,0,$AQ$5)","v":0},null,{"$f":"IF($AR$5=0,0,$AR$5)","v":0},null,{"$f":"IF($AS$5=0,0,$AS$5)","v":0},null,{"$f":"IF($AT$5=0,0,$AT$5)","v":0},null,{"$f":"IF($AU$5=0,0,$AU$5)","v":0},null,{"$f":"IF($AV$5=0,0,$AV$5)","v":0}]
[{"$f":"$A$51","v":"   Unfall Art. 14 GAV"},null,null,null,null,{"$f":"$F$51","v":"u"},{"$f":"IF($AJ$6=0,0,$AJ$6)","v":0},null,{"$f":"IF($AK$6=0,0,$AK$6)","v":0},null,{"$f":"IF($AL$6=0,0,$AL$6)","v":0},null,{"$f":"IF($AM$6=0,0,$AM$6)","v":0},null,{"$f":"IF($AN$6=0,0,$AN$6)","v":0},null,{"$f":"IF($AO$6=0,0,$AO$6)","v":0},null,{"$f":"IF($AP$6=0,0,$AP$6)","v":0},null,{"$f":"IF($AQ$6=0,0,$AQ$6)","v":0},null,{"$f":"IF($AR$6=0,0,$AR$6)","v":0},null,{"$f":"IF($AS$6=0,0,$AS$6)","v":0},null,{"$f":"IF($AT$6=0,0,$AT$6)","v":0},null,{"$f":"IF($AU$6=0,0,$AU$6)","v":0},null,{"$f":"IF($AV$6=0,0,$AV$6)","v":0}]
[{"$f":"$A$52","v":"   Schwangerschaft/Mutterschaft Art. 15 GAV"},null,null,null,null,{"$f":"$F$52","v":"s"},{"$f":"IF($AJ$7=0,0,$AJ$7)","v":0},null,{"$f":"IF($AK$7=0,0,$AK$7)","v":0},null,{"$f":"IF($AL$7=0,0,$AL$7)","v":0},null,{"$f":"IF($AM$7=0,0,$AM$7)","v":0},null,{"$f":"IF($AN$7=0,0,$AN$7)","v":0},null,{"$f":"IF($AO$7=0,0,$AO$7)","v":0},null,{"$f":"IF($AP$7=0,0,$AP$7)","v":0},null,{"$f":"IF($AQ$7=0,0,$AQ$7)","v":0},null,{"$f":"IF($AR$7=0,0,$AR$7)","v":0},null,{"$f":"IF($AS$7=0,0,$AS$7)","v":0},null,{"$f":"IF($AT$7=0,0,$AT$7)","v":0},null,{"$f":"IF($AU$7=0,0,$AU$7)","v":0},null,{"$f":"IF($AV$7=0,0,$AV$7)","v":0}]
[{"$f":"$A$53","v":"   Militär/Beförderung/Zivilschutz Art. 16 GAV"},null,null,null,null,{"$f":"$F$53","v":"m"},{"$f":"IF($AJ$8=0,0,$AJ$8)","v":0},null,{"$f":"IF($AK$8=0,0,$AK$8)","v":0},null,{"$f":"IF($AL$8=0,0,$AL$8)","v":0},null,{"$f":"IF($AM$8=0,0,$AM$8)","v":0},null,{"$f":"IF($AN$8=0,0,$AN$8)","v":0},null,{"$f":"IF($AO$8=0,0,$AO$8)","v":0},null,{"$f":"IF($AP$8=0,0,$AP$8)","v":0},null,{"$f":"IF($AQ$8=0,0,$AQ$8)","v":0},null,{"$f":"IF($AR$8=0,0,$AR$8)","v":0},null,{"$f":"IF($AS$8=0,0,$AS$8)","v":0},null,{"$f":"IF($AT$8=0,0,$AT$8)","v":0},null,{"$f":"IF($AU$8=0,0,$AU$8)","v":0},null,{"$f":"IF($AV$8=0,0,$AV$8)","v":0}]
[{"$f":"$A$54","v":"   Kurzarbeit und Schlechtwetterausfälle"},null,null,null,null,{"$f":"$F$54","v":"ka"},{"$f":"IF($AJ$11=0,0,$AJ$11)","v":0},null,{"$f":"IF($AK$11=0,0,$AK$11)","v":0},null,{"$f":"IF($AL$11=0,0,$AL$11)","v":0},null,{"$f":"IF($AM$11=0,0,$AM$11)","v":0},null,{"$f":"IF($AN$11=0,0,$AN$11)","v":0},null,{"$f":"IF($AO$11=0,0,$AO$11)","v":0},null,{"$f":"IF($AP$11=0,0,$AP$11)","v":0},null,{"$f":"IF($AQ$11=0,0,$AQ$11)","v":0},null,{"$f":"IF($AR$11=0,0,$AR$11)","v":0},null,{"$f":"IF($AS$11=0,0,$AS$11)","v":0},null,{"$f":"IF($AT$11=0,0,$AT$11)","v":0},null,{"$f":"IF($AU$11=0,0,$AU$11)","v":0},null,{"$f":"IF($AV$11=0,0,$AV$11)","v":0}]
[{"$f":"$A$55","v":"   Berufsschule"},null,null,null,null,{"$f":"$F$55","v":"bs"},{"$f":"IF($AJ$9=0,0,$AJ$9)","v":0},null,{"$f":"IF($AK$9=0,0,$AK$9)","v":0},null,{"$f":"IF($AL$9=0,0,$AL$9)","v":0},null,{"$f":"IF($AM$9=0,0,$AM$9)","v":0},null,{"$f":"IF($AN$9=0,0,$AN$9)","v":0},null,{"$f":"IF($AO$9=0,0,$AO$9)","v":0},null,{"$f":"IF($AP$9=0,0,$AP$9)","v":0},null,{"$f":"IF($AQ$9=0,0,$AQ$9)","v":0},null,{"$f":"IF($AR$9=0,0,$AR$9)","v":0},null,{"$f":"IF($AS$9=0,0,$AS$9)","v":0},null,{"$f":"IF($AT$9=0,0,$AT$9)","v":0},null,{"$f":"IF($AU$9=0,0,$AU$9)","v":0},null,{"$f":"IF($AV$9=0,0,$AV$9)","v":0}]
[{"$f":"$A$56","v":"   Kurse"},null,null,null,null,{"$f":"$F$56","v":"ku"},{"$f":"IF($AJ$10=0,0,$AJ$10)","v":0},null,{"$f":"IF($AK$10=0,0,$AK$10)","v":0},null,{"$f":"IF($AL$10=0,0,$AL$10)","v":0},null,{"$f":"IF($AM$10=0,0,$AM$10)","v":0},null,{"$f":"IF($AN$10=0,0,$AN$10)","v":0},null,{"$f":"IF($AO$10=0,0,$AO$10)","v":0},null,{"$f":"IF($AP$10=0,0,$AP$10)","v":0},null,{"$f":"IF($AQ$10=0,0,$AQ$10)","v":0},null,{"$f":"IF($AR$10=0,0,$AR$10)","v":0},null,{"$f":"IF($AS$10=0,0,$AS$10)","v":0},null,{"$f":"IF($AT$10=0,0,$AT$10)","v":0},null,{"$f":"IF($AU$10=0,0,$AU$10)","v":0},null,{"$f":"IF($AV$10=0,0,$AV$10)","v":0}]
[{"$f":"$A$57","v":"Kompensations-Std"},{"$f":"$B$57","v":"aus Vorjahr"},null,null,null,{"$f":"$F$57","v":"kv"},{"$f":"IF($AJ$12=0,0,$AJ$12)","v":0},null,{"$f":"IF($AK$12=0,0,$AK$12)","v":0},null,{"$f":"IF($AL$12=0,0,$AL$12)","v":0},null,{"$f":"IF($AM$12=0,0,$AM$12)","v":0},null,{"$f":"IF($AN$12=0,0,$AN$12)","v":0},null,{"$f":"IF($AO$12=0,0,$AO$12)","v":0},null,{"$f":"IF($AP$12=0,0,$AP$12)","v":0},null,{"$f":"IF($AQ$12=0,0,$AQ$12)","v":0},null,{"$f":"IF($AR$12=0,0,$AR$12)","v":0},null,null,null,null,null,null,null,{"$f":"IF($AV$12=0,0,$AV$12)","v":0}]
[null,{"$f":"$B$58","v":"aus laufendem Jahr (Kontrolle)"},null,null,null,{"$f":"$F$58","v":"kj"},{"$f":"IF($AJ$14=0,0,$AJ$14)","v":0},null,{"$f":"IF($AK$14=0,0,$AK$14)","v":0},null,{"$f":"IF($AL$14=0,0,$AL$14)","v":0},null,{"$f":"IF($AM$14=0,0,$AM$14)","v":0},null,{"$f":"IF($AN$14=0,0,$AN$14)","v":0},null,{"$f":"IF($AO$14=0,0,$AO$14)","v":0},null,{"$f":"IF($AP$14=0,0,$AP$14)","v":0},null,{"$f":"IF($AQ$14=0,0,$AQ$14)","v":0},null,{"$f":"IF($AR$14=0,0,$AR$14)","v":0},null,{"$f":"IF($AS$14=0,0,$AS$14)","v":0},null,{"$f":"IF($AT$14=0,0,$AT$14)","v":0},null,{"$f":"IF($AU$14=0,0,$AU$14)","v":0},null,{"$f":"IF($AV$14=0,0,$AV$14)","v":0}]
[{"$f":"$A$59","v":"Auszahlung"},{"$f":"$B$59","v":"Stunden Vorjahressaldo"},null,null,null,null,{"$f":"IF($AJ$18=0,0,$AJ$18)","v":0},null,{"$f":"IF($AK$18=0,0,$AK$18)","v":0},null,{"$f":"IF($AL$18=0,0,$AL$18)","v":0},null,{"$f":"IF($AM$18=0,0,$AM$18)","v":0},null,{"$f":"IF($AN$18=0,0,$AN$18)","v":0},null,{"$f":"IF($AO$18=0,0,$AO$18)","v":0},null,{"$f":"IF($AP$18=0,0,$AP$18)","v":0},null,{"$f":"IF($AQ$18=0,0,$AQ$18)","v":0},null,{"$f":"IF($AR$18=0,0,$AR$18)","v":0},null,null,null,null,null,null,null,{"$f":"IF($AV$18=0,0,$AV$18)","v":0}]
[{"$f":"$A$60","v":"Differenz"},{"$f":"$B$60","v":"nach Kompensation und Auszahlung"},null,null,null,null,{"$f":"IF(ROUND($P$4,3)=0,0,$P$4-SUM(G687+G689))","v":0},null,{"$f":"IF(ROUND(G690,3)=0,0,G690-(SUM(I689+I687)))","v":0},null,{"$f":"IF(ROUND(I690,3)=0,0,I690-(SUM(K689+K687)))","v":0},null,{"$f":"IF(ROUND(K690,3)=0,0,K690-(SUM(M689+M687)))","v":0},null,{"$f":"IF(ROUND(M690,3)=0,0,M690-(SUM(O689+O687)))","v":0},null,{"$f":"IF(ROUND(O690,3)=0,0,O690-(SUM(Q689+Q687)))","v":0},null,{"$f":"IF(ROUND(Q690,3)=0,0,Q690-(SUM(S689+S687)))","v":0},null,{"$f":"IF(ROUND(S690,3)=0,0,S690-(SUM(U689+U687)))","v":0},null,{"$f":"IF(ROUND(U690,3)=0,0,U690-(SUM(W689+W687)))","v":0},null,{"$f":"$Y$60","v":""}]
[{"$f":"$A$61","v":"Auszahlung"},{"$f":"$B$61","v":"Stunden laufendes Jahr"},null,null,null,null,{"$f":"IF($AJ$19=0,0,$AJ$19)","v":0},null,{"$f":"IF($AK$19=0,0,$AK$19)","v":0},null,{"$f":"IF($AL$19=0,0,$AL$19)","v":0},null,{"$f":"IF($AM$19=0,0,$AM$19)","v":0},null,{"$f":"IF($AN$19=0,0,$AN$19)","v":0},null,{"$f":"IF($AO$19=0,0,$AO$19)","v":0},null,{"$f":"IF($AP$19=0,0,$AP$19)","v":0},null,{"$f":"IF($AQ$19=0,0,$AQ$19)","v":0},null,{"$f":"IF($AR$19=0,0,$AR$19)","v":0},null,{"$f":"IF($AS$19=0,0,$AS$19)","v":0},null,{"$f":"IF($AT$19=0,0,$AT$19)","v":0},null,{"$f":"IF($AU$19=0,0,$AU$19)","v":0},null,{"$f":"IF($AV$19=0,0,$AV$19)","v":0}]
[{"$f":"$A$62","v":"Fehlstunden"},{"$f":"$B$62","v":"laufendes Jahr (Kontrolle)"},null,null,null,{"$f":"$F$62","v":"fe"},{"$f":"IF($AJ$13=0,0,$AJ$13)","v":0},null,{"$f":"IF($AK$13=0,0,$AK$13)","v":0},null,{"$f":"IF($AL$13=0,0,$AL$13)","v":0},null,{"$f":"IF($AM$13=0,0,$AM$13)","v":0},null,{"$f":"IF($AN$13=0,0,$AN$13)","v":0},null,{"$f":"IF($AO$13=0,0,$AO$13)","v":0},null,{"$f":"IF($AP$13=0,0,$AP$13)","v":0},null,{"$f":"IF($AQ$13=0,0,$AQ$13)","v":0},null,{"$f":"IF($AR$13=0,0,$AR$13)","v":0},null,{"$f":"IF($AS$13=0,0,$AS$13)","v":0},null,{"$f":"IF($AT$13=0,0,$AT$13)","v":0},null,{"$f":"IF($AU$13=0,0,$AU$13)","v":0},null,{"$f":"IF($AV$13=0,0,$AV$13)","v":0}]
[{"$f":"$A$63","v":"Total inkl. Zeitzuschläge"},{"$f":"$B$63","v":"Stunden produktiv und unproduktiv"},null,null,null,null,{"$f":"IF($AG$36=0,0,$AG$36)","v":0},null,{"$f":"IF($AG$99=0,0,$AG$99)","v":0},null,{"$f":"IF($AG$162=0,0,$AG$162)","v":0},null,{"$f":"IF($AG$225=0,0,$AG$225)","v":0},null,{"$f":"IF($AG$288=0,0,$AG$288)","v":0},null,{"$f":"IF($AG$351=0,0,$AG$351)","v":0},null,{"$f":"IF($AG$414=0,0,$AG$414)","v":0},null,{"$f":"IF($AG$477=0,0,$AG$477)","v":0},null,{"$f":"IF($AG$540=0,0,$AG$540)","v":0},null,{"$f":"IF($AG$603=0,0,$AG$603)","v":0},null,{"$f":"IF($AG$666=0,0,$AG$666)","v":0},null,{"$f":"IF($AG$729=0,0,$AG$729)","v":0},null,{"$f":"SUM($G$63:$AD$63)","v":0}]
[{"$f":"$A$64","v":"Vergleich"},{"$f":"$B$64","v":"Stunden zu Soll-Stunden (inkl. allfälli-\nge Minusstunden Vorjahr)"},null,null,null,null,{"$f":"$G$64","v":-184},null,{"$f":"$I$64","v":-160},null,{"$f":"$K$64","v":-176},null,{"$f":"$M$64","v":-176},null,{"$f":"$O$64","v":-168},null,{"$f":"$Q$64","v":-176},null,{"$f":"$S$64","v":-184},null,{"$f":"$U$64","v":-168},null,{"$f":"$W$64","v":-176},null,{"$f":"$Y$64","v":-176},null,{"$f":"$AA$64","v":-168},null,{"$f":"$AC$64","v":-184},null,{"$f":"$AE$64","v":-2096}]
[null,{"$f":"$B$65","v":"Stunden zu Soll-Stunden (kumuliert)"},null,null,null,null,{"$f":"$G$65","v":-184},null,{"$f":"$I$65","v":-344},null,{"$f":"$K$65","v":-520},null,{"$f":"$M$65","v":-696},null,{"$f":"$O$65","v":-864},null,{"$f":"$Q$65","v":-1040},null,{"$f":"$S$65","v":-1224},null,{"$f":"$U$65","v":-1392},null,{"$f":"$W$65","v":-1568},null,{"$f":"$Y$65","v":-1744},null,{"$f":"$AA$65","v":-1912},null,{"$f":"$AC$65","v":-2096},null,{"$f":"$AE$65","v":0}]
[{"$f":"$A$66","v":"Ferienkontrolle"},{"$f":"$B$66","v":"Ferienguthaben Vorjahr"},null,null,null,null,{"$f":"IF($AA$4=0,0,$AA$4)","v":0},null,{"$f":"$I$66","v":"Ferienguthaben nach \nArt. 12.1 GAV"},null,null,null,{"$f":"IF($AA$5=0,0,$AA$5)","v":0},null,{"$f":"$O$66","v":"Ferienguthaben total"},null,null,null,{"$f":"SUM(G696+M696)","v":0},null,{"$f":"$U$66","v":"Ferien bezogen"},null,null,null,{"$f":"IF($AV$4=0,0,$AV$4)","v":0},null,{"$f":"$AA$66","v":"Aktuelles Ferienguthaben"},null,null,null,{"$f":"IF(S696=0,0,S696-Y696)","v":0}]
[]
[]
[{"$f":"$A$3","v":"Mitarbeiter/In"},{"$f":"IF($B$3=\"\",\"\",$B$3)","v":"Muster Peter"},null,null,null,null,null,null,null,null,null,null,null,null,null,null,null,null,null,null,null,null,null,null,null,null,null,null,null,null,null,{"$f":"AF3","v":0}]
[{"$f":"$A$4","v":"Anstellung %"},100,null,{"$f":"Labels!B100","v":"im Dezember"}]
[{"$f":"$A$5","v":"Saldo für das Jahr"},null,null,{"$f":"IF($AE$64=0,0,$AE$64)","v":-2096}]
[{"$f":"TEXT(DATE(YEAR(AP28),MONTH(AP28)+11,1),\"MMMM\"&Labels!B13)","v":"Dezember"},{"$f":"$B$9","v":"Saldo Monat + / -"},null,null,null,{"$f":"(AG705-(SUM(AG706:AG720)-AE727))*-1","v":-184},null,null,null,null,{"$f":"$K$9","v":" = "},{"$f":"$L$9","v":"Gelbe Felder müssen ausgefüllt werden (die übrigen werden automatisch berechnet)"}]
[{"$f":"$A$10","v":"Tag"},{"$f":"AE640+1","v":"2020-12-01"},{"$f":"B703+1","v":"2020-12-02"},{"$f":"C703+1","v":"2020-12-03"},"2020-12-04","2020-12-05","2020-12-06","2020-12-07","2020-12-08","2020-12-09","2020-12-10","2020-12-11","2020-12-12","2020-12-13","2020-12-14","2020-12-15","2020-12-16","2020-12-17","2020-12-18","2020-12-19","2020-12-20","2020-12-21","2020-12-22","2020-12-23","2020-12-24","2020-12-25","2020-12-26","2020-12-27","2020-12-28","2020-12-29","2020-12-30","2020-12-31",{"$f":"COUNT(B705:AF705)&\" \"&Labels!$B$63","v":"23 Tage"}]
[{"$f":"$A$11","v":"Kalenderwoche"},{"$f":"IF(B703=\"\",\"\",TRUNC((B703-DATE(YEAR(B703+3-MOD(B703-2,7)),1,MOD(B703-2,7)-9))/7))","v":49},49,49,49,49,49,50,50,50,50,50,50,50,51,51,51,51,51,51,51,52,52,52,52,52,52,52,53,53,53,53]
[{"$f":"$A$12","v":"Sollstunden"},{"$f":"IF(MOD(B703,7)>=2,$J$7*$B$700%,\"\")","v":8},8,8,8,"","",8,8,8,8,8,"","",8,8,8,8,8,"","",8,8,8,8,8,"","",8,8,8,8,{"$f":"SUM(B705:AF705)","v":184}]
[{"$f":"$A$13","v":"Absenz in Std"},{"$f":"B1072","v":0},{"$f":"C1072","v":0},0,0,0,0,0,0,0,0,0,0,0,0,0,0,0,0,0,0,0,0,0,0,0,0,0,0,0,0,0,{"$f":"SUM(AU3:AU12)","v":0}]
[{"$f":"$A$14","v":"Code"},{"$f":"IF(B1072<>0,IF(MAX(B1059:B1071)<B1072,Labels!$B$163,INDEX($AH$1059:$AH$1071,MATCH(MAX(B1059:B1071),B1059:B1071,0))),\"\")","v":""},{"$f":"IF(C1072<>0,IF(MAX(C1059:C1071)<C1072,Labels!$B$163,INDEX($AH$1059:$AH$1071,MATCH(MAX(C1059:C1071),C1059:C1071,0))),\"\")","v":""},{"$f":"IF(D1072<>0,IF(MAX(D1059:D1071)<D1072,Labels!$B$163,INDEX($AH$1059:$AH$1071,MATCH(MAX(D1059:D1071),D1059:D1071,0))),\"\")","v":""},{"$f":"IF(E1072<>0,IF(MAX(E1059:E1071)<E1072,Labels!$B$163,INDEX($AH$1059:$AH$1071,MATCH(MAX(E1059:E1071),E1059:E1071,0))),\"\")","v":""},{"$f":"IF(F1072<>0,IF(MAX(F1059:F1071)<F1072,Labels!$B$163,INDEX($AH$1059:$AH$1071,MATCH(MAX(F1059:F1071),F1059:F1071,0))),\"\")","v":""},{"$f":"IF(G1072<>0,IF(MAX(G1059:G1071)<G1072,Labels!$B$163,INDEX($AH$1059:$AH$1071,MATCH(MAX(G1059:G1071),G1059:G1071,0))),\"\")","v":""},{"$f":"IF(H1072<>0,IF(MAX(H1059:H1071)<H1072,Labels!$B$163,INDEX($AH$1059:$AH$1071,MATCH(MAX(H1059:H1071),H1059:H1071,0))),\"\")","v":""},{"$f":"IF(I1072<>0,IF(MAX(I1059:I1071)<I1072,Labels!$B$163,INDEX($AH$1059:$AH$1071,MATCH(MAX(I1059:I1071),I1059:I1071,0))),\"\")","v":""},{"$f":"IF(J1072<>0,IF(MAX(J1059:J1071)<J1072,Labels!$B$163,INDEX($AH$1059:$AH$1071,MATCH(MAX(J1059:J1071),J1059:J1071,0))),\"\")","v":""},{"$f":"IF(K1072<>0,IF(MAX(K1059:K1071)<K1072,Labels!$B$163,INDEX($AH$1059:$AH$1071,MATCH(MAX(K1059:K1071),K1059:K1071,0))),\"\")","v":""},{"$f":"IF(L1072<>0,IF(MAX(L1059:L1071)<L1072,Labels!$B$163,INDEX($AH$1059:$AH$1071,MATCH(MAX(L1059:L1071),L1059:L1071,0))),\"\")","v":""},{"$f":"IF(M1072<>0,IF(MAX(M1059:M1071)<M1072,Labels!$B$163,INDEX($AH$1059:$AH$1071,MATCH(MAX(M1059:M1071),M1059:M1071,0))),\"\")","v":""},{"$f":"IF(N1072<>0,IF(MAX(N1059:N1071)<N1072,Labels!$B$163,INDEX($AH$1059:$AH$1071,MATCH(MAX(N1059:N1071),N1059:N1071,0))),\"\")","v":""},{"$f":"IF(O1072<>0,IF(MAX(O1059:O1071)<O1072,Labels!$B$163,INDEX($AH$1059:$AH$1071,MATCH(MAX(O1059:O1071),O1059:O1071,0))),\"\")","v":""},{"$f":"IF(P1072<>0,IF(MAX(P1059:P1071)<P1072,Labels!$B$163,INDEX($AH$1059:$AH$1071,MATCH(MAX(P1059:P1071),P1059:P1071,0))),\"\")","v":""},{"$f":"IF(Q1072<>0,IF(MAX(Q1059:Q1071)<Q1072,Labels!$B$163,INDEX($AH$1059:$AH$1071,MATCH(MAX(Q1059:Q1071),Q1059:Q1071,0))),\"\")","v":""},{"$f":"IF(R1072<>0,IF(MAX(R1059:R1071)<R1072,Labels!$B$163,INDEX($AH$1059:$AH$1071,MATCH(MAX(R1059:R1071),R1059:R1071,0))),\"\")","v":""},{"$f":"IF(S1072<>0,IF(MAX(S1059:S1071)<S1072,Labels!$B$163,INDEX($AH$1059:$AH$1071,MATCH(MAX(S1059:S1071),S1059:S1071,0))),\"\")","v":""},{"$f":"IF(T1072<>0,IF(MAX(T1059:T1071)<T1072,Labels!$B$163,INDEX($AH$1059:$AH$1071,MATCH(MAX(T1059:T1071),T1059:T1071,0))),\"\")","v":""},{"$f":"IF(U1072<>0,IF(MAX(U1059:U1071)<U1072,Labels!$B$163,INDEX($AH$1059:$AH$1071,MATCH(MAX(U1059:U1071),U1059:U1071,0))),\"\")","v":""},{"$f":"IF(V1072<>0,IF(MAX(V1059:V1071)<V1072,Labels!$B$163,INDEX($AH$1059:$AH$1071,MATCH(MAX(V1059:V1071),V1059:V1071,0))),\"\")","v":""},{"$f":"IF(W1072<>0,IF(MAX(W1059:W1071)<W1072,Labels!$B$163,INDEX($AH$1059:$AH$1071,MATCH(MAX(W1059:W1071),W1059:W1071,0))),\"\")","v":""},{"$f":"IF(X1072<>0,IF(MAX(X1059:X1071)<X1072,Labels!$B$163,INDEX($AH$1059:$AH$1071,MATCH(MAX(X1059:X1071),X1059:X1071,0))),\"\")","v":""},{"$f":"IF(Y1072<>0,IF(MAX(Y1059:Y1071)<Y1072,Labels!$B$163,INDEX($AH$1059:$AH$1071,MATCH(MAX(Y1059:Y1071),Y1059:Y1071,0))),\"\")","v":""},{"$f":"IF(Z1072<>0,IF(MAX(Z1059:Z1071)<Z1072,Labels!$B$163,INDEX($AH$1059:$AH$1071,MATCH(MAX(Z1059:Z1071),Z1059:Z1071,0))),\"\")","v":""},{"$f":"IF(AA1072<>0,IF(MAX(AA1059:AA1071)<AA1072,Labels!$B$163,INDEX($AH$1059:$AH$1071,MATCH(MAX(AA1059:AA1071),AA1059:AA1071,0))),\"\")","v":""},{"$f":"IF(AB1072<>0,IF(MAX(AB1059:AB1071)<AB1072,Labels!$B$163,INDEX($AH$1059:$AH$1071,MATCH(MAX(AB1059:AB1071),AB1059:AB1071,0))),\"\")","v":""},{"$f":"IF(AC1072<>0,IF(MAX(AC1059:AC1071)<AC1072,Labels!$B$163,INDEX($AH$1059:$AH$1071,MATCH(MAX(AC1059:AC1071),AC1059:AC1071,0))),\"\")","v":""},{"$f":"IF(AD1072<>0,IF(MAX(AD1059:AD1071)<AD1072,Labels!$B$163,INDEX($AH$1059:$AH$1071,MATCH(MAX(AD1059:AD1071),AD1059:AD1071,0))),\"\")","v":""},{"$f":"IF(AE1072<>0,IF(MAX(AE1059:AE1071)<AE1072,Labels!$B$163,INDEX($AH$1059:$AH$1071,MATCH(MAX(AE1059:AE1071),AE1059:AE1071,0))),\"\")","v":""},{"$f":"IF(AF1072<>0,IF(MAX(AF1059:AF1071)<AF1072,Labels!$B$163,INDEX($AH$1059:$AH$1071,MATCH(MAX(AF1059:AF1071),AF1059:AF1071,0))),\"\")","v":""}]
[{"$f":"$A$15","v":"00.00-06.00h"},null,null,null,null,null,null,null,null,null,null,null,null,null,null,null,null,null,null,null,null,null,null,null,null,null,null,null,null,null,null,null,{"$f":"SUM(B708:AF708)","v":0}]
[{"$f":"$A$16","v":"06.00-20.00h"},null,null,null,null,null,null,null,null,null,null,null,null,null,null,null,null,null,null,null,null,null,null,null,null,null,null,null,null,null,null,null,{"$f":"SUM(B709:AF709)","v":0}]
[{"$f":"$A$17","v":"20.00-24.00h"},null,null,null,null,null,null,null,null,null,null,null,null,null,null,null,null,null,null,null,null,null,null,null,null,null,null,null,null,null,null,null,{"$f":"SUM(B710:AF710)","v":0},"[0]"]
[{"$f":"$A$18","v":"Feiertag \"ft\""},{"$f":"IF(WEEKDAY(B703,2)<=6,IF(KALENDER!E25=\"x\",Labels!$B$118,\"\"),\"\")","v":""},{"$f":"IF(WEEKDAY(C703,2)<=6,IF(KALENDER!F25=\"x\",Labels!$B$118,\"\"),\"\")","v":""},{"$f":"IF(WEEKDAY(D703,2)<=6,IF(KALENDER!G25=\"x\",Labels!$B$118,\"\"),\"\")","v":""},{"$f":"IF(WEEKDAY(E703,2)<=6,IF(KALENDER!H25=\"x\",Labels!$B$118,\"\"),\"\")","v":""},{"$f":"IF(WEEKDAY(F703,2)<=6,IF(KALENDER!I25=\"x\",Labels!$B$118,\"\"),\"\")","v":""},{"$f":"IF(WEEKDAY(G703,2)<=6,IF(KALENDER!J25=\"x\",Labels!$B$118,\"\"),\"\")","v":""},{"$f":"IF(WEEKDAY(H703,2)<=6,IF(KALENDER!K25=\"x\",Labels!$B$118,\"\"),\"\")","v":""},{"$f":"IF(WEEKDAY(I703,2)<=6,IF(KALENDER!L25=\"x\",Labels!$B$118,\"\"),\"\")","v":""},{"$f":"IF(WEEKDAY(J703,2)<=6,IF(KALENDER!M25=\"x\",Labels!$B$118,\"\"),\"\")","v":""},{"$f":"IF(WEEKDAY(K703,2)<=6,IF(KALENDER!N25=\"x\",Labels!$B$118,\"\"),\"\")","v":""},{"$f":"IF(WEEKDAY(L703,2)<=6,IF(KALENDER!O25=\"x\",Labels!$B$118,\"\"),\"\")","v":""},{"$f":"IF(WEEKDAY(M703,2)<=6,IF(KALENDER!P25=\"x\",Labels!$B$118,\"\"),\"\")","v":""},{"$f":"IF(WEEKDAY(N703,2)<=6,IF(KALENDER!Q25=\"x\",Labels!$B$118,\"\"),\"\")","v":""},{"$f":"IF(WEEKDAY(O703,2)<=6,IF(KALENDER!R25=\"x\",Labels!$B$118,\"\"),\"\")","v":""},{"$f":"IF(WEEKDAY(P703,2)<=6,IF(KALENDER!S25=\"x\",Labels!$B$118,\"\"),\"\")","v":""},{"$f":"IF(WEEKDAY(Q703,2)<=6,IF(KALENDER!T25=\"x\",Labels!$B$118,\"\"),\"\")","v":""},{"$f":"IF(WEEKDAY(R703,2)<=6,IF(KALENDER!U25=\"x\",Labels!$B$118,\"\"),\"\")","v":""},{"$f":"IF(WEEKDAY(S703,2)<=6,IF(KALENDER!V25=\"x\",Labels!$B$118,\"\"),\"\")","v":""},{"$f":"IF(WEEKDAY(T703,2)<=6,IF(KALENDER!W25=\"x\",Labels!$B$118,\"\"),\"\")","v":""},{"$f":"IF(WEEKDAY(U703,2)<=6,IF(KALENDER!X25=\"x\",Labels!$B$118,\"\"),\"\")","v":""},{"$f":"IF(WEEKDAY(V703,2)<=6,IF(KALENDER!Y25=\"x\",Labels!$B$118,\"\"),\"\")","v":""},{"$f":"IF(WEEKDAY(W703,2)<=6,IF(KALENDER!Z25=\"x\",Labels!$B$118,\"\"),\"\")","v":""},{"$f":"IF(WEEKDAY(X703,2)<=6,IF(KALENDER!AA25=\"x\",Labels!$B$118,\"\"),\"\")","v":""},{"$f":"IF(WEEKDAY(Y703,2)<=6,IF(KALENDER!AB25=\"x\",Labels!$B$118,\"\"),\"\")","v":""},{"$f":"IF(WEEKDAY(Z703,2)<=6,IF(KALENDER!AC25=\"x\",Labels!$B$118,\"\"),\"\")","v":""},{"$f":"IF(WEEKDAY(AA703,2)<=6,IF(KALENDER!AD25=\"x\",Labels!$B$118,\"\"),\"\")","v":""},{"$f":"IF(WEEKDAY(AB703,2)<=6,IF(KALENDER!AE25=\"x\",Labels!$B$118,\"\"),\"\")","v":""},{"$f":"IF(WEEKDAY(AC703,2)<=6,IF(KALENDER!AF25=\"x\",Labels!$B$118,\"\"),\"\")","v":""},{"$f":"IF(WEEKDAY(AD703,2)<=6,IF(KALENDER!AG25=\"x\",Labels!$B$118,\"\"),\"\")","v":""},{"$f":"IF(WEEKDAY(AE703,2)<=6,IF(KALENDER!AH25=\"x\",Labels!$B$118,\"\"),\"\")","v":""},{"$f":"IF(WEEKDAY(AF703,2)<=6,IF(KALENDER!AI25=\"x\",Labels!$B$118,\"\"),\"\")","v":""}]
[{"$f":"$A$19","v":"Gutschrift \"ft\""},{"$f":"IF(AND(B711=Labels!$B$118,WEEKDAY(B703,2)<6),$J$7*$B$700%,\"\")","v":""},{"$f":"IF(AND(C711=Labels!$B$118,WEEKDAY(C703,2)<6),$J$7*$B$700%,\"\")","v":""},{"$f":"IF(AND(D711=Labels!$B$118,WEEKDAY(D703,2)<6),$J$7*$B$700%,\"\")","v":""},{"$f":"IF(AND(E711=Labels!$B$118,WEEKDAY(E703,2)<6),$J$7*$B$700%,\"\")","v":""},{"$f":"IF(AND(F711=Labels!$B$118,WEEKDAY(F703,2)<6),$J$7*$B$700%,\"\")","v":""},{"$f":"IF(AND(G711=Labels!$B$118,WEEKDAY(G703,2)<6),$J$7*$B$700%,\"\")","v":""},{"$f":"IF(AND(H711=Labels!$B$118,WEEKDAY(H703,2)<6),$J$7*$B$700%,\"\")","v":""},{"$f":"IF(AND(I711=Labels!$B$118,WEEKDAY(I703,2)<6),$J$7*$B$700%,\"\")","v":""},{"$f":"IF(AND(J711=Labels!$B$118,WEEKDAY(J703,2)<6),$J$7*$B$700%,\"\")","v":""},{"$f":"IF(AND(K711=Labels!$B$118,WEEKDAY(K703,2)<6),$J$7*$B$700%,\"\")","v":""},{"$f":"IF(AND(L711=Labels!$B$118,WEEKDAY(L703,2)<6),$J$7*$B$700%,\"\")","v":""},{"$f":"IF(AND(M711=Labels!$B$118,WEEKDAY(M703,2)<6),$J$7*$B$700%,\"\")","v":""},{"$f":"IF(AND(N711=Labels!$B$118,WEEKDAY(N703,2)<6),$J$7*$B$700%,\"\")","v":""},{"$f":"IF(AND(O711=Labels!$B$118,WEEKDAY(O703,2)<6),$J$7*$B$700%,\"\")","v":""},{"$f":"IF(AND(P711=Labels!$B$118,WEEKDAY(P703,2)<6),$J$7*$B$700%,\"\")","v":""},{"$f":"IF(AND(Q711=Labels!$B$118,WEEKDAY(Q703,2)<6),$J$7*$B$700%,\"\")","v":""},{"$f":"IF(AND(R711=Labels!$B$118,WEEKDAY(R703,2)<6),$J$7*$B$700%,\"\")","v":""},{"$f":"IF(AND(S711=Labels!$B$118,WEEKDAY(S703,2)<6),$J$7*$B$700%,\"\")","v":""},{"$f":"IF(AND(T711=Labels!$B$118,WEEKDAY(T703,2)<6),$J$7*$B$700%,\"\")","v":""},{"$f":"IF(AND(U711=Labels!$B$118,WEEKDAY(U703,2)<6),$J$7*$B$700%,\"\")","v":""},{"$f":"IF(AND(V711=Labels!$B$118,WEEKDAY(V703,2)<6),$J$7*$B$700%,\"\")","v":""},{"$f":"IF(AND(W711=Labels!$B$118,WEEKDAY(W703,2)<6),$J$7*$B$700%,\"\")","v":""},{"$f":"IF(AND(X711=Labels!$B$118,WEEKDAY(X703,2)<6),$J$7*$B$700%,\"\")","v":""},{"$f":"IF(AND(Y711=Labels!$B$118,WEEKDAY(Y703,2)<6),$J$7*$B$700%,\"\")","v":""},{"$f":"IF(AND(Z711=Labels!$B$118,WEEKDAY(Z703,2)<6),$J$7*$B$700%,\"\")","v":""},{"$f":"IF(AND(AA711=Labels!$B$118,WEEKDAY(AA703,2)<6),$J$7*$B$700%,\"\")","v":""},{"$f":"IF(AND(AB711=Labels!$B$118,WEEKDAY(AB703,2)<6),$J$7*$B$700%,\"\")","v":""},{"$f":"IF(AND(AC711=Labels!$B$118,WEEKDAY(AC703,2)<6),$J$7*$B$700%,\"\")","v":""},{"$f":"IF(AND(AD711=Labels!$B$118,WEEKDAY(AD703,2)<6),$J$7*$B$700%,\"\")","v":""},{"$f":"IF(AND(AE711=Labels!$B$118,WEEKDAY(AE703,2)<6),$J$7*$B$700%,\"\")","v":""},{"$f":"IF(AND(AF711=Labels!$B$118,WEEKDAY(AF703,2)<6),$J$7*$B$700%,\"\")","v":""},{"$f":"SUM(B712:AF712)","v":0}]
[{"$f":"$A$20","v":"Tagestotal"},{"$f":"SUM(B708:B710)","v":0},{"$f":"SUM(C708:C710)","v":0},0,0,0,0,0,0,0,0,0,0,0,0,0,0,0,0,0,0,0,0,0,0,0,0,0,0,0,0,0]
[{"$f":"$A$21","v":"."}]
[{"$f":"$A$22","v":"."}]
[{"$f":"$A$23","v":"Monatsübergang"},{"$f":"IF(WEEKDAY(B703)=1,TEXT(B703-1,\"MMM\"&Labels!B13),\"\")","v":""}]
[{"$f":"$A$24","v":"Wochentotal"},{"$f":"IF(WEEKDAY(B703)=7,SUMIF($B641:$AF641,B704,$B650:$AF650)+SUMIF($B704:$AF704,B704,$B713:$AF713),B716)","v":""},{"$f":"IF(WEEKDAY(C703)=7,SUMIF($B641:$AF641,C704,$B650:$AF650)+SUMIF($B704:$AF704,C704,$B713:$AF713),\"\")","v":""},"","",0,"","","","","","",0,"","","","","","",0,"","","","","","",0,"","","","",{"$f":"IF(WEEKDAY(AF703)>1,SUMIF($B641:$AF641,AF704,$B650:$AF650)+SUMIF($B704:$AF704,AF704,$B713:$AF713),\"\")","v":0}]
[{"$f":"$A$25","v":"Zeitzuschlag 1)"},{"$f":"IF(B725=\"FALSCH\",\"\",B725)","v":""},{"$f":"IF(C725=\"FALSCH\",\"\",C725)","v":""},"","","","","","","","","","","","","","","","","","","","","","","","","","","","","",{"$f":"SUM(B718:AF718)","v":0}]
[{"$f":"$A$26","v":"Zeitzuschlag 2)"},{"$f":"IF((B708+B710)=0,\"\",SUM(B708,B710))","v":""},{"$f":"IF((C708+C710)=0,\"\",SUM(C708,C710))","v":""},"","","","","","","","","","","","","","","","","","","","","","","","","","","","","",0,"[1]"]
[{"$f":"$A$27","v":"Zeitzuschlag 3)"},{"$f":"SUM(B721:B724)","v":0},{"$f":"SUM(C721:C724)","v":0},0,0,0,0,0,0,0,0,0,0,0,0,0,0,0,0,0,0,0,0,0,0,0,0,0,0,0,0,0,{"$f":"SUM(B720:AF720)","v":0},"[2]"]
[{"$f":"$A$28","v":"Sonntag Tag"},{"$f":"IF(WEEKDAY(B703)=1,B709,\"\")","v":""},{"$f":"IF(WEEKDAY(C703)=1,C709,\"\")","v":""},"","","",0,"","","","","","",0,"","","","","","",0,"","","","","","",0,"","","","",0,"[3]"]
[{"$f":"$A$29","v":"Sonntag Nacht"},{"$f":"IF(WEEKDAY(B703)=1,SUM(B708+B710),\"\")","v":""},{"$f":"IF(WEEKDAY(C703)=1,SUM(C708+C710),\"\")","v":""},"","","",0,"","","","","","",0,"","","","","","",0,"","","","","","",0,"","","","",0,"[4]"]
[{"$f":"$A$30","v":"ft-Tazuschlag"},{"$f":"IF(B711=Labels!$B$118,B709,\"\")","v":""},{"$f":"IF(C711=Labels!$B$118,C709,\"\")","v":""},{"$f":"IF(D711=Labels!$B$118,D709,\"\")","v":""},{"$f":"IF(E711=Labels!$B$118,E709,\"\")","v":""},{"$f":"IF(F711=Labels!$B$118,F709,\"\")","v":""},{"$f":"IF(G711=Labels!$B$118,G709,\"\")","v":""},{"$f":"IF(H711=Labels!$B$118,H709,\"\")","v":""},{"$f":"IF(I711=Labels!$B$118,I709,\"\")","v":""},{"$f":"IF(J711=Labels!$B$118,J709,\"\")","v":""},{"$f":"IF(K711=Labels!$B$118,K709,\"\")","v":""},{"$f":"IF(L711=Labels!$B$118,L709,\"\")","v":""},{"$f":"IF(M711=Labels!$B$118,M709,\"\")","v":""},{"$f":"IF(N711=Labels!$B$118,N709,\"\")","v":""},{"$f":"IF(O711=Labels!$B$118,O709,\"\")","v":""},{"$f":"IF(P711=Labels!$B$118,P709,\"\")","v":""},{"$f":"IF(Q711=Labels!$B$118,Q709,\"\")","v":""},{"$f":"IF(R711=Labels!$B$118,R709,\"\")","v":""},{"$f":"IF(S711=Labels!$B$118,S709,\"\")","v":""},{"$f":"IF(T711=Labels!$B$118,T709,\"\")","v":""},{"$f":"IF(U711=Labels!$B$118,U709,\"\")","v":""},{"$f":"IF(V711=Labels!$B$118,V709,\"\")","v":""},{"$f":"IF(W711=Labels!$B$118,W709,\"\")","v":""},{"$f":"IF(X711=Labels!$B$118,X709,\"\")","v":""},{"$f":"IF(Y711=Labels!$B$118,Y709,\"\")","v":""},{"$f":"IF(Z711=Labels!$B$118,Z709,\"\")","v":""},{"$f":"IF(AA711=Labels!$B$118,AA709,\"\")","v":""},{"$f":"IF(AB711=Labels!$B$118,AB709,\"\")","v":""},{"$f":"IF(AC711=Labels!$B$118,AC709,\"\")","v":""},{"$f":"IF(AD711=Labels!$B$118,AD709,\"\")","v":""},{"$f":"IF(AE711=Labels!$B$118,AE709,\"\")","v":""},{"$f":"IF(AF711=Labels!$B$118,AF709,\"\")","v":""},0,"[5]"]
[{"$f":"$A$31","v":"ft-Nazuschlag"},{"$f":"IF(B711=Labels!$B$118,SUM(B708,B710),\"\")","v":""},{"$f":"IF(C711=Labels!$B$118,SUM(C708,C710),\"\")","v":""},{"$f":"IF(D711=Labels!$B$118,SUM(D708,D710),\"\")","v":""},{"$f":"IF(E711=Labels!$B$118,SUM(E708,E710),\"\")","v":""},{"$f":"IF(F711=Labels!$B$118,SUM(F708,F710),\"\")","v":""},{"$f":"IF(G711=Labels!$B$118,SUM(G708,G710),\"\")","v":""},{"$f":"IF(H711=Labels!$B$118,SUM(H708,H710),\"\")","v":""},{"$f":"IF(I711=Labels!$B$118,SUM(I708,I710),\"\")","v":""},{"$f":"IF(J711=Labels!$B$118,SUM(J708,J710),\"\")","v":""},{"$f":"IF(K711=Labels!$B$118,SUM(K708,K710),\"\")","v":""},{"$f":"IF(L711=Labels!$B$118,SUM(L708,L710),\"\")","v":""},{"$f":"IF(M711=Labels!$B$118,SUM(M708,M710),\"\")","v":""},{"$f":"IF(N711=Labels!$B$118,SUM(N708,N710),\"\")","v":""},{"$f":"IF(O711=Labels!$B$118,SUM(O708,O710),\"\")","v":""},{"$f":"IF(P711=Labels!$B$118,SUM(P708,P710),\"\")","v":""},{"$f":"IF(Q711=Labels!$B$118,SUM(Q708,Q710),\"\")","v":""},{"$f":"IF(R711=Labels!$B$118,SUM(R708,R710),\"\")","v":""},{"$f":"IF(S711=Labels!$B$118,SUM(S708,S710),\"\")","v":""},{"$f":"IF(T711=Labels!$B$118,SUM(T708,T710),\"\")","v":""},{"$f":"IF(U711=Labels!$B$118,SUM(U708,U710),\"\")","v":""},{"$f":"IF(V711=Labels!$B$118,SUM(V708,V710),\"\")","v":""},{"$f":"IF(W711=Labels!$B$118,SUM(W708,W710),\"\")","v":""},{"$f":"IF(X711=Labels!$B$118,SUM(X708,X710),\"\")","v":""},{"$f":"IF(Y711=Labels!$B$118,SUM(Y708,Y710),\"\")","v":""},{"$f":"IF(Z711=Labels!$B$118,SUM(Z708,Z710),\"\")","v":""},{"$f":"IF(AA711=Labels!$B$118,SUM(AA708,AA710),\"\")","v":""},{"$f":"IF(AB711=Labels!$B$118,SUM(AB708,AB710),\"\")","v":""},{"$f":"IF(AC711=Labels!$B$118,SUM(AC708,AC710),\"\")","v":""},{"$f":"IF(AD711=Labels!$B$118,SUM(AD708,AD710),\"\")","v":""},{"$f":"IF(AE711=Labels!$B$118,SUM(AE708,AE710),\"\")","v":""},{"$f":"IF(AF711=Labels!$B$118,SUM(AF708,AF710),\"\")","v":""},0,"[6]"]
[{"$f":"$A$32","v":"Zuschlag  blind (Wochentotal)"},{"$f":"IF(OR(ISTEXT(B717),B717=\"\",B717<$B$7),\"\",ROUND(((B717-$B$7)*25%)/25,4)*25)","v":""},{"$f":"IF(OR(ISTEXT(C717),C717=\"\",C717<$B$7),\"\",ROUND(((C717-$B$7)*25%)/25,4)*25)","v":""},"","","","","","","","","","","","","","","","","","","","","","","","","","","","","",{"$f":"AG709","v":0},"[7]"]
[null,{"$f":"$B$33","v":"1)   25% Zeitzuschlag für Überschreitung Wochentotal"},null,null,null,null,null,null,null,null,null,{"$f":"$L$33","v":"2) 100% Zeitzuschlag für Nachtarbeit"},null,null,null,null,null,null,null,null,null,null,null,null,null,null,null,null,null,null,null,null,{"$f":"SUM(AG708+AG710)","v":0},"[8]"]
[null,{"$f":"$B$34","v":"3) 100% Zeitzuschlag für Sonn- und Feiertagsarbeit"},null,null,null,null,null,null,null,null,null,null,null,null,null,null,null,null,null,{"$f":"$T$34","v":"Eingabe der ausbezahlten Stunden laufendes Jahr (Überstunden)"},null,null,null,null,null,null,null,null,null,null,null,null,{"$f":"SUM(AG708:AG710)","v":0},"[9]"]
[{"$f":"$A$35","v":"Bemerkungen"},null,null,null,null,null,null,null,null,null,null,null,null,null,null,null,null,null,null,null,null,null,null,null,null,null,null,null,null,null,null,null,{"$f":"SUM(AG706+AG712)","v":0},"[10]"]
[null,null,null,null,null,null,null,null,null,null,null,null,null,null,null,null,null,null,null,null,null,null,null,null,null,null,null,null,null,null,null,null,{"$f":"SUM(AG706:AG720)","v":0},"[11]"]
[null,null,null,null,null,null,null,null,null,null,null,null,null,null,null,null,null,null,null,null,null,null,null,null,null,null,null,null,null,null,null,null,{"$f":"AG705","v":184}]
[null,null,null,null,null,null,null,null,null,null,null,null,null,null,null,null,null,null,null,null,null,null,null,null,null,null,null,null,null,null,null,null,{"$f":"SUM(AG729-AG705)","v":-184}]
[{"$f":"$A$39","v":"Zusammenstellung"},null,null,null,null,null,{"$f":"$G$39","v":"Jan"},null,{"$f":"$I$39","v":"Feb"},null,{"$f":"$K$39","v":"Mrz"},null,{"$f":"$M$39","v":"Apr"},null,{"$f":"$O$39","v":"Mai"},null,{"$f":"$Q$39","v":"Jun"},null,{"$f":"$S$39","v":"Jul"},null,{"$f":"$U$39","v":"Aug"},null,{"$f":"$W$39","v":"Sep"},null,{"$f":"$Y$39","v":"Okt"},null,{"$f":"$AA$39","v":"Nov"},null,{"$f":"$AC$39","v":"Dez"},null,{"$f":"$AE$39","v":"Jahr"}]
[{"$f":"$A$40","v":"Anstellung %"},null,null,null,null,null,{"$f":"IF($B$4=0,0,$B$4)","v":100},null,{"$f":"IF($B$70=0,0,$B$70)","v":100},null,{"$f":"IF($B$133=0,0,$B$133)","v":100},null,{"$f":"IF($B$196=0,0,$B$196)","v":100},null,{"$f":"IF($B$259=0,0,$B$259)","v":100},null,{"$f":"IF($B$322=0,0,$B$322)","v":100},null,{"$f":"IF($B$385=0,0,$B$385)","v":100},null,{"$f":"IF($B$448=0,0,$B$448)","v":100},null,{"$f":"IF($B$511=0,0,$B$511)","v":100},null,{"$f":"IF($B$574=0,0,$B$574)","v":100},null,{"$f":"IF($B$637=0,0,$B$637)","v":100},null,{"$f":"IF($B$700=0,0,$B$700)","v":100}]
[{"$f":"$A$41","v":"Sollstunden gemäss GAV"},null,null,null,null,null,{"$f":"IF($AG$37=0,0,$AG$37)","v":184},null,{"$f":"IF($AG$100=0,0,$AG$100)","v":160},null,{"$f":"IF($AG$138=0,0,$AG$138)","v":176},null,{"$f":"IF($AG$226=0,0,$AG$226)","v":176},null,{"$f":"IF($AG$289=0,0,$AG$289)","v":168},null,{"$f":"IF($AG$352=0,0,$AG$352)","v":176},null,{"$f":"IF($AG$415=0,0,$AG$415)","v":184},null,{"$f":"IF($AG$478=0,0,$AG$478)","v":168},null,{"$f":"IF($AG$541=0,0,$AG$541)","v":176},null,{"$f":"IF($AG$604=0,0,$AG$604)","v":176},null,{"$f":"IF($AG$667=0,0,$AG$667)","v":168},null,{"$f":"IF($AG$730=0,0,$AG$730)","v":184},null,{"$f":"SUM(G671:AD671)","v":2096}]
[{"$f":"$A$42","v":"Produktive Stunden"},{"$f":"$B$42","v":"06.00 - 20.00 Uhr"},null,null,null,null,{"$f":"IF($AG$32=0,0,$AG$32)","v":0},null,{"$f":"IF($AG$95=0,0,$AG$95)","v":0},null,{"$f":"IF($AG$158=0,0,$AG$158)","v":0},null,{"$f":"IF($AG$221=0,0,$AG$221)","v":0},null,{"$f":"IF($AG$284=0,0,$AG$284)","v":0},null,{"$f":"IF($AG$347=0,0,$AG$347)","v":0},null,{"$f":"IF($AG$410=0,0,$AG$410)","v":0},null,{"$f":"IF($AG$473=0,0,$AG$473)","v":0},null,{"$f":"IF($AG$536=0,0,$AG$536)","v":0},null,{"$f":"IF($AG$599=0,0,$AG$599)","v":0},null,{"$f":"IF($AG$662=0,0,$AG$662)","v":0},null,{"$f":"IF($AG$725=0,0,$AG$725)","v":0},null,{"$f":"SUM(G672:AD672)","v":0}]
[null,{"$f":"$B$43","v":"Nacht-, Sonn-, Feiertagsarbeit"},null,null,null,null,{"$f":"IF($AG$33=0,0,$AG$33)","v":0},null,{"$f":"IF($AG$96=0,0,$AG$96)","v":0},null,{"$f":"IF($AG$159=0,0,$AG$159)","v":0},null,{"$f":"IF($AG$222=0,0,$AG$222)","v":0},null,{"$f":"IF($AG$285=0,0,$AG$285)","v":0},null,{"$f":"IF($AG$348=0,0,$AG$348)","v":0},null,{"$f":"IF($AG$411=0,0,$AG$411)","v":0},null,{"$f":"IF($AG$474=0,0,$AG$474)","v":0},null,{"$f":"IF($AG$537=0,0,$AG$537)","v":0},null,{"$f":"IF($AG$600=0,0,$AG$600)","v":0},null,{"$f":"IF($AG$663=0,0,$AG$663)","v":0},null,{"$f":"IF($AG$726=0,0,$AG$726)","v":0},null,{"$f":"SUM(G673:AD673)","v":0}]
[{"$f":"$A$44","v":"Zeitzuschläge"},{"$f":"$B$44","v":"aus Wochentotal"},null,null,null,null,{"$f":"IF($AG$25=0,0,$AG$25)","v":0},null,{"$f":"IF($AG$88=0,0,$AG$88)","v":0},null,{"$f":"IF($AG$151=0,0,$AG$151)","v":0},null,{"$f":"IF($AG$214=0,0,$AG$214)","v":0},null,{"$f":"IF($AG$277=0,0,$AG$277)","v":0},null,{"$f":"IF($AG$340=0,0,$AG$340)","v":0},null,{"$f":"IF($AG$403=0,0,$AG$403)","v":0},null,{"$f":"IF($AG$466=0,0,$AG$466)","v":0},null,{"$f":"IF($AG$529=0,0,$AG$529)","v":0},null,{"$f":"IF($AG$592=0,0,$AG$592)","v":0},null,{"$f":"IF($AG$655=0,0,$AG$655)","v":0},null,{"$f":"IF($AG$718=0,0,$AG$718)","v":0},null,{"$f":"SUM(G674:AD674)","v":0}]
[null,{"$f":"$B$45","v":"aus Nacht-, Sonn-, Feiertagsarbeiten"},null,null,null,null,{"$f":"IF($AJ$20=0,0,$AJ$20)","v":0},null,{"$f":"IF($AK$20=0,0,$AK$20)","v":0},null,{"$f":"IF($AL$20=0,0,$AL$20)","v":0},null,{"$f":"IF($AM$20=0,0,$AM$20)","v":0},null,{"$f":"IF($AN$20=0,0,$AN$20)","v":0},null,{"$f":"IF($AO$20=0,0,$AO$20)","v":0},null,{"$f":"IF($AP$20=0,0,$AP$20)","v":0},null,{"$f":"IF($AQ$20=0,0,$AQ$20)","v":0},null,{"$f":"IF($AR$20=0,0,$AR$20)","v":0},null,{"$f":"IF($AS$20=0,0,$AS$20)","v":0},null,{"$f":"IF($AT$20=0,0,$AT$20)","v":0},null,{"$f":"IF($AU$20=0,0,$AU$20)","v":0},null,{"$f":"SUM(G675:AD675)","v":0}]
[{"$f":"$A$46","v":"Unproduktive Stunden"}]
[{"$f":"$A$47","v":"   Absenzen, Kurzabsenzen Art. 11 GAV"},null,null,null,null,{"$f":"$F$47","v":"a"},{"$f":"IF($AJ$3=0,0,$AJ$3)","v":0},null,{"$f":"IF($AK$3=0,0,$AK$3)","v":0},null,{"$f":"IF($AL$3=0,0,$AL$3)","v":0},null,{"$f":"IF($AM$3=0,0,$AM$3)","v":0},null,{"$f":"IF($AN$3=0,0,$AN$3)","v":0},null,{"$f":"IF($AO$3=0,0,$AO$3)","v":0},null,{"$f":"IF($AP$3=0,0,$AP$3)","v":0},null,{"$f":"IF($AQ$3=0,0,$AQ$3)","v":0},null,{"$f":"IF($AR$3=0,0,$AR$3)","v":0},null,{"$f":"IF($AS$3=0,0,$AS$3)","v":0},null,{"$f":"IF(AT$3=0,0,$AT$3)","v":0},null,{"$f":"IF($AU$3=0,0,$AU$3)","v":0},null,{"$f":"IF($AV$3=0,0,$AV$3)","v":0}]
[{"$f":"$A$48","v":"   Ferien Art. 12.1 GAV"},null,null,null,null,{"$f":"$F$48","v":"f"},{"$f":"IF($AJ$4=0,0,$AJ$4)","v":0},null,{"$f":"IF($AK$4=0,0,$AK$4)","v":0},null,{"$f":"IF($AL$4=0,0,$AL$4)","v":0},null,{"$f":"IF($AM$4=0,0,$AM$4)","v":0},null,{"$f":"IF($AN$4=0,0,$AN$4)","v":0},null,{"$f":"IF($AO$4=0,0,$AO$4)","v":0},null,{"$f":"IF($AP$4=0,0,$AP$4)","v":0},null,{"$f":"IF($AQ$4=0,0,$AQ$4)","v":0},null,{"$f":"IF($AR$4=0,0,$AR$4)","v":0},null,{"$f":"IF($AS$4=0,0,$AS$4)","v":0},null,{"$f":"IF($AT$4=0,0,$AT$4)","v":0},null,{"$f":"IF($AU$4=0,0,$AU$4)","v":0},null,{"$f":"IF($AV$4=0,0,$AV$4)","v":0}]
[{"$f":"$A$49","v":"   Feiertage Art. 12.2 GAV"},null,{"$f":"IF($AJ$17=\"\",\"\",$AJ$17)","v":""},null,null,{"$f":"$F$49","v":"ft"},{"$f":"IF($AJ$15=0,0,$AJ$15)","v":0},null,{"$f":"IF($AK$15=0,0,$AK$15)","v":0},null,{"$f":"IF($AL$15=0,0,$AL$15)","v":0},null,{"$f":"IF($AM$15=0,0,$AM$15)","v":0},null,{"$f":"IF($AN$15=0,0,$AN$15)","v":0},null,{"$f":"IF($AO$15=0,0,$AO$15)","v":0},null,{"$f":"IF($AP$15=0,0,$AP$15)","v":0},null,{"$f":"IF($AQ$15=0,0,$AQ$15)","v":0},null,{"$f":"IF($AR$15=0,0,$AR$15)","v":0},null,{"$f":"IF($AS$15=0,0,$AS$15)","v":0},null,{"$f":"IF($AT$15=0,0,$AT$15)","v":0},null,{"$f":"IF($AU$15=0,0,$AU$15)","v":0},null,{"$f":"IF($AV$15=0,0,$AV$15)","v":0}]
[{"$f":"$A$50","v":"   Krankheit Art. 13 GAV"},null,null,null,null,{"$f":"$F$50","v":"k"},{"$f":"IF($AJ$5=0,0,$AJ$5)","v":0},null,{"$f":"IF($AK$5=0,0,$AK$5)","v":0},null,{"$f":"IF($AL$5=0,0,$AL$5)","v":0},null,{"$f":"IF($AM$5=0,0,$AM$5)","v":0},null,{"$f":"IF($AN$5=0,0,$AN$5)","v":0},null,{"$f":"IF($AO$5=0,0,$AO$5)","v":0},null,{"$f":"IF($AP$5=0,0,$AP$5)","v":0},null,{"$f":"IF($AQ$5=0,0,$AQ$5)","v":0},null,{"$f":"IF($AR$5=0,0,$AR$5)","v":0},null,{"$f":"IF($AS$5=0,0,$AS$5)","v":0},null,{"$f":"IF($AT$5=0,0,$AT$5)","v":0},null,{"$f":"IF($AU$5=0,0,$AU$5)","v":0},null,{"$f":"IF($AV$5=0,0,$AV$5)","v":0}]
[{"$f":"$A$51","v":"   Unfall Art. 14 GAV"},null,null,null,null,{"$f":"$F$51","v":"u"},{"$f":"IF($AJ$6=0,0,$AJ$6)","v":0},null,{"$f":"IF($AK$6=0,0,$AK$6)","v":0},null,{"$f":"IF($AL$6=0,0,$AL$6)","v":0},null,{"$f":"IF($AM$6=0,0,$AM$6)","v":0},null,{"$f":"IF($AN$6=0,0,$AN$6)","v":0},null,{"$f":"IF($AO$6=0,0,$AO$6)","v":0},null,{"$f":"IF($AP$6=0,0,$AP$6)","v":0},null,{"$f":"IF($AQ$6=0,0,$AQ$6)","v":0},null,{"$f":"IF($AR$6=0,0,$AR$6)","v":0},null,{"$f":"IF($AS$6=0,0,$AS$6)","v":0},null,{"$f":"IF($AT$6=0,0,$AT$6)","v":0},null,{"$f":"IF($AU$6=0,0,$AU$6)","v":0},null,{"$f":"IF($AV$6=0,0,$AV$6)","v":0}]
[{"$f":"$A$52","v":"   Schwangerschaft/Mutterschaft Art. 15 GAV"},null,null,null,null,{"$f":"$F$52","v":"s"},{"$f":"IF($AJ$7=0,0,$AJ$7)","v":0},null,{"$f":"IF($AK$7=0,0,$AK$7)","v":0},null,{"$f":"IF($AL$7=0,0,$AL$7)","v":0},null,{"$f":"IF($AM$7=0,0,$AM$7)","v":0},null,{"$f":"IF($AN$7=0,0,$AN$7)","v":0},null,{"$f":"IF($AO$7=0,0,$AO$7)","v":0},null,{"$f":"IF($AP$7=0,0,$AP$7)","v":0},null,{"$f":"IF($AQ$7=0,0,$AQ$7)","v":0},null,{"$f":"IF($AR$7=0,0,$AR$7)","v":0},null,{"$f":"IF($AS$7=0,0,$AS$7)","v":0},null,{"$f":"IF($AT$7=0,0,$AT$7)","v":0},null,{"$f":"IF($AU$7=0,0,$AU$7)","v":0},null,{"$f":"IF($AV$7=0,0,$AV$7)","v":0}]
[{"$f":"$A$53","v":"   Militär/Beförderung/Zivilschutz Art. 16 GAV"},null,null,null,null,{"$f":"$F$53","v":"m"},{"$f":"IF($AJ$8=0,0,$AJ$8)","v":0},null,{"$f":"IF($AK$8=0,0,$AK$8)","v":0},null,{"$f":"IF($AL$8=0,0,$AL$8)","v":0},null,{"$f":"IF($AM$8=0,0,$AM$8)","v":0},null,{"$f":"IF($AN$8=0,0,$AN$8)","v":0},null,{"$f":"IF($AO$8=0,0,$AO$8)","v":0},null,{"$f":"IF($AP$8=0,0,$AP$8)","v":0},null,{"$f":"IF($AQ$8=0,0,$AQ$8)","v":0},null,{"$f":"IF($AR$8=0,0,$AR$8)","v":0},null,{"$f":"IF($AS$8=0,0,$AS$8)","v":0},null,{"$f":"IF($AT$8=0,0,$AT$8)","v":0},null,{"$f":"IF($AU$8=0,0,$AU$8)","v":0},null,{"$f":"IF($AV$8=0,0,$AV$8)","v":0}]
[{"$f":"$A$54","v":"   Kurzarbeit und Schlechtwetterausfälle"},null,null,null,null,{"$f":"$F$54","v":"ka"},{"$f":"IF($AJ$11=0,0,$AJ$11)","v":0},null,{"$f":"IF($AK$11=0,0,$AK$11)","v":0},null,{"$f":"IF($AL$11=0,0,$AL$11)","v":0},null,{"$f":"IF($AM$11=0,0,$AM$11)","v":0},null,{"$f":"IF($AN$11=0,0,$AN$11)","v":0},null,{"$f":"IF($AO$11=0,0,$AO$11)","v":0},null,{"$f":"IF($AP$11=0,0,$AP$11)","v":0},null,{"$f":"IF($AQ$11=0,0,$AQ$11)","v":0},null,{"$f":"IF($AR$11=0,0,$AR$11)","v":0},null,{"$f":"IF($AS$11=0,0,$AS$11)","v":0},null,{"$f":"IF($AT$11=0,0,$AT$11)","v":0},null,{"$f":"IF($AU$11=0,0,$AU$11)","v":0},null,{"$f":"IF($AV$11=0,0,$AV$11)","v":0}]
[{"$f":"$A$55","v":"   Berufsschule"},null,null,null,null,{"$f":"$F$55","v":"bs"},{"$f":"IF($AJ$9=0,0,$AJ$9)","v":0},null,{"$f":"IF($AK$9=0,0,$AK$9)","v":0},null,{"$f":"IF($AL$9=0,0,$AL$9)","v":0},null,{"$f":"IF($AM$9=0,0,$AM$9)","v":0},null,{"$f":"IF($AN$9=0,0,$AN$9)","v":0},null,{"$f":"IF($AO$9=0,0,$AO$9)","v":0},null,{"$f":"IF($AP$9=0,0,$AP$9)","v":0},null,{"$f":"IF($AQ$9=0,0,$AQ$9)","v":0},null,{"$f":"IF($AR$9=0,0,$AR$9)","v":0},null,{"$f":"IF($AS$9=0,0,$AS$9)","v":0},null,{"$f":"IF($AT$9=0,0,$AT$9)","v":0},null,{"$f":"IF($AU$9=0,0,$AU$9)","v":0},null,{"$f":"IF($AV$9=0,0,$AV$9)","v":0}]
[{"$f":"$A$56","v":"   Kurse"},null,null,null,null,{"$f":"$F$56","v":"ku"},{"$f":"IF($AJ$10=0,0,$AJ$10)","v":0},null,{"$f":"IF($AK$10=0,0,$AK$10)","v":0},null,{"$f":"IF($AL$10=0,0,$AL$10)","v":0},null,{"$f":"IF($AM$10=0,0,$AM$10)","v":0},null,{"$f":"IF($AN$10=0,0,$AN$10)","v":0},null,{"$f":"IF($AO$10=0,0,$AO$10)","v":0},null,{"$f":"IF($AP$10=0,0,$AP$10)","v":0},null,{"$f":"IF($AQ$10=0,0,$AQ$10)","v":0},null,{"$f":"IF($AR$10=0,0,$AR$10)","v":0},null,{"$f":"IF($AS$10=0,0,$AS$10)","v":0},null,{"$f":"IF($AT$10=0,0,$AT$10)","v":0},null,{"$f":"IF($AU$10=0,0,$AU$10)","v":0},null,{"$f":"IF($AV$10=0,0,$AV$10)","v":0}]
[{"$f":"$A$57","v":"Kompensations-Std"},{"$f":"$B$57","v":"aus Vorjahr"},null,null,null,{"$f":"$F$57","v":"kv"},{"$f":"IF($AJ$12=0,0,$AJ$12)","v":0},null,{"$f":"IF($AK$12=0,0,$AK$12)","v":0},null,{"$f":"IF($AL$12=0,0,$AL$12)","v":0},null,{"$f":"IF($AM$12=0,0,$AM$12)","v":0},null,{"$f":"IF($AN$12=0,0,$AN$12)","v":0},null,{"$f":"IF($AO$12=0,0,$AO$12)","v":0},null,{"$f":"IF($AP$12=0,0,$AP$12)","v":0},null,{"$f":"IF($AQ$12=0,0,$AQ$12)","v":0},null,{"$f":"IF($AR$12=0,0,$AR$12)","v":0},null,null,null,null,null,null,null,{"$f":"IF($AV$12=0,0,$AV$12)","v":0}]
[null,{"$f":"$B$58","v":"aus laufendem Jahr (Kontrolle)"},null,null,null,{"$f":"$F$58","v":"kj"},{"$f":"IF($AJ$14=0,0,$AJ$14)","v":0},null,{"$f":"IF($AK$14=0,0,$AK$14)","v":0},null,{"$f":"IF($AL$14=0,0,$AL$14)","v":0},null,{"$f":"IF($AM$14=0,0,$AM$14)","v":0},null,{"$f":"IF($AN$14=0,0,$AN$14)","v":0},null,{"$f":"IF($AO$14=0,0,$AO$14)","v":0},null,{"$f":"IF($AP$14=0,0,$AP$14)","v":0},null,{"$f":"IF($AQ$14=0,0,$AQ$14)","v":0},null,{"$f":"IF($AR$14=0,0,$AR$14)","v":0},null,{"$f":"IF($AS$14=0,0,$AS$14)","v":0},null,{"$f":"IF($AT$14=0,0,$AT$14)","v":0},null,{"$f":"IF($AU$14=0,0,$AU$14)","v":0},null,{"$f":"IF($AV$14=0,0,$AV$14)","v":0}]
[{"$f":"$A$59","v":"Auszahlung"},{"$f":"$B$59","v":"Stunden Vorjahressaldo"},null,null,null,null,{"$f":"IF($AJ$18=0,0,$AJ$18)","v":0},null,{"$f":"IF($AK$18=0,0,$AK$18)","v":0},null,{"$f":"IF($AL$18=0,0,$AL$18)","v":0},null,{"$f":"IF($AM$18=0,0,$AM$18)","v":0},null,{"$f":"IF($AN$18=0,0,$AN$18)","v":0},null,{"$f":"IF($AO$18=0,0,$AO$18)","v":0},null,{"$f":"IF($AP$18=0,0,$AP$18)","v":0},null,{"$f":"IF($AQ$18=0,0,$AQ$18)","v":0},null,{"$f":"IF($AR$18=0,0,$AR$18)","v":0},null,null,null,null,null,null,null,{"$f":"IF($AV$18=0,0,$AV$18)","v":0}]
[{"$f":"$A$60","v":"Differenz"},{"$f":"$B$60","v":"nach Kompensation und Auszahlung"},null,null,null,null,{"$f":"IF(ROUND($P$4,3)=0,0,$P$4-SUM(G687+G689))","v":0},null,{"$f":"IF(ROUND(G690,3)=0,0,G690-(SUM(I689+I687)))","v":0},null,{"$f":"IF(ROUND(I690,3)=0,0,I690-(SUM(K689+K687)))","v":0},null,{"$f":"IF(ROUND(K690,3)=0,0,K690-(SUM(M689+M687)))","v":0},null,{"$f":"IF(ROUND(M690,3)=0,0,M690-(SUM(O689+O687)))","v":0},null,{"$f":"IF(ROUND(O690,3)=0,0,O690-(SUM(Q689+Q687)))","v":0},null,{"$f":"IF(ROUND(Q690,3)=0,0,Q690-(SUM(S689+S687)))","v":0},null,{"$f":"IF(ROUND(S690,3)=0,0,S690-(SUM(U689+U687)))","v":0},null,{"$f":"IF(ROUND(U690,3)=0,0,U690-(SUM(W689+W687)))","v":0},null,{"$f":"$Y$60","v":""}]
[{"$f":"$A$61","v":"Auszahlung"},{"$f":"$B$61","v":"Stunden laufendes Jahr"},null,null,null,null,{"$f":"IF($AJ$19=0,0,$AJ$19)","v":0},null,{"$f":"IF($AK$19=0,0,$AK$19)","v":0},null,{"$f":"IF($AL$19=0,0,$AL$19)","v":0},null,{"$f":"IF($AM$19=0,0,$AM$19)","v":0},null,{"$f":"IF($AN$19=0,0,$AN$19)","v":0},null,{"$f":"IF($AO$19=0,0,$AO$19)","v":0},null,{"$f":"IF($AP$19=0,0,$AP$19)","v":0},null,{"$f":"IF($AQ$19=0,0,$AQ$19)","v":0},null,{"$f":"IF($AR$19=0,0,$AR$19)","v":0},null,{"$f":"IF($AS$19=0,0,$AS$19)","v":0},null,{"$f":"IF($AT$19=0,0,$AT$19)","v":0},null,{"$f":"IF($AU$19=0,0,$AU$19)","v":0},null,{"$f":"IF($AV$19=0,0,$AV$19)","v":0}]
[{"$f":"$A$62","v":"Fehlstunden"},{"$f":"$B$62","v":"laufendes Jahr (Kontrolle)"},null,null,null,{"$f":"$F$62","v":"fe"},{"$f":"IF($AJ$13=0,0,$AJ$13)","v":0},null,{"$f":"IF($AK$13=0,0,$AK$13)","v":0},null,{"$f":"IF($AL$13=0,0,$AL$13)","v":0},null,{"$f":"IF($AM$13=0,0,$AM$13)","v":0},null,{"$f":"IF($AN$13=0,0,$AN$13)","v":0},null,{"$f":"IF($AO$13=0,0,$AO$13)","v":0},null,{"$f":"IF($AP$13=0,0,$AP$13)","v":0},null,{"$f":"IF($AQ$13=0,0,$AQ$13)","v":0},null,{"$f":"IF($AR$13=0,0,$AR$13)","v":0},null,{"$f":"IF($AS$13=0,0,$AS$13)","v":0},null,{"$f":"IF($AT$13=0,0,$AT$13)","v":0},null,{"$f":"IF($AU$13=0,0,$AU$13)","v":0},null,{"$f":"IF($AV$13=0,0,$AV$13)","v":0}]
[{"$f":"$A$63","v":"Total inkl. Zeitzuschläge"},{"$f":"$B$63","v":"Stunden produktiv und unproduktiv"},null,null,null,null,{"$f":"IF($AG$36=0,0,$AG$36)","v":0},null,{"$f":"IF($AG$99=0,0,$AG$99)","v":0},null,{"$f":"IF($AG$162=0,0,$AG$162)","v":0},null,{"$f":"IF($AG$225=0,0,$AG$225)","v":0},null,{"$f":"IF($AG$288=0,0,$AG$288)","v":0},null,{"$f":"IF($AG$351=0,0,$AG$351)","v":0},null,{"$f":"IF($AG$414=0,0,$AG$414)","v":0},null,{"$f":"IF($AG$477=0,0,$AG$477)","v":0},null,{"$f":"IF($AG$540=0,0,$AG$540)","v":0},null,{"$f":"IF($AG$603=0,0,$AG$603)","v":0},null,{"$f":"IF($AG$666=0,0,$AG$666)","v":0},null,{"$f":"IF($AG$729=0,0,$AG$729)","v":0},null,{"$f":"SUM($G$63:$AD$63)","v":0}]
[{"$f":"$A$64","v":"Vergleich"},{"$f":"$B$64","v":"Stunden zu Soll-Stunden (inkl. allfälli-\nge Minusstunden Vorjahr)"},null,null,null,null,{"$f":"$G$64","v":-184},null,{"$f":"$I$64","v":-160},null,{"$f":"$K$64","v":-176},null,{"$f":"$M$64","v":-176},null,{"$f":"$O$64","v":-168},null,{"$f":"$Q$64","v":-176},null,{"$f":"$S$64","v":-184},null,{"$f":"$U$64","v":-168},null,{"$f":"$W$64","v":-176},null,{"$f":"$Y$64","v":-176},null,{"$f":"$AA$64","v":-168},null,{"$f":"$AC$64","v":-184},null,{"$f":"$AE$64","v":-2096}]
[null,{"$f":"$B$65","v":"Stunden zu Soll-Stunden (kumuliert)"},null,null,null,null,{"$f":"$G$65","v":-184},null,{"$f":"$I$65","v":-344},null,{"$f":"$K$65","v":-520},null,{"$f":"$M$65","v":-696},null,{"$f":"$O$65","v":-864},null,{"$f":"$Q$65","v":-1040},null,{"$f":"$S$65","v":-1224},null,{"$f":"$U$65","v":-1392},null,{"$f":"$W$65","v":-1568},null,{"$f":"$Y$65","v":-1744},null,{"$f":"$AA$65","v":-1912},null,{"$f":"$AC$65","v":-2096},null,{"$f":"$AE$65","v":0}]
[{"$f":"$A$66","v":"Ferienkontrolle"},{"$f":"$B$66","v":"Ferienguthaben Vorjahr"},null,null,null,null,{"$f":"IF($AA$4=0,0,$AA$4)","v":0},null,{"$f":"$I$66","v":"Ferienguthaben nach \nArt. 12.1 GAV"},null,null,null,{"$f":"IF($AA$5=0,0,$AA$5)","v":0},null,{"$f":"$O$66","v":"Ferienguthaben total"},null,null,null,{"$f":"SUM(G759+M759)","v":0},null,{"$f":"$U$66","v":"Ferien bezogen"},null,null,null,{"$f":"IF($AV$4=0,0,$AV$4)","v":0},null,{"$f":"$AA$66","v":"Aktuelles Ferienguthaben"},null,null,null,{"$f":"IF(S759=0,0,S759-Y759)","v":0}]
[]
[]
[]
[]
[]
[]
[]
[]
[]
[]
[]
[]
[]
[]
[]
[]
[]
[]
[]
[]
[]
[]
[]
[]
[]
[]
[]
[]
[]
[]
[]
[]
[]
[]
["Testbereich Absenzen"]
[null,{"$f":"B819","v":0},{"$f":"C819","v":0}]
[null,{"$f":"IF(B819<>0,IF(MAX(B806:B818)<B819,\"div\",INDEX($AH$806:$AH$818,MATCH(MAX(B806:B818),B806:B818,0))),\"\")","v":""},{"$f":"IF(C819<>0,IF(MAX(C806:C818)<C819,\"div\",INDEX($AH$806:$AH$818,MATCH(MAX(C806:C818),C806:C818,0))),\"\")","v":""}]
[]
["Code für Max-Wert",{"$f":"INDEX($AH$806:$AH$818,MATCH(MAX(B806:B818),B806:B818,0))","v":{"$error":"#N/A"}},null,null,"Jahressaldo",null,null,{"$f":"D5","v":-2096}]
[]
[{"$f":"A9","v":"Januar"},{"$f":"Labels!B32","v":"Saldo Monat + / -"},null,null,null,{"$f":"F9","v":-184},null,null,null,null,null,null,null,null,null,null,null,null,null,null,null,null,null,null,null,null,null,{"$f":"Labels!B38","v":"Absenz in Std"},null,null,{"$f":"Labels!B77","v":"Jan"}]
[{"$f":"Labels!B35","v":"Tag"},{"$f":"B10","v":"2020-01-01"},{"$f":"B801+1","v":"2020-01-02"},"2020-01-03","2020-01-04","2020-01-05","2020-01-06","2020-01-07","2020-01-08","2020-01-09","2020-01-10","2020-01-11","2020-01-12","2020-01-13","2020-01-14","2020-01-15","2020-01-16","2020-01-17","2020-01-18","2020-01-19","2020-01-20","2020-01-21","2020-01-22","2020-01-23","2020-01-24","2020-01-25","2020-01-26","2020-01-27","2020-01-28","2020-01-29","2020-01-30","2020-01-31",{"$f":"COUNT(B803:AF803)&\" \"&Labels!$B$63","v":"23 Tage"}]
[{"$f":"Labels!B36","v":"Kalenderwoche"},{"$f":"IF(B801=\"\",\"\",TRUNC((B801-DATE(YEAR(B801+3-MOD(B801-2,7)),1,MOD(B801-2,7)-9))/7))","v":1},{"$f":"IF(C801=\"\",\"\",TRUNC((C801-DATE(YEAR(C801+3-MOD(C801-2,7)),1,MOD(C801-2,7)-9))/7))","v":1},1,1,1,2,2,2,2,2,2,2,3,3,3,3,3,3,3,4,4,4,4,4,4,4,5,5,5,5,5]
[{"$f":"Labels!B37","v":"Sollstunden"},{"$f":"IF(MOD(B801,7)>=2,$J$7*$B$4%,\"\")","v":8},8,8,"","",8,8,8,8,8,"","",8,8,8,8,8,"","",8,8,8,8,8,"","",8,8,8,8,8,{"$f":"SUM(B803:AF803)","v":184}]
[{"$f":"Labels!B165","v":"Produktivstunden"},{"$f":"SUM(B15:B17)","v":0},{"$f":"SUM(C15:C17)","v":0},0,0,0,0,0,0,0,0,0,0,0,0,0,0,0,0,0,0,0,0,0,0,0,0,0,0,0,0,0,null,null,null,"Legende Absenztypen (DE)"]
[{"$f":"Labels!B166","v":"Feiertage [ft]"},{"$f":"B18","v":""},{"$f":"C18","v":""},"","","","","","","","","","","","","","","","","","","","","","","","","","","","","",{"$f":"SUM(B805:AF805)","v":0}]
[{"$f":"Labels!B167","v":"Ferien [f]"},null,null,null,null,null,null,null,null,null,null,null,null,null,null,null,null,null,null,null,null,null,null,null,null,null,null,null,null,null,null,null,{"$f":"SUM(B806:AF806)","v":0},{"$f":"Labels!B115","v":"f"},null,"f","Ferien Art. 12.1. GAV"]
[{"$f":"Labels!B168","v":"Kompensation (Vorjahr) [kv]"},null,null,null,null,null,null,null,null,null,null,null,null,null,null,null,null,null,null,null,null,null,null,null,null,null,null,null,null,null,null,null,0,{"$f":"Labels!B135","v":"kv"},null,"kv","Kompensation Vorjahressaldo für Abrechnung in der Zusammenfassung"]
[{"$f":"Labels!B169","v":"Kompensation (laufend) [kj]"},null,null,null,null,null,null,null,null,null,null,null,null,null,null,null,null,null,null,null,null,null,null,null,null,null,null,null,null,null,null,null,0,{"$f":"Labels!B137","v":"kj"},null,"kj","Kompensation laufendes Jahr siehe  Zusammenfassung"]
[{"$f":"Labels!B170","v":"Absenzen, Kurzabsenzen [a]"},null,null,null,null,null,null,null,null,null,null,null,null,null,null,null,null,null,null,null,null,null,null,null,null,null,null,null,null,null,null,null,{"$f":"SUM(B809:AF809)","v":0},{"$f":"Labels!B113","v":"a"},null,"a","Absenzen, Kurzabsenzen\nArt. 11 GAV"]
[{"$f":"Labels!B171","v":"Krankheit [k]"},null,null,null,null,null,null,null,null,null,null,null,null,null,null,null,null,null,null,null,null,null,null,null,null,null,null,null,null,null,null,null,0,{"$f":"Labels!B120","v":"k"},null,"k","Krankheit Art. 13 GAV"]
[{"$f":"Labels!B172","v":"Unfall [u]"},null,null,null,null,null,null,null,null,null,null,null,null,null,null,null,null,null,null,null,null,null,null,null,null,null,null,null,null,null,null,null,0,{"$f":"Labels!B122","v":"u"},null,"u","Unfall Art. 14 GAV"]
[{"$f":"Labels!B173","v":"Schwangerschaft/Mutterschaft [s]"},null,null,null,null,null,null,null,null,null,null,null,null,null,null,null,null,null,null,null,null,null,null,null,null,null,null,null,null,null,null,null,0,{"$f":"Labels!B124","v":"s"},null,"s","Schwanger-/Mutterschaft\nArt. 15 GAV"]
[{"$f":"Labels!B174","v":"Militär/Beförderung/Zivilschutz [m]"},null,null,null,null,null,null,null,null,null,null,null,null,null,null,null,null,null,null,null,null,null,null,null,null,null,null,null,null,null,null,null,0,{"$f":"Labels!B126","v":"m"},null,"m","Militär, Zivilschutz\nArt. 16 GAV"]
[{"$f":"Labels!B175","v":"Berufsschule [bs]"},null,null,null,null,null,null,null,null,null,null,null,null,null,null,null,null,null,null,null,null,null,null,null,null,null,null,null,null,null,null,null,0,{"$f":"Labels!B130","v":"bs"},null,"bs","Berufsschule"]
[{"$f":"Labels!B176","v":"Kurse [ku]"},null,null,null,null,null,null,null,null,null,null,null,null,null,null,null,null,null,null,null,null,null,null,null,null,null,null,null,null,null,null,null,0,{"$f":"Labels!B132","v":"ku"},null,"ku","Kurse"]
[{"$f":"Labels!B177","v":"Kurzarbeit und Schlechtwetter [ka]"},null,null,null,null,null,null,null,null,null,null,null,null,null,null,null,null,null,null,null,null,null,null,null,null,null,null,null,null,null,null,null,0,{"$f":"Labels!B128","v":"ka"},null,"ka","Kurzabeit, Schlechtwetterausfälle"]
[null,null,null,null,null,null,null,null,null,null,null,null,null,null,null,null,null,null,null,null,null,null,null,null,null,null,null,null,null,null,null,null,0]
[{"$f":"Labels!B178","v":"Fehlstunden (unbezahlt) [fe]"},null,null,null,null,null,null,null,null,null,null,null,null,null,null,null,null,null,null,null,null,null,null,null,null,null,null,null,null,null,null,null,0,{"$f":"Labels!B145","v":"fe"},null,"fe","Fehlstunden zur Information ohne Berechnung in der Zusammenfassung"]
[{"$f":"Labels!B102","v":"Total"},{"$f":"SUM(B806:B818)","v":0},{"$f":"SUM(C806:C818)","v":0},0,0,0,0,0,0,0,0,0,0,0,0,0,0,0,0,0,0,0,0,0,0,0,0,0,0,0,0,0]
[]
[]
[]
[{"$f":"A72","v":"Februar"},{"$f":"$B$800","v":"Saldo Monat + / -"},null,null,null,{"$f":"F72","v":-160},null,null,null,null,null,null,null,null,null,null,null,null,null,null,null,null,null,null,null,null,null,{"$f":"$AB$800","v":"Absenz in Std"},null,null,{"$f":"Labels!B78","v":"Feb"}]
[{"$f":"$A$801","v":"Tag"},{"$f":"B73","v":"2020-02-01"},{"$f":"B824+1","v":"2020-02-02"},"2020-02-03","2020-02-04","2020-02-05","2020-02-06","2020-02-07","2020-02-08","2020-02-09","2020-02-10","2020-02-11","2020-02-12","2020-02-13","2020-02-14","2020-02-15","2020-02-16","2020-02-17","2020-02-18","2020-02-19","2020-02-20","2020-02-21","2020-02-22","2020-02-23","2020-02-24","2020-02-25","2020-02-26","2020-02-27","2020-02-28",{"$f":"IF(AD73=\"\",\"\",AC824+1)","v":"2020-02-29"},null,null,{"$f":"COUNT(B826:AF826)&\" \"&Labels!$B$63","v":"20 Tage"}]
[{"$f":"$A$802","v":"Kalenderwoche"},{"$f":"IF(B824=\"\",\"\",TRUNC((B824-DATE(YEAR(B824+3-MOD(B824-2,7)),1,MOD(B824-2,7)-9))/7))","v":5},{"$f":"IF(C824=\"\",\"\",TRUNC((C824-DATE(YEAR(C824+3-MOD(C824-2,7)),1,MOD(C824-2,7)-9))/7))","v":5},6,6,6,6,6,6,6,7,7,7,7,7,7,7,8,8,8,8,8,8,8,9,9,9,9,9,9]
[{"$f":"$A$803","v":"Sollstunden"},{"$f":"IF(MOD(B824,7)>=2,$J$7*$B$70%,\"\")","v":""},"",8,8,8,8,8,"","",8,8,8,8,8,"","",8,8,8,8,8,"","",8,8,8,8,8,{"$f":"IF(AD824=\"\",\"\",IF(MOD(AD824,7)>=2,$J$7*$B$70%,\"\"))","v":""},null,null,{"$f":"IF($AD$824=\"\",SUM(A826:AC826),SUM(B826:AF826))","v":160}]
[{"$f":"$A$804","v":"Produktivstunden"},{"$f":"SUM(B78:B80)","v":0},{"$f":"SUM(C78:C80)","v":0},0,0,0,0,0,0,0,0,0,0,0,0,0,0,0,0,0,0,0,0,0,0,0,0,0,0,{"$f":"IF(AD824=\"\",\"\",SUM(AD78:AD80))","v":0},null,null,{"$f":"IF($AD$824=\"\",SUM(A827:AC827),SUM(B827:AF827))","v":0}]
[{"$f":"$A$805","v":"Feiertage [ft]"},{"$f":"B81","v":""},{"$f":"C81","v":""},"","","","","","","","","","","","","","","","","","","","","","","","","","",{"$f":"IF(AD824=\"\",\"\",AD81)","v":""},null,null,0]
[{"$f":"$A$806","v":"Ferien [f]"},null,null,null,null,null,null,null,null,null,null,null,null,null,null,null,null,null,null,null,null,null,null,null,null,null,null,null,null,null,null,null,0,{"$f":"$AH$806","v":"f"}]
[{"$f":"$A$807","v":"Kompensation (Vorjahr) [kv]"},null,null,null,null,null,null,null,null,null,null,null,null,null,null,null,null,null,null,null,null,null,null,null,null,null,null,null,null,null,null,null,0,{"$f":"$AH$807","v":"kv"}]
[{"$f":"$A$808","v":"Kompensation (laufend) [kj]"},null,null,null,null,null,null,null,null,null,null,null,null,null,null,null,null,null,null,null,null,null,null,null,null,null,null,null,null,null,null,null,0,{"$f":"$AH$808","v":"kj"}]
[{"$f":"$A$809","v":"Absenzen, Kurzabsenzen [a]"},null,null,null,null,null,null,null,null,null,null,null,null,null,null,null,null,null,null,null,null,null,null,null,null,null,null,null,null,null,null,null,0,{"$f":"$AH$809","v":"a"}]
[{"$f":"$A$810","v":"Krankheit [k]"},null,null,null,null,null,null,null,null,null,null,null,null,null,null,null,null,null,null,null,null,null,null,null,null,null,null,null,null,null,null,null,0,{"$f":"$AH$810","v":"k"}]
[{"$f":"$A$811","v":"Unfall [u]"},null,null,null,null,null,null,null,null,null,null,null,null,null,null,null,null,null,null,null,null,null,null,null,null,null,null,null,null,null,null,null,0,{"$f":"$AH$811","v":"u"}]
[{"$f":"$A$812","v":"Schwangerschaft/Mutterschaft [s]"},null,null,null,null,null,null,null,null,null,null,null,null,null,null,null,null,null,null,null,null,null,null,null,null,null,null,null,null,null,null,null,0,{"$f":"$AH$812","v":"s"}]
[{"$f":"$A$813","v":"Militär/Beförderung/Zivilschutz [m]"},null,null,null,null,null,null,null,null,null,null,null,null,null,null,null,null,null,null,null,null,null,null,null,null,null,null,null,null,null,null,null,0,{"$f":"$AH$813","v":"m"}]
[{"$f":"$A$814","v":"Berufsschule [bs]"},null,null,null,null,null,null,null,null,null,null,null,null,null,null,null,null,null,null,null,null,null,null,null,null,null,null,null,null,null,null,null,0,{"$f":"$AH$814","v":"bs"}]
[{"$f":"$A$815","v":"Kurse [ku]"},null,null,null,null,null,null,null,null,null,null,null,null,null,null,null,null,null,null,null,null,null,null,null,null,null,null,null,null,null,null,null,0,{"$f":"$AH$815","v":"ku"}]
[{"$f":"$A$816","v":"Kurzarbeit und Schlechtwetter [ka]"},null,null,null,null,null,null,null,null,null,null,null,null,null,null,null,null,null,null,null,null,null,null,null,null,null,null,null,null,null,null,null,0,{"$f":"$AH$816","v":"ka"}]
[{"$f":"$A$817","v":0},null,null,null,null,null,null,null,null,null,null,null,null,null,null,null,null,null,null,null,null,null,null,null,null,null,null,null,null,null,null,null,0,{"$f":"$AH$817","v":0}]
[{"$f":"$A$818","v":"Fehlstunden (unbezahlt) [fe]"},null,null,null,null,null,null,null,null,null,null,null,null,null,null,null,null,null,null,null,null,null,null,null,null,null,null,null,null,null,null,null,0,{"$f":"$AH$818","v":"fe"}]
[{"$f":"$A$819","v":"Total"},{"$f":"SUM(B829:B841)","v":0},{"$f":"SUM(C829:C841)","v":0},0,0,0,0,0,0,0,0,0,0,0,0,0,0,0,0,0,0,0,0,0,0,0,0,0,0,{"$f":"IF(AD824=\"\",\"\",SUM(AD829:AD841))","v":0},null,null,0]
[]
[]
[]
[{"$f":"A135","v":"März"},{"$f":"$B$800","v":"Saldo Monat + / -"},null,null,null,{"$f":"F135","v":-176},null,null,null,null,null,null,null,null,null,null,null,null,null,null,null,null,null,null,null,null,null,{"$f":"$AB$800","v":"Absenz in Std"},null,null,{"$f":"Labels!B79","v":"Mrz"}]
[{"$f":"$A$801","v":"Tag"},{"$f":"B136","v":"2020-03-01"},{"$f":"B847+1","v":"2020-03-02"},"2020-03-03","2020-03-04","2020-03-05","2020-03-06","2020-03-07","2020-03-08","2020-03-09","2020-03-10","2020-03-11","2020-03-12","2020-03-13","2020-03-14","2020-03-15","2020-03-16","2020-03-17","2020-03-18","2020-03-19","2020-03-20","2020-03-21","2020-03-22","2020-03-23","2020-03-24","2020-03-25","2020-03-26","2020-03-27","2020-03-28","2020-03-29","2020-03-30","2020-03-31",{"$f":"COUNT(B849:AF849)&\" \"&Labels!$B$63","v":"22 Tage"}]
[{"$f":"$A$802","v":"Kalenderwoche"},{"$f":"IF(B847=\"\",\"\",TRUNC((B847-DATE(YEAR(B847+3-MOD(B847-2,7)),1,MOD(B847-2,7)-9))/7))","v":9},{"$f":"IF(C847=\"\",\"\",TRUNC((C847-DATE(YEAR(C847+3-MOD(C847-2,7)),1,MOD(C847-2,7)-9))/7))","v":10},10,10,10,10,10,10,11,11,11,11,11,11,11,12,12,12,12,12,12,12,13,13,13,13,13,13,13,14,14]
[{"$f":"$A$803","v":"Sollstunden"},{"$f":"IF(MOD(B847,7)>=2,$J$7*$B$133%,\"\")","v":""},8,8,8,8,8,"","",8,8,8,8,8,"","",8,8,8,8,8,"","",8,8,8,8,8,"","",8,8,{"$f":"SUM(B849:AF849)","v":176}]
[{"$f":"$A$804","v":"Produktivstunden"},{"$f":"SUM(B141:B143)","v":0},{"$f":"SUM(C141:C143)","v":0},0,0,0,0,0,0,0,0,0,0,0,0,0,0,0,0,0,0,0,0,0,0,0,0,0,0,0,0,0]
[{"$f":"$A$805","v":"Feiertage [ft]"},{"$f":"B144","v":""},{"$f":"C144","v":""},"","","","","","","","","","","","","","","","","","","","","","","","","","","","","",{"$f":"SUM(B851:AF851)","v":0}]
[{"$f":"$A$806","v":"Ferien [f]"},null,null,null,null,null,null,null,null,null,null,null,null,null,null,null,null,null,null,null,null,null,null,null,null,null,null,null,null,null,null,null,{"$f":"SUM(B852:AF852)","v":0},{"$f":"$AH$806","v":"f"}]
[{"$f":"$A$807","v":"Kompensation (Vorjahr) [kv]"},null,null,null,null,null,null,null,null,null,null,null,null,null,null,null,null,null,null,null,null,null,null,null,null,null,null,null,null,null,null,null,{"$f":"SUM(B853:AF853)","v":0},{"$f":"$AH$807","v":"kv"}]
[{"$f":"$A$808","v":"Kompensation (laufend) [kj]"},null,null,null,null,null,null,null,null,null,null,null,null,null,null,null,null,null,null,null,null,null,null,null,null,null,null,null,null,null,null,null,{"$f":"SUM(B854:AF854)","v":0},{"$f":"$AH$808","v":"kj"}]
[{"$f":"$A$809","v":"Absenzen, Kurzabsenzen [a]"},null,null,null,null,null,null,null,null,null,null,null,null,null,null,null,null,null,null,null,null,null,null,null,null,null,null,null,null,null,null,null,{"$f":"SUM(B855:AF855)","v":0},{"$f":"$AH$809","v":"a"}]
[{"$f":"$A$810","v":"Krankheit [k]"},null,null,null,null,null,null,null,null,null,null,null,null,null,null,null,null,null,null,null,null,null,null,null,null,null,null,null,null,null,null,null,{"$f":"SUM(B856:AF856)","v":0},{"$f":"$AH$810","v":"k"}]
[{"$f":"$A$811","v":"Unfall [u]"},null,null,null,null,null,null,null,null,null,null,null,null,null,null,null,null,null,null,null,null,null,null,null,null,null,null,null,null,null,null,null,0,{"$f":"$AH$811","v":"u"}]
[{"$f":"$A$812","v":"Schwangerschaft/Mutterschaft [s]"},null,null,null,null,null,null,null,null,null,null,null,null,null,null,null,null,null,null,null,null,null,null,null,null,null,null,null,null,null,null,null,0,{"$f":"$AH$812","v":"s"}]
[{"$f":"$A$813","v":"Militär/Beförderung/Zivilschutz [m]"},null,null,null,null,null,null,null,null,null,null,null,null,null,null,null,null,null,null,null,null,null,null,null,null,null,null,null,null,null,null,null,0,{"$f":"$AH$813","v":"m"}]
[{"$f":"$A$814","v":"Berufsschule [bs]"},null,null,null,null,null,null,null,null,null,null,null,null,null,null,null,null,null,null,null,null,null,null,null,null,null,null,null,null,null,null,null,0,{"$f":"$AH$814","v":"bs"}]
[{"$f":"$A$815","v":"Kurse [ku]"},null,null,null,null,null,null,null,null,null,null,null,null,null,null,null,null,null,null,null,null,null,null,null,null,null,null,null,null,null,null,null,0,{"$f":"$AH$815","v":"ku"}]
[{"$f":"$A$816","v":"Kurzarbeit und Schlechtwetter [ka]"},null,null,null,null,null,null,null,null,null,null,null,null,null,null,null,null,null,null,null,null,null,null,null,null,null,null,null,null,null,null,null,0,{"$f":"$AH$816","v":"ka"}]
[{"$f":"$A$817","v":0},null,null,null,null,null,null,null,null,null,null,null,null,null,null,null,null,null,null,null,null,null,null,null,null,null,null,null,null,null,null,null,0,{"$f":"$AH$817","v":0}]
[{"$f":"$A$818","v":"Fehlstunden (unbezahlt) [fe]"},null,null,null,null,null,null,null,null,null,null,null,null,null,null,null,null,null,null,null,null,null,null,null,null,null,null,null,null,null,null,null,0,{"$f":"$AH$818","v":"fe"}]
[{"$f":"$A$819","v":"Total"},{"$f":"SUM(B852:B864)","v":0},{"$f":"SUM(C852:C864)","v":0},0,0,0,0,0,0,0,0,0,0,0,0,0,0,0,0,0,0,0,0,0,0,0,0,0,0,0,0,0]
[]
[]
[]
[{"$f":"A198","v":"April"},{"$f":"$B$800","v":"Saldo Monat + / -"},null,null,null,{"$f":"F198","v":-176},null,null,null,null,null,null,null,null,null,null,null,null,null,null,null,null,null,null,null,null,null,{"$f":"$AB$800","v":"Absenz in Std"},null,null,{"$f":"Labels!B80","v":"Apr"}]
[{"$f":"$A$801","v":"Tag"},{"$f":"B199","v":"2020-04-01"},{"$f":"B870+1","v":"2020-04-02"},"2020-04-03","2020-04-04","2020-04-05","2020-04-06","2020-04-07","2020-04-08","2020-04-09","2020-04-10","2020-04-11","2020-04-12","2020-04-13","2020-04-14","2020-04-15","2020-04-16","2020-04-17","2020-04-18","2020-04-19","2020-04-20","2020-04-21","2020-04-22","2020-04-23","2020-04-24","2020-04-25","2020-04-26","2020-04-27","2020-04-28","2020-04-29","2020-04-30",null,{"$f":"COUNT(B872:AF872)&\" \"&Labels!$B$63","v":"22 Tage"}]
[{"$f":"$A$802","v":"Kalenderwoche"},{"$f":"IF(B870=\"\",\"\",TRUNC((B870-DATE(YEAR(B870+3-MOD(B870-2,7)),1,MOD(B870-2,7)-9))/7))","v":14},{"$f":"IF(C870=\"\",\"\",TRUNC((C870-DATE(YEAR(C870+3-MOD(C870-2,7)),1,MOD(C870-2,7)-9))/7))","v":14},14,14,14,15,15,15,15,15,15,15,16,16,16,16,16,16,16,17,17,17,17,17,17,17,18,18,18,18]
[{"$f":"$A$803","v":"Sollstunden"},{"$f":"IF(MOD(B870,7)>=2,$J$7*$B$196%,\"\")","v":8},8,8,"","",8,8,8,8,8,"","",8,8,8,8,8,"","",8,8,8,8,8,"","",8,8,8,8,null,{"$f":"SUM(B872:AF872)","v":176}]
[{"$f":"$A$804","v":"Produktivstunden"},{"$f":"SUM(B204:B206)","v":0},{"$f":"SUM(C204:C206)","v":0},0,0,0,0,0,0,0,0,0,0,0,0,0,0,0,0,0,0,0,0,0,0,0,0,0,0,0,0]
[{"$f":"$A$805","v":"Feiertage [ft]"},{"$f":"B207","v":""},{"$f":"C207","v":""},"","","","","","","","","","","","","","","","","","","","","","","","","","","","",null,{"$f":"SUM(B874:AF874)","v":0}]
[{"$f":"$A$806","v":"Ferien [f]"},null,null,null,null,null,null,null,null,null,null,null,null,null,null,null,null,null,null,null,null,null,null,null,null,null,null,null,null,null,null,null,{"$f":"SUM(B875:AF875)","v":0},{"$f":"$AH$806","v":"f"}]
[{"$f":"$A$807","v":"Kompensation (Vorjahr) [kv]"},null,null,null,null,null,null,null,null,null,null,null,null,null,null,null,null,null,null,null,null,null,null,null,null,null,null,null,null,null,null,null,{"$f":"SUM(B876:AF876)","v":0},{"$f":"$AH$807","v":"kv"}]
[{"$f":"$A$808","v":"Kompensation (laufend) [kj]"},null,null,null,null,null,null,null,null,null,null,null,null,null,null,null,null,null,null,null,null,null,null,null,null,null,null,null,null,null,null,null,{"$f":"SUM(B877:AF877)","v":0},{"$f":"$AH$808","v":"kj"}]
[{"$f":"$A$809","v":"Absenzen, Kurzabsenzen [a]"},null,null,null,null,null,null,null,null,null,null,null,null,null,null,null,null,null,null,null,null,null,null,null,null,null,null,null,null,null,null,null,{"$f":"SUM(B878:AF878)","v":0},{"$f":"$AH$809","v":"a"}]
[{"$f":"$A$810","v":"Krankheit [k]"},null,null,null,null,null,null,null,null,null,null,null,null,null,null,null,null,null,null,null,null,null,null,null,null,null,null,null,null,null,null,null,{"$f":"SUM(B879:AF879)","v":0},{"$f":"$AH$810","v":"k"}]
[{"$f":"$A$811","v":"Unfall [u]"},null,null,null,null,null,null,null,null,null,null,null,null,null,null,null,null,null,null,null,null,null,null,null,null,null,null,null,null,null,null,null,0,{"$f":"$AH$811","v":"u"}]
[{"$f":"$A$812","v":"Schwangerschaft/Mutterschaft [s]"},null,null,null,null,null,null,null,null,null,null,null,null,null,null,null,null,null,null,null,null,null,null,null,null,null,null,null,null,null,null,null,0,{"$f":"$AH$812","v":"s"}]
[{"$f":"$A$813","v":"Militär/Beförderung/Zivilschutz [m]"},null,null,null,null,null,null,null,null,null,null,null,null,null,null,null,null,null,null,null,null,null,null,null,null,null,null,null,null,null,null,null,0,{"$f":"$AH$813","v":"m"}]
[{"$f":"$A$814","v":"Berufsschule [bs]"},null,null,null,null,null,null,null,null,null,null,null,null,null,null,null,null,null,null,null,null,null,null,null,null,null,null,null,null,null,null,null,0,{"$f":"$AH$814","v":"bs"}]
[{"$f":"$A$815","v":"Kurse [ku]"},null,null,null,null,null,null,null,null,null,null,null,null,null,null,null,null,null,null,null,null,null,null,null,null,null,null,null,null,null,null,null,0,{"$f":"$AH$815","v":"ku"}]
[{"$f":"$A$816","v":"Kurzarbeit und Schlechtwetter [ka]"},null,null,null,null,null,null,null,null,null,null,null,null,null,null,null,null,null,null,null,null,null,null,null,null,null,null,null,null,null,null,null,0,{"$f":"$AH$816","v":"ka"}]
[{"$f":"$A$817","v":0},null,null,null,null,null,null,null,null,null,null,null,null,null,null,null,null,null,null,null,null,null,null,null,null,null,null,null,null,null,null,null,0,{"$f":"$AH$817","v":0}]
[{"$f":"$A$818","v":"Fehlstunden (unbezahlt) [fe]"},null,null,null,null,null,null,null,null,null,null,null,null,null,null,null,null,null,null,null,null,null,null,null,null,null,null,null,null,null,null,null,0,{"$f":"$AH$818","v":"fe"}]
[{"$f":"$A$819","v":"Total"},{"$f":"SUM(B875:B887)","v":0},{"$f":"SUM(C875:C887)","v":0},0,0,0,0,0,0,0,0,0,0,0,0,0,0,0,0,0,0,0,0,0,0,0,0,0,0,0,0]
[]
[]
[]
[{"$f":"A261","v":"Mai"},{"$f":"$B$800","v":"Saldo Monat + / -"},null,null,null,{"$f":"F261","v":-168},null,null,null,null,null,null,null,null,null,null,null,null,null,null,null,null,null,null,null,null,null,{"$f":"$AB$800","v":"Absenz in Std"},null,null,{"$f":"Labels!B81","v":"Mai"}]
[{"$f":"$A$801","v":"Tag"},{"$f":"B262","v":"2020-05-01"},{"$f":"B893+1","v":"2020-05-02"},"2020-05-03","2020-05-04","2020-05-05","2020-05-06","2020-05-07","2020-05-08","2020-05-09","2020-05-10","2020-05-11","2020-05-12","2020-05-13","2020-05-14","2020-05-15","2020-05-16","2020-05-17","2020-05-18","2020-05-19","2020-05-20","2020-05-21","2020-05-22","2020-05-23","2020-05-24","2020-05-25","2020-05-26","2020-05-27","2020-05-28","2020-05-29","2020-05-30","2020-05-31",{"$f":"COUNT(B895:AF895)&\" \"&Labels!$B$63","v":"21 Tage"}]
[{"$f":"$A$802","v":"Kalenderwoche"},{"$f":"IF(B893=\"\",\"\",TRUNC((B893-DATE(YEAR(B893+3-MOD(B893-2,7)),1,MOD(B893-2,7)-9))/7))","v":18},{"$f":"IF(C893=\"\",\"\",TRUNC((C893-DATE(YEAR(C893+3-MOD(C893-2,7)),1,MOD(C893-2,7)-9))/7))","v":18},18,19,19,19,19,19,19,19,20,20,20,20,20,20,20,21,21,21,21,21,21,21,22,22,22,22,22,22,22]
[{"$f":"$A$803","v":"Sollstunden"},{"$f":"IF(MOD(B893,7)>=2,$J$7*$B$259%,\"\")","v":8},"","",8,8,8,8,8,"","",8,8,8,8,8,"","",8,8,8,8,8,"","",8,8,8,8,8,"","",{"$f":"SUM(B895:AF895)","v":168}]
[{"$f":"$A$804","v":"Produktivstunden"},{"$f":"SUM(B267:B269)","v":0},{"$f":"SUM(C267:C269)","v":0},0,0,0,0,0,0,0,0,0,0,0,0,0,0,0,0,0,0,0,0,0,0,0,0,0,0,0,0,0]
[{"$f":"$A$805","v":"Feiertage [ft]"},{"$f":"B270","v":""},{"$f":"C270","v":""},"","","","","","","","","","","","","","","","","","","","","","","","","","","","","",{"$f":"SUM(B897:AF897)","v":0}]
[{"$f":"$A$806","v":"Ferien [f]"},null,null,null,null,null,null,null,null,null,null,null,null,null,null,null,null,null,null,null,null,null,null,null,null,null,null,null,null,null,null,null,{"$f":"SUM(B898:AF898)","v":0},{"$f":"$AH$806","v":"f"}]
[{"$f":"$A$807","v":"Kompensation (Vorjahr) [kv]"},null,null,null,null,null,null,null,null,null,null,null,null,null,null,null,null,null,null,null,null,null,null,null,null,null,null,null,null,null,null,null,{"$f":"SUM(B899:AF899)","v":0},{"$f":"$AH$807","v":"kv"}]
[{"$f":"$A$808","v":"Kompensation (laufend) [kj]"},null,null,null,null,null,null,null,null,null,null,null,null,null,null,null,null,null,null,null,null,null,null,null,null,null,null,null,null,null,null,null,{"$f":"SUM(B900:AF900)","v":0},{"$f":"$AH$808","v":"kj"}]
[{"$f":"$A$809","v":"Absenzen, Kurzabsenzen [a]"},null,null,null,null,null,null,null,null,null,null,null,null,null,null,null,null,null,null,null,null,null,null,null,null,null,null,null,null,null,null,null,{"$f":"SUM(B901:AF901)","v":0},{"$f":"$AH$809","v":"a"}]
[{"$f":"$A$810","v":"Krankheit [k]"},null,null,null,null,null,null,null,null,null,null,null,null,null,null,null,null,null,null,null,null,null,null,null,null,null,null,null,null,null,null,null,{"$f":"SUM(B902:AF902)","v":0},{"$f":"$AH$810","v":"k"}]
[{"$f":"$A$811","v":"Unfall [u]"},null,null,null,null,null,null,null,null,null,null,null,null,null,null,null,null,null,null,null,null,null,null,null,null,null,null,null,null,null,null,null,0,{"$f":"$AH$811","v":"u"}]
[{"$f":"$A$812","v":"Schwangerschaft/Mutterschaft [s]"},null,null,null,null,null,null,null,null,null,null,null,null,null,null,null,null,null,null,null,null,null,null,null,null,null,null,null,null,null,null,null,0,{"$f":"$AH$812","v":"s"}]
[{"$f":"$A$813","v":"Militär/Beförderung/Zivilschutz [m]"},null,null,null,null,null,null,null,null,null,null,null,null,null,null,null,null,null,null,null,null,null,null,null,null,null,null,null,null,null,null,null,0,{"$f":"$AH$813","v":"m"}]
[{"$f":"$A$814","v":"Berufsschule [bs]"},null,null,null,null,null,null,null,null,null,null,null,null,null,null,null,null,null,null,null,null,null,null,null,null,null,null,null,null,null,null,null,0,{"$f":"$AH$814","v":"bs"}]
[{"$f":"$A$815","v":"Kurse [ku]"},null,null,null,null,null,null,null,null,null,null,null,null,null,null,null,null,null,null,null,null,null,null,null,null,null,null,null,null,null,null,null,0,{"$f":"$AH$815","v":"ku"}]
[{"$f":"$A$816","v":"Kurzarbeit und Schlechtwetter [ka]"},null,null,null,null,null,null,null,null,null,null,null,null,null,null,null,null,null,null,null,null,null,null,null,null,null,null,null,null,null,null,null,0,{"$f":"$AH$816","v":"ka"}]
[{"$f":"$A$817","v":0},null,null,null,null,null,null,null,null,null,null,null,null,null,null,null,null,null,null,null,null,null,null,null,null,null,null,null,null,null,null,null,0,{"$f":"$AH$817","v":0}]
[{"$f":"$A$818","v":"Fehlstunden (unbezahlt) [fe]"},null,null,null,null,null,null,null,null,null,null,null,null,null,null,null,null,null,null,null,null,null,null,null,null,null,null,null,null,null,null,null,0,{"$f":"$AH$818","v":"fe"}]
[{"$f":"$A$819","v":"Total"},{"$f":"SUM(B898:B910)","v":0},{"$f":"SUM(C898:C910)","v":0},0,0,0,0,0,0,0,0,0,0,0,0,0,0,0,0,0,0,0,0,0,0,0,0,0,0,0,0,0]
[]
[]
[]
[{"$f":"A324","v":"Juni"},{"$f":"$B$800","v":"Saldo Monat + / -"},null,null,null,{"$f":"F324","v":-176},null,null,null,null,null,null,null,null,null,null,null,null,null,null,null,null,null,null,null,null,null,{"$f":"$AB$800","v":"Absenz in Std"},null,null,{"$f":"Labels!B82","v":"Jun"}]
[{"$f":"$A$801","v":"Tag"},{"$f":"B325","v":"2020-06-01"},{"$f":"B916+1","v":"2020-06-02"},"2020-06-03","2020-06-04","2020-06-05","2020-06-06","2020-06-07","2020-06-08","2020-06-09","2020-06-10","2020-06-11","2020-06-12","2020-06-13","2020-06-14","2020-06-15","2020-06-16","2020-06-17","2020-06-18","2020-06-19","2020-06-20","2020-06-21","2020-06-22","2020-06-23","2020-06-24","2020-06-25","2020-06-26","2020-06-27","2020-06-28","2020-06-29","2020-06-30",null,{"$f":"COUNT(B918:AF918)&\" \"&Labels!$B$63","v":"22 Tage"}]
[{"$f":"$A$802","v":"Kalenderwoche"},{"$f":"IF(B916=\"\",\"\",TRUNC((B916-DATE(YEAR(B916+3-MOD(B916-2,7)),1,MOD(B916-2,7)-9))/7))","v":23},{"$f":"IF(C916=\"\",\"\",TRUNC((C916-DATE(YEAR(C916+3-MOD(C916-2,7)),1,MOD(C916-2,7)-9))/7))","v":23},23,23,23,23,23,24,24,24,24,24,24,24,25,25,25,25,25,25,25,26,26,26,26,26,26,26,27,27]
[{"$f":"$A$803","v":"Sollstunden"},{"$f":"IF(MOD(B916,7)>=2,$J$7*$B$322%,\"\")","v":8},8,8,8,8,"","",8,8,8,8,8,"","",8,8,8,8,8,"","",8,8,8,8,8,"","",8,8,null,{"$f":"SUM(B918:AF918)","v":176}]
[{"$f":"$A$804","v":"Produktivstunden"},{"$f":"SUM(B330:B332)","v":0},{"$f":"SUM(C330:C332)","v":0},0,0,0,0,0,0,0,0,0,0,0,0,0,0,0,0,0,0,0,0,0,0,0,0,0,0,0,0]
[{"$f":"$A$805","v":"Feiertage [ft]"},{"$f":"B333","v":""},{"$f":"C333","v":""},"","","","","","","","","","","","","","","","","","","","","","","","","","","","",null,{"$f":"SUM(B920:AF920)","v":0}]
[{"$f":"$A$806","v":"Ferien [f]"},null,null,null,null,null,null,null,null,null,null,null,null,null,null,null,null,null,null,null,null,null,null,null,null,null,null,null,null,null,null,null,{"$f":"SUM(B921:AF921)","v":0},{"$f":"$AH$806","v":"f"}]
[{"$f":"$A$807","v":"Kompensation (Vorjahr) [kv]"},null,null,null,null,null,null,null,null,null,null,null,null,null,null,null,null,null,null,null,null,null,null,null,null,null,null,null,null,null,null,null,{"$f":"SUM(B922:AF922)","v":0},{"$f":"$AH$807","v":"kv"}]
[{"$f":"$A$808","v":"Kompensation (laufend) [kj]"},null,null,null,null,null,null,null,null,null,null,null,null,null,null,null,null,null,null,null,null,null,null,null,null,null,null,null,null,null,null,null,{"$f":"SUM(B923:AF923)","v":0},{"$f":"$AH$808","v":"kj"}]
[{"$f":"$A$809","v":"Absenzen, Kurzabsenzen [a]"},null,null,null,null,null,null,null,null,null,null,null,null,null,null,null,null,null,null,null,null,null,null,null,null,null,null,null,null,null,null,null,{"$f":"SUM(B924:AF924)","v":0},{"$f":"$AH$809","v":"a"}]
[{"$f":"$A$810","v":"Krankheit [k]"},null,null,null,null,null,null,null,null,null,null,null,null,null,null,null,null,null,null,null,null,null,null,null,null,null,null,null,null,null,null,null,{"$f":"SUM(B925:AF925)","v":0},{"$f":"$AH$810","v":"k"}]
[{"$f":"$A$811","v":"Unfall [u]"},null,null,null,null,null,null,null,null,null,null,null,null,null,null,null,null,null,null,null,null,null,null,null,null,null,null,null,null,null,null,null,0,{"$f":"$AH$811","v":"u"}]
[{"$f":"$A$812","v":"Schwangerschaft/Mutterschaft [s]"},null,null,null,null,null,null,null,null,null,null,null,null,null,null,null,null,null,null,null,null,null,null,null,null,null,null,null,null,null,null,null,0,{"$f":"$AH$812","v":"s"}]
[{"$f":"$A$813","v":"Militär/Beförderung/Zivilschutz [m]"},null,null,null,null,null,null,null,null,null,null,null,null,null,null,null,null,null,null,null,null,null,null,null,null,null,null,null,null,null,null,null,0,{"$f":"$AH$813","v":"m"}]
[{"$f":"$A$814","v":"Berufsschule [bs]"},null,null,null,null,null,null,null,null,null,null,null,null,null,null,null,null,null,null,null,null,null,null,null,null,null,null,null,null,null,null,null,0,{"$f":"$AH$814","v":"bs"}]
[{"$f":"$A$815","v":"Kurse [ku]"},null,null,null,null,null,null,null,null,null,null,null,null,null,null,null,null,null,null,null,null,null,null,null,null,null,null,null,null,null,null,null,0,{"$f":"$AH$815","v":"ku"}]
[{"$f":"$A$816","v":"Kurzarbeit und Schlechtwetter [ka]"},null,null,null,null,null,null,null,null,null,null,null,null,null,null,null,null,null,null,null,null,null,null,null,null,null,null,null,null,null,null,null,0,{"$f":"$AH$816","v":"ka"}]
[{"$f":"$A$817","v":0},null,null,null,null,null,null,null,null,null,null,null,null,null,null,null,null,null,null,null,null,null,null,null,null,null,null,null,null,null,null,null,0,{"$f":"$AH$817","v":0}]
[{"$f":"$A$818","v":"Fehlstunden (unbezahlt) [fe]"},null,null,null,null,null,null,null,null,null,null,null,null,null,null,null,null,null,null,null,null,null,null,null,null,null,null,null,null,null,null,null,0,{"$f":"$AH$818","v":"fe"}]
[{"$f":"$A$819","v":"Total"},{"$f":"SUM(B921:B933)","v":0},{"$f":"SUM(C921:C933)","v":0},0,0,0,0,0,0,0,0,0,0,0,0,0,0,0,0,0,0,0,0,0,0,0,0,0,0,0,0]
[]
[]
[]
[{"$f":"A387","v":"Juli"},{"$f":"$B$800","v":"Saldo Monat + / -"},null,null,null,{"$f":"F387","v":-184},null,null,null,null,null,null,null,null,null,null,null,null,null,null,null,null,null,null,null,null,null,{"$f":"$AB$800","v":"Absenz in Std"},null,null,{"$f":"Labels!B83","v":"Jul"}]
[{"$f":"$A$801","v":"Tag"},{"$f":"B388","v":"2020-07-01"},{"$f":"B939+1","v":"2020-07-02"},"2020-07-03","2020-07-04","2020-07-05","2020-07-06","2020-07-07","2020-07-08","2020-07-09","2020-07-10","2020-07-11","2020-07-12","2020-07-13","2020-07-14","2020-07-15","2020-07-16","2020-07-17","2020-07-18","2020-07-19","2020-07-20","2020-07-21","2020-07-22","2020-07-23","2020-07-24","2020-07-25","2020-07-26","2020-07-27","2020-07-28","2020-07-29","2020-07-30","2020-07-31",{"$f":"COUNT(B941:AF941)&\" \"&Labels!$B$63","v":"23 Tage"}]
[{"$f":"$A$802","v":"Kalenderwoche"},{"$f":"IF(B939=\"\",\"\",TRUNC((B939-DATE(YEAR(B939+3-MOD(B939-2,7)),1,MOD(B939-2,7)-9))/7))","v":27},{"$f":"IF(C939=\"\",\"\",TRUNC((C939-DATE(YEAR(C939+3-MOD(C939-2,7)),1,MOD(C939-2,7)-9))/7))","v":27},27,27,27,28,28,28,28,28,28,28,29,29,29,29,29,29,29,30,30,30,30,30,30,30,31,31,31,31,31]
[{"$f":"$A$803","v":"Sollstunden"},{"$f":"IF(MOD(B939,7)>=2,$J$7*$B$385%,\"\")","v":8},8,8,"","",8,8,8,8,8,"","",8,8,8,8,8,"","",8,8,8,8,8,"","",8,8,8,8,8,{"$f":"SUM(B941:AF941)","v":184}]
[{"$f":"$A$804","v":"Produktivstunden"},{"$f":"SUM(B393:B395)","v":0},{"$f":"SUM(C393:C395)","v":0},0,0,0,0,0,0,0,0,0,0,0,0,0,0,0,0,0,0,0,0,0,0,0,0,0,0,0,0,0]
[{"$f":"$A$805","v":"Feiertage [ft]"},{"$f":"B396","v":""},{"$f":"C396","v":""},"","","","","","","","","","","","","","","","","","","","","","","","","","","","","",{"$f":"SUM(B943:AF943)","v":0}]
[{"$f":"$A$806","v":"Ferien [f]"},null,null,null,null,null,null,null,null,null,null,null,null,null,null,null,null,null,null,null,null,null,null,null,null,null,null,null,null,null,null,null,{"$f":"SUM(B944:AF944)","v":0},{"$f":"$AH$806","v":"f"}]
[{"$f":"$A$807","v":"Kompensation (Vorjahr) [kv]"},null,null,null,null,null,null,null,null,null,null,null,null,null,null,null,null,null,null,null,null,null,null,null,null,null,null,null,null,null,null,null,{"$f":"SUM(B945:AF945)","v":0},{"$f":"$AH$807","v":"kv"}]
[{"$f":"$A$808","v":"Kompensation (laufend) [kj]"},null,null,null,null,null,null,null,null,null,null,null,null,null,null,null,null,null,null,null,null,null,null,null,null,null,null,null,null,null,null,null,{"$f":"SUM(B946:AF946)","v":0},{"$f":"$AH$808","v":"kj"}]
[{"$f":"$A$809","v":"Absenzen, Kurzabsenzen [a]"},null,null,null,null,null,null,null,null,null,null,null,null,null,null,null,null,null,null,null,null,null,null,null,null,null,null,null,null,null,null,null,{"$f":"SUM(B947:AF947)","v":0},{"$f":"$AH$809","v":"a"}]
[{"$f":"$A$810","v":"Krankheit [k]"},null,null,null,null,null,null,null,null,null,null,null,null,null,null,null,null,null,null,null,null,null,null,null,null,null,null,null,null,null,null,null,{"$f":"SUM(B948:AF948)","v":0},{"$f":"$AH$810","v":"k"}]
[{"$f":"$A$811","v":"Unfall [u]"},null,null,null,null,null,null,null,null,null,null,null,null,null,null,null,null,null,null,null,null,null,null,null,null,null,null,null,null,null,null,null,0,{"$f":"$AH$811","v":"u"}]
[{"$f":"$A$812","v":"Schwangerschaft/Mutterschaft [s]"},null,null,null,null,null,null,null,null,null,null,null,null,null,null,null,null,null,null,null,null,null,null,null,null,null,null,null,null,null,null,null,0,{"$f":"$AH$812","v":"s"}]
[{"$f":"$A$813","v":"Militär/Beförderung/Zivilschutz [m]"},null,null,null,null,null,null,null,null,null,null,null,null,null,null,null,null,null,null,null,null,null,null,null,null,null,null,null,null,null,null,null,0,{"$f":"$AH$813","v":"m"}]
[{"$f":"$A$814","v":"Berufsschule [bs]"},null,null,null,null,null,null,null,null,null,null,null,null,null,null,null,null,null,null,null,null,null,null,null,null,null,null,null,null,null,null,null,0,{"$f":"$AH$814","v":"bs"}]
[{"$f":"$A$815","v":"Kurse [ku]"},null,null,null,null,null,null,null,null,null,null,null,null,null,null,null,null,null,null,null,null,null,null,null,null,null,null,null,null,null,null,null,0,{"$f":"$AH$815","v":"ku"}]
[{"$f":"$A$816","v":"Kurzarbeit und Schlechtwetter [ka]"},null,null,null,null,null,null,null,null,null,null,null,null,null,null,null,null,null,null,null,null,null,null,null,null,null,null,null,null,null,null,null,0,{"$f":"$AH$816","v":"ka"}]
[{"$f":"$A$817","v":0},null,null,null,null,null,null,null,null,null,null,null,null,null,null,null,null,null,null,null,null,null,null,null,null,null,null,null,null,null,null,null,0,{"$f":"$AH$817","v":0}]
[{"$f":"$A$818","v":"Fehlstunden (unbezahlt) [fe]"},null,null,null,null,null,null,null,null,null,null,null,null,null,null,null,null,null,null,null,null,null,null,null,null,null,null,null,null,null,null,null,0,{"$f":"$AH$818","v":"fe"}]
[{"$f":"$A$819","v":"Total"},{"$f":"SUM(B944:B956)","v":0},{"$f":"SUM(C944:C956)","v":0},0,0,0,0,0,0,0,0,0,0,0,0,0,0,0,0,0,0,0,0,0,0,0,0,0,0,0,0,0]
[]
[]
[]
[{"$f":"A450","v":"August"},{"$f":"$B$800","v":"Saldo Monat + / -"},null,null,null,{"$f":"F450","v":-168},null,null,null,null,null,null,null,null,null,null,null,null,null,null,null,null,null,null,null,null,null,{"$f":"$AB$800","v":"Absenz in Std"},null,null,{"$f":"Labels!B84","v":"Aug"}]
[{"$f":"$A$801","v":"Tag"},{"$f":"B451","v":"2020-08-01"},{"$f":"B962+1","v":"2020-08-02"},"2020-08-03","2020-08-04","2020-08-05","2020-08-06","2020-08-07","2020-08-08","2020-08-09","2020-08-10","2020-08-11","2020-08-12","2020-08-13","2020-08-14","2020-08-15","2020-08-16","2020-08-17","2020-08-18","2020-08-19","2020-08-20","2020-08-21","2020-08-22","2020-08-23","2020-08-24","2020-08-25","2020-08-26","2020-08-27","2020-08-28","2020-08-29","2020-08-30","2020-08-31",{"$f":"COUNT(B964:AF964)&\" \"&Labels!$B$63","v":"21 Tage"}]
[{"$f":"$A$802","v":"Kalenderwoche"},{"$f":"IF(B962=\"\",\"\",TRUNC((B962-DATE(YEAR(B962+3-MOD(B962-2,7)),1,MOD(B962-2,7)-9))/7))","v":31},{"$f":"IF(C962=\"\",\"\",TRUNC((C962-DATE(YEAR(C962+3-MOD(C962-2,7)),1,MOD(C962-2,7)-9))/7))","v":31},32,32,32,32,32,32,32,33,33,33,33,33,33,33,34,34,34,34,34,34,34,35,35,35,35,35,35,35,36]
[{"$f":"$A$803","v":"Sollstunden"},{"$f":"IF(MOD(B962,7)>=2,$J$7*$B$448%,\"\")","v":""},"",8,8,8,8,8,"","",8,8,8,8,8,"","",8,8,8,8,8,"","",8,8,8,8,8,"","",8,{"$f":"SUM(B964:AF964)","v":168}]
[{"$f":"$A$804","v":"Produktivstunden"},{"$f":"SUM(B456:B458)","v":0},{"$f":"SUM(C456:C458)","v":0},0,0,0,0,0,0,0,0,0,0,0,0,0,0,0,0,0,0,0,0,0,0,0,0,0,0,0,0,0]
[{"$f":"$A$805","v":"Feiertage [ft]"},{"$f":"B459","v":""},{"$f":"C459","v":""},"","","","","","","","","","","","","","","","","","","","","","","","","","","","","",{"$f":"SUM(B966:AF966)","v":0}]
[{"$f":"$A$806","v":"Ferien [f]"},null,null,null,null,null,null,null,null,null,null,null,null,null,null,null,null,null,null,null,null,null,null,null,null,null,null,null,null,null,null,null,{"$f":"SUM(B967:AF967)","v":0},{"$f":"$AH$806","v":"f"}]
[{"$f":"$A$807","v":"Kompensation (Vorjahr) [kv]"},null,null,null,null,null,null,null,null,null,null,null,null,null,null,null,null,null,null,null,null,null,null,null,null,null,null,null,null,null,null,null,{"$f":"SUM(B968:AF968)","v":0},{"$f":"$AH$807","v":"kv"}]
[{"$f":"$A$808","v":"Kompensation (laufend) [kj]"},null,null,null,null,null,null,null,null,null,null,null,null,null,null,null,null,null,null,null,null,null,null,null,null,null,null,null,null,null,null,null,{"$f":"SUM(B969:AF969)","v":0},{"$f":"$AH$808","v":"kj"}]
[{"$f":"$A$809","v":"Absenzen, Kurzabsenzen [a]"},null,null,null,null,null,null,null,null,null,null,null,null,null,null,null,null,null,null,null,null,null,null,null,null,null,null,null,null,null,null,null,{"$f":"SUM(B970:AF970)","v":0},{"$f":"$AH$809","v":"a"}]
[{"$f":"$A$810","v":"Krankheit [k]"},null,null,null,null,null,null,null,null,null,null,null,null,null,null,null,null,null,null,null,null,null,null,null,null,null,null,null,null,null,null,null,{"$f":"SUM(B971:AF971)","v":0},{"$f":"$AH$810","v":"k"}]
[{"$f":"$A$811","v":"Unfall [u]"},null,null,null,null,null,null,null,null,null,null,null,null,null,null,null,null,null,null,null,null,null,null,null,null,null,null,null,null,null,null,null,0,{"$f":"$AH$811","v":"u"}]
[{"$f":"$A$812","v":"Schwangerschaft/Mutterschaft [s]"},null,null,null,null,null,null,null,null,null,null,null,null,null,null,null,null,null,null,null,null,null,null,null,null,null,null,null,null,null,null,null,0,{"$f":"$AH$812","v":"s"}]
[{"$f":"$A$813","v":"Militär/Beförderung/Zivilschutz [m]"},null,null,null,null,null,null,null,null,null,null,null,null,null,null,null,null,null,null,null,null,null,null,null,null,null,null,null,null,null,null,null,0,{"$f":"$AH$813","v":"m"}]
[{"$f":"$A$814","v":"Berufsschule [bs]"},null,null,null,null,null,null,null,null,null,null,null,null,null,null,null,null,null,null,null,null,null,null,null,null,null,null,null,null,null,null,null,0,{"$f":"$AH$814","v":"bs"}]
[{"$f":"$A$815","v":"Kurse [ku]"},null,null,null,null,null,null,null,null,null,null,null,null,null,null,null,null,null,null,null,null,null,null,null,null,null,null,null,null,null,null,null,0,{"$f":"$AH$815","v":"ku"}]
[{"$f":"$A$816","v":"Kurzarbeit und Schlechtwetter [ka]"},null,null,null,null,null,null,null,null,null,null,null,null,null,null,null,null,null,null,null,null,null,null,null,null,null,null,null,null,null,null,null,0,{"$f":"$AH$816","v":"ka"}]
[{"$f":"$A$817","v":0},null,null,null,null,null,null,null,null,null,null,null,null,null,null,null,null,null,null,null,null,null,null,null,null,null,null,null,null,null,null,null,0,{"$f":"$AH$817","v":0}]
[{"$f":"$A$818","v":"Fehlstunden (unbezahlt) [fe]"},null,null,null,null,null,null,null,null,null,null,null,null,null,null,null,null,null,null,null,null,null,null,null,null,null,null,null,null,null,null,null,0,{"$f":"$AH$818","v":"fe"}]
[{"$f":"$A$819","v":"Total"},{"$f":"SUM(B967:B979)","v":0},{"$f":"SUM(C967:C979)","v":0},0,0,0,0,0,0,0,0,0,0,0,0,0,0,0,0,0,0,0,0,0,0,0,0,0,0,0,0,0]
[]
[]
[]
[{"$f":"A513","v":"September"},{"$f":"$B$800","v":"Saldo Monat + / -"},null,null,null,{"$f":"F513","v":-176},null,null,null,null,null,null,null,null,null,null,null,null,null,null,null,null,null,null,null,null,null,{"$f":"$AB$800","v":"Absenz in Std"},null,null,{"$f":"Labels!B85","v":"Sep"}]
[{"$f":"$A$801","v":"Tag"},{"$f":"B514","v":"2020-09-01"},{"$f":"B985+1","v":"2020-09-02"},"2020-09-03","2020-09-04","2020-09-05","2020-09-06","2020-09-07","2020-09-08","2020-09-09","2020-09-10","2020-09-11","2020-09-12","2020-09-13","2020-09-14","2020-09-15","2020-09-16","2020-09-17","2020-09-18","2020-09-19","2020-09-20","2020-09-21","2020-09-22","2020-09-23","2020-09-24","2020-09-25","2020-09-26","2020-09-27","2020-09-28","2020-09-29","2020-09-30",null,{"$f":"COUNT(B987:AF987)&\" \"&Labels!$B$63","v":"22 Tage"}]
[{"$f":"$A$802","v":"Kalenderwoche"},{"$f":"IF(B985=\"\",\"\",TRUNC((B985-DATE(YEAR(B985+3-MOD(B985-2,7)),1,MOD(B985-2,7)-9))/7))","v":36},{"$f":"IF(C985=\"\",\"\",TRUNC((C985-DATE(YEAR(C985+3-MOD(C985-2,7)),1,MOD(C985-2,7)-9))/7))","v":36},36,36,36,36,37,37,37,37,37,37,37,38,38,38,38,38,38,38,39,39,39,39,39,39,39,40,40,40]
[{"$f":"$A$803","v":"Sollstunden"},{"$f":"IF(MOD(B985,7)>=2,$J$7*$B$511%,\"\")","v":8},8,8,8,"","",8,8,8,8,8,"","",8,8,8,8,8,"","",8,8,8,8,8,"","",8,8,8,null,{"$f":"SUM(B987:AF987)","v":176}]
[{"$f":"$A$804","v":"Produktivstunden"},{"$f":"SUM(B519:B521)","v":0},{"$f":"SUM(C519:C521)","v":0},0,0,0,0,0,0,0,0,0,0,0,0,0,0,0,0,0,0,0,0,0,0,0,0,0,0,0,0]
[{"$f":"$A$805","v":"Feiertage [ft]"},{"$f":"B522","v":""},{"$f":"C522","v":""},"","","","","","","","","","","","","","","","","","","","","","","","","","","","",null,{"$f":"SUM(B989:AF989)","v":0}]
[{"$f":"$A$806","v":"Ferien [f]"},null,null,null,null,null,null,null,null,null,null,null,null,null,null,null,null,null,null,null,null,null,null,null,null,null,null,null,null,null,null,null,{"$f":"SUM(B990:AF990)","v":0},{"$f":"$AH$806","v":"f"}]
[{"$f":"$A$807","v":"Kompensation (Vorjahr) [kv]"},null,null,null,null,null,null,null,null,null,null,null,null,null,null,null,null,null,null,null,null,null,null,null,null,null,null,null,null,null,null,null,{"$f":"SUM(B991:AF991)","v":0},{"$f":"$AH$807","v":"kv"}]
[{"$f":"$A$808","v":"Kompensation (laufend) [kj]"},null,null,null,null,null,null,null,null,null,null,null,null,null,null,null,null,null,null,null,null,null,null,null,null,null,null,null,null,null,null,null,{"$f":"SUM(B992:AF992)","v":0},{"$f":"$AH$808","v":"kj"}]
[{"$f":"$A$809","v":"Absenzen, Kurzabsenzen [a]"},null,null,null,null,null,null,null,null,null,null,null,null,null,null,null,null,null,null,null,null,null,null,null,null,null,null,null,null,null,null,null,{"$f":"SUM(B993:AF993)","v":0},{"$f":"$AH$809","v":"a"}]
[{"$f":"$A$810","v":"Krankheit [k]"},null,null,null,null,null,null,null,null,null,null,null,null,null,null,null,null,null,null,null,null,null,null,null,null,null,null,null,null,null,null,null,{"$f":"SUM(B994:AF994)","v":0},{"$f":"$AH$810","v":"k"}]
[{"$f":"$A$811","v":"Unfall [u]"},null,null,null,null,null,null,null,null,null,null,null,null,null,null,null,null,null,null,null,null,null,null,null,null,null,null,null,null,null,null,null,0,{"$f":"$AH$811","v":"u"}]
[{"$f":"$A$812","v":"Schwangerschaft/Mutterschaft [s]"},null,null,null,null,null,null,null,null,null,null,null,null,null,null,null,null,null,null,null,null,null,null,null,null,null,null,null,null,null,null,null,0,{"$f":"$AH$812","v":"s"}]
[{"$f":"$A$813","v":"Militär/Beförderung/Zivilschutz [m]"},null,null,null,null,null,null,null,null,null,null,null,null,null,null,null,null,null,null,null,null,null,null,null,null,null,null,null,null,null,null,null,0,{"$f":"$AH$813","v":"m"}]
[{"$f":"$A$814","v":"Berufsschule [bs]"},null,null,null,null,null,null,null,null,null,null,null,null,null,null,null,null,null,null,null,null,null,null,null,null,null,null,null,null,null,null,null,0,{"$f":"$AH$814","v":"bs"}]
[{"$f":"$A$815","v":"Kurse [ku]"},null,null,null,null,null,null,null,null,null,null,null,null,null,null,null,null,null,null,null,null,null,null,null,null,null,null,null,null,null,null,null,0,{"$f":"$AH$815","v":"ku"}]
[{"$f":"$A$816","v":"Kurzarbeit und Schlechtwetter [ka]"},null,null,null,null,null,null,null,null,null,null,null,null,null,null,null,null,null,null,null,null,null,null,null,null,null,null,null,null,null,null,null,0,{"$f":"$AH$816","v":"ka"}]
[{"$f":"$A$817","v":0},null,null,null,null,null,null,null,null,null,null,null,null,null,null,null,null,null,null,null,null,null,null,null,null,null,null,null,null,null,null,null,0,{"$f":"$AH$817","v":0}]
[{"$f":"$A$818","v":"Fehlstunden (unbezahlt) [fe]"},null,null,null,null,null,null,null,null,null,null,null,null,null,null,null,null,null,null,null,null,null,null,null,null,null,null,null,null,null,null,null,0,{"$f":"$AH$818","v":"fe"}]
[{"$f":"$A$819","v":"Total"},{"$f":"SUM(B990:B1002)","v":0},{"$f":"SUM(C990:C1002)","v":0},0,0,0,0,0,0,0,0,0,0,0,0,0,0,0,0,0,0,0,0,0,0,0,0,0,0,0,0]
[]
[]
[]
[{"$f":"A576","v":"Oktober"},{"$f":"$B$800","v":"Saldo Monat + / -"},null,null,null,{"$f":"F576","v":-176},null,null,null,null,null,null,null,null,null,null,null,null,null,null,null,null,null,null,null,null,null,{"$f":"$AB$800","v":"Absenz in Std"},null,null,{"$f":"Labels!B86","v":"Okt"}]
[{"$f":"$A$801","v":"Tag"},{"$f":"B577","v":"2020-10-01"},{"$f":"B1008+1","v":"2020-10-02"},"2020-10-03","2020-10-04","2020-10-05","2020-10-06","2020-10-07","2020-10-08","2020-10-09","2020-10-10","2020-10-11","2020-10-12","2020-10-13","2020-10-14","2020-10-15","2020-10-16","2020-10-17","2020-10-18","2020-10-19","2020-10-20","2020-10-21","2020-10-22","2020-10-23","2020-10-24","2020-10-25","2020-10-26","2020-10-27","2020-10-28","2020-10-29","2020-10-30","2020-10-31",{"$f":"COUNT(B1010:AF1010)&\" \"&Labels!$B$63","v":"22 Tage"}]
[{"$f":"$A$802","v":"Kalenderwoche"},{"$f":"IF(B1008=\"\",\"\",TRUNC((B1008-DATE(YEAR(B1008+3-MOD(B1008-2,7)),1,MOD(B1008-2,7)-9))/7))","v":40},{"$f":"IF(C1008=\"\",\"\",TRUNC((C1008-DATE(YEAR(C1008+3-MOD(C1008-2,7)),1,MOD(C1008-2,7)-9))/7))","v":40},40,40,41,41,41,41,41,41,41,42,42,42,42,42,42,42,43,43,43,43,43,43,43,44,44,44,44,44,44]
[{"$f":"$A$803","v":"Sollstunden"},{"$f":"IF(MOD(B1008,7)>=2,$J$7*$B$574%,\"\")","v":8},8,"","",8,8,8,8,8,"","",8,8,8,8,8,"","",8,8,8,8,8,"","",8,8,8,8,8,"",{"$f":"SUM(B1010:AF1010)","v":176}]
[{"$f":"$A$804","v":"Produktivstunden"},{"$f":"SUM(B582:B584)","v":0},{"$f":"SUM(C582:C584)","v":0},0,0,0,0,0,0,0,0,0,0,0,0,0,0,0,0,0,0,0,0,0,0,0,0,0,0,0,0,0]
[{"$f":"$A$805","v":"Feiertage [ft]"},{"$f":"B585","v":""},{"$f":"C585","v":""},"","","","","","","","","","","","","","","","","","","","","","","","","","","","","",{"$f":"SUM(B1012:AF1012)","v":0}]
[{"$f":"$A$806","v":"Ferien [f]"},null,null,null,null,null,null,null,null,null,null,null,null,null,null,null,null,null,null,null,null,null,null,null,null,null,null,null,null,null,null,null,{"$f":"SUM(B1013:AF1013)","v":0},{"$f":"$AH$806","v":"f"}]
[{"$f":"$A$807","v":"Kompensation (Vorjahr) [kv]"},null,null,null,null,null,null,null,null,null,null,null,null,null,null,null,null,null,null,null,null,null,null,null,null,null,null,null,null,null,null,null,{"$f":"SUM(B1014:AF1014)","v":0},{"$f":"$AH$807","v":"kv"}]
[{"$f":"$A$808","v":"Kompensation (laufend) [kj]"},null,null,null,null,null,null,null,null,null,null,null,null,null,null,null,null,null,null,null,null,null,null,null,null,null,null,null,null,null,null,null,{"$f":"SUM(B1015:AF1015)","v":0},{"$f":"$AH$808","v":"kj"}]
[{"$f":"$A$809","v":"Absenzen, Kurzabsenzen [a]"},null,null,null,null,null,null,null,null,null,null,null,null,null,null,null,null,null,null,null,null,null,null,null,null,null,null,null,null,null,null,null,{"$f":"SUM(B1016:AF1016)","v":0},{"$f":"$AH$809","v":"a"}]
[{"$f":"$A$810","v":"Krankheit [k]"},null,null,null,null,null,null,null,null,null,null,null,null,null,null,null,null,null,null,null,null,null,null,null,null,null,null,null,null,null,null,null,{"$f":"SUM(B1017:AF1017)","v":0},{"$f":"$AH$810","v":"k"}]
[{"$f":"$A$811","v":"Unfall [u]"},null,null,null,null,null,null,null,null,null,null,null,null,null,null,null,null,null,null,null,null,null,null,null,null,null,null,null,null,null,null,null,0,{"$f":"$AH$811","v":"u"}]
[{"$f":"$A$812","v":"Schwangerschaft/Mutterschaft [s]"},null,null,null,null,null,null,null,null,null,null,null,null,null,null,null,null,null,null,null,null,null,null,null,null,null,null,null,null,null,null,null,0,{"$f":"$AH$812","v":"s"}]
[{"$f":"$A$813","v":"Militär/Beförderung/Zivilschutz [m]"},null,null,null,null,null,null,null,null,null,null,null,null,null,null,null,null,null,null,null,null,null,null,null,null,null,null,null,null,null,null,null,0,{"$f":"$AH$813","v":"m"}]
[{"$f":"$A$814","v":"Berufsschule [bs]"},null,null,null,null,null,null,null,null,null,null,null,null,null,null,null,null,null,null,null,null,null,null,null,null,null,null,null,null,null,null,null,0,{"$f":"$AH$814","v":"bs"}]
[{"$f":"$A$815","v":"Kurse [ku]"},null,null,null,null,null,null,null,null,null,null,null,null,null,null,null,null,null,null,null,null,null,null,null,null,null,null,null,null,null,null,null,0,{"$f":"$AH$815","v":"ku"}]
[{"$f":"$A$816","v":"Kurzarbeit und Schlechtwetter [ka]"},null,null,null,null,null,null,null,null,null,null,null,null,null,null,null,null,null,null,null,null,null,null,null,null,null,null,null,null,null,null,null,0,{"$f":"$AH$816","v":"ka"}]
[{"$f":"$A$817","v":0},null,null,null,null,null,null,null,null,null,null,null,null,null,null,null,null,null,null,null,null,null,null,null,null,null,null,null,null,null,null,null,0,{"$f":"$AH$817","v":0}]
[{"$f":"$A$818","v":"Fehlstunden (unbezahlt) [fe]"},null,null,null,null,null,null,null,null,null,null,null,null,null,null,null,null,null,null,null,null,null,null,null,null,null,null,null,null,null,null,null,0,{"$f":"$AH$818","v":"fe"}]
[{"$f":"$A$819","v":"Total"},{"$f":"SUM(B1013:B1025)","v":0},{"$f":"SUM(C1013:C1025)","v":0},0,0,0,0,0,0,0,0,0,0,0,0,0,0,0,0,0,0,0,0,0,0,0,0,0,0,0,0,0]
[]
[]
[]
[{"$f":"A639","v":"November"},{"$f":"$B$800","v":"Saldo Monat + / -"},null,null,null,{"$f":"F639","v":-168},null,null,null,null,null,null,null,null,null,null,null,null,null,null,null,null,null,null,null,null,null,{"$f":"$AB$800","v":"Absenz in Std"},null,null,{"$f":"Labels!B87","v":"Nov"}]
[{"$f":"$A$801","v":"Tag"},{"$f":"B640","v":"2020-11-01"},{"$f":"B1031+1","v":"2020-11-02"},"2020-11-03","2020-11-04","2020-11-05","2020-11-06","2020-11-07","2020-11-08","2020-11-09","2020-11-10","2020-11-11","2020-11-12","2020-11-13","2020-11-14","2020-11-15","2020-11-16","2020-11-17","2020-11-18","2020-11-19","2020-11-20","2020-11-21","2020-11-22","2020-11-23","2020-11-24","2020-11-25","2020-11-26","2020-11-27","2020-11-28","2020-11-29","2020-11-30",null,{"$f":"COUNT(B1033:AF1033)&\" \"&Labels!$B$63","v":"21 Tage"}]
[{"$f":"$A$802","v":"Kalenderwoche"},{"$f":"IF(B1031=\"\",\"\",TRUNC((B1031-DATE(YEAR(B1031+3-MOD(B1031-2,7)),1,MOD(B1031-2,7)-9))/7))","v":44},{"$f":"IF(C1031=\"\",\"\",TRUNC((C1031-DATE(YEAR(C1031+3-MOD(C1031-2,7)),1,MOD(C1031-2,7)-9))/7))","v":45},45,45,45,45,45,45,46,46,46,46,46,46,46,47,47,47,47,47,47,47,48,48,48,48,48,48,48,49]
[{"$f":"$A$803","v":"Sollstunden"},{"$f":"IF(MOD(B1031,7)>=2,$J$7*$B$637%,\"\")","v":""},8,8,8,8,8,"","",8,8,8,8,8,"","",8,8,8,8,8,"","",8,8,8,8,8,"","",8,null,{"$f":"SUM(B1033:AF1033)","v":168}]
[{"$f":"$A$804","v":"Produktivstunden"},{"$f":"SUM(B645:B647)","v":0},{"$f":"SUM(C645:C647)","v":0},0,0,0,0,0,0,0,0,0,0,0,0,0,0,0,0,0,0,0,0,0,0,0,0,0,0,0,0]
[{"$f":"$A$805","v":"Feiertage [ft]"},{"$f":"B648","v":""},{"$f":"C648","v":""},"","","","","","","","","","","","","","","","","","","","","","","","","","","","",null,{"$f":"SUM(B1035:AF1035)","v":0}]
[{"$f":"$A$806","v":"Ferien [f]"},null,null,null,null,null,null,null,null,null,null,null,null,null,null,null,null,null,null,null,null,null,null,null,null,null,null,null,null,null,null,null,{"$f":"SUM(B1036:AF1036)","v":0},{"$f":"$AH$806","v":"f"}]
[{"$f":"$A$807","v":"Kompensation (Vorjahr) [kv]"},null,null,null,null,null,null,null,null,null,null,null,null,null,null,null,null,null,null,null,null,null,null,null,null,null,null,null,null,null,null,null,{"$f":"SUM(B1037:AF1037)","v":0},{"$f":"$AH$807","v":"kv"}]
[{"$f":"$A$808","v":"Kompensation (laufend) [kj]"},null,null,null,null,null,null,null,null,null,null,null,null,null,null,null,null,null,null,null,null,null,null,null,null,null,null,null,null,null,null,null,{"$f":"SUM(B1038:AF1038)","v":0},{"$f":"$AH$808","v":"kj"}]
[{"$f":"$A$809","v":"Absenzen, Kurzabsenzen [a]"},null,null,null,null,null,null,null,null,null,null,null,null,null,null,null,null,null,null,null,null,null,null,null,null,null,null,null,null,null,null,null,{"$f":"SUM(B1039:AF1039)","v":0},{"$f":"$AH$809","v":"a"}]
[{"$f":"$A$810","v":"Krankheit [k]"},null,null,null,null,null,null,null,null,null,null,null,null,null,null,null,null,null,null,null,null,null,null,null,null,null,null,null,null,null,null,null,{"$f":"SUM(B1040:AF1040)","v":0},{"$f":"$AH$810","v":"k"}]
[{"$f":"$A$811","v":"Unfall [u]"},null,null,null,null,null,null,null,null,null,null,null,null,null,null,null,null,null,null,null,null,null,null,null,null,null,null,null,null,null,null,null,0,{"$f":"$AH$811","v":"u"}]
[{"$f":"$A$812","v":"Schwangerschaft/Mutterschaft [s]"},null,null,null,null,null,null,null,null,null,null,null,null,null,null,null,null,null,null,null,null,null,null,null,null,null,null,null,null,null,null,null,0,{"$f":"$AH$812","v":"s"}]
[{"$f":"$A$813","v":"Militär/Beförderung/Zivilschutz [m]"},null,null,null,null,null,null,null,null,null,null,null,null,null,null,null,null,null,null,null,null,null,null,null,null,null,null,null,null,null,null,null,0,{"$f":"$AH$813","v":"m"}]
[{"$f":"$A$814","v":"Berufsschule [bs]"},null,null,null,null,null,null,null,null,null,null,null,null,null,null,null,null,null,null,null,null,null,null,null,null,null,null,null,null,null,null,null,0,{"$f":"$AH$814","v":"bs"}]
[{"$f":"$A$815","v":"Kurse [ku]"},null,null,null,null,null,null,null,null,null,null,null,null,null,null,null,null,null,null,null,null,null,null,null,null,null,null,null,null,null,null,null,0,{"$f":"$AH$815","v":"ku"}]
[{"$f":"$A$816","v":"Kurzarbeit und Schlechtwetter [ka]"},null,null,null,null,null,null,null,null,null,null,null,null,null,null,null,null,null,null,null,null,null,null,null,null,null,null,null,null,null,null,null,0,{"$f":"$AH$816","v":"ka"}]
[{"$f":"$A$817","v":0},null,null,null,null,null,null,null,null,null,null,null,null,null,null,null,null,null,null,null,null,null,null,null,null,null,null,null,null,null,null,null,0,{"$f":"$AH$817","v":0}]
[{"$f":"$A$818","v":"Fehlstunden (unbezahlt) [fe]"},null,null,null,null,null,null,null,null,null,null,null,null,null,null,null,null,null,null,null,null,null,null,null,null,null,null,null,null,null,null,null,0,{"$f":"$AH$818","v":"fe"}]
[{"$f":"$A$819","v":"Total"},{"$f":"SUM(B1036:B1048)","v":0},{"$f":"SUM(C1036:C1048)","v":0},0,0,0,0,0,0,0,0,0,0,0,0,0,0,0,0,0,0,0,0,0,0,0,0,0,0,0,0]
[]
[]
[]
[{"$f":"A702","v":"Dezember"},{"$f":"$B$800","v":"Saldo Monat + / -"},null,null,null,{"$f":"F702","v":-184},null,null,null,null,null,null,null,null,null,null,null,null,null,null,null,null,null,null,null,null,null,{"$f":"$AB$800","v":"Absenz in Std"},null,null,{"$f":"Labels!B88","v":"Dez"}]
[{"$f":"$A$801","v":"Tag"},{"$f":"B703","v":"2020-12-01"},{"$f":"B1054+1","v":"2020-12-02"},"2020-12-03","2020-12-04","2020-12-05","2020-12-06","2020-12-07","2020-12-08","2020-12-09","2020-12-10","2020-12-11","2020-12-12","2020-12-13","2020-12-14","2020-12-15","2020-12-16","2020-12-17","2020-12-18","2020-12-19","2020-12-20","2020-12-21","2020-12-22","2020-12-23","2020-12-24","2020-12-25","2020-12-26","2020-12-27","2020-12-28","2020-12-29","2020-12-30","2020-12-31",{"$f":"COUNT(B1056:AF1056)&\" \"&Labels!$B$63","v":"23 Tage"}]
[{"$f":"$A$802","v":"Kalenderwoche"},{"$f":"IF(B1054=\"\",\"\",TRUNC((B1054-DATE(YEAR(B1054+3-MOD(B1054-2,7)),1,MOD(B1054-2,7)-9))/7))","v":49},{"$f":"IF(C1054=\"\",\"\",TRUNC((C1054-DATE(YEAR(C1054+3-MOD(C1054-2,7)),1,MOD(C1054-2,7)-9))/7))","v":49},49,49,49,49,50,50,50,50,50,50,50,51,51,51,51,51,51,51,52,52,52,52,52,52,52,53,53,53,53]
[{"$f":"$A$803","v":"Sollstunden"},{"$f":"IF(MOD(B1054,7)>=2,$J$7*$B$700%,\"\")","v":8},8,8,8,"","",8,8,8,8,8,"","",8,8,8,8,8,"","",8,8,8,8,8,"","",8,8,8,8,{"$f":"SUM(B1056:AF1056)","v":184}]
[{"$f":"$A$804","v":"Produktivstunden"},{"$f":"SUM(B708:B710)","v":0},{"$f":"SUM(C708:C710)","v":0},0,0,0,0,0,0,0,0,0,0,0,0,0,0,0,0,0,0,0,0,0,0,0,0,0,0,0,0,0]
[{"$f":"$A$805","v":"Feiertage [ft]"},{"$f":"B711","v":""},{"$f":"C711","v":""},"","","","","","","","","","","","","","","","","","","","","","","","","","","","","",{"$f":"SUM(B1058:AF1058)","v":0}]
[{"$f":"$A$806","v":"Ferien [f]"},null,null,null,null,null,null,null,null,null,null,null,null,null,null,null,null,null,null,null,null,null,null,null,null,null,null,null,null,null,null,null,{"$f":"SUM(B1059:AF1059)","v":0},{"$f":"$AH$806","v":"f"}]
[{"$f":"$A$807","v":"Kompensation (Vorjahr) [kv]"},null,null,null,null,null,null,null,null,null,null,null,null,null,null,null,null,null,null,null,null,null,null,null,null,null,null,null,null,null,null,null,{"$f":"SUM(B1060:AF1060)","v":0},{"$f":"$AH$807","v":"kv"}]
[{"$f":"$A$808","v":"Kompensation (laufend) [kj]"},null,null,null,null,null,null,null,null,null,null,null,null,null,null,null,null,null,null,null,null,null,null,null,null,null,null,null,null,null,null,null,{"$f":"SUM(B1061:AF1061)","v":0},{"$f":"$AH$808","v":"kj"}]
[{"$f":"$A$809","v":"Absenzen, Kurzabsenzen [a]"},null,null,null,null,null,null,null,null,null,null,null,null,null,null,null,null,null,null,null,null,null,null,null,null,null,null,null,null,null,null,null,{"$f":"SUM(B1062:AF1062)","v":0},{"$f":"$AH$809","v":"a"}]
[{"$f":"$A$810","v":"Krankheit [k]"},null,null,null,null,null,null,null,null,null,null,null,null,null,null,null,null,null,null,null,null,null,null,null,null,null,null,null,null,null,null,null,{"$f":"SUM(B1063:AF1063)","v":0},{"$f":"$AH$810","v":"k"}]
[{"$f":"$A$811","v":"Unfall [u]"},null,null,null,null,null,null,null,null,null,null,null,null,null,null,null,null,null,null,null,null,null,null,null,null,null,null,null,null,null,null,null,0,{"$f":"$AH$811","v":"u"}]
[{"$f":"$A$812","v":"Schwangerschaft/Mutterschaft [s]"},null,null,null,null,null,null,null,null,null,null,null,null,null,null,null,null,null,null,null,null,null,null,null,null,null,null,null,null,null,null,null,0,{"$f":"$AH$812","v":"s"}]
[{"$f":"$A$813","v":"Militär/Beförderung/Zivilschutz [m]"},null,null,null,null,null,null,null,null,null,null,null,null,null,null,null,null,null,null,null,null,null,null,null,null,null,null,null,null,null,null,null,0,{"$f":"$AH$813","v":"m"}]
[{"$f":"$A$814","v":"Berufsschule [bs]"},null,null,null,null,null,null,null,null,null,null,null,null,null,null,null,null,null,null,null,null,null,null,null,null,null,null,null,null,null,null,null,0,{"$f":"$AH$814","v":"bs"}]
[{"$f":"$A$815","v":"Kurse [ku]"},null,null,null,null,null,null,null,null,null,null,null,null,null,null,null,null,null,null,null,null,null,null,null,null,null,null,null,null,null,null,null,0,{"$f":"$AH$815","v":"ku"}]
[{"$f":"$A$816","v":"Kurzarbeit und Schlechtwetter [ka]"},null,null,null,null,null,null,null,null,null,null,null,null,null,null,null,null,null,null,null,null,null,null,null,null,null,null,null,null,null,null,null,0,{"$f":"$AH$816","v":"ka"}]
[{"$f":"$A$817","v":0},null,null,null,null,null,null,null,null,null,null,null,null,null,null,null,null,null,null,null,null,null,null,null,null,null,null,null,null,null,null,null,0,{"$f":"$AH$817","v":0}]
[{"$f":"$A$818","v":"Fehlstunden (unbezahlt) [fe]"},null,null,null,null,null,null,null,null,null,null,null,null,null,null,null,null,null,null,null,null,null,null,null,null,null,null,null,null,null,null,null,0,{"$f":"$AH$818","v":"fe"}]
[{"$f":"$A$819","v":"Total"},{"$f":"SUM(B1059:B1071)","v":0},{"$f":"SUM(C1059:C1071)","v":0},0,0,0,0,0,0,0,0,0,0,0,0,0,0,0,0,0,0,0,0,0,0,0,0,0,0,0,0,0]

{"sheet":"MITARBEITER","index":6,"n_rows":101,"n_cols":7,"rows_kept":101,"cut":false,"hidden":false,"merged":[]}
["Nummer","Name","Vorname","Adresse","PLZ","Ort","Telefon"]
[1,"Muster","Peter","Mustergasse 550",5000,"Aarau","+41 00 000 00 00"]
[2]
[3]
[4]
[5]
[6]
[7]
[8]
[9]
[10]
[11]
[12]
[13]
[14]
[15]
[16]
[17]
[18]
[19]
[20]
[21]
[22]
[23]
[24]
[25]
[26]
[27]
[28]
[29]
[30]
[31]
[32]
[33]
[34]
[35]
[36]
[37]
[38]
[39]
[40]
[41]
[42]
[43]
[44]
[45]
[46]
[47]
[48]
[49]
[50]
[51]
[52]
[53]
[54]
[55]
[56]
[57]
[58]
[59]
[60]
[61]
[62]
[63]
[64]
[65]
[66]
[67]
[68]
[69]
[70]
[71]
[72]
[73]
[74]
[75]
[76]
[77]
[78]
[79]
[80]
[81]
[82]
[83]
[84]
[85]
[86]
[87]
[88]
[89]
[90]
[91]
[92]
[93]
[94]
[95]
[96]
[97]
[98]
[99]
[100]

{"sheet":"KONTROLLE","index":7,"n_rows":1072,"n_cols":51,"rows_kept":1072,"cut":false,"hidden":false,"merged":[[25,34,25,37],[27,41,27,42],[32,30,32,31],[33,30,33,31],[34,1,34,31],[35,1,35,31],[4,1,4,2],[4,3,4,6],[4,15,4,16],[4,26,4,27],[8,1,8,4],[8,5,8,6],[8,27,8,31],[0,25,0,26],[1,0,1,31],[2,1,2,6],[3,1,3,2],[3,3,3,6],[3,15,3,16],[3,26,3,27],[0,13,0,14],[0,15,0,16],[0,17,0,18],[0,19,0,20],[0,21,0,22],[0,23,0,24],[0,0,0,2],[0,3,0,4],[0,5,0,6],[0,7,0,8],[0,9,0,10],[0,11,0,12],[38,22,38,23],[38,24,38,25],[38,26,38,27],[38,28,38,29],[38,30,38,31],[39,0,39,5],[39,6,39,7],[39,8,39,9],[39,10,39,11],[39,12,39,13],[36,1,36,31],[38,0,38,5],[38,6,38,7],[38,8,38,9],[38,10,38,11],[38,12,38,13],[38,14,38,15],[38,16,38,17],[38,18,38,19],[38,20,38,21],[40,30,40,31],[41,1,41,5],[41,6,41,7],[41,8,41,9],[41,10,41,11],[41,12,41,13],[41,14,41,15],[41,16,41,17],[41,18,41,19],[41,20,41,21],[40,18,40,19],[40,20,40,21],[40,22,40,23],[40,24,40,25],[40,26,40,27],[40,28,40,29],[39,26,39,27],[39,28,39,29],[39,30,39,31],[40,0,40,5],[40,6,40,7],[40,8,40,9],[40,10,40,11],[40,12,40,13],[40,14,40,15],[40,16,40,17],[39,14,39,15],[39,16,39,17],[39,18,39,19],[39,20,39,21],[39,22,39,23],[39,24,39,25],[42,26,42,27],[42,28,42,29],[42,30,42,31],[43,1,43,5],[43,6,43,7],[43,8,43,9],[43,10,43,11],[43,12,43,13],[43,14,43,15],[43,16,43,17],[42,14,42,15],[42,16,42,17],[42,18,42,19],[42,20,42,21],[42,22,42,23],[42,24,42,25],[41,22,41,23],[41,24,41,25],[41,26,41,27],[41,28,41,29],[41,30,41,31],[42,1,42,5],[42,6,42,7],[42,8,42,9],[42,10,42,11],[42,12,42,13],[44,22,44,23],[44,24,44,25],[44,26,44,27],[44,28,44,29],[44,30,44,31],[45,0,45,5],[45,6,45,7],[45,8,45,9],[45,10,45,11],[45,12,45,13],[43,30,43,31],[44,1,44,5],[44,6,44,7],[44,8,44,9],[44,10,44,11],[44,12,44,13],[44,14,44,15],[44,16,44,17],[44,18,44,19],[44,20,44,21],[43,18,43,19],[43,20,43,21],[43,22,43,23],[43,24,43,25],[43,26,43,27],[43,28,43,29],[46,30,46,31],[47,0,47,4],[47,6,47,7],[47,8,47,9],[47,10,47,11],[47,12,47,13],[47,14,47,15],[47,16,47,17],[47,18,47,19],[47,20,47,21],[46,18,46,19],[46,20,46,21],[46,22,46,23],[46,24,46,25],[46,26,46,27],[46,28,46,29],[45,26,45,27],[45,28,45,29],[45,30,45,31],[46,0,46,4],[46,6,46,7],[46,8,46,9],[46,10,46,11],[46,12,46,13],[46,14,46,15],[46,16,46,17],[45,14,45,15],[45,16,45,17],[45,18,45,19],[45,20,45,21],[45,22,45,23],[45,24,45,25],[48,24,48,25],[48,26,48,27],[48,28,48,29],[48,30,48,31],[49,0,49,4],[49,6,49,7],[49,8,49,9],[49,10,49,11],[49,12,49,13],[49,14,49,15],[48,12,48,13],[48,14,48,15],[48,16,48,17],[48,18,48,19],[48,20,48,21],[48,22,48,23],[47,22,47,23],[47,24,47,25],[47,26,47,27],[47,28,47,29],[47,30,47,31],[48,0,48,1],[48,2,48,4],[48,6,48,7],[48,8,48,9],[48,10,48,11],[50,20,50,21],[50,22,50,23],[50,24,50,25],[50,26,50,27],[50,28,50,29],[50,30,50,31],[49,28,49,29],[49,30,49,31],[50,0,50,4],[50,6,50,7],[50,8,50,9],[50,10,50,11],[50,12,50,13],[50,14,50,15],[50,16,50,17],[50,18,50,19],[49,16,49,17],[49,18,49,19],[49,20,49,21],[49,22,49,23],[49,24,49,25],[49,26,49,27],[52,20,52,21],[52,22,52,23],[52,24,52,25],[52,26,52,27],[52,28,52,29],[52,30,52,31],[51,28,51,29],[51,30,51,31],[52,0,52,4],[52,6,52,7],[52,8,52,9],[52,10,52,11],[52,12,52,13],[52,14,52,15],[52,16,52,17],[52,18,52,19],[51,16,51,17],[51,18,51,19],[51,20,51,21],[51,22,51,23],[51,24,51,25],[51,26,51,27],[51,0,51,4],[51,6,51,7],[51,8,51,9],[51,10,51,11],[51,12,51,13],[51,14,51,15],[54,20,54,21],[54,22,54,23],[54,24,54,25],[54,26,54,27],[54,28,54,29],[54,30,54,31],[53,28,53,29],[53,30,53,31],[54,0,54,4],[54,6,54,7],[54,8,54,9],[54,10,54,11],[54,12,54,13],[54,14,54,15],[54,16,54,17],[54,18,54,19],[53,16,53,17],[53,18,53,19],[53,20,53,21],[53,22,53,23],[53,24,53,25],[53,26,53,27],[53,0,53,4],[53,6,53,7],[53,8,53,9],[53,10,53,11],[53,12,53,13],[53,14,53,15],[56,20,56,21],[56,22,56,23],[56,24,56,25],[56,26,56,27],[56,28,56,29],[56,30,56,31],[55,28,55,29],[55,30,55,31],[56,1,56,4],[56,6,56,7],[56,8,56,9],[56,10,56,11],[56,12,56,13],[56,14,56,15],[56,16,56,17],[56,18,56,19],[55,16,55,17],[55,18,55,19],[55,20,55,21],[55,22,55,23],[55,24,55,25],[55,26,55,27],[55,0,55,4],[55,6,55,7],[55,8,55,9],[55,10,55,11],[55,12,55,13],[55,14,55,15],[58,20,58,21],[58,22,58,23],[58,24,58,29],[58,30,58,31],[59,1,59,5],[59,6,59,7],[59,8,59,9],[59,10,59,11],[59,12,59,13],[59,14,59,15],[57,28,57,29],[57,30,57,31],[58,1,58,5],[58,6,58,7],[58,8,58,9],[58,10,58,11],[58,12,58,13],[58,14,58,15],[58,16,58,17],[58,18,58,19],[57,16,57,17],[57,18,57,19],[57,20,57,21],[57,22,57,23],[57,24,57,25],[57,26,57,27],[57,1,57,4],[57,6,57,7],[57,8,57,9],[57,10,57,11],[57,12,57,13],[57,14,57,15],[60,26,60,27],[60,28,60,29],[60,30,60,31],[61,1,61,4],[61,6,61,7],[61,8,61,9],[61,10,61,11],[61,12,61,13],[61,14,61,15],[61,16,61,17],[60,14,60,15],[60,16,60,17],[60,18,60,19],[60,20,60,21],[60,22,60,23],[60,24,60,25],[59,16,59,17],[59,18,59,19],[59,20,59,21],[59,22,59,23],[59,24,59,31],[60,1,60,5],[60,6,60,7],[60,8,60,9],[60,10,60,11],[60,12,60,13],[62,22,62,23],[62,24,62,25],[62,26,62,27],[62,28,62,29],[62,30,62,31],[63,1,63,5],[63,6,63,7],[63,8,63,9],[63,10,63,11],[63,12,63,13],[61,30,61,31],[62,1,62,5],[62,6,62,7],[62,8,62,9],[62,10,62,11],[62,12,62,13],[62,14,62,15],[62,16,62,17],[62,18,62,19],[62,20,62,21],[61,18,61,19],[61,20,61,21],[61,22,61,23],[61,24,61,25],[61,26,61,27],[61,28,61,29],[64,30,64,31],[65,0,66,0],[65,1,66,5],[65,6,66,7],[65,8,66,11],[65,12,66,13],[65,14,66,17],[65,18,66,19],[65,20,66,23],[65,24,66,25],[64,18,64,19],[64,20,64,21],[64,22,64,23],[64,24,64,25],[64,26,64,27],[64,28,64,29],[63,26,63,27],[63,28,63,29],[63,30,63,31],[64,1,64,5],[64,6,64,7],[64,8,64,9],[64,10,64,11],[64,12,64,13],[64,14,64,15],[64,16,64,17],[63,14,63,15],[63,16,63,17],[63,18,63,19],[63,20,63,21],[63,22,63,23],[63,24,63,25],[86,33,86,34],[95,30,95,31],[96,30,96,31],[97,1,97,31],[98,1,98,31],[99,1,99,31],[70,3,70,6],[70,40,70,41],[71,1,71,4],[71,5,71,6],[71,27,71,31],[81,33,81,34],[65,26,66,29],[65,30,66,31],[67,7,67,31],[68,1,68,6],[69,1,69,2],[69,3,69,6],[102,20,102,21],[102,22,102,23],[102,24,102,25],[102,26,102,27],[102,28,102,29],[102,30,102,31],[101,28,101,29],[101,30,101,31],[102,0,102,5],[102,6,102,7],[102,8,102,9],[102,10,102,11],[102,12,102,13],[102,14,102,15],[102,16,102,17],[102,18,102,19],[101,16,101,17],[101,18,101,19],[101,20,101,21],[101,22,101,23],[101,24,101,25],[101,26,101,27],[101,0,101,5],[101,6,101,7],[101,8,101,9],[101,10,101,11],[101,12,101,13],[101,14,101,15],[104,20,104,21],[104,22,104,23],[104,24,104,25],[104,26,104,27],[104,28,104,29],[104,30,104,31],[103,28,103,29],[103,30,103,31],[104,1,104,5],[104,6,104,7],[104,8,104,9],[104,10,104,11],[104,12,104,13],[104,14,104,15],[104,16,104,17],[104,18,104,19],[103,16,103,17],[103,18,103,19],[103,20,103,21],[103,22,103,23],[103,24,103,25],[103,26,103,27],[103,0,103,5],[103,6,103,7],[103,8,103,9],[103,10,103,11],[103,12,103,13],[103,14,103,15],[106,20,106,21],[106,22,106,23],[106,24,106,25],[106,26,106,27],[106,28,106,29],[106,30,106,31],[105,28,105,29],[105,30,105,31],[106,1,106,5],[106,6,106,7],[106,8,106,9],[106,10,106,11],[106,12,106,13],[106,14,106,15],[106,16,106,17],[106,18,106,19],[105,16,105,17],[105,18,105,19],[105,20,105,21],[105,22,105,23],[105,24,105,25],[105,26,105,27],[105,1,105,5],[105,6,105,7],[105,8,105,9],[105,10,105,11],[105,12,105,13],[105,14,105,15],[108,20,108,21],[108,22,108,23],[108,24,108,25],[108,26,108,27],[108,28,108,29],[108,30,108,31],[107,28,107,29],[107,30,107,31],[108,0,108,5],[108,6,108,7],[108,8,108,9],[108,10,108,11],[108,12,108,13],[108,14,108,15],[108,16,108,17],[108,18,108,19],[107,16,107,17],[107,18,107,19],[107,20,107,21],[107,22,107,23],[107,24,107,25],[107,26,107,27],[107,1,107,5],[107,6,107,7],[107,8,107,9],[107,10,107,11],[107,12,107,13],[107,14,107,15],[110,20,110,21],[110,22,110,23],[110,24,110,25],[110,26,110,27],[110,28,110,29],[110,30,110,31],[109,28,109,29],[109,30,109,31],[110,0,110,4],[110,6,110,7],[110,8,110,9],[110,10,110,11],[110,12,110,13],[110,14,110,15],[110,16,110,17],[110,18,110,19],[109,16,109,17],[109,18,109,19],[109,20,109,21],[109,22,109,23],[109,24,109,25],[109,26,109,27],[109,0,109,4],[109,6,109,7],[109,8,109,9],[109,10,109,11],[109,12,109,13],[109,14,109,15],[111,26,111,27],[111,28,111,29],[111,30,111,31],[112,0,112,4],[112,6,112,7],[112,8,112,9],[112,10,112,11],[112,12,112,13],[112,14,112,15],[112,16,112,17],[111,14,111,15],[111,16,111,17],[111,18,111,19],[111,20,111,21],[111,22,111,23],[111,24,111,25],[111,0,111,1],[111,2,111,4],[111,6,111,7],[111,8,111,9],[111,10,111,11],[111,12,111,13],[113,22,113,23],[113,24,113,25],[113,26,113,27],[113,28,113,29],[113,30,113,31],[114,0,114,4],[114,6,114,7],[114,8,114,9],[114,10,114,11],[114,12,114,13],[112,30,112,31],[113,0,113,4],[113,6,113,7],[113,8,113,9],[113,10,113,11],[113,12,113,13],[113,14,113,15],[113,16,113,17],[113,18,113,19],[113,20,113,21],[112,18,112,19],[112,20,112,21],[112,22,112,23],[112,24,112,25],[112,26,112,27],[112,28,112,29],[115,30,115,31],[116,0,116,4],[116,6,116,7],[116,8,116,9],[116,10,116,11],[116,12,116,13],[116,14,116,15],[116,16,116,17],[116,18,116,19],[116,20,116,21],[115,18,115,19],[115,20,115,21],[115,22,115,23],[115,24,115,25],[115,26,115,27],[115,28,115,29],[114,26,114,27],[114,28,114,29],[114,30,114,31],[115,0,115,4],[115,6,115,7],[115,8,115,9],[115,10,115,11],[115,12,115,13],[115,14,115,15],[115,16,115,17],[114,14,114,15],[114,16,114,17],[114,18,114,19],[114,20,114,21],[114,22,114,23],[114,24,114,25],[117,26,117,27],[117,28,117,29],[117,30,117,31],[118,0,118,4],[118,6,118,7],[118,8,118,9],[118,10,118,11],[118,12,118,13],[118,14,118,15],[118,16,118,17],[117,14,117,15],[117,16,117,17],[117,18,117,19],[117,20,117,21],[117,22,117,23],[117,24,117,25],[116,22,116,23],[116,24,116,25],[116,26,116,27],[116,28,116,29],[116,30,116,31],[117,0,117,4],[117,6,117,7],[117,8,117,9],[117,10,117,11],[117,12,117,13],[119,22,119,23],[119,24,119,25],[119,26,119,27],[119,28,119,29],[119,30,119,31],[120,1,120,4],[120,6,120,7],[120,8,120,9],[120,10,120,11],[120,12,120,13],[118,30,118,31],[119,1,119,4],[119,6,119,7],[119,8,119,9],[119,10,119,11],[119,12,119,13],[119,14,119,15],[119,16,119,17],[119,18,119,19],[119,20,119,21],[118,18,118,19],[118,20,118,21],[118,22,118,23],[118,24,118,25],[118,26,118,27],[118,28,118,29],[122,14,122,15],[122,16,122,17],[122,18,122,19],[122,20,122,21],[122,22,122,23],[122,24,122,31],[121,18,121,19],[121,20,121,21],[121,22,121,23],[121,24,121,29],[121,30,121,31],[122,1,122,5],[122,6,122,7],[122,8,122,9],[122,10,122,11],[122,12,122,13],[120,26,120,27],[120,28,120,29],[120,30,120,31],[121,1,121,5],[121,6,121,7],[121,8,121,9],[121,10,121,11],[121,12,121,13],[121,14,121,15],[121,16,121,17],[120,14,120,15],[120,16,120,17],[120,18,120,19],[120,20,120,21],[120,22,120,23],[120,24,120,25],[124,20,124,21],[124,22,124,23],[124,24,124,25],[124,26,124,27],[124,28,124,29],[124,30,124,31],[123,28,123,29],[123,30,123,31],[124,1,124,4],[124,6,124,7],[124,8,124,9],[124,10,124,11],[124,12,124,13],[124,14,124,15],[124,16,124,17],[124,18,124,19],[123,16,123,17],[123,18,123,19],[123,20,123,21],[123,22,123,23],[123,24,123,25],[123,26,123,27],[123,1,123,5],[123,6,123,7],[123,8,123,9],[123,10,123,11],[123,12,123,13],[123,14,123,15],[126,20,126,21],[126,22,126,23],[126,24,126,25],[126,26,126,27],[126,28,126,29],[126,30,126,31],[125,28,125,29],[125,30,125,31],[126,1,126,5],[126,6,126,7],[126,8,126,9],[126,10,126,11],[126,12,126,13],[126,14,126,15],[126,16,126,17],[126,18,126,19],[125,16,125,17],[125,18,125,19],[125,20,125,21],[125,22,125,23],[125,24,125,25],[125,26,125,27],[125,1,125,5],[125,6,125,7],[125,8,125,9],[125,10,125,11],[125,12,125,13],[125,14,125,15],[128,24,129,25],[128,26,129,29],[128,30,129,31],[130,7,130,31],[131,1,131,6],[131,7,133,7],[131,9,131,12],[131,14,131,17],[132,1,132,2],[132,3,132,6],[127,28,127,29],[127,30,127,31],[128,0,129,0],[128,1,129,5],[128,6,129,7],[128,8,129,11],[128,12,129,13],[128,14,129,17],[128,18,129,19],[128,20,129,23],[127,16,127,17],[127,18,127,19],[127,20,127,21],[127,22,127,23],[127,24,127,25],[127,26,127,27],[127,1,127,5],[127,6,127,7],[127,8,127,9],[127,10,127,11],[127,12,127,13],[127,14,127,15],[158,30,158,31],[159,30,159,31],[160,1,160,31],[161,1,161,31],[162,1,162,31],[164,0,164,5],[164,6,164,7],[164,8,164,9],[164,10,164,11],[164,12,164,13],[134,1,134,4],[134,5,134,6],[134,27,134,31],[134,33,134,34],[136,33,136,34],[149,33,149,34],[132,9,132,12],[132,14,132,17],[132,19,132,22],[132,24,132,31],[133,3,133,6],[133,9,133,12],[133,14,133,17],[133,19,133,22],[133,24,133,31],[165,30,165,31],[166,0,166,5],[166,6,166,7],[166,8,166,9],[166,10,166,11],[166,12,166,13],[166,14,166,15],[166,16,166,17],[166,18,166,19],[166,20,166,21],[165,18,165,19],[165,20,165,21],[165,22,165,23],[165,24,165,25],[165,26,165,27],[165,28,165,29],[164,26,164,27],[164,28,164,29],[164,30,164,31],[165,0,165,5],[165,6,165,7],[165,8,165,9],[165,10,165,11],[165,12,165,13],[165,14,165,15],[165,16,165,17],[164,14,164,15],[164,16,164,17],[164,18,164,19],[164,20,164,21],[164,22,164,23],[164,24,164,25],[167,26,167,27],[167,28,167,29],[167,30,167,31],[168,1,168,5],[168,6,168,7],[168,8,168,9],[168,10,168,11],[168,12,168,13],[168,14,168,15],[168,16,168,17],[167,14,167,15],[167,16,167,17],[167,18,167,19],[167,20,167,21],[167,22,167,23],[167,24,167,25],[166,22,166,23],[166,24,166,25],[166,26,166,27],[166,28,166,29],[166,30,166,31],[167,1,167,5],[167,6,167,7],[167,8,167,9],[167,10,167,11],[167,12,167,13],[169,22,169,23],[169,24,169,25],[169,26,169,27],[169,28,169,29],[169,30,169,31],[170,1,170,5],[170,6,170,7],[170,8,170,9],[170,10,170,11],[170,12,170,13],[168,30,168,31],[169,1,169,5],[169,6,169,7],[169,8,169,9],[169,10,169,11],[169,12,169,13],[169,14,169,15],[169,16,169,17],[169,18,169,19],[169,20,169,21],[168,18,168,19],[168,20,168,21],[168,22,168,23],[168,24,168,25],[168,26,168,27],[168,28,168,29],[171,30,171,31],[172,0,172,4],[172,6,172,7],[172,8,172,9],[172,10,172,11],[172,12,172,13],[172,14,172,15],[172,16,172,17],[172,18,172,19],[172,20,172,21],[171,18,171,19],[171,20,171,21],[171,22,171,23],[171,24,171,25],[171,26,171,27],[171,28,171,29],[170,26,170,27],[170,28,170,29],[170,30,170,31],[171,0,171,5],[171,6,171,7],[171,8,171,9],[171,10,171,11],[171,12,171,13],[171,14,171,15],[171,16,171,17],[170,14,170,15],[170,16,170,17],[170,18,170,19],[170,20,170,21],[170,22,170,23],[170,24,170,25],[173,26,173,27],[173,28,173,29],[173,30,173,31],[174,0,174,1],[174,2,174,4],[174,6,174,7],[174,8,174,9],[174,10,174,11],[174,12,174,13],[174,14,174,15],[173,14,173,15],[173,16,173,17],[173,18,173,19],[173,20,173,21],[173,22,173,23],[173,24,173,25],[172,22,172,23],[172,24,172,25],[172,26,172,27],[172,28,172,29],[172,30,172,31],[173,0,173,4],[173,6,173,7],[173,8,173,9],[173,10,173,11],[173,12,173,13],[175,20,175,21],[175,22,175,23],[175,24,175,25],[175,26,175,27],[175,28,175,29],[175,30,175,31],[174,28,174,29]],"merged_total":4921,"flags":["merged_cut"]}
[{"$f":"Labels!B164","v":"\nDen gewünschten Monat mit einem Klick\nwählen (gehe zu)\n\n\nDen gewünschten Monat mit einem Klick\nin die Druckvorschau versetzen (für Druck)"}]
[{"$f":"Labels!B17 &B5","v":"A r b e i t s z e i t k o n t r o l l e 2021"},null,null,null,null,null,null,null,null,null,null,null,null,null,null,null,null,null,null,null,null,null,null,null,null,null,null,null,null,null,null,null,2021,null,"Hilfstabelle",{"$f":"Labels!B77","v":"Jan"},{"$f":"Labels!B78","v":"Feb"},{"$f":"Labels!B79","v":"Mrz"},{"$f":"Labels!B80","v":"Apr"},{"$f":"Labels!B81","v":"Mai"},{"$f":"Labels!B82","v":"Jun"},{"$f":"Labels!B83","v":"Jul"},{"$f":"Labels!B84","v":"Aug"},{"$f":"Labels!B85","v":"Sep"},{"$f":"Labels!B86","v":"Okt"},{"$f":"Labels!B87","v":"Nov"},{"$f":"Labels!B88","v":"Dez"},{"$f":"Labels!B102","v":"Total"},null,"Legenden, Erklärungen & Meldungen"]
[{"$f":"Labels!B18","v":"Mitarbeiter/In"},{"$f":"Labels!B19","v":"Muster Peter"},null,null,null,null,null,null,null,null,null,null,null,null,null,null,null,null,null,null,null,null,null,null,null,null,null,null,null,null,null,null,null,null,{"$f":"Labels!B113","v":"a"},{"$f":"AG809","v":0},{"$f":"AG832","v":0},{"$f":"AG855","v":0},{"$f":"AG878","v":0},{"$f":"AG901","v":0},{"$f":"AG924","v":0},{"$f":"AG947","v":0},{"$f":"AG970","v":0},{"$f":"AG993","v":0},{"$f":"AG1016","v":0},{"$f":"AG1039","v":0},{"$f":"AG1062","v":0},{"$f":"SUM(AJ3:AU3)","v":0}]
[{"$f":"Labels!B20","v":"Anstellung %"},100,null,{"$f":"Labels!B89","v":"im Januar"},null,null,null,null,null,null,{"$f":"Labels!B22","v":"Saldo Vorjahresstunden (+)"},null,null,null,null,null,null,null,null,null,{"$f":"Labels!B24","v":"Ferienguthaben Vorjahr"},null,null,null,null,null,null,null,{"$f":"Labels!B26","v":"Stunden"},null,null,null,null,null,{"$f":"Labels!B115","v":"f"},{"$f":"AG806","v":0},{"$f":"AG829","v":0},{"$f":"AG852","v":0},{"$f":"AG875","v":0},{"$f":"AG898","v":0},{"$f":"AG921","v":0},{"$f":"AG944","v":0},{"$f":"AG967","v":0},{"$f":"AG990","v":0},{"$f":"AG1013","v":0},{"$f":"AG1036","v":0},{"$f":"AG1059","v":0},0,null,"Legende Stunden zu Zuschläge (DE)"]
[{"$f":"Labels!B21","v":"Saldo für das Jahr"},{"$f":"AG2","v":2021},null,{"$f":"IF($AE$64=0,0,$AE$64)","v":-2148.0299999999997},null,null,null,null,null,null,{"$f":"Labels!B23","v":"Saldo Vorjahresstunden (-)"},null,null,null,null,null,null,null,null,null,{"$f":"Labels!B25","v":"Ferienguthaben laufendes Jahr"},null,null,null,null,null,0,null,{"$f":"Labels!B26","v":"Stunden"},null,null,null,null,null,{"$f":"Labels!B120","v":"k"},{"$f":"AG810","v":0},{"$f":"AG833","v":0},{"$f":"AG856","v":0},{"$f":"AG879","v":0},{"$f":"AG902","v":0},{"$f":"AG925","v":0},{"$f":"AG948","v":0},{"$f":"AG971","v":0},{"$f":"AG994","v":0},{"$f":"AG1017","v":0},{"$f":"AG1040","v":0},{"$f":"AG1063","v":0},0]
[null,null,null,null,null,null,null,null,null,null,null,null,null,null,null,null,null,null,null,null,null,null,null,null,null,null,null,null,null,null,null,null,null,null,{"$f":"Labels!B122","v":"u"},0,0,0,0,0,0,0,0,0,0,0,0,0,null,"[0]","Feiertagzuschläge gemäss Anstellungsprozent"]
[{"$f":"\"01.01.\"&B5","v":"01.01.2021"},48,{"$f":"Labels!B27","v":"Max. Std / Woche gemäss GAV"},null,null,null,null,null,null,8.23,{"$f":"Labels!B28","v":"Std/Tag gemäss GAV"},null,null,null,null,{"$f":"IF(MOD(YEAR($A$7),400)=0,\"n\",IF(MOD(YEAR($A$7),100)=0,\"n\",IF(MOD(YEAR($A$7),4)=0,\"j\",\"n\")))","v":"n"},{"$f":"Labels!B29","v":"Schaltjahr (j/n)"},null,null,null,{"$f":"NETWORKDAYS(DATE(B5,1,1),DATE(B5,12,31))","v":261},{"$f":"Labels!B30","v":"Arbeitstage (Jahr)"},null,null,null,{"$f":"J7*U7","v":2148.0300000000002},{"$f":"Labels!B31","v":"Jahresbruttosollstunden"},null,null,null,null,null,null,null,{"$f":"Labels!B124","v":"s"},0,0,0,0,0,0,0,0,0,0,0,0,0,null,"[1]","Sonntag Tag Zuschlag"]
[null,null,null,null,null,null,null,null,null,null,null,null,null,null,null,null,null,null,null,null,null,null,null,null,null,null,null,null,null,null,null,null,null,null,{"$f":"Labels!B126","v":"m"},0,0,0,0,0,0,0,0,0,0,0,0,0,null,"[2]","Sonntag Nacht Zuschlag"]
[{"$f":"TEXT(AP28,\"MMMM\"&Labels!B13)","v":"Januar"},{"$f":"Labels!B32","v":"Saldo Monat + / -"},null,null,null,{"$f":"(AG12-(SUM(AG13:AG27)-AE34))*-1","v":-172.82999999999998},null,null,null,null,{"$f":"Labels!B33","v":" = "},{"$f":"Labels!B34","v":"Gelbe Felder müssen ausgefüllt werden (die übrigen werden automatisch berechnet)"},null,null,null,null,null,null,null,null,null,null,null,null,null,null,null,null,null,null,null,null,null,null,{"$f":"Labels!B130","v":"bs"},0,0,0,0,0,0,0,0,0,0,0,0,0,null,"[3]","Zuschläge für ft-Tagarbeit"]
[{"$f":"Labels!B35","v":"Tag"},{"$f":"AP28","v":"2021-01-01"},{"$f":"B10+1","v":"2021-01-02"},"2021-01-03","2021-01-04","2021-01-05","2021-01-06","2021-01-07","2021-01-08","2021-01-09","2021-01-10","2021-01-11","2021-01-12","2021-01-13","2021-01-14","2021-01-15","2021-01-16","2021-01-17","2021-01-18","2021-01-19","2021-01-20","2021-01-21","2021-01-22","2021-01-23","2021-01-24","2021-01-25","2021-01-26","2021-01-27","2021-01-28","2021-01-29","2021-01-30","2021-01-31",{"$f":"COUNT(B12:AF12)&\" \"&Labels!$B$63","v":"21 Tage"},null,{"$f":"Labels!B132","v":"ku"},0,0,0,0,0,0,0,0,0,0,0,0,0,null,"[4]","Zuschläge für ft-Nachtarbeit"]
[{"$f":"Labels!B36","v":"Kalenderwoche"},{"$f":"IF(B10=\"\",\"\",TRUNC((B10-DATE(YEAR(B10+3-MOD(B10-2,7)),1,MOD(B10-2,7)-9))/7))","v":53},{"$f":"IF(C10=\"\",\"\",TRUNC((C10-DATE(YEAR(C10+3-MOD(C10-2,7)),1,MOD(C10-2,7)-9))/7))","v":53},53,1,1,1,1,1,1,1,2,2,2,2,2,2,2,3,3,3,3,3,3,3,4,4,4,4,4,4,4,null,null,{"$f":"Labels!B128","v":"ka"},0,0,0,0,0,0,0,0,0,0,0,0,0,null,"[5]","Produktive Stunden Tag 06.00-20.00 Uhr"]
[{"$f":"Labels!B37","v":"Sollstunden"},{"$f":"IF(MOD(B10,7)>=2,$J$7*$B$4%,\"\")","v":8.23},"","",8.23,8.23,8.23,8.23,8.23,"","",8.23,8.23,8.23,8.23,8.23,"","",8.23,8.23,8.23,8.23,8.23,"","",8.23,8.23,8.23,8.23,8.23,"","",{"$f":"SUM(B12:AF12)","v":172.82999999999998},null,{"$f":"Labels!B135","v":"kv"},{"$f":"AG807","v":0},{"$f":"AG830","v":0},{"$f":"AG853","v":0},{"$f":"AG876","v":0},{"$f":"AG899","v":0},{"$f":"AG922","v":0},{"$f":"AG945","v":0},{"$f":"AG968","v":0},{"$f":"AG991","v":0},{"$f":"AG1014","v":0},{"$f":"AG1037","v":0},{"$f":"AG1060","v":0},{"$f":"SUM(AJ12:AU12)","v":0},null,"[6]","Produktive Stunden Nacht  20.00-06.00 Uhr"]
[{"$f":"Labels!B38","v":"Absenz in Std"},{"$f":"B819","v":0},{"$f":"C819","v":0},0,0,0,0,0,0,0,0,0,0,0,0,0,0,0,0,0,0,0,0,0,0,0,0,0,0,0,0,0,{"$f":"SUM(AJ3:AJ12)","v":0},null,{"$f":"Labels!B145","v":"fe"},{"$f":"AG818","v":0},{"$f":"AG841","v":0},{"$f":"AG864","v":0},{"$f":"AG887","v":0},{"$f":"AG910","v":0},{"$f":"AG933","v":0},{"$f":"AG956","v":0},{"$f":"AG979","v":0},{"$f":"AG1002","v":0},{"$f":"AG1025","v":0},{"$f":"AG1048","v":0},{"$f":"AG1071","v":0},{"$f":"SUM(AJ13:AU13)","v":0},null,"[7]","Produktive Stunden im Monat ohne Zeitzuschläge und Absenzen"]
[{"$f":"Labels!B39","v":"Code"},{"$f":"IF(B819<>0,IF(MAX(B806:B818)<B819,Labels!$B$163,INDEX($AH$806:$AH$818,MATCH(MAX(B806:B818),B806:B818,0))),\"\")","v":""},{"$f":"IF(C819<>0,IF(MAX(C806:C818)<C819,Labels!$B$163,INDEX($AH$806:$AH$818,MATCH(MAX(C806:C818),C806:C818,0))),\"\")","v":""},{"$f":"IF(D819<>0,IF(MAX(D806:D818)<D819,Labels!$B$163,INDEX($AH$806:$AH$818,MATCH(MAX(D806:D818),D806:D818,0))),\"\")","v":""},{"$f":"IF(E819<>0,IF(MAX(E806:E818)<E819,Labels!$B$163,INDEX($AH$806:$AH$818,MATCH(MAX(E806:E818),E806:E818,0))),\"\")","v":""},{"$f":"IF(F819<>0,IF(MAX(F806:F818)<F819,Labels!$B$163,INDEX($AH$806:$AH$818,MATCH(MAX(F806:F818),F806:F818,0))),\"\")","v":""},{"$f":"IF(G819<>0,IF(MAX(G806:G818)<G819,Labels!$B$163,INDEX($AH$806:$AH$818,MATCH(MAX(G806:G818),G806:G818,0))),\"\")","v":""},{"$f":"IF(H819<>0,IF(MAX(H806:H818)<H819,Labels!$B$163,INDEX($AH$806:$AH$818,MATCH(MAX(H806:H818),H806:H818,0))),\"\")","v":""},{"$f":"IF(I819<>0,IF(MAX(I806:I818)<I819,Labels!$B$163,INDEX($AH$806:$AH$818,MATCH(MAX(I806:I818),I806:I818,0))),\"\")","v":""},{"$f":"IF(J819<>0,IF(MAX(J806:J818)<J819,Labels!$B$163,INDEX($AH$806:$AH$818,MATCH(MAX(J806:J818),J806:J818,0))),\"\")","v":""},{"$f":"IF(K819<>0,IF(MAX(K806:K818)<K819,Labels!$B$163,INDEX($AH$806:$AH$818,MATCH(MAX(K806:K818),K806:K818,0))),\"\")","v":""},{"$f":"IF(L819<>0,IF(MAX(L806:L818)<L819,Labels!$B$163,INDEX($AH$806:$AH$818,MATCH(MAX(L806:L818),L806:L818,0))),\"\")","v":""},{"$f":"IF(M819<>0,IF(MAX(M806:M818)<M819,Labels!$B$163,INDEX($AH$806:$AH$818,MATCH(MAX(M806:M818),M806:M818,0))),\"\")","v":""},{"$f":"IF(N819<>0,IF(MAX(N806:N818)<N819,Labels!$B$163,INDEX($AH$806:$AH$818,MATCH(MAX(N806:N818),N806:N818,0))),\"\")","v":""},{"$f":"IF(O819<>0,IF(MAX(O806:O818)<O819,Labels!$B$163,INDEX($AH$806:$AH$818,MATCH(MAX(O806:O818),O806:O818,0))),\"\")","v":""},{"$f":"IF(P819<>0,IF(MAX(P806:P818)<P819,Labels!$B$163,INDEX($AH$806:$AH$818,MATCH(MAX(P806:P818),P806:P818,0))),\"\")","v":""},{"$f":"IF(Q819<>0,IF(MAX(Q806:Q818)<Q819,Labels!$B$163,INDEX($AH$806:$AH$818,MATCH(MAX(Q806:Q818),Q806:Q818,0))),\"\")","v":""},{"$f":"IF(R819<>0,IF(MAX(R806:R818)<R819,Labels!$B$163,INDEX($AH$806:$AH$818,MATCH(MAX(R806:R818),R806:R818,0))),\"\")","v":""},{"$f":"IF(S819<>0,IF(MAX(S806:S818)<S819,Labels!$B$163,INDEX($AH$806:$AH$818,MATCH(MAX(S806:S818),S806:S818,0))),\"\")","v":""},{"$f":"IF(T819<>0,IF(MAX(T806:T818)<T819,Labels!$B$163,INDEX($AH$806:$AH$818,MATCH(MAX(T806:T818),T806:T818,0))),\"\")","v":""},{"$f":"IF(U819<>0,IF(MAX(U806:U818)<U819,Labels!$B$163,INDEX($AH$806:$AH$818,MATCH(MAX(U806:U818),U806:U818,0))),\"\")","v":""},{"$f":"IF(V819<>0,IF(MAX(V806:V818)<V819,Labels!$B$163,INDEX($AH$806:$AH$818,MATCH(MAX(V806:V818),V806:V818,0))),\"\")","v":""},{"$f":"IF(W819<>0,IF(MAX(W806:W818)<W819,Labels!$B$163,INDEX($AH$806:$AH$818,MATCH(MAX(W806:W818),W806:W818,0))),\"\")","v":""},{"$f":"IF(X819<>0,IF(MAX(X806:X818)<X819,Labels!$B$163,INDEX($AH$806:$AH$818,MATCH(MAX(X806:X818),X806:X818,0))),\"\")","v":""},{"$f":"IF(Y819<>0,IF(MAX(Y806:Y818)<Y819,Labels!$B$163,INDEX($AH$806:$AH$818,MATCH(MAX(Y806:Y818),Y806:Y818,0))),\"\")","v":""},{"$f":"IF(Z819<>0,IF(MAX(Z806:Z818)<Z819,Labels!$B$163,INDEX($AH$806:$AH$818,MATCH(MAX(Z806:Z818),Z806:Z818,0))),\"\")","v":""},{"$f":"IF(AA819<>0,IF(MAX(AA806:AA818)<AA819,Labels!$B$163,INDEX($AH$806:$AH$818,MATCH(MAX(AA806:AA818),AA806:AA818,0))),\"\")","v":""},{"$f":"IF(AB819<>0,IF(MAX(AB806:AB818)<AB819,Labels!$B$163,INDEX($AH$806:$AH$818,MATCH(MAX(AB806:AB818),AB806:AB818,0))),\"\")","v":""},{"$f":"IF(AC819<>0,IF(MAX(AC806:AC818)<AC819,Labels!$B$163,INDEX($AH$806:$AH$818,MATCH(MAX(AC806:AC818),AC806:AC818,0))),\"\")","v":""},{"$f":"IF(AD819<>0,IF(MAX(AD806:AD818)<AD819,Labels!$B$163,INDEX($AH$806:$AH$818,MATCH(MAX(AD806:AD818),AD806:AD818,0))),\"\")","v":""},{"$f":"IF(AE819<>0,IF(MAX(AE806:AE818)<AE819,Labels!$B$163,INDEX($AH$806:$AH$818,MATCH(MAX(AE806:AE818),AE806:AE818,0))),\"\")","v":""},{"$f":"IF(AF819<>0,IF(MAX(AF806:AF818)<AF819,Labels!$B$163,INDEX($AH$806:$AH$818,MATCH(MAX(AF806:AF818),AF806:AF818,0))),\"\")","v":""},null,null,{"$f":"Labels!B137","v":"kj"},{"$f":"AG808","v":0},{"$f":"AG831","v":0},{"$f":"AG854","v":0},{"$f":"AG877","v":0},{"$f":"AG900","v":0},{"$f":"AG923","v":0},{"$f":"AG946","v":0},{"$f":"AG969","v":0},{"$f":"AG992","v":0},{"$f":"AG1015","v":0},{"$f":"AG1038","v":0},{"$f":"AG1061","v":0},{"$f":"SUM(AJ14:AU14)","v":0},null,"[8]","Unproduktive Stunden (Feiertag, Absenzen)"]
[{"$f":"Labels!B40","v":"00.00-06.00h"},null,null,null,null,null,null,null,null,null,null,null,null,null,null,null,null,null,null,null,null,null,null,null,null,null,null,null,null,null,null,null,{"$f":"SUM(B15:AF15)","v":0},null,{"$f":"Labels!B118","v":"ft"},{"$f":"SUMIF($B$18:$AF$18,$AI$15,$B$19:$AF$19)","v":0},{"$f":"SUMIF($B$81:$AD$81,$AI$15,$B$82:$AD$82)","v":0},{"$f":"SUMIF($B$144:$AF$144,$AI$15,$B$145:$AF$145)","v":0},{"$f":"SUMIF($B$207:$AE$207,$AI$15,$B$208:$AE$208)","v":0},{"$f":"SUMIF($B$270:$AF$270,$AI$15,$B$271:$AF$271)","v":0},{"$f":"SUMIF($B$333:$AE$333,$AI$15,$B$334:$AE$334)","v":0},{"$f":"SUMIF($B$396:$AF$396,$AI$15,$B$397:$AF$397)","v":0},{"$f":"SUMIF($B$459:$AF$459,$AI$15,$B$460:$AF$460)","v":0},{"$f":"SUMIF($B$522:$AE$522,$AI$15,$B$523:$AE$523)","v":0},{"$f":"SUMIF($B$585:$AF$585,$AI$15,$B$586:$AF$586)","v":0},{"$f":"SUMIF($B$648:$AE$648,$AI$15,$B$649:$AE$649)","v":0},{"$f":"SUMIF($B$711:$AF$711,$AI$15,$B$712:$AF$712)","v":0},0,null,"[9]","Total  gearbeitete Std. im Monat mit Zeitzuschlägen und Absenzen abz. ausbezahlte Stunden"]
[{"$f":"Labels!B41","v":"06.00-20.00h"},null,null,null,null,null,null,null,null,null,null,null,null,null,null,null,null,null,null,null,null,null,null,null,null,null,null,null,null,null,null,null,{"$f":"SUM(B16:AF16)","v":0},null,{"$f":"Labels!B160","v":"Anzahl ft"},{"$f":"COUNTIF($B$18:$AF$18,$AI$15)","v":0},{"$f":"COUNTIF($B$81:$AD$81,$AI$15)","v":0},{"$f":"COUNTIF($B$144:$AF$144,$AI$15)","v":0},{"$f":"COUNTIF($B$207:$AE$207,$AI$15)","v":0},{"$f":"COUNTIF($B$270:$AF$270,$AI$15)","v":0},{"$f":"COUNTIF($B$333:$AE$333,$AI$15)","v":0},{"$f":"COUNTIF($B$396:$AF$396,$AI$15)","v":0},{"$f":"COUNTIF($B$459:$AF$459,$AI$15)","v":0},{"$f":"COUNTIF($B$522:$AE$522,$AI$15)","v":0},{"$f":"COUNTIF($B$585:$AF$585,$AI$15)","v":0},{"$f":"COUNTIF($B$648:$AE$648,$AI$15)","v":0},{"$f":"COUNTIF($B$711:$AF$711,$AI$15)","v":0},0,null,"[10]","Soll-Stunden"]
[{"$f":"Labels!B42","v":"20.00-24.00h"},null,null,null,null,null,null,null,null,null,null,null,null,null,null,null,null,null,null,null,null,null,null,null,null,null,null,null,null,null,null,null,{"$f":"SUM(B17:AF17)","v":0},null,{"$f":"Labels!B161","v":"Meldung"},{"$f":"IF($AV$16>9,\"(\" & $AV$16 & \" = \" & Labels!B117,\"\")","v":""},null,null,null,null,null,null,null,null,null,null,null,null,null,"[11]","Vergleich im Monat gearbeitete Std. inkl. Zeitzuschläge minus Zahlung Vorjahr zu Soll-Stunden + / -"]
[{"$f":"Labels!B43","v":"Feiertag \"ft\""},{"$f":"IF(WEEKDAY(B10,2)<=6,IF(KALENDER!E3=\"x\",Labels!$B$118,\"\"),\"\")","v":""},{"$f":"IF(WEEKDAY(C10,2)<=6,IF(KALENDER!F3=\"x\",Labels!$B$118,\"\"),\"\")","v":""},{"$f":"IF(WEEKDAY(D10,2)<=6,IF(KALENDER!G3=\"x\",Labels!$B$118,\"\"),\"\")","v":""},{"$f":"IF(WEEKDAY(E10,2)<=6,IF(KALENDER!H3=\"x\",Labels!$B$118,\"\"),\"\")","v":""},{"$f":"IF(WEEKDAY(F10,2)<=6,IF(KALENDER!I3=\"x\",Labels!$B$118,\"\"),\"\")","v":""},{"$f":"IF(WEEKDAY(G10,2)<=6,IF(KALENDER!J3=\"x\",Labels!$B$118,\"\"),\"\")","v":""},{"$f":"IF(WEEKDAY(H10,2)<=6,IF(KALENDER!K3=\"x\",Labels!$B$118,\"\"),\"\")","v":""},{"$f":"IF(WEEKDAY(I10,2)<=6,IF(KALENDER!L3=\"x\",Labels!$B$118,\"\"),\"\")","v":""},{"$f":"IF(WEEKDAY(J10,2)<=6,IF(KALENDER!M3=\"x\",Labels!$B$118,\"\"),\"\")","v":""},{"$f":"IF(WEEKDAY(K10,2)<=6,IF(KALENDER!N3=\"x\",Labels!$B$118,\"\"),\"\")","v":""},{"$f":"IF(WEEKDAY(L10,2)<=6,IF(KALENDER!O3=\"x\",Labels!$B$118,\"\"),\"\")","v":""},{"$f":"IF(WEEKDAY(M10,2)<=6,IF(KALENDER!P3=\"x\",Labels!$B$118,\"\"),\"\")","v":""},{"$f":"IF(WEEKDAY(N10,2)<=6,IF(KALENDER!Q3=\"x\",Labels!$B$118,\"\"),\"\")","v":""},{"$f":"IF(WEEKDAY(O10,2)<=6,IF(KALENDER!R3=\"x\",Labels!$B$118,\"\"),\"\")","v":""},{"$f":"IF(WEEKDAY(P10,2)<=6,IF(KALENDER!S3=\"x\",Labels!$B$118,\"\"),\"\")","v":""},{"$f":"IF(WEEKDAY(Q10,2)<=6,IF(KALENDER!T3=\"x\",Labels!$B$118,\"\"),\"\")","v":""},{"$f":"IF(WEEKDAY(R10,2)<=6,IF(KALENDER!U3=\"x\",Labels!$B$118,\"\"),\"\")","v":""},{"$f":"IF(WEEKDAY(S10,2)<=6,IF(KALENDER!V3=\"x\",Labels!$B$118,\"\"),\"\")","v":""},{"$f":"IF(WEEKDAY(T10,2)<=6,IF(KALENDER!W3=\"x\",Labels!$B$118,\"\"),\"\")","v":""},{"$f":"IF(WEEKDAY(U10,2)<=6,IF(KALENDER!X3=\"x\",Labels!$B$118,\"\"),\"\")","v":""},{"$f":"IF(WEEKDAY(V10,2)<=6,IF(KALENDER!Y3=\"x\",Labels!$B$118,\"\"),\"\")","v":""},{"$f":"IF(WEEKDAY(W10,2)<=6,IF(KALENDER!Z3=\"x\",Labels!$B$118,\"\"),\"\")","v":""},{"$f":"IF(WEEKDAY(X10,2)<=6,IF(KALENDER!AA3=\"x\",Labels!$B$118,\"\"),\"\")","v":""},{"$f":"IF(WEEKDAY(Y10,2)<=6,IF(KALENDER!AB3=\"x\",Labels!$B$118,\"\"),\"\")","v":""},{"$f":"IF(WEEKDAY(Z10,2)<=6,IF(KALENDER!AC3=\"x\",Labels!$B$118,\"\"),\"\")","v":""},{"$f":"IF(WEEKDAY(AA10,2)<=6,IF(KALENDER!AD3=\"x\",Labels!$B$118,\"\"),\"\")","v":""},{"$f":"IF(WEEKDAY(AB10,2)<=6,IF(KALENDER!AE3=\"x\",Labels!$B$118,\"\"),\"\")","v":""},{"$f":"IF(WEEKDAY(AC10,2)<=6,IF(KALENDER!AF3=\"x\",Labels!$B$118,\"\"),\"\")","v":""},{"$f":"IF(WEEKDAY(AD10,2)<=6,IF(KALENDER!AG3=\"x\",Labels!$B$118,\"\"),\"\")","v":""},{"$f":"IF(WEEKDAY(AE10,2)<=6,IF(KALENDER!AH3=\"x\",Labels!$B$118,\"\"),\"\")","v":""},{"$f":"IF(WEEKDAY(AF10,2)<=6,IF(KALENDER!AI3=\"x\",Labels!$B$118,\"\"),\"\")","v":""},null,"[0]","Bez VoJa",{"$f":"$AE$33","v":0},{"$f":"$AE$96","v":0},{"$f":"$AE$159","v":0},{"$f":"$AE$222","v":0},{"$f":"$AE$285","v":0},{"$f":"$AE$348","v":0},{"$f":"$AE$411","v":0},{"$f":"$AE$474","v":0},{"$f":"$AE$537","v":0},null,null,null,{"$f":"SUM(AJ18:AU18)","v":0}]
[{"$f":"Labels!B44","v":"Gutschrift \"ft\""},{"$f":"IF(AND(B18=Labels!$B$118,WEEKDAY(B10,2)<6),$J$7*$B$4%,\"\")","v":""},{"$f":"IF(AND(C18=Labels!$B$118,WEEKDAY(C10,2)<6),$J$7*$B$4%,\"\")","v":""},{"$f":"IF(AND(D18=Labels!$B$118,WEEKDAY(D10,2)<6),$J$7*$B$4%,\"\")","v":""},{"$f":"IF(AND(E18=Labels!$B$118,WEEKDAY(E10,2)<6),$J$7*$B$4%,\"\")","v":""},{"$f":"IF(AND(F18=Labels!$B$118,WEEKDAY(F10,2)<6),$J$7*$B$4%,\"\")","v":""},{"$f":"IF(AND(G18=Labels!$B$118,WEEKDAY(G10,2)<6),$J$7*$B$4%,\"\")","v":""},{"$f":"IF(AND(H18=Labels!$B$118,WEEKDAY(H10,2)<6),$J$7*$B$4%,\"\")","v":""},{"$f":"IF(AND(I18=Labels!$B$118,WEEKDAY(I10,2)<6),$J$7*$B$4%,\"\")","v":""},{"$f":"IF(AND(J18=Labels!$B$118,WEEKDAY(J10,2)<6),$J$7*$B$4%,\"\")","v":""},{"$f":"IF(AND(K18=Labels!$B$118,WEEKDAY(K10,2)<6),$J$7*$B$4%,\"\")","v":""},{"$f":"IF(AND(L18=Labels!$B$118,WEEKDAY(L10,2)<6),$J$7*$B$4%,\"\")","v":""},{"$f":"IF(AND(M18=Labels!$B$118,WEEKDAY(M10,2)<6),$J$7*$B$4%,\"\")","v":""},{"$f":"IF(AND(N18=Labels!$B$118,WEEKDAY(N10,2)<6),$J$7*$B$4%,\"\")","v":""},{"$f":"IF(AND(O18=Labels!$B$118,WEEKDAY(O10,2)<6),$J$7*$B$4%,\"\")","v":""},{"$f":"IF(AND(P18=Labels!$B$118,WEEKDAY(P10,2)<6),$J$7*$B$4%,\"\")","v":""},{"$f":"IF(AND(Q18=Labels!$B$118,WEEKDAY(Q10,2)<6),$J$7*$B$4%,\"\")","v":""},{"$f":"IF(AND(R18=Labels!$B$118,WEEKDAY(R10,2)<6),$J$7*$B$4%,\"\")","v":""},{"$f":"IF(AND(S18=Labels!$B$118,WEEKDAY(S10,2)<6),$J$7*$B$4%,\"\")","v":""},{"$f":"IF(AND(T18=Labels!$B$118,WEEKDAY(T10,2)<6),$J$7*$B$4%,\"\")","v":""},{"$f":"IF(AND(U18=Labels!$B$118,WEEKDAY(U10,2)<6),$J$7*$B$4%,\"\")","v":""},{"$f":"IF(AND(V18=Labels!$B$118,WEEKDAY(V10,2)<6),$J$7*$B$4%,\"\")","v":""},{"$f":"IF(AND(W18=Labels!$B$118,WEEKDAY(W10,2)<6),$J$7*$B$4%,\"\")","v":""},{"$f":"IF(AND(X18=Labels!$B$118,WEEKDAY(X10,2)<6),$J$7*$B$4%,\"\")","v":""},{"$f":"IF(AND(Y18=Labels!$B$118,WEEKDAY(Y10,2)<6),$J$7*$B$4%,\"\")","v":""},{"$f":"IF(AND(Z18=Labels!$B$118,WEEKDAY(Z10,2)<6),$J$7*$B$4%,\"\")","v":""},{"$f":"IF(AND(AA18=Labels!$B$118,WEEKDAY(AA10,2)<6),$J$7*$B$4%,\"\")","v":""},{"$f":"IF(AND(AB18=Labels!$B$118,WEEKDAY(AB10,2)<6),$J$7*$B$4%,\"\")","v":""},{"$f":"IF(AND(AC18=Labels!$B$118,WEEKDAY(AC10,2)<6),$J$7*$B$4%,\"\")","v":""},{"$f":"IF(AND(AD18=Labels!$B$118,WEEKDAY(AD10,2)<6),$J$7*$B$4%,\"\")","v":""},{"$f":"IF(AND(AE18=Labels!$B$118,WEEKDAY(AE10,2)<6),$J$7*$B$4%,\"\")","v":""},{"$f":"IF(AND(AF18=Labels!$B$118,WEEKDAY(AF10,2)<6),$J$7*$B$4%,\"\")","v":""},{"$f":"SUM(B19:AF19)","v":0},null,"Bez LaJa",{"$f":"$AE$34","v":0},{"$f":"$AE$97","v":0},{"$f":"$AE$160","v":0},{"$f":"$AE$223","v":0},{"$f":"$AE$286","v":0},{"$f":"$AE$349","v":0},{"$f":"$AE$412","v":0},{"$f":"$AE$475","v":0},{"$f":"$AE$538","v":0},{"$f":"$AE$601","v":0},{"$f":"$AE$664","v":0},{"$f":"$AE$727","v":0},{"$f":"SUM(AJ19:AU19)","v":0}]
[{"$f":"Labels!B45","v":"Tagestotal"},{"$f":"SUM(B15:B17)","v":0},{"$f":"SUM(C15:C17)","v":0},0,0,0,0,0,0,0,0,0,0,0,0,0,0,0,0,0,0,0,0,0,0,0,0,0,0,0,0,0,null,null,"Zuschläge Nacht/Sonn-/Feiertag",{"$f":"SUM(AG26+AG27)","v":0},{"$f":"SUM(AG89+AG90)","v":0},{"$f":"SUM(AG152+AG153)","v":0},{"$f":"SUM(AG215+AG216)","v":0},{"$f":"SUM(AG278+AG279)","v":0},{"$f":"SUM(AG341+AG342)","v":0},{"$f":"SUM(AG404+AG405)","v":0},{"$f":"SUM(AG467+AG468)","v":0},{"$f":"SUM(AG530+AG531)","v":0},{"$f":"SUM(AG593+AG594)","v":0},{"$f":"SUM(AG656+AG657)","v":0},{"$f":"SUM(AG719+AG720)","v":0},{"$f":"SUM(AJ20:AU20)","v":0},null,"Legende Absenztypen (DE)"]
[{"$f":"Labels!B46","v":"."}]
[{"$f":"Labels!B47","v":"."},null,null,null,null,null,null,null,null,null,null,null,null,null,null,null,null,null,null,null,null,null,null,null,null,null,null,null,null,null,null,null,null,null,null,null,null,null,null,null,null,null,null,null,null,null,null,null,null,"a","Absenzen, Kurzabsenzen\nArt. 11 GAV"]
[{"$f":"Labels!B48","v":"Monatsübergang"},{"$f":"IF(WEEKDAY(B10)=1,TEXT(B10-1,\"MMM\"&Labels!B13),\"\")","v":""},null,null,null,null,null,null,null,null,null,null,null,null,null,null,null,null,null,null,null,null,null,null,null,null,null,null,null,null,null,{"$f":"IF(AND(WEEKDAY(AF10)>1,WEEKDAY(AF10)<7),TEXT(DATE($B$5,MONTH(AF10)+1,1),\"MMM\"&Labels!B13),\"\")","v":""},null,null,null,null,null,null,null,null,null,null,null,null,null,null,null,null,null,"f","Ferien Art. 12.1. GAV"]
[{"$f":"Labels!B49","v":"Wochentotal"},{"$f":"IF(WEEKDAY(B10)=7,SUMIF($B11:$AF11,B11,$B20:$AF20)+SUMIF($B74:$AD74,B11,$B83:$AD83),IF(WEEKDAY(B10)=1,SUMIF($B11:$AF11,B11,$B20:$AF20)+SUMIF($B74:$AD74,B11,$B83:$AD83),\"\"))","v":""},{"$f":"IF(WEEKDAY(C10)=7,SUMIF($B11:$AF11,C11,$B20:$AF20)+SUMIF($B74:$AD74,C11,$B83:$AD83),\"\")","v":0},"","","","","","",0,"","","","","","",0,"","","","","","",0,"","","","","","",0,{"$f":"IF(WEEKDAY(AF10)=7,SUMIF($B11:$AF11,AF11,$B20:$AF20)+SUMIF($B74:$AD74,AF11,$B83:$AD83),AF23)","v":""},null,null,null,null,null,null,null,null,null,null,null,null,null,null,null,null,null,"k","Krankheit Art. 13 GAV"]
[{"$f":"Labels!B50","v":"Zeitzuschlag 1)"},{"$f":"IF(B32=\"FALSCH\",\"\",B32)","v":""},{"$f":"IF(C32=\"FALSCH\",\"\",C32)","v":""},"","","","","","","","","","","","","","","","","","","","","","","","","","","","","",{"$f":"SUM(B25:AF25)","v":0},null,null,null,null,null,null,null,null,null,null,null,null,null,null,null,null,"m","Militär, Zivilschutz\nArt. 16 GAV"]
[{"$f":"Labels!B51","v":"Zeitzuschlag 2)"},{"$f":"IF((B15+B17)=0,\"\",SUM(B15,B17))","v":""},{"$f":"IF((C15+C17)=0,\"\",SUM(C15,C17))","v":""},{"$f":"IF((D15+D17)=0,\"\",SUM(D15,D17))","v":""},{"$f":"IF((E15+E17)=0,\"\",SUM(E15,E17))","v":""},"","","","","","","","","","","","","","","","","","","","","","","","","","","",0,"[1]","Konfiguration (lokal)",null,null,null,null,null,null,null,null,null,null,null,null,null,null,"s","Schwanger-/Mutterschaft\nArt. 15 GAV"]
[{"$f":"Labels!B52","v":"Zeitzuschlag 3)"},{"$f":"SUM(B28:B31)","v":0},0,0,0,0,0,0,0,0,0,0,0,0,0,0,0,0,0,0,0,0,0,0,0,0,0,0,0,0,0,0,{"$f":"SUM(B27:AF27)","v":0},"[2]",null,null,null,null,null,null,null,null,null,null,null,null,null,null,null,"u","Unfall Art. 14 GAV"]
[{"$f":"Labels!B53","v":"Sonntag Tag"},{"$f":"IF(WEEKDAY(B10)=1,B16,\"\")","v":""},{"$f":"IF(WEEKDAY(C10)=1,C16,\"\")","v":""},0,"","","","","","",0,"","","","","","",0,"","","","","","",0,"","","","","","",0,0,"[3]","Erster Januar aktuelles Jahr",null,null,null,null,null,null,{"$f":"DATE(YEAR($A$7),MONTH($A$7),DAY($A$7))","v":"2021-01-01"},null,null,null,null,null,null,null,"bs","Berufsschule"]
[{"$f":"Labels!B54","v":"Sonntag Nacht"},{"$f":"IF(WEEKDAY(B10)=1,SUM(B15+B17),\"\")","v":""},{"$f":"IF(WEEKDAY(C10)=1,SUM(C15+C17),\"\")","v":""},0,"","","","","","",0,"","","","","","",0,"","","","","","",0,"","","","","","",0,0,"[4]","(Berechnungsgrundlage Kalender)",null,null,null,null,null,null,null,null,null,null,null,null,null,null,"fe","Fehlstunden zur Information ohne Berechnung in der Zusammenfassung"]
[{"$f":"Labels!B55","v":"ft-Tazuschlag"},{"$f":"IF(B18=Labels!$B$118,B16,\"\")","v":""},{"$f":"IF(C18=Labels!$B$118,C16,\"\")","v":""},{"$f":"IF(D18=Labels!$B$118,D16,\"\")","v":""},{"$f":"IF(E18=Labels!$B$118,E16,\"\")","v":""},{"$f":"IF(F18=Labels!$B$118,F16,\"\")","v":""},{"$f":"IF(G18=Labels!$B$118,G16,\"\")","v":""},{"$f":"IF(H18=Labels!$B$118,H16,\"\")","v":""},{"$f":"IF(I18=Labels!$B$118,I16,\"\")","v":""},{"$f":"IF(J18=Labels!$B$118,J16,\"\")","v":""},{"$f":"IF(K18=Labels!$B$118,K16,\"\")","v":""},{"$f":"IF(L18=Labels!$B$118,L16,\"\")","v":""},{"$f":"IF(M18=Labels!$B$118,M16,\"\")","v":""},{"$f":"IF(N18=Labels!$B$118,N16,\"\")","v":""},{"$f":"IF(O18=Labels!$B$118,O16,\"\")","v":""},{"$f":"IF(P18=Labels!$B$118,P16,\"\")","v":""},{"$f":"IF(Q18=Labels!$B$118,Q16,\"\")","v":""},{"$f":"IF(R18=Labels!$B$118,R16,\"\")","v":""},{"$f":"IF(S18=Labels!$B$118,S16,\"\")","v":""},{"$f":"IF(T18=Labels!$B$118,T16,\"\")","v":""},{"$f":"IF(U18=Labels!$B$118,U16,\"\")","v":""},{"$f":"IF(V18=Labels!$B$118,V16,\"\")","v":""},{"$f":"IF(W18=Labels!$B$118,W16,\"\")","v":""},{"$f":"IF(X18=Labels!$B$118,X16,\"\")","v":""},{"$f":"IF(Y18=Labels!$B$118,Y16,\"\")","v":""},{"$f":"IF(Z18=Labels!$B$118,Z16,\"\")","v":""},{"$f":"IF(AA18=Labels!$B$118,AA16,\"\")","v":""},{"$f":"IF(AB18=Labels!$B$118,AB16,\"\")","v":""},{"$f":"IF(AC18=Labels!$B$118,AC16,\"\")","v":""},{"$f":"IF(AD18=Labels!$B$118,AD16,\"\")","v":""},{"$f":"IF(AE18=Labels!$B$118,AE16,\"\")","v":""},{"$f":"IF(AF18=Labels!$B$118,AF16,\"\")","v":""},0,"[5]",null,null,null,null,null,null,null,null,null,null,null,null,null,null,null,"ka","Kurzabeit, Schlechtwetterausfälle"]
[{"$f":"Labels!B56","v":"ft-Nazuschlag"},{"$f":"IF(B18=Labels!$B$118,SUM(B15,B17),\"\")","v":""},{"$f":"IF(C18=Labels!$B$118,SUM(C15,C17),\"\")","v":""},{"$f":"IF(D18=Labels!$B$118,SUM(D15,D17),\"\")","v":""},{"$f":"IF(E18=Labels!$B$118,SUM(E15,E17),\"\")","v":""},{"$f":"IF(F18=Labels!$B$118,SUM(F15,F17),\"\")","v":""},{"$f":"IF(G18=Labels!$B$118,SUM(G15,G17),\"\")","v":""},{"$f":"IF(H18=Labels!$B$118,SUM(H15,H17),\"\")","v":""},{"$f":"IF(I18=Labels!$B$118,SUM(I15,I17),\"\")","v":""},{"$f":"IF(J18=Labels!$B$118,SUM(J15,J17),\"\")","v":""},{"$f":"IF(K18=Labels!$B$118,SUM(K15,K17),\"\")","v":""},{"$f":"IF(L18=Labels!$B$118,SUM(L15,L17),\"\")","v":""},{"$f":"IF(M18=Labels!$B$118,SUM(M15,M17),\"\")","v":""},{"$f":"IF(N18=Labels!$B$118,SUM(N15,N17),\"\")","v":""},{"$f":"IF(O18=Labels!$B$118,SUM(O15,O17),\"\")","v":""},{"$f":"IF(P18=Labels!$B$118,SUM(P15,P17),\"\")","v":""},{"$f":"IF(Q18=Labels!$B$118,SUM(Q15,Q17),\"\")","v":""},{"$f":"IF(R18=Labels!$B$118,SUM(R15,R17),\"\")","v":""},{"$f":"IF(S18=Labels!$B$118,SUM(S15,S17),\"\")","v":""},{"$f":"IF(T18=Labels!$B$118,SUM(T15,T17),\"\")","v":""},{"$f":"IF(U18=Labels!$B$118,SUM(U15,U17),\"\")","v":""},{"$f":"IF(V18=Labels!$B$118,SUM(V15,V17),\"\")","v":""},{"$f":"IF(W18=Labels!$B$118,SUM(W15,W17),\"\")","v":""},{"$f":"IF(X18=Labels!$B$118,SUM(X15,X17),\"\")","v":""},{"$f":"IF(Y18=Labels!$B$118,SUM(Y15,Y17),\"\")","v":""},{"$f":"IF(Z18=Labels!$B$118,SUM(Z15,Z17),\"\")","v":""},{"$f":"IF(AA18=Labels!$B$118,SUM(AA15,AA17),\"\")","v":""},{"$f":"IF(AB18=Labels!$B$118,SUM(AB15,AB17),\"\")","v":""},{"$f":"IF(AC18=Labels!$B$118,SUM(AC15,AC17),\"\")","v":""},{"$f":"IF(AD18=Labels!$B$118,SUM(AD15,AD17),\"\")","v":""},{"$f":"IF(AE18=Labels!$B$118,SUM(AE15,AE17),\"\")","v":""},{"$f":"IF(AF18=Labels!$B$118,SUM(AF15,AF17),\"\")","v":""},0,"[6]","Hilfszelle Feiertage",null,null,null,null,null,null,null,{"$f":"Labels!$B$118","v":"ft"},null,null,null,null,null,null,"kj","Kompensation laufendes Jahr siehe  Zusammenfassung"]
[{"$f":"Labels!B57","v":"Zuschlag  blind (Wochentotal)"},{"$f":"IF(OR(ISTEXT(B24),B24=\"\",B24<$B$7),\"\",ROUND(((B24-$B$7)*25%)/25,4)*25)","v":""},{"$f":"IF(OR(ISTEXT(C24),C24=\"\",C24<$B$7),\"\",ROUND(((C24-$B$7)*25%)/25,4)*25)","v":""},"","","","","","","","","","","","","","","","","","","","","","","","","","","","","",{"$f":"AG16","v":0},"[7]",null,null,null,null,null,null,null,null,null,null,null,null,null,null,null,"ku","Kurse"]
[null,{"$f":"Labels!B58","v":"1)   25% Zeitzuschlag für Überschreitung Wochentotal"},null,null,null,null,null,null,null,null,null,{"$f":"Labels!B59","v":"2) 100% Zeitzuschlag für Nachtarbeit"},null,null,null,null,null,null,null,{"$f":"Labels!B61","v":"Eingabe der ausbezahlten Stunden Vorjahressaldo"},null,null,null,null,null,null,null,null,null,null,null,null,{"$f":"SUM(AG15+AG17)","v":0},"[8]","aktueller Kalender",null,"calendar",null,null,null,null,null,"KALENDER",null,null,null,null,null,null,"kv","Kompensation Vorjahressaldo für Abrechnung in der Zusammenfassung"]
[null,{"$f":"Labels!B60","v":"3) 100% Zeitzuschlag für Sonn- und Feiertagsarbeit"},null,null,null,null,null,null,null,null,null,null,null,null,null,null,null,null,null,{"$f":"Labels!B62","v":"Eingabe der ausbezahlten Stunden laufendes Jahr (Überstunden)"},null,null,null,null,null,null,null,null,null,null,null,null,{"$f":"SUM(AG15:AG17)","v":0},"[9]"]
[{"$f":"Labels!B159","v":"Bemerkungen"},null,null,null,null,null,null,null,null,null,null,null,null,null,null,null,null,null,null,null,null,null,null,null,null,null,null,null,null,null,null,null,{"$f":"SUM(AG13+AG19)","v":0},"[10]"]
[null,null,null,null,null,null,null,null,null,null,null,null,null,null,null,null,null,null,null,null,null,null,null,null,null,null,null,null,null,null,null,null,{"$f":"SUM(AG13:AG27)","v":0},"[11]","alter Kalender",null,"calendar1",null,null,null,null,null,"Kalender Müller"]
[null,null,null,null,null,null,null,null,null,null,null,null,null,null,null,null,null,null,null,null,null,null,null,null,null,null,null,null,null,null,null,null,{"$f":"AG12","v":172.82999999999998},null,"neuer Kalender",null,"calendar",null,null,null,null,null,"KALENDER",null,null,null,null,null,null,"Meldungen & Beschriftungen"]
[null,null,null,null,null,null,null,null,null,null,null,null,null,null,null,null,null,null,null,null,null,null,null,null,null,null,null,null,null,null,null,null,{"$f":"SUM(AG36-AG12)","v":-172.82999999999998}]
[{"$f":"Labels!B103","v":"Zusammenstellung"},null,null,null,null,null,{"$f":"Labels!B77","v":"Jan"},null,{"$f":"Labels!B78","v":"Feb"},null,{"$f":"Labels!B79","v":"Mrz"},null,{"$f":"Labels!B80","v":"Apr"},null,{"$f":"Labels!B81","v":"Mai"},null,{"$f":"Labels!B82","v":"Jun"},null,{"$f":"Labels!B83","v":"Jul"},null,{"$f":"Labels!B84","v":"Aug"},null,{"$f":"Labels!B85","v":"Sep"},null,{"$f":"Labels!B86","v":"Okt"},null,{"$f":"Labels!B87","v":"Nov"},null,{"$f":"Labels!B88","v":"Dez"},null,{"$f":"Labels!B101","v":"Jahr"},null,null,null,null,null,null,null,null,null,null,null,null,null,null,null,null,null,null,null,{"$f":"\"Das Vorjahresguthaben beträgt noch \"&TEXT(W60,\"0.0000\")&\" Std.\"","v":"Das Vorjahresguthaben beträgt noch 0.0000 Std."}]
[{"$f":"Labels!B20","v":"Anstellung %"},null,null,null,null,null,{"$f":"IF($B$4=0,0,$B$4)","v":100},null,{"$f":"IF($B$70=0,0,$B$70)","v":100},null,{"$f":"IF($B$133=0,0,$B$133)","v":100},null,{"$f":"IF($B$196=0,0,$B$196)","v":100},null,{"$f":"IF($B$259=0,0,$B$259)","v":100},null,{"$f":"IF($B$322=0,0,$B$322)","v":100},null,{"$f":"IF($B$385=0,0,$B$385)","v":100},null,{"$f":"IF($B$448=0,0,$B$448)","v":100},null,{"$f":"IF($B$511=0,0,$B$511)","v":100},null,{"$f":"IF($B$574=0,0,$B$574)","v":100},null,{"$f":"IF($B$637=0,0,$B$637)","v":100},null,{"$f":"IF($B$700=0,0,$B$700)","v":100},null,null,null,null,null,null,null,null,null,null,null,null,null,null,null,null,null,null,null,null,null,"Total"]
[{"$f":"Labels!B104","v":"Sollstunden gemäss GAV"},null,null,null,null,null,{"$f":"IF($AG$37=0,0,$AG$37)","v":172.82999999999998},null,{"$f":"IF($AG$100=0,0,$AG$100)","v":164.6},null,{"$f":"IF($AG$138=0,0,$AG$138)","v":189.28999999999996},null,{"$f":"IF($AG$226=0,0,$AG$226)","v":181.05999999999997},null,{"$f":"IF($AG$289=0,0,$AG$289)","v":172.82999999999998},null,{"$f":"IF($AG$352=0,0,$AG$352)","v":181.05999999999997},null,{"$f":"IF($AG$415=0,0,$AG$415)","v":181.05999999999997},null,{"$f":"IF($AG$478=0,0,$AG$478)","v":181.05999999999997},null,{"$f":"IF($AG$541=0,0,$AG$541)","v":181.05999999999997},null,{"$f":"IF($AG$604=0,0,$AG$604)","v":172.82999999999998},null,{"$f":"IF($AG$667=0,0,$AG$667)","v":181.05999999999997},null,{"$f":"IF($AG$730=0,0,$AG$730)","v":189.28999999999996},null,{"$f":"SUM(G41:AD41)","v":2148.0299999999997}]
[{"$f":"Labels!B105","v":"Produktive Stunden"},{"$f":"Labels!B106","v":"06.00 - 20.00 Uhr"},null,null,null,null,{"$f":"IF($AG$32=0,0,$AG$32)","v":0},null,{"$f":"IF($AG$95=0,0,$AG$95)","v":0},null,{"$f":"IF($AG$158=0,0,$AG$158)","v":0},null,{"$f":"IF($AG$221=0,0,$AG$221)","v":0},null,{"$f":"IF($AG$284=0,0,$AG$284)","v":0},null,{"$f":"IF($AG$347=0,0,$AG$347)","v":0},null,{"$f":"IF($AG$410=0,0,$AG$410)","v":0},null,{"$f":"IF($AG$473=0,0,$AG$473)","v":0},null,{"$f":"IF($AG$536=0,0,$AG$536)","v":0},null,{"$f":"IF($AG$599=0,0,$AG$599)","v":0},null,{"$f":"IF($AG$662=0,0,$AG$662)","v":0},null,{"$f":"IF($AG$725=0,0,$AG$725)","v":0},null,{"$f":"SUM(G42:AD42)","v":0}]
[null,{"$f":"Labels!B107","v":"Nacht-, Sonn-, Feiertagsarbeit"},null,null,null,null,{"$f":"IF($AG$33=0,0,$AG$33)","v":0},null,{"$f":"IF($AG$96=0,0,$AG$96)","v":0},null,{"$f":"IF($AG$159=0,0,$AG$159)","v":0},null,{"$f":"IF($AG$222=0,0,$AG$222)","v":0},null,{"$f":"IF($AG$285=0,0,$AG$285)","v":0},null,{"$f":"IF($AG$348=0,0,$AG$348)","v":0},null,{"$f":"IF($AG$411=0,0,$AG$411)","v":0},null,{"$f":"IF($AG$474=0,0,$AG$474)","v":0},null,{"$f":"IF($AG$537=0,0,$AG$537)","v":0},null,{"$f":"IF($AG$600=0,0,$AG$600)","v":0},null,{"$f":"IF($AG$663=0,0,$AG$663)","v":0},null,{"$f":"IF($AG$726=0,0,$AG$726)","v":0},null,{"$f":"SUM(G43:AD43)","v":0}]
[{"$f":"Labels!B108","v":"Zeitzuschläge"},{"$f":"Labels!B109","v":"aus Wochentotal"},null,null,null,null,{"$f":"IF($AG$25=0,0,$AG$25)","v":0},null,{"$f":"IF($AG$88=0,0,$AG$88)","v":0},null,{"$f":"IF($AG$151=0,0,$AG$151)","v":0},null,{"$f":"IF($AG$214=0,0,$AG$214)","v":0},null,{"$f":"IF($AG$277=0,0,$AG$277)","v":0},null,{"$f":"IF($AG$340=0,0,$AG$340)","v":0},null,{"$f":"IF($AG$403=0,0,$AG$403)","v":0},null,{"$f":"IF($AG$466=0,0,$AG$466)","v":0},null,{"$f":"IF($AG$529=0,0,$AG$529)","v":0},null,{"$f":"IF($AG$592=0,0,$AG$592)","v":0},null,{"$f":"IF($AG$655=0,0,$AG$655)","v":0},null,{"$f":"IF($AG$718=0,0,$AG$718)","v":0},null,{"$f":"SUM(G44:AD44)","v":0}]
[null,{"$f":"Labels!B110","v":"aus Nacht-, Sonn-, Feiertagsarbeiten"},null,null,null,null,{"$f":"IF($AJ$20=0,0,$AJ$20)","v":0},null,{"$f":"IF($AK$20=0,0,$AK$20)","v":0},null,{"$f":"IF($AL$20=0,0,$AL$20)","v":0},null,{"$f":"IF($AM$20=0,0,$AM$20)","v":0},null,{"$f":"IF($AN$20=0,0,$AN$20)","v":0},null,{"$f":"IF($AO$20=0,0,$AO$20)","v":0},null,{"$f":"IF($AP$20=0,0,$AP$20)","v":0},null,{"$f":"IF($AQ$20=0,0,$AQ$20)","v":0},null,{"$f":"IF($AR$20=0,0,$AR$20)","v":0},null,{"$f":"IF($AS$20=0,0,$AS$20)","v":0},null,{"$f":"IF($AT$20=0,0,$AT$20)","v":0},null,{"$f":"IF($AU$20=0,0,$AU$20)","v":0},null,{"$f":"SUM(G45:AD45)","v":0}]
[{"$f":"Labels!B111","v":"Unproduktive Stunden"}]
[{"$f":"Labels!B112","v":"   Absenzen, Kurzabsenzen Art. 11 GAV"},null,null,null,null,{"$f":"Labels!B113","v":"a"},{"$f":"IF($AJ$3=0,0,$AJ$3)","v":0},null,{"$f":"IF($AK$3=0,0,$AK$3)","v":0},null,{"$f":"IF($AL$3=0,0,$AL$3)","v":0},null,{"$f":"IF($AM$3=0,0,$AM$3)","v":0},null,{"$f":"IF($AN$3=0,0,$AN$3)","v":0},null,{"$f":"IF($AO$3=0,0,$AO$3)","v":0},null,{"$f":"IF($AP$3=0,0,$AP$3)","v":0},null,{"$f":"IF($AQ$3=0,0,$AQ$3)","v":0},null,{"$f":"IF($AR$3=0,0,$AR$3)","v":0},null,{"$f":"IF($AS$3=0,0,$AS$3)","v":0},null,{"$f":"IF(AT$3=0,0,$AT$3)","v":0},null,{"$f":"IF($AU$3=0,0,$AU$3)","v":0},null,{"$f":"IF($AV$3=0,0,$AV$3)","v":0}]
[{"$f":"Labels!B114","v":"   Ferien Art. 12.1 GAV"},null,null,null,null,{"$f":"Labels!B115","v":"f"},{"$f":"IF($AJ$4=0,0,$AJ$4)","v":0},null,{"$f":"IF($AK$4=0,0,$AK$4)","v":0},null,{"$f":"IF($AL$4=0,0,$AL$4)","v":0},null,{"$f":"IF($AM$4=0,0,$AM$4)","v":0},null,{"$f":"IF($AN$4=0,0,$AN$4)","v":0},null,{"$f":"IF($AO$4=0,0,$AO$4)","v":0},null,{"$f":"IF($AP$4=0,0,$AP$4)","v":0},null,{"$f":"IF($AQ$4=0,0,$AQ$4)","v":0},null,{"$f":"IF($AR$4=0,0,$AR$4)","v":0},null,{"$f":"IF($AS$4=0,0,$AS$4)","v":0},null,{"$f":"IF($AT$4=0,0,$AT$4)","v":0},null,{"$f":"IF($AU$4=0,0,$AU$4)","v":0},null,{"$f":"IF($AV$4=0,0,$AV$4)","v":0}]
[{"$f":"Labels!B116","v":"   Feiertage Art. 12.2 GAV"},null,{"$f":"IF($AJ$17=\"\",\"\",$AJ$17)","v":""},null,null,{"$f":"Labels!B118","v":"ft"},{"$f":"IF($AJ$15=0,0,$AJ$15)","v":0},null,{"$f":"IF($AK$15=0,0,$AK$15)","v":0},null,{"$f":"IF($AL$15=0,0,$AL$15)","v":0},null,{"$f":"IF($AM$15=0,0,$AM$15)","v":0},null,{"$f":"IF($AN$15=0,0,$AN$15)","v":0},null,{"$f":"IF($AO$15=0,0,$AO$15)","v":0},null,{"$f":"IF($AP$15=0,0,$AP$15)","v":0},null,{"$f":"IF($AQ$15=0,0,$AQ$15)","v":0},null,{"$f":"IF($AR$15=0,0,$AR$15)","v":0},null,{"$f":"IF($AS$15=0,0,$AS$15)","v":0},null,{"$f":"IF($AT$15=0,0,$AT$15)","v":0},null,{"$f":"IF($AU$15=0,0,$AU$15)","v":0},null,{"$f":"IF($AV$15=0,0,$AV$15)","v":0}]
[{"$f":"Labels!B119","v":"   Krankheit Art. 13 GAV"},null,null,null,null,{"$f":"Labels!B120","v":"k"},{"$f":"IF($AJ$5=0,0,$AJ$5)","v":0},null,{"$f":"IF($AK$5=0,0,$AK$5)","v":0},null,{"$f":"IF($AL$5=0,0,$AL$5)","v":0},null,{"$f":"IF($AM$5=0,0,$AM$5)","v":0},null,{"$f":"IF($AN$5=0,0,$AN$5)","v":0},null,{"$f":"IF($AO$5=0,0,$AO$5)","v":0},null,{"$f":"IF($AP$5=0,0,$AP$5)","v":0},null,{"$f":"IF($AQ$5=0,0,$AQ$5)","v":0},null,{"$f":"IF($AR$5=0,0,$AR$5)","v":0},null,{"$f":"IF($AS$5=0,0,$AS$5)","v":0},null,{"$f":"IF($AT$5=0,0,$AT$5)","v":0},null,{"$f":"IF($AU$5=0,0,$AU$5)","v":0},null,{"$f":"IF($AV$5=0,0,$AV$5)","v":0}]
[{"$f":"Labels!B121","v":"   Unfall Art. 14 GAV"},null,null,null,null,{"$f":"Labels!B122","v":"u"},{"$f":"IF($AJ$6=0,0,$AJ$6)","v":0},null,{"$f":"IF($AK$6=0,0,$AK$6)","v":0},null,{"$f":"IF($AL$6=0,0,$AL$6)","v":0},null,{"$f":"IF($AM$6=0,0,$AM$6)","v":0},null,{"$f":"IF($AN$6=0,0,$AN$6)","v":0},null,{"$f":"IF($AO$6=0,0,$AO$6)","v":0},null,{"$f":"IF($AP$6=0,0,$AP$6)","v":0},null,{"$f":"IF($AQ$6=0,0,$AQ$6)","v":0},null,{"$f":"IF($AR$6=0,0,$AR$6)","v":0},null,{"$f":"IF($AS$6=0,0,$AS$6)","v":0},null,{"$f":"IF($AT$6=0,0,$AT$6)","v":0},null,{"$f":"IF($AU$6=0,0,$AU$6)","v":0},null,{"$f":"IF($AV$6=0,0,$AV$6)","v":0}]
[{"$f":"Labels!B123","v":"   Schwangerschaft/Mutterschaft Art. 15 GAV"},null,null,null,null,{"$f":"Labels!B124","v":"s"},{"$f":"IF($AJ$7=0,0,$AJ$7)","v":0},null,{"$f":"IF($AK$7=0,0,$AK$7)","v":0},null,{"$f":"IF($AL$7=0,0,$AL$7)","v":0},null,{"$f":"IF($AM$7=0,0,$AM$7)","v":0},null,{"$f":"IF($AN$7=0,0,$AN$7)","v":0},null,{"$f":"IF($AO$7=0,0,$AO$7)","v":0},null,{"$f":"IF($AP$7=0,0,$AP$7)","v":0},null,{"$f":"IF($AQ$7=0,0,$AQ$7)","v":0},null,{"$f":"IF($AR$7=0,0,$AR$7)","v":0},null,{"$f":"IF($AS$7=0,0,$AS$7)","v":0},null,{"$f":"IF($AT$7=0,0,$AT$7)","v":0},null,{"$f":"IF($AU$7=0,0,$AU$7)","v":0},null,{"$f":"IF($AV$7=0,0,$AV$7)","v":0}]
[{"$f":"Labels!B125","v":"   Militär/Beförderung/Zivilschutz Art. 16 GAV"},null,null,null,null,{"$f":"Labels!B126","v":"m"},{"$f":"IF($AJ$8=0,0,$AJ$8)","v":0},null,{"$f":"IF($AK$8=0,0,$AK$8)","v":0},null,{"$f":"IF($AL$8=0,0,$AL$8)","v":0},null,{"$f":"IF($AM$8=0,0,$AM$8)","v":0},null,{"$f":"IF($AN$8=0,0,$AN$8)","v":0},null,{"$f":"IF($AO$8=0,0,$AO$8)","v":0},null,{"$f":"IF($AP$8=0,0,$AP$8)","v":0},null,{"$f":"IF($AQ$8=0,0,$AQ$8)","v":0},null,{"$f":"IF($AR$8=0,0,$AR$8)","v":0},null,{"$f":"IF($AS$8=0,0,$AS$8)","v":0},null,{"$f":"IF($AT$8=0,0,$AT$8)","v":0},null,{"$f":"IF($AU$8=0,0,$AU$8)","v":0},null,{"$f":"IF($AV$8=0,0,$AV$8)","v":0}]
[{"$f":"Labels!B127","v":"   Kurzarbeit und Schlechtwetterausfälle"},null,null,null,null,{"$f":"Labels!B128","v":"ka"},{"$f":"IF($AJ$11=0,0,$AJ$11)","v":0},null,{"$f":"IF($AK$11=0,0,$AK$11)","v":0},null,{"$f":"IF($AL$11=0,0,$AL$11)","v":0},null,{"$f":"IF($AM$11=0,0,$AM$11)","v":0},null,{"$f":"IF($AN$11=0,0,$AN$11)","v":0},null,{"$f":"IF($AO$11=0,0,$AO$11)","v":0},null,{"$f":"IF($AP$11=0,0,$AP$11)","v":0},null,{"$f":"IF($AQ$11=0,0,$AQ$11)","v":0},null,{"$f":"IF($AR$11=0,0,$AR$11)","v":0},null,{"$f":"IF($AS$11=0,0,$AS$11)","v":0},null,{"$f":"IF($AT$11=0,0,$AT$11)","v":0},null,{"$f":"IF($AU$11=0,0,$AU$11)","v":0},null,{"$f":"IF($AV$11=0,0,$AV$11)","v":0}]
[{"$f":"Labels!B129","v":"   Berufsschule"},null,null,null,null,{"$f":"Labels!B130","v":"bs"},{"$f":"IF($AJ$9=0,0,$AJ$9)","v":0},null,{"$f":"IF($AK$9=0,0,$AK$9)","v":0},null,{"$f":"IF($AL$9=0,0,$AL$9)","v":0},null,{"$f":"IF($AM$9=0,0,$AM$9)","v":0},null,{"$f":"IF($AN$9=0,0,$AN$9)","v":0},null,{"$f":"IF($AO$9=0,0,$AO$9)","v":0},null,{"$f":"IF($AP$9=0,0,$AP$9)","v":0},null,{"$f":"IF($AQ$9=0,0,$AQ$9)","v":0},null,{"$f":"IF($AR$9=0,0,$AR$9)","v":0},null,{"$f":"IF($AS$9=0,0,$AS$9)","v":0},null,{"$f":"IF($AT$9=0,0,$AT$9)","v":0},null,{"$f":"IF($AU$9=0,0,$AU$9)","v":0},null,{"$f":"IF($AV$9=0,0,$AV$9)","v":0}]
[{"$f":"Labels!B131","v":"   Kurse"},null,null,null,null,{"$f":"Labels!B132","v":"ku"},{"$f":"IF($AJ$10=0,0,$AJ$10)","v":0},null,{"$f":"IF($AK$10=0,0,$AK$10)","v":0},null,{"$f":"IF($AL$10=0,0,$AL$10)","v":0},null,{"$f":"IF($AM$10=0,0,$AM$10)","v":0},null,{"$f":"IF($AN$10=0,0,$AN$10)","v":0},null,{"$f":"IF($AO$10=0,0,$AO$10)","v":0},null,{"$f":"IF($AP$10=0,0,$AP$10)","v":0},null,{"$f":"IF($AQ$10=0,0,$AQ$10)","v":0},null,{"$f":"IF($AR$10=0,0,$AR$10)","v":0},null,{"$f":"IF($AS$10=0,0,$AS$10)","v":0},null,{"$f":"IF($AT$10=0,0,$AT$10)","v":0},null,{"$f":"IF($AU$10=0,0,$AU$10)","v":0},null,{"$f":"IF($AV$10=0,0,$AV$10)","v":0}]
[{"$f":"Labels!B133","v":"Kompensations-Std"},{"$f":"Labels!B134","v":"aus Vorjahr"},null,null,null,{"$f":"Labels!B135","v":"kv"},{"$f":"IF($AJ$12=0,0,$AJ$12)","v":0},null,{"$f":"IF($AK$12=0,0,$AK$12)","v":0},null,{"$f":"IF($AL$12=0,0,$AL$12)","v":0},null,{"$f":"IF($AM$12=0,0,$AM$12)","v":0},null,{"$f":"IF($AN$12=0,0,$AN$12)","v":0},null,{"$f":"IF($AO$12=0,0,$AO$12)","v":0},null,{"$f":"IF($AP$12=0,0,$AP$12)","v":0},null,{"$f":"IF($AQ$12=0,0,$AQ$12)","v":0},null,{"$f":"IF($AR$12=0,0,$AR$12)","v":0},null,null,null,null,null,null,null,{"$f":"IF($AV$12=0,0,$AV$12)","v":0}]
[null,{"$f":"Labels!B136","v":"aus laufendem Jahr (Kontrolle)"},null,null,null,{"$f":"Labels!B137","v":"kj"},{"$f":"IF($AJ$14=0,0,$AJ$14)","v":0},null,{"$f":"IF($AK$14=0,0,$AK$14)","v":0},null,{"$f":"IF($AL$14=0,0,$AL$14)","v":0},null,{"$f":"IF($AM$14=0,0,$AM$14)","v":0},null,{"$f":"IF($AN$14=0,0,$AN$14)","v":0},null,{"$f":"IF($AO$14=0,0,$AO$14)","v":0},null,{"$f":"IF($AP$14=0,0,$AP$14)","v":0},null,{"$f":"IF($AQ$14=0,0,$AQ$14)","v":0},null,{"$f":"IF($AR$14=0,0,$AR$14)","v":0},null,{"$f":"IF($AS$14=0,0,$AS$14)","v":0},null,{"$f":"IF($AT$14=0,0,$AT$14)","v":0},null,{"$f":"IF($AU$14=0,0,$AU$14)","v":0},null,{"$f":"IF($AV$14=0,0,$AV$14)","v":0}]
[{"$f":"Labels!B138","v":"Auszahlung"},{"$f":"Labels!B139","v":"Stunden Vorjahressaldo"},null,null,null,null,{"$f":"IF($AJ$18=0,0,$AJ$18)","v":0},null,{"$f":"IF($AK$18=0,0,$AK$18)","v":0},null,{"$f":"IF($AL$18=0,0,$AL$18)","v":0},null,{"$f":"IF($AM$18=0,0,$AM$18)","v":0},null,{"$f":"IF($AN$18=0,0,$AN$18)","v":0},null,{"$f":"IF($AO$18=0,0,$AO$18)","v":0},null,{"$f":"IF($AP$18=0,0,$AP$18)","v":0},null,{"$f":"IF($AQ$18=0,0,$AQ$18)","v":0},null,{"$f":"IF($AR$18=0,0,$AR$18)","v":0},null,null,null,null,null,null,null,{"$f":"IF($AV$18=0,0,$AV$18)","v":0}]
[{"$f":"Labels!B140","v":"Differenz"},{"$f":"Labels!B141","v":"nach Kompensation und Auszahlung"},null,null,null,null,{"$f":"IF(ROUND($P$4,3)=0,0,$P$4-G57-G59)","v":0},null,{"$f":"IF(ROUND(G60,3)=0,0,G60-(SUM(I57+I59)))","v":0},null,{"$f":"IF(ROUND(I60,3)=0,0,I60-K59-K57)","v":0},null,{"$f":"IF(ROUND(K60,3)=0,0,K60-(SUM(M59+M57)))","v":0},null,{"$f":"IF(ROUND(M60,3)=0,0,M60-(SUM(O59+O57)))","v":0},null,{"$f":"IF(ROUND(O60,3)=0,0,O60-(SUM(Q59+Q57)))","v":0},null,{"$f":"IF(ROUND(Q60,3)=0,0,Q60-(SUM(S59+S57)))","v":0},null,{"$f":"IF(ROUND(S60,3)=0,0,S60-(SUM(U59+U57)))","v":0},null,{"$f":"IF(ROUND(U60,3)=0,0,U60-(SUM(W59+W57)))","v":0},null,{"$f":"IF($W$60<0.1,\"\",AY39)","v":""}]
[{"$f":"Labels!B138","v":"Auszahlung"},{"$f":"Labels!B142","v":"Stunden laufendes Jahr"},null,null,null,null,{"$f":"IF($AJ$19=0,0,$AJ$19)","v":0},null,{"$f":"IF($AK$19=0,0,$AK$19)","v":0},null,{"$f":"IF($AL$19=0,0,$AL$19)","v":0},null,{"$f":"IF($AM$19=0,0,$AM$19)","v":0},null,{"$f":"IF($AN$19=0,0,$AN$19)","v":0},null,{"$f":"IF($AO$19=0,0,$AO$19)","v":0},null,{"$f":"IF($AP$19=0,0,$AP$19)","v":0},null,{"$f":"IF($AQ$19=0,0,$AQ$19)","v":0},null,{"$f":"IF($AR$19=0,0,$AR$19)","v":0},null,{"$f":"IF($AS$19=0,0,$AS$19)","v":0},null,{"$f":"IF($AT$19=0,0,$AT$19)","v":0},null,{"$f":"IF($AU$19=0,0,$AU$19)","v":0},null,{"$f":"IF($AV$19=0,0,$AV$19)","v":0}]
[{"$f":"Labels!B143","v":"Fehlstunden"},{"$f":"Labels!B144","v":"laufendes Jahr (Kontrolle)"},null,null,null,{"$f":"Labels!B145","v":"fe"},{"$f":"IF($AJ$13=0,0,$AJ$13)","v":0},null,{"$f":"IF($AK$13=0,0,$AK$13)","v":0},null,{"$f":"IF($AL$13=0,0,$AL$13)","v":0},null,{"$f":"IF($AM$13=0,0,$AM$13)","v":0},null,{"$f":"IF($AN$13=0,0,$AN$13)","v":0},null,{"$f":"IF($AO$13=0,0,$AO$13)","v":0},null,{"$f":"IF($AP$13=0,0,$AP$13)","v":0},null,{"$f":"IF($AQ$13=0,0,$AQ$13)","v":0},null,{"$f":"IF($AR$13=0,0,$AR$13)","v":0},null,{"$f":"IF($AS$13=0,0,$AS$13)","v":0},null,{"$f":"IF($AT$13=0,0,$AT$13)","v":0},null,{"$f":"IF($AU$13=0,0,$AU$13)","v":0},null,{"$f":"IF($AV$13=0,0,$AV$13)","v":0}]
[{"$f":"Labels!B146","v":"Total inkl. Zeitzuschläge"},{"$f":"Labels!B147","v":"Stunden produktiv und unproduktiv"},null,null,null,null,{"$f":"IF($AG$36=0,0,$AG$36)","v":0},null,{"$f":"IF($AG$99=0,0,$AG$99)","v":0},null,{"$f":"IF($AG$162=0,0,$AG$162)","v":0},null,{"$f":"IF($AG$225=0,0,$AG$225)","v":0},null,{"$f":"IF($AG$288=0,0,$AG$288)","v":0},null,{"$f":"IF($AG$351=0,0,$AG$351)","v":0},null,{"$f":"IF($AG$414=0,0,$AG$414)","v":0},null,{"$f":"IF($AG$477=0,0,$AG$477)","v":0},null,{"$f":"IF($AG$540=0,0,$AG$540)","v":0},null,{"$f":"IF($AG$603=0,0,$AG$603)","v":0},null,{"$f":"IF($AG$666=0,0,$AG$666)","v":0},null,{"$f":"IF($AG$729=0,0,$AG$729)","v":0},null,{"$f":"SUM($G$63:$AD$63)","v":0}]
[{"$f":"Labels!B148","v":"Vergleich"},{"$f":"Labels!B149","v":"Stunden zu Soll-Stunden (inkl. allfälli-\nge Minusstunden Vorjahr)"},null,null,null,null,{"$f":"IF($AG$38=0,0,$AG$38)-$AE$34+$P$5","v":-172.82999999999998},null,{"$f":"IF($AG$101=0,0,$AG$101)-$AE$97","v":-164.6},null,{"$f":"IF($AG$164=0,0,$AG$164)-$AE$160","v":-189.28999999999996},null,{"$f":"IF($AG$227=0,0,$AG$227)-$AE$223","v":-181.05999999999997},null,{"$f":"IF($AG$290=0,0,$AG$290)-$AE$286","v":-172.82999999999998},null,{"$f":"IF($AG$353=0,0,$AG$353)-$AE$349","v":-181.05999999999997},null,{"$f":"IF($AG$416=0,0,$AG$416)-$AE$412","v":-181.05999999999997},null,{"$f":"IF($AG$479=0,0,$AG$479)-$AE$475","v":-181.05999999999997},null,{"$f":"IF($AG$542=0,0,$AG$542)-$AE$538","v":-181.05999999999997},null,{"$f":"IF($AG$605=0,0,$AG$605)-$AE$601","v":-172.82999999999998},null,{"$f":"IF($AG$668=0,0,$AG$668)-$AE$664","v":-181.05999999999997},null,{"$f":"IF($AG$731=0,0,$AG$731)-$AE$727","v":-189.28999999999996},null,{"$f":"SUM($G$64:$AD$64)","v":-2148.0299999999997}]
[null,{"$f":"Labels!B151","v":"Stunden zu Soll-Stunden (kumuliert)"},null,null,null,null,{"$f":"IF(G40=0,0,$G$64)","v":-172.82999999999998},null,{"$f":"IF(I40=0,0,SUM($G$64:$J$64))","v":-337.42999999999995},null,{"$f":"IF(K40=0,0,SUM($G$64:$L$64))","v":-526.71999999999991},null,{"$f":"IF(M40=0,0,SUM($G$64:$N$64))","v":-707.77999999999986},null,{"$f":"IF(O40=0,0,SUM($G$64:$P$64))","v":-880.6099999999999},null,{"$f":"IF(Q40=0,0,SUM($G$64:$R$64))","v":-1061.6699999999998},null,{"$f":"IF(S40=0,0,SUM($G$64:$T$64))","v":-1242.7299999999998},null,{"$f":"IF(U40=0,0,SUM($G$64:$V$64))","v":-1423.7899999999997},null,{"$f":"IF(W40=0,0,SUM($G$64:$X$64))","v":-1604.8499999999997},null,{"$f":"IF(Y40=0,0,SUM($G$64:$Z$64))","v":-1777.6799999999996},null,{"$f":"IF(AA40=0,0,SUM($G$64:$AB$64))","v":-1958.7399999999996},null,{"$f":"IF(AC40=0,0,SUM($G$64:$AD$64))","v":-2148.0299999999997}]
[{"$f":"Labels!B153","v":"Ferienkontrolle"},{"$f":"Labels!B154","v":"Ferienguthaben Vorjahr"},null,null,null,null,{"$f":"IF($AA$4=0,0,$AA$4)","v":0},null,{"$f":"Labels!B155","v":"Ferienguthaben nach \nArt. 12.1 GAV"},null,null,null,{"$f":"IF($AA$5=0,0,$AA$5)","v":0},null,{"$f":"Labels!B156","v":"Ferienguthaben total"},null,null,null,{"$f":"SUM(G66+M66)","v":0},null,{"$f":"Labels!B157","v":"Ferien bezogen"},null,null,null,{"$f":"IF($AV$4=0,0,$AV$4)","v":0},null,{"$f":"Labels!B158","v":"Aktuelles Ferienguthaben"},null,null,null,{"$f":"IF(S66=0,0,S66-Y66)","v":0}]
[]
[]
[{"$f":"$A$3","v":"Mitarbeiter/In"},{"$f":"IF($B$3=\"\",\"\",$B$3)","v":"Muster Peter"},null,null,null,null,null,null,null,null,null,null,null,null,null,null,null,null,null,null,null,null,null,null,null,null,null,null,null,null,null,{"$f":"AF3","v":0}]
[{"$f":"$A$4","v":"Anstellung %"},100,null,{"$f":"Labels!B90","v":"im Februar"}]
[{"$f":"$A$5","v":"Saldo für das Jahr"},null,null,{"$f":"IF($AE$64=0,0,$AE$64)","v":-2148.0299999999997}]
[{"$f":"TEXT(DATE(YEAR(AP28),MONTH(AP28)+1,1),\"MMMM\"&Labels!B13)","v":"Februar"},{"$f":"$B$9","v":"Saldo Monat + / -"},null,null,null,{"$f":"(AG75-(SUM(AG76:AG90)-AE97))*-1","v":-164.6},null,null,null,null,{"$f":"$K$9","v":" = "},{"$f":"$L$9","v":"Gelbe Felder müssen ausgefüllt werden (die übrigen werden automatisch berechnet)"}]
[{"$f":"$A$10","v":"Tag"},{"$f":"AF10+1","v":"2021-02-01"},{"$f":"B73+1","v":"2021-02-02"},"2021-02-03","2021-02-04","2021-02-05","2021-02-06","2021-02-07","2021-02-08","2021-02-09","2021-02-10","2021-02-11","2021-02-12","2021-02-13","2021-02-14","2021-02-15","2021-02-16","2021-02-17","2021-02-18","2021-02-19","2021-02-20","2021-02-21","2021-02-22","2021-02-23","2021-02-24","2021-02-25","2021-02-26","2021-02-27","2021-02-28",{"$f":"IF(MOD($AE$95,4)=0,$AC$73+1,\"\")","v":""},null,null,{"$f":"COUNT(B75:AF75)&\" \"&Labels!$B$63","v":"20 Tage"}]
[{"$f":"$A$11","v":"Kalenderwoche"},{"$f":"IF(B73=\"\",\"\",TRUNC((B73-DATE(YEAR(B73+3-MOD(B73-2,7)),1,MOD(B73-2,7)-9))/7))","v":5},5,5,5,5,5,5,6,6,6,6,6,6,6,7,7,7,7,7,7,7,8,8,8,8,8,8,8,"",""]
[{"$f":"$A$12","v":"Sollstunden"},{"$f":"IF(MOD(B73,7)>=2,$J$7*$B$70%,\"\")","v":8.23},8.23,8.23,8.23,8.23,"","",8.23,8.23,8.23,8.23,8.23,"","",8.23,8.23,8.23,8.23,8.23,"","",8.23,8.23,8.23,8.23,8.23,"","",{"$f":"IF(AD73<>\"\",IF(MOD(AD73,7)>=2,$J$7*$B$70%,\"\"),\"\")","v":""},null,null,{"$f":"IF($AD$73=\"\",SUM(B75:AC75),SUM(B75:AF75))","v":164.6}]
[{"$f":"$A$13","v":"Absenz in Std"},{"$f":"B842","v":0},{"$f":"C842","v":0},0,0,0,0,0,0,0,0,0,0,0,0,0,0,0,0,0,0,0,0,0,0,0,0,0,0,{"$f":"IF(AD73<>\"\",AD842,\"\")","v":""},null,null,{"$f":"SUM(AK3:AK12)","v":0}]
[{"$f":"$A$14","v":"Code"},{"$f":"IF(B842<>0,IF(MAX(B829:B841)<B842,Labels!$B$163,INDEX($AH$829:$AH$841,MATCH(MAX(B829:B841),B829:B841,0))),\"\")","v":""},{"$f":"IF(C842<>0,IF(MAX(C829:C841)<C842,Labels!$B$163,INDEX($AH$829:$AH$841,MATCH(MAX(C829:C841),C829:C841,0))),\"\")","v":""},{"$f":"IF(D842<>0,IF(MAX(D829:D841)<D842,Labels!$B$163,INDEX($AH$829:$AH$841,MATCH(MAX(D829:D841),D829:D841,0))),\"\")","v":""},{"$f":"IF(E842<>0,IF(MAX(E829:E841)<E842,Labels!$B$163,INDEX($AH$829:$AH$841,MATCH(MAX(E829:E841),E829:E841,0))),\"\")","v":""},{"$f":"IF(F842<>0,IF(MAX(F829:F841)<F842,Labels!$B$163,INDEX($AH$829:$AH$841,MATCH(MAX(F829:F841),F829:F841,0))),\"\")","v":""},{"$f":"IF(G842<>0,IF(MAX(G829:G841)<G842,Labels!$B$163,INDEX($AH$829:$AH$841,MATCH(MAX(G829:G841),G829:G841,0))),\"\")","v":""},{"$f":"IF(H842<>0,IF(MAX(H829:H841)<H842,Labels!$B$163,INDEX($AH$829:$AH$841,MATCH(MAX(H829:H841),H829:H841,0))),\"\")","v":""},{"$f":"IF(I842<>0,IF(MAX(I829:I841)<I842,Labels!$B$163,INDEX($AH$829:$AH$841,MATCH(MAX(I829:I841),I829:I841,0))),\"\")","v":""},{"$f":"IF(J842<>0,IF(MAX(J829:J841)<J842,Labels!$B$163,INDEX($AH$829:$AH$841,MATCH(MAX(J829:J841),J829:J841,0))),\"\")","v":""},{"$f":"IF(K842<>0,IF(MAX(K829:K841)<K842,Labels!$B$163,INDEX($AH$829:$AH$841,MATCH(MAX(K829:K841),K829:K841,0))),\"\")","v":""},{"$f":"IF(L842<>0,IF(MAX(L829:L841)<L842,Labels!$B$163,INDEX($AH$829:$AH$841,MATCH(MAX(L829:L841),L829:L841,0))),\"\")","v":""},{"$f":"IF(M842<>0,IF(MAX(M829:M841)<M842,Labels!$B$163,INDEX($AH$829:$AH$841,MATCH(MAX(M829:M841),M829:M841,0))),\"\")","v":""},{"$f":"IF(N842<>0,IF(MAX(N829:N841)<N842,Labels!$B$163,INDEX($AH$829:$AH$841,MATCH(MAX(N829:N841),N829:N841,0))),\"\")","v":""},{"$f":"IF(O842<>0,IF(MAX(O829:O841)<O842,Labels!$B$163,INDEX($AH$829:$AH$841,MATCH(MAX(O829:O841),O829:O841,0))),\"\")","v":""},{"$f":"IF(P842<>0,IF(MAX(P829:P841)<P842,Labels!$B$163,INDEX($AH$829:$AH$841,MATCH(MAX(P829:P841),P829:P841,0))),\"\")","v":""},{"$f":"IF(Q842<>0,IF(MAX(Q829:Q841)<Q842,Labels!$B$163,INDEX($AH$829:$AH$841,MATCH(MAX(Q829:Q841),Q829:Q841,0))),\"\")","v":""},{"$f":"IF(R842<>0,IF(MAX(R829:R841)<R842,Labels!$B$163,INDEX($AH$829:$AH$841,MATCH(MAX(R829:R841),R829:R841,0))),\"\")","v":""},{"$f":"IF(S842<>0,IF(MAX(S829:S841)<S842,Labels!$B$163,INDEX($AH$829:$AH$841,MATCH(MAX(S829:S841),S829:S841,0))),\"\")","v":""},{"$f":"IF(T842<>0,IF(MAX(T829:T841)<T842,Labels!$B$163,INDEX($AH$829:$AH$841,MATCH(MAX(T829:T841),T829:T841,0))),\"\")","v":""},{"$f":"IF(U842<>0,IF(MAX(U829:U841)<U842,Labels!$B$163,INDEX($AH$829:$AH$841,MATCH(MAX(U829:U841),U829:U841,0))),\"\")","v":""},{"$f":"IF(V842<>0,IF(MAX(V829:V841)<V842,Labels!$B$163,INDEX($AH$829:$AH$841,MATCH(MAX(V829:V841),V829:V841,0))),\"\")","v":""},{"$f":"IF(W842<>0,IF(MAX(W829:W841)<W842,Labels!$B$163,INDEX($AH$829:$AH$841,MATCH(MAX(W829:W841),W829:W841,0))),\"\")","v":""},{"$f":"IF(X842<>0,IF(MAX(X829:X841)<X842,Labels!$B$163,INDEX($AH$829:$AH$841,MATCH(MAX(X829:X841),X829:X841,0))),\"\")","v":""},{"$f":"IF(Y842<>0,IF(MAX(Y829:Y841)<Y842,Labels!$B$163,INDEX($AH$829:$AH$841,MATCH(MAX(Y829:Y841),Y829:Y841,0))),\"\")","v":""},{"$f":"IF(Z842<>0,IF(MAX(Z829:Z841)<Z842,Labels!$B$163,INDEX($AH$829:$AH$841,MATCH(MAX(Z829:Z841),Z829:Z841,0))),\"\")","v":""},{"$f":"IF(AA842<>0,IF(MAX(AA829:AA841)<AA842,Labels!$B$163,INDEX($AH$829:$AH$841,MATCH(MAX(AA829:AA841),AA829:AA841,0))),\"\")","v":""},{"$f":"IF(AB842<>0,IF(MAX(AB829:AB841)<AB842,Labels!$B$163,INDEX($AH$829:$AH$841,MATCH(MAX(AB829:AB841),AB829:AB841,0))),\"\")","v":""},{"$f":"IF(AC842<>0,IF(MAX(AC829:AC841)<AC842,Labels!$B$163,INDEX($AH$829:$AH$841,MATCH(MAX(AC829:AC841),AC829:AC841,0))),\"\")","v":""},{"$f":"IF(AD842<>0,IF(MAX(AD829:AD841)<AD842,Labels!$B$163,INDEX($AH$829:$AH$841,MATCH(MAX(AD829:AD841),AD829:AD841,0))),\"\")","v":"div"}]
[{"$f":"$A$15","v":"00.00-06.00h"},null,null,null,null,null,null,null,null,null,null,null,null,null,null,null,null,null,null,null,null,null,null,null,null,null,null,null,null,null,null,null,{"$f":"IF($AD$73=\"\",SUM(B78:AC78),SUM(B78:AF78))","v":0}]
[{"$f":"$A$16","v":"06.00-20.00h"},null,null,null,null,null,null,null,null,null,null,null,null,null,null,null,null,null,null,null,null,null,null,null,null,null,null,null,null,null,null,null,{"$f":"IF($AD$73=\"\",SUM(B79:AC79),SUM(B79:AF79))","v":0}]
[{"$f":"$A$17","v":"20.00-24.00h"},null,null,null,null,null,null,null,null,null,null,null,null,null,null,null,null,null,null,null,null,null,null,null,null,null,null,null,null,null,null,null,{"$f":"IF($AD$73=\"\",SUM(B80:AC80),SUM(B80:AF80))","v":0},"[0]"]
[{"$f":"$A$18","v":"Feiertag \"ft\""},{"$f":"IF(WEEKDAY(B73,2)<=6,IF(KALENDER!E5=\"x\",Labels!$B$118,\"\"),\"\")","v":""},{"$f":"IF(WEEKDAY(C73,2)<=6,IF(KALENDER!F5=\"x\",Labels!$B$118,\"\"),\"\")","v":""},{"$f":"IF(WEEKDAY(D73,2)<=6,IF(KALENDER!G5=\"x\",Labels!$B$118,\"\"),\"\")","v":""},{"$f":"IF(WEEKDAY(E73,2)<=6,IF(KALENDER!H5=\"x\",Labels!$B$118,\"\"),\"\")","v":""},{"$f":"IF(WEEKDAY(F73,2)<=6,IF(KALENDER!I5=\"x\",Labels!$B$118,\"\"),\"\")","v":""},{"$f":"IF(WEEKDAY(G73,2)<=6,IF(KALENDER!J5=\"x\",Labels!$B$118,\"\"),\"\")","v":""},{"$f":"IF(WEEKDAY(H73,2)<=6,IF(KALENDER!K5=\"x\",Labels!$B$118,\"\"),\"\")","v":""},{"$f":"IF(WEEKDAY(I73,2)<=6,IF(KALENDER!L5=\"x\",Labels!$B$118,\"\"),\"\")","v":""},{"$f":"IF(WEEKDAY(J73,2)<=6,IF(KALENDER!M5=\"x\",Labels!$B$118,\"\"),\"\")","v":""},{"$f":"IF(WEEKDAY(K73,2)<=6,IF(KALENDER!N5=\"x\",Labels!$B$118,\"\"),\"\")","v":""},{"$f":"IF(WEEKDAY(L73,2)<=6,IF(KALENDER!O5=\"x\",Labels!$B$118,\"\"),\"\")","v":""},{"$f":"IF(WEEKDAY(M73,2)<=6,IF(KALENDER!P5=\"x\",Labels!$B$118,\"\"),\"\")","v":""},{"$f":"IF(WEEKDAY(N73,2)<=6,IF(KALENDER!Q5=\"x\",Labels!$B$118,\"\"),\"\")","v":""},{"$f":"IF(WEEKDAY(O73,2)<=6,IF(KALENDER!R5=\"x\",Labels!$B$118,\"\"),\"\")","v":""},{"$f":"IF(WEEKDAY(P73,2)<=6,IF(KALENDER!S5=\"x\",Labels!$B$118,\"\"),\"\")","v":""},{"$f":"IF(WEEKDAY(Q73,2)<=6,IF(KALENDER!T5=\"x\",Labels!$B$118,\"\"),\"\")","v":""},{"$f":"IF(WEEKDAY(R73,2)<=6,IF(KALENDER!U5=\"x\",Labels!$B$118,\"\"),\"\")","v":""},{"$f":"IF(WEEKDAY(S73,2)<=6,IF(KALENDER!V5=\"x\",Labels!$B$118,\"\"),\"\")","v":""},{"$f":"IF(WEEKDAY(T73,2)<=6,IF(KALENDER!W5=\"x\",Labels!$B$118,\"\"),\"\")","v":""},{"$f":"IF(WEEKDAY(U73,2)<=6,IF(KALENDER!X5=\"x\",Labels!$B$118,\"\"),\"\")","v":""},{"$f":"IF(WEEKDAY(V73,2)<=6,IF(KALENDER!Y5=\"x\",Labels!$B$118,\"\"),\"\")","v":""},{"$f":"IF(WEEKDAY(W73,2)<=6,IF(KALENDER!Z5=\"x\",Labels!$B$118,\"\"),\"\")","v":""},{"$f":"IF(WEEKDAY(X73,2)<=6,IF(KALENDER!AA5=\"x\",Labels!$B$118,\"\"),\"\")","v":""},{"$f":"IF(WEEKDAY(Y73,2)<=6,IF(KALENDER!AB5=\"x\",Labels!$B$118,\"\"),\"\")","v":""},{"$f":"IF(WEEKDAY(Z73,2)<=6,IF(KALENDER!AC5=\"x\",Labels!$B$118,\"\"),\"\")","v":""},{"$f":"IF(WEEKDAY(AA73,2)<=6,IF(KALENDER!AD5=\"x\",Labels!$B$118,\"\"),\"\")","v":""},{"$f":"IF(WEEKDAY(AB73,2)<=6,IF(KALENDER!AE5=\"x\",Labels!$B$118,\"\"),\"\")","v":""},{"$f":"IF(WEEKDAY(AC73,2)<=6,IF(KALENDER!AF5=\"x\",Labels!$B$118,\"\"),\"\")","v":""},{"$f":"IF(WEEKDAY(AD73,2)<=6,IF(KALENDER!AG5=\"x\",Labels!$B$118,\"\"),\"\")","v":{"$error":"#VALUE!"}},{"$f":"IF(WEEKDAY(AE73,2)<=6,IF(KALENDER!AH5=\"x\",Labels!$B$118,\"\"),\"\")","v":""},{"$f":"IF(WEEKDAY(AF73,2)<=6,IF(KALENDER!AI5=\"x\",Labels!$B$118,\"\"),\"\")","v":""}]
[{"$f":"$A$19","v":"Gutschrift \"ft\""},{"$f":"IF(AND(B81=Labels!$B$118,WEEKDAY(B73,2)<6),$J$7*$B$70%,\"\")","v":""},{"$f":"IF(AND(C81=Labels!$B$118,WEEKDAY(C73,2)<6),$J$7*$B$70%,\"\")","v":""},{"$f":"IF(AND(D81=Labels!$B$118,WEEKDAY(D73,2)<6),$J$7*$B$70%,\"\")","v":""},{"$f":"IF(AND(E81=Labels!$B$118,WEEKDAY(E73,2)<6),$J$7*$B$70%,\"\")","v":""},{"$f":"IF(AND(F81=Labels!$B$118,WEEKDAY(F73,2)<6),$J$7*$B$70%,\"\")","v":""},{"$f":"IF(AND(G81=Labels!$B$118,WEEKDAY(G73,2)<6),$J$7*$B$70%,\"\")","v":""},{"$f":"IF(AND(H81=Labels!$B$118,WEEKDAY(H73,2)<6),$J$7*$B$70%,\"\")","v":""},{"$f":"IF(AND(I81=Labels!$B$118,WEEKDAY(I73,2)<6),$J$7*$B$70%,\"\")","v":""},{"$f":"IF(AND(J81=Labels!$B$118,WEEKDAY(J73,2)<6),$J$7*$B$70%,\"\")","v":""},{"$f":"IF(AND(K81=Labels!$B$118,WEEKDAY(K73,2)<6),$J$7*$B$70%,\"\")","v":""},{"$f":"IF(AND(L81=Labels!$B$118,WEEKDAY(L73,2)<6),$J$7*$B$70%,\"\")","v":""},{"$f":"IF(AND(M81=Labels!$B$118,WEEKDAY(M73,2)<6),$J$7*$B$70%,\"\")","v":""},{"$f":"IF(AND(N81=Labels!$B$118,WEEKDAY(N73,2)<6),$J$7*$B$70%,\"\")","v":""},{"$f":"IF(AND(O81=Labels!$B$118,WEEKDAY(O73,2)<6),$J$7*$B$70%,\"\")","v":""},{"$f":"IF(AND(P81=Labels!$B$118,WEEKDAY(P73,2)<6),$J$7*$B$70%,\"\")","v":""},{"$f":"IF(AND(Q81=Labels!$B$118,WEEKDAY(Q73,2)<6),$J$7*$B$70%,\"\")","v":""},{"$f":"IF(AND(R81=Labels!$B$118,WEEKDAY(R73,2)<6),$J$7*$B$70%,\"\")","v":""},{"$f":"IF(AND(S81=Labels!$B$118,WEEKDAY(S73,2)<6),$J$7*$B$70%,\"\")","v":""},{"$f":"IF(AND(T81=Labels!$B$118,WEEKDAY(T73,2)<6),$J$7*$B$70%,\"\")","v":""},{"$f":"IF(AND(U81=Labels!$B$118,WEEKDAY(U73,2)<6),$J$7*$B$70%,\"\")","v":""},{"$f":"IF(AND(V81=Labels!$B$118,WEEKDAY(V73,2)<6),$J$7*$B$70%,\"\")","v":""},{"$f":"IF(AND(W81=Labels!$B$118,WEEKDAY(W73,2)<6),$J$7*$B$70%,\"\")","v":""},{"$f":"IF(AND(X81=Labels!$B$118,WEEKDAY(X73,2)<6),$J$7*$B$70%,\"\")","v":""},{"$f":"IF(AND(Y81=Labels!$B$118,WEEKDAY(Y73,2)<6),$J$7*$B$70%,\"\")","v":""},{"$f":"IF(AND(Z81=Labels!$B$118,WEEKDAY(Z73,2)<6),$J$7*$B$70%,\"\")","v":""},{"$f":"IF(AND(AA81=Labels!$B$118,WEEKDAY(AA73,2)<6),$J$7*$B$70%,\"\")","v":""},{"$f":"IF(AND(AB81=Labels!$B$118,WEEKDAY(AB73,2)<6),$J$7*$B$70%,\"\")","v":""},{"$f":"IF(AND(AC81=Labels!$B$118,WEEKDAY(AC73,2)<6),$J$7*$B$70%,\"\")","v":""},{"$f":"IF(AND(AD81=Labels!$B$118,WEEKDAY(AD73,2)<6),$J$7*$B$70%,\"\")","v":{"$error":"#VALUE!"}},{"$f":"IF(AND(AE81=Labels!$B$118,WEEKDAY(AE73,2)<6),$J$7*$B$70%,\"\")","v":""},{"$f":"IF(AND(AF81=Labels!$B$118,WEEKDAY(AF73,2)<6),$J$7*$B$70%,\"\")","v":""},0]
[{"$f":"$A$20","v":"Tagestotal"},{"$f":"SUM(B78:B80)","v":0},{"$f":"SUM(C78:C80)","v":0},0,0,0,0,0,0,0,0,0,0,0,0,0,0,0,0,0,0,0,0,0,0,0,0,0,0,{"$f":"IF(AD73=\"\",\"\",SUM(AD78:AD80))","v":""}]
[{"$f":"$A$21","v":"."}]
[{"$f":"$A$22","v":"."}]
[{"$f":"$A$23","v":"Monatsübergang"},{"$f":"IF(WEEKDAY(B73)=1,TEXT(B73-1,\"MMM\"&Labels!B13),\"\")","v":""},null,null,null,null,null,null,null,null,null,null,null,null,null,null,null,null,null,null,null,null,null,null,null,null,null,null,{"$f":"IF(AND(WEEKDAY(AC73)>1,WEEKDAY(AC73)<7,AD73=\"\"),TEXT(DATE($B$5,MONTH(AC73)+1,1),\"MMM\"&Labels!B13),\"\")","v":""},{"$f":"IF(ISERROR(WEEKDAY(AD73)),\"\",IF(AND(WEEKDAY(AD73)>1,WEEKDAY(AD73)<7),TEXT(DATE($B$5,MONTH(AD73)+1,1),\"MMM\"&Labels!B13),\"\"))","v":""}]
[{"$f":"$A$24","v":"Wochentotal"},{"$f":"IF(WEEKDAY(B73)=7,SUMIF($B11:$AF11,B74,$B20:$AF20)+SUMIF($B74:$AF74,B74,$B83:$AF83)+SUMIF($B137:$AF137,B74,$B146:$AF146),B86)","v":""},{"$f":"IF(WEEKDAY(C73)=7,SUMIF($B11:$AF11,C74,$B20:$AF20)+SUMIF($B74:$AF74,C74,$B83:$AF83)+SUMIF($B137:$AF137,C74,$B146:$AF146),\"\")","v":""},"","","",0,"","","","","","",0,"","","","","","",0,"","","","","","",0,{"$f":"IF(WEEKDAY(AC73)=7,SUMIF($B11:$AF11,AC74,$B20:$AF20)+SUMIF($B74:$AF74,AC74,$B83:$AF83)+SUMIF($B137:$AF137,AC74,$B146:$AF146),AC86)","v":""},{"$f":"IF(ISERROR(WEEKDAY(AD73)=7),\"\",IF(WEEKDAY(AD73)=7,SUMIF($B11:$AF11,AD74,$B20:$AF20)+SUMIF($B74:$AF74,AD74,$B83:$AF83)+SUMIF($B137:$AF137,AD74,$B146:$AF146),AD86))","v":""}]
[{"$f":"$A$25","v":"Zeitzuschlag 1)"},{"$f":"IF(B95=\"FALSCH\",\"\",B95)","v":""},{"$f":"IF(C95=\"FALSCH\",\"\",C95)","v":""},"","","","","","","","","","","","","","","","","","","","","","","","","","","",null,null,0]
[{"$f":"$A$26","v":"Zeitzuschlag 2)"},{"$f":"IF((B78+B80)=0,\"\",SUM(B78,B80))","v":""},{"$f":"IF((C78+C80)=0,\"\",SUM(C78,C80))","v":""},"","","","","","","","","","","","","","","","","","","","","","","","","","","",null,null,0,"[1]"]
[{"$f":"$A$27","v":"Zeitzuschlag 3)"},{"$f":"SUM(B91:B94)","v":0},{"$f":"SUM(C91:C94)","v":0},0,0,0,0,0,0,0,0,0,0,0,0,0,0,0,0,0,0,0,0,0,0,0,0,0,0,{"$f":"IF(ISERROR(WEEKDAY(AD73)=1),\"\",SUM(AD91:AD94))","v":""},null,null,0,"[2]"]
[{"$f":"$A$28","v":"Sonntag Tag"},{"$f":"IF(WEEKDAY(B73)=1,B79,\"\")","v":""},{"$f":"IF(WEEKDAY(C73)=1,C79,\"\")","v":""},"","","","",0,"","","","","","",0,"","","","","","",0,"","","","","","",0,{"$f":"IF(ISERROR(WEEKDAY(AD73)=1),\"\",IF(WEEKDAY(AD73)=1,AD79,\"\"))","v":""},null,null,0,"[3]"]
[{"$f":"$A$29","v":"Sonntag Nacht"},{"$f":"IF(WEEKDAY(B73)=1,SUM(B78+B80),\"\")","v":""},{"$f":"IF(WEEKDAY(C73)=1,SUM(C78+C80),\"\")","v":""},"","","","",0,"","","","","","",0,"","","","","","",0,"","","","","","",0,{"$f":"IF(ISERROR(WEEKDAY(AD73)=1),\"\",IF(WEEKDAY(AD73)=1,SUM(AD78+AD80),\"\"))","v":""},null,null,0,"[4]"]
[{"$f":"$A$30","v":"ft-Tazuschlag"},{"$f":"IF(B81=Labels!$B$118,B79,\"\")","v":""},{"$f":"IF(C81=Labels!$B$118,C79,\"\")","v":""},{"$f":"IF(D81=Labels!$B$118,D79,\"\")","v":""},{"$f":"IF(E81=Labels!$B$118,E79,\"\")","v":""},{"$f":"IF(F81=Labels!$B$118,F79,\"\")","v":""},{"$f":"IF(G81=Labels!$B$118,G79,\"\")","v":""},{"$f":"IF(H81=Labels!$B$118,H79,\"\")","v":""},{"$f":"IF(I81=Labels!$B$118,I79,\"\")","v":""},{"$f":"IF(J81=Labels!$B$118,J79,\"\")","v":""},{"$f":"IF(K81=Labels!$B$118,K79,\"\")","v":""},{"$f":"IF(L81=Labels!$B$118,L79,\"\")","v":""},{"$f":"IF(M81=Labels!$B$118,M79,\"\")","v":""},{"$f":"IF(N81=Labels!$B$118,N79,\"\")","v":""},{"$f":"IF(O81=Labels!$B$118,O79,\"\")","v":""},{"$f":"IF(P81=Labels!$B$118,P79,\"\")","v":""},{"$f":"IF(Q81=Labels!$B$118,Q79,\"\")","v":""},{"$f":"IF(R81=Labels!$B$118,R79,\"\")","v":""},{"$f":"IF(S81=Labels!$B$118,S79,\"\")","v":""},{"$f":"IF(T81=Labels!$B$118,T79,\"\")","v":""},{"$f":"IF(U81=Labels!$B$118,U79,\"\")","v":""},{"$f":"IF(V81=Labels!$B$118,V79,\"\")","v":""},{"$f":"IF(W81=Labels!$B$118,W79,\"\")","v":""},{"$f":"IF(X81=Labels!$B$118,X79,\"\")","v":""},{"$f":"IF(Y81=Labels!$B$118,Y79,\"\")","v":""},{"$f":"IF(Z81=Labels!$B$118,Z79,\"\")","v":""},{"$f":"IF(AA81=Labels!$B$118,AA79,\"\")","v":""},{"$f":"IF(AB81=Labels!$B$118,AB79,\"\")","v":""},{"$f":"IF(AC81=Labels!$B$118,AC79,\"\")","v":""},{"$f":"IF(AD81=Labels!$B$118,AD79,\"\")","v":{"$error":"#VALUE!"}},null,null,0,"[5]"]
[{"$f":"$A$31","v":"ft-Nazuschlag"},{"$f":"IF(B81=Labels!$B$118,SUM(B78,B80),\"\")","v":""},{"$f":"IF(C81=Labels!$B$118,SUM(C78,C80),\"\")","v":""},{"$f":"IF(D81=Labels!$B$118,SUM(D78,D80),\"\")","v":""},{"$f":"IF(E81=Labels!$B$118,SUM(E78,E80),\"\")","v":""},{"$f":"IF(F81=Labels!$B$118,SUM(F78,F80),\"\")","v":""},{"$f":"IF(G81=Labels!$B$118,SUM(G78,G80),\"\")","v":""},{"$f":"IF(H81=Labels!$B$118,SUM(H78,H80),\"\")","v":""},{"$f":"IF(I81=Labels!$B$118,SUM(I78,I80),\"\")","v":""},{"$f":"IF(J81=Labels!$B$118,SUM(J78,J80),\"\")","v":""},{"$f":"IF(K81=Labels!$B$118,SUM(K78,K80),\"\")","v":""},{"$f":"IF(L81=Labels!$B$118,SUM(L78,L80),\"\")","v":""},{"$f":"IF(M81=Labels!$B$118,SUM(M78,M80),\"\")","v":""},{"$f":"IF(N81=Labels!$B$118,SUM(N78,N80),\"\")","v":""},{"$f":"IF(O81=Labels!$B$118,SUM(O78,O80),\"\")","v":""},{"$f":"IF(P81=Labels!$B$118,SUM(P78,P80),\"\")","v":""},{"$f":"IF(Q81=Labels!$B$118,SUM(Q78,Q80),\"\")","v":""},{"$f":"IF(R81=Labels!$B$118,SUM(R78,R80),\"\")","v":""},{"$f":"IF(S81=Labels!$B$118,SUM(S78,S80),\"\")","v":""},{"$f":"IF(T81=Labels!$B$118,SUM(T78,T80),\"\")","v":""},{"$f":"IF(U81=Labels!$B$118,SUM(U78,U80),\"\")","v":""},{"$f":"IF(V81=Labels!$B$118,SUM(V78,V80),\"\")","v":""},{"$f":"IF(W81=Labels!$B$118,SUM(W78,W80),\"\")","v":""},{"$f":"IF(X81=Labels!$B$118,SUM(X78,X80),\"\")","v":""},{"$f":"IF(Y81=Labels!$B$118,SUM(Y78,Y80),\"\")","v":""},{"$f":"IF(Z81=Labels!$B$118,SUM(Z78,Z80),\"\")","v":""},{"$f":"IF(AA81=Labels!$B$118,SUM(AA78,AA80),\"\")","v":""},{"$f":"IF(AB81=Labels!$B$118,SUM(AB78,AB80),\"\")","v":""},{"$f":"IF(AC81=Labels!$B$118,SUM(AC78,AC80),\"\")","v":""},{"$f":"IF(AD81=Labels!$B$118,SUM(AD78,AD80),\"\")","v":{"$error":"#VALUE!"}},null,null,0,"[6]"]
[{"$f":"$A$32","v":"Zuschlag  blind (Wochentotal)"},{"$f":"IF(OR(ISTEXT(B87),B87=\"\",B87<$B$7),\"\",ROUND(((B87-$B$7)*25%)/25,4)*25)","v":""},{"$f":"IF(OR(ISTEXT(C87),C87=\"\",C87<$B$7),\"\",ROUND(((C87-$B$7)*25%)/25,4)*25)","v":""},"","","","","","","","","","","","","","","","","","","","","","","","","","","",{"$f":"YEAR(AC73)","v":2021},null,{"$f":"AG79","v":0},"[7]"]
[null,{"$f":"$B$33","v":"1)   25% Zeitzuschlag für Überschreitung Wochentotal"},null,null,null,null,null,null,null,null,null,{"$f":"$L$33","v":"2) 100% Zeitzuschlag für Nachtarbeit"},null,null,null,null,null,null,null,{"$f":"$T$33","v":"Eingabe der ausbezahlten Stunden Vorjahressaldo"},null,null,null,null,null,null,null,null,null,null,null,null,{"$f":"SUM(AG78+AG80)","v":0},"[8]"]
[null,{"$f":"$B$34","v":"3) 100% Zeitzuschlag für Sonn- und Feiertagsarbeit"},null,null,null,null,null,null,null,null,null,null,null,null,null,null,null,null,null,{"$f":"$T$34","v":"Eingabe der ausbezahlten Stunden laufendes Jahr (Überstunden)"},null,null,null,null,null,null,null,null,null,null,null,null,{"$f":"SUM(AG78:AG80)","v":0},"[9]"]
[{"$f":"$A$35","v":"Bemerkungen"},null,null,null,null,null,null,null,null,null,null,null,null,null,null,null,null,null,null,null,null,null,null,null,null,null,null,null,null,null,null,null,{"$f":"SUM(AG76+AG82)","v":0},"[10]"]
[null,null,null,null,null,null,null,null,null,null,null,null,null,null,null,null,null,null,null,null,null,null,null,null,null,null,null,null,null,null,null,null,{"$f":"SUM(AG76:AG90)","v":0},"[11]"]
[null,null,null,null,null,null,null,null,null,null,null,null,null,null,null,null,null,null,null,null,null,null,null,null,null,null,null,null,null,null,null,null,{"$f":"AG75","v":164.6}]
[null,null,null,null,null,null,null,null,null,null,null,null,null,null,null,null,null,null,null,null,null,null,null,null,null,null,null,null,null,null,null,null,{"$f":"SUM(AG99-AG75)","v":-164.6}]
[{"$f":"$A$39","v":"Zusammenstellung"},null,null,null,null,null,{"$f":"$G$39","v":"Jan"},null,{"$f":"$I$39","v":"Feb"},null,{"$f":"$K$39","v":"Mrz"},null,{"$f":"$M$39","v":"Apr"},null,{"$f":"$O$39","v":"Mai"},null,{"$f":"$Q$39","v":"Jun"},null,{"$f":"$S$39","v":"Jul"},null,{"$f":"$U$39","v":"Aug"},null,{"$f":"$W$39","v":"Sep"},null,{"$f":"$Y$39","v":"Okt"},null,{"$f":"$AA$39","v":"Nov"},null,{"$f":"$AC$39","v":"Dez"},null,{"$f":"$AE$39","v":"Jahr"}]
[{"$f":"$A$40","v":"Anstellung %"},null,null,null,null,null,{"$f":"IF($B$4=0,0,$B$4)","v":100},null,{"$f":"IF($B$70=0,0,$B$70)","v":100},null,{"$f":"IF($B$133=0,0,$B$133)","v":100},null,{"$f":"IF($B$196=0,0,$B$196)","v":100},null,{"$f":"IF($B$259=0,0,$B$259)","v":100},null,{"$f":"IF($B$322=0,0,$B$322)","v":100},null,{"$f":"IF($B$385=0,0,$B$385)","v":100},null,{"$f":"IF($B$448=0,0,$B$448)","v":100},null,{"$f":"IF($B$511=0,0,$B$511)","v":100},null,{"$f":"IF($B$574=0,0,$B$574)","v":100},null,{"$f":"IF($B$637=0,0,$B$637)","v":100},null,{"$f":"IF($B$700=0,0,$B$700)","v":100}]
[{"$f":"$A$41","v":"Sollstunden gemäss GAV"},null,null,null,null,null,{"$f":"IF($AG$37=0,0,$AG$37)","v":172.82999999999998},null,{"$f":"IF($AG$100=0,0,$AG$100)","v":164.6},null,{"$f":"IF($AG$138=0,0,$AG$138)","v":189.28999999999996},null,{"$f":"IF($AG$226=0,0,$AG$226)","v":181.05999999999997},null,{"$f":"IF($AG$289=0,0,$AG$289)","v":172.82999999999998},null,{"$f":"IF($AG$352=0,0,$AG$352)","v":181.05999999999997},null,{"$f":"IF($AG$415=0,0,$AG$415)","v":181.05999999999997},null,{"$f":"IF($AG$478=0,0,$AG$478)","v":181.05999999999997},null,{"$f":"IF($AG$541=0,0,$AG$541)","v":181.05999999999997},null,{"$f":"IF($AG$604=0,0,$AG$604)","v":172.82999999999998},null,{"$f":"IF($AG$667=0,0,$AG$667)","v":181.05999999999997},null,{"$f":"IF($AG$730=0,0,$AG$730)","v":189.28999999999996},null,{"$f":"SUM(G104:AD104)","v":2148.0299999999997}]
[{"$f":"$A$42","v":"Produktive Stunden"},{"$f":"$B$42","v":"06.00 - 20.00 Uhr"},null,null,null,null,{"$f":"IF($AG$32=0,0,$AG$32)","v":0},null,{"$f":"IF($AG$95=0,0,$AG$95)","v":0},null,{"$f":"IF($AG$158=0,0,$AG$158)","v":0},null,{"$f":"IF($AG$221=0,0,$AG$221)","v":0},null,{"$f":"IF($AG$284=0,0,$AG$284)","v":0},null,{"$f":"IF($AG$347=0,0,$AG$347)","v":0},null,{"$f":"IF($AG$410=0,0,$AG$410)","v":0},null,{"$f":"IF($AG$473=0,0,$AG$473)","v":0},null,{"$f":"IF($AG$536=0,0,$AG$536)","v":0},null,{"$f":"IF($AG$599=0,0,$AG$599)","v":0},null,{"$f":"IF($AG$662=0,0,$AG$662)","v":0},null,{"$f":"IF($AG$725=0,0,$AG$725)","v":0},null,{"$f":"SUM(G105:AD105)","v":0}]
[null,{"$f":"$B$43","v":"Nacht-, Sonn-, Feiertagsarbeit"},null,null,null,null,{"$f":"IF($AG$33=0,0,$AG$33)","v":0},null,{"$f":"IF($AG$96=0,0,$AG$96)","v":0},null,{"$f":"IF($AG$159=0,0,$AG$159)","v":0},null,{"$f":"IF($AG$222=0,0,$AG$222)","v":0},null,{"$f":"IF($AG$285=0,0,$AG$285)","v":0},null,{"$f":"IF($AG$348=0,0,$AG$348)","v":0},null,{"$f":"IF($AG$411=0,0,$AG$411)","v":0},null,{"$f":"IF($AG$474=0,0,$AG$474)","v":0},null,{"$f":"IF($AG$537=0,0,$AG$537)","v":0},null,{"$f":"IF($AG$600=0,0,$AG$600)","v":0},null,{"$f":"IF($AG$663=0,0,$AG$663)","v":0},null,{"$f":"IF($AG$726=0,0,$AG$726)","v":0},null,{"$f":"SUM(G106:AD106)","v":0}]
[{"$f":"$A$44","v":"Zeitzuschläge"},{"$f":"$B$44","v":"aus Wochentotal"},null,null,null,null,{"$f":"IF($AG$25=0,0,$AG$25)","v":0},null,{"$f":"IF($AG$88=0,0,$AG$88)","v":0},null,{"$f":"IF($AG$151=0,0,$AG$151)","v":0},null,{"$f":"IF($AG$214=0,0,$AG$214)","v":0},null,{"$f":"IF($AG$277=0,0,$AG$277)","v":0},null,{"$f":"IF($AG$340=0,0,$AG$340)","v":0},null,{"$f":"IF($AG$403=0,0,$AG$403)","v":0},null,{"$f":"IF($AG$466=0,0,$AG$466)","v":0},null,{"$f":"IF($AG$529=0,0,$AG$529)","v":0},null,{"$f":"IF($AG$592=0,0,$AG$592)","v":0},null,{"$f":"IF($AG$655=0,0,$AG$655)","v":0},null,{"$f":"IF($AG$718=0,0,$AG$718)","v":0},null,{"$f":"SUM(G107:AD107)","v":0}]
[null,{"$f":"$B$45","v":"aus Nacht-, Sonn-, Feiertagsarbeiten"},null,null,null,null,{"$f":"IF($AJ$20=0,0,$AJ$20)","v":0},null,{"$f":"IF($AK$20=0,0,$AK$20)","v":0},null,{"$f":"IF($AL$20=0,0,$AL$20)","v":0},null,{"$f":"IF($AM$20=0,0,$AM$20)","v":0},null,{"$f":"IF($AN$20=0,0,$AN$20)","v":0},null,{"$f":"IF($AO$20=0,0,$AO$20)","v":0},null,{"$f":"IF($AP$20=0,0,$AP$20)","v":0},null,{"$f":"IF($AQ$20=0,0,$AQ$20)","v":0},null,{"$f":"IF($AR$20=0,0,$AR$20)","v":0},null,{"$f":"IF($AS$20=0,0,$AS$20)","v":0},null,{"$f":"IF($AT$20=0,0,$AT$20)","v":0},null,{"$f":"IF($AU$20=0,0,$AU$20)","v":0},null,{"$f":"SUM(G108:AD108)","v":0}]
[{"$f":"$A$46","v":"Unproduktive Stunden"}]
[{"$f":"$A$47","v":"   Absenzen, Kurzabsenzen Art. 11 GAV"},null,null,null,null,{"$f":"$F$47","v":"a"},{"$f":"IF($AJ$3=0,0,$AJ$3)","v":0},null,{"$f":"IF($AK$3=0,0,$AK$3)","v":0},null,{"$f":"IF($AL$3=0,0,$AL$3)","v":0},null,{"$f":"IF($AM$3=0,0,$AM$3)","v":0},null,{"$f":"IF($AN$3=0,0,$AN$3)","v":0},null,{"$f":"IF($AO$3=0,0,$AO$3)","v":0},null,{"$f":"IF($AP$3=0,0,$AP$3)","v":0},null,{"$f":"IF($AQ$3=0,0,$AQ$3)","v":0},null,{"$f":"IF($AR$3=0,0,$AR$3)","v":0},null,{"$f":"IF($AS$3=0,0,$AS$3)","v":0},null,{"$f":"IF(AT$3=0,0,$AT$3)","v":0},null,{"$f":"IF($AU$3=0,0,$AU$3)","v":0},null,{"$f":"IF($AV$3=0,0,$AV$3)","v":0}]
[{"$f":"$A$48","v":"   Ferien Art. 12.1 GAV"},null,null,null,null,{"$f":"$F$48","v":"f"},{"$f":"IF($AJ$4=0,0,$AJ$4)","v":0},null,{"$f":"IF($AK$4=0,0,$AK$4)","v":0},null,{"$f":"IF($AL$4=0,0,$AL$4)","v":0},null,{"$f":"IF($AM$4=0,0,$AM$4)","v":0},null,{"$f":"IF($AN$4=0,0,$AN$4)","v":0},null,{"$f":"IF($AO$4=0,0,$AO$4)","v":0},null,{"$f":"IF($AP$4=0,0,$AP$4)","v":0},null,{"$f":"IF($AQ$4=0,0,$AQ$4)","v":0},null,{"$f":"IF($AR$4=0,0,$AR$4)","v":0},null,{"$f":"IF($AS$4=0,0,$AS$4)","v":0},null,{"$f":"IF($AT$4=0,0,$AT$4)","v":0},null,{"$f":"IF($AU$4=0,0,$AU$4)","v":0},null,{"$f":"IF($AV$4=0,0,$AV$4)","v":0}]
[{"$f":"$A$49","v":"   Feiertage Art. 12.2 GAV"},null,{"$f":"IF($AJ$17=\"\",\"\",$AJ$17)","v":""},null,null,{"$f":"$F$49","v":"ft"},{"$f":"IF($AJ$15=0,0,$AJ$15)","v":0},null,{"$f":"IF($AK$15=0,0,$AK$15)","v":0},null,{"$f":"IF($AL$15=0,0,$AL$15)","v":0},null,{"$f":"IF($AM$15=0,0,$AM$15)","v":0},null,{"$f":"IF($AN$15=0,0,$AN$15)","v":0},null,{"$f":"IF($AO$15=0,0,$AO$15)","v":0},null,{"$f":"IF($AP$15=0,0,$AP$15)","v":0},null,{"$f":"IF($AQ$15=0,0,$AQ$15)","v":0},null,{"$f":"IF($AR$15=0,0,$AR$15)","v":0},null,{"$f":"IF($AS$15=0,0,$AS$15)","v":0},null,{"$f":"IF($AT$15=0,0,$AT$15)","v":0},null,{"$f":"IF($AU$15=0,0,$AU$15)","v":0},null,{"$f":"IF($AV$15=0,0,$AV$15)","v":0}]
[{"$f":"$A$50","v":"   Krankheit Art. 13 GAV"},null,null,null,null,{"$f":"$F$50","v":"k"},{"$f":"IF($AJ$5=0,0,$AJ$5)","v":0},null,{"$f":"IF($AK$5=0,0,$AK$5)","v":0},null,{"$f":"IF($AL$5=0,0,$AL$5)","v":0},null,{"$f":"IF($AM$5=0,0,$AM$5)","v":0},null,{"$f":"IF($AN$5=0,0,$AN$5)","v":0},null,{"$f":"IF($AO$5=0,0,$AO$5)","v":0},null,{"$f":"IF($AP$5=0,0,$AP$5)","v":0},null,{"$f":"IF($AQ$5=0,0,$AQ$5)","v":0},null,{"$f":"IF($AR$5=0,0,$AR$5)","v":0},null,{"$f":"IF($AS$5=0,0,$AS$5)","v":0},null,{"$f":"IF($AT$5=0,0,$AT$5)","v":0},null,{"$f":"IF($AU$5=0,0,$AU$5)","v":0},null,{"$f":"IF($AV$5=0,0,$AV$5)","v":0}]
[{"$f":"$A$51","v":"   Unfall Art. 14 GAV"},null,null,null,null,{"$f":"$F$51","v":"u"},{"$f":"IF($AJ$6=0,0,$AJ$6)","v":0},null,{"$f":"IF($AK$6=0,0,$AK$6)","v":0},null,{"$f":"IF($AL$6=0,0,$AL$6)","v":0},null,{"$f":"IF($AM$6=0,0,$AM$6)","v":0},null,{"$f":"IF($AN$6=0,0,$AN$6)","v":0},null,{"$f":"IF($AO$6=0,0,$AO$6)","v":0},null,{"$f":"IF($AP$6=0,0,$AP$6)","v":0},null,{"$f":"IF($AQ$6=0,0,$AQ$6)","v":0},null,{"$f":"IF($AR$6=0,0,$AR$6)","v":0},null,{"$f":"IF($AS$6=0,0,$AS$6)","v":0},null,{"$f":"IF($AT$6=0,0,$AT$6)","v":0},null,{"$f":"IF($AU$6=0,0,$AU$6)","v":0},null,{"$f":"IF($AV$6=0,0,$AV$6)","v":0}]
[{"$f":"$A$52","v":"   Schwangerschaft/Mutterschaft Art. 15 GAV"},null,null,null,null,{"$f":"$F$52","v":"s"},{"$f":"IF($AJ$7=0,0,$AJ$7)","v":0},null,{"$f":"IF($AK$7=0,0,$AK$7)","v":0},null,{"$f":"IF($AL$7=0,0,$AL$7)","v":0},null,{"$f":"IF($AM$7=0,0,$AM$7)","v":0},null,{"$f":"IF($AN$7=0,0,$AN$7)","v":0},null,{"$f":"IF($AO$7=0,0,$AO$7)","v":0},null,{"$f":"IF($AP$7=0,0,$AP$7)","v":0},null,{"$f":"IF($AQ$7=0,0,$AQ$7)","v":0},null,{"$f":"IF($AR$7=0,0,$AR$7)","v":0},null,{"$f":"IF($AS$7=0,0,$AS$7)","v":0},null,{"$f":"IF($AT$7=0,0,$AT$7)","v":0},null,{"$f":"IF($AU$7=0,0,$AU$7)","v":0},null,{"$f":"IF($AV$7=0,0,$AV$7)","v":0}]
[{"$f":"$A$53","v":"   Militär/Beförderung/Zivilschutz Art. 16 GAV"},null,null,null,null,{"$f":"$F$53","v":"m"},{"$f":"IF($AJ$8=0,0,$AJ$8)","v":0},null,{"$f":"IF($AK$8=0,0,$AK$8)","v":0},null,{"$f":"IF($AL$8=0,0,$AL$8)","v":0},null,{"$f":"IF($AM$8=0,0,$AM$8)","v":0},null,{"$f":"IF($AN$8=0,0,$AN$8)","v":0},null,{"$f":"IF($AO$8=0,0,$AO$8)","v":0},null,{"$f":"IF($AP$8=0,0,$AP$8)","v":0},null,{"$f":"IF($AQ$8=0,0,$AQ$8)","v":0},null,{"$f":"IF($AR$8=0,0,$AR$8)","v":0},null,{"$f":"IF($AS$8=0,0,$AS$8)","v":0},null,{"$f":"IF($AT$8=0,0,$AT$8)","v":0},null,{"$f":"IF($AU$8=0,0,$AU$8)","v":0},null,{"$f":"IF($AV$8=0,0,$AV$8)","v":0}]
[{"$f":"$A$54","v":"   Kurzarbeit und Schlechtwetterausfälle"},null,null,null,null,{"$f":"$F$54","v":"ka"},{"$f":"IF($AJ$11=0,0,$AJ$11)","v":0},null,{"$f":"IF($AK$11=0,0,$AK$11)","v":0},null,{"$f":"IF($AL$11=0,0,$AL$11)","v":0},null,{"$f":"IF($AM$11=0,0,$AM$11)","v":0},null,{"$f":"IF($AN$11=0,0,$AN$11)","v":0},null,{"$f":"IF($AO$11=0,0,$AO$11)","v":0},null,{"$f":"IF($AP$11=0,0,$AP$11)","v":0},null,{"$f":"IF($AQ$11=0,0,$AQ$11)","v":0},null,{"$f":"IF($AR$11=0,0,$AR$11)","v":0},null,{"$f":"IF($AS$11=0,0,$AS$11)","v":0},null,{"$f":"IF($AT$11=0,0,$AT$11)","v":0},null,{"$f":"IF($AU$11=0,0,$AU$11)","v":0},null,{"$f":"IF($AV$11=0,0,$AV$11)","v":0}]
[{"$f":"$A$55","v":"   Berufsschule"},null,null,null,null,{"$f":"$F$55","v":"bs"},{"$f":"IF($AJ$9=0,0,$AJ$9)","v":0},null,{"$f":"IF($AK$9=0,0,$AK$9)","v":0},null,{"$f":"IF($AL$9=0,0,$AL$9)","v":0},null,{"$f":"IF($AM$9=0,0,$AM$9)","v":0},null,{"$f":"IF($AN$9=0,0,$AN$9)","v":0},null,{"$f":"IF($AO$9=0,0,$AO$9)","v":0},null,{"$f":"IF($AP$9=0,0,$AP$9)","v":0},null,{"$f":"IF($AQ$9=0,0,$AQ$9)","v":0},null,{"$f":"IF($AR$9=0,0,$AR$9)","v":0},null,{"$f":"IF($AS$9=0,0,$AS$9)","v":0},null,{"$f":"IF($AT$9=0,0,$AT$9)","v":0},null,{"$f":"IF($AU$9=0,0,$AU$9)","v":0},null,{"$f":"IF($AV$9=0,0,$AV$9)","v":0}]
[{"$f":"$A$56","v":"   Kurse"},null,null,null,null,{"$f":"$F$56","v":"ku"},{"$f":"IF($AJ$10=0,0,$AJ$10)","v":0},null,{"$f":"IF($AK$10=0,0,$AK$10)","v":0},null,{"$f":"IF($AL$10=0,0,$AL$10)","v":0},null,{"$f":"IF($AM$10=0,0,$AM$10)","v":0},null,{"$f":"IF($AN$10=0,0,$AN$10)","v":0},null,{"$f":"IF($AO$10=0,0,$AO$10)","v":0},null,{"$f":"IF($AP$10=0,0,$AP$10)","v":0},null,{"$f":"IF($AQ$10=0,0,$AQ$10)","v":0},null,{"$f":"IF($AR$10=0,0,$AR$10)","v":0},null,{"$f":"IF($AS$10=0,0,$AS$10)","v":0},null,{"$f":"IF($AT$10=0,0,$AT$10)","v":0},null,{"$f":"IF($AU$10=0,0,$AU$10)","v":0},null,{"$f":"IF($AV$10=0,0,$AV$10)","v":0}]
[{"$f":"$A$57","v":"Kompensations-Std"},{"$f":"$B$57","v":"aus Vorjahr"},null,null,null,{"$f":"$F$57","v":"kv"},{"$f":"IF($AJ$12=0,0,$AJ$12)","v":0},null,{"$f":"IF($AK$12=0,0,$AK$12)","v":0},null,{"$f":"IF($AL$12=0,0,$AL$12)","v":0},null,{"$f":"IF($AM$12=0,0,$AM$12)","v":0},null,{"$f":"IF($AN$12=0,0,$AN$12)","v":0},null,{"$f":"IF($AO$12=0,0,$AO$12)","v":0},null,{"$f":"IF($AP$12=0,0,$AP$12)","v":0},null,{"$f":"IF($AQ$12=0,0,$AQ$12)","v":0},null,{"$f":"IF($AR$12=0,0,$AR$12)","v":0},null,null,null,null,null,null,null,{"$f":"IF($AV$12=0,0,$AV$12)","v":0}]
[null,{"$f":"$B$58","v":"aus laufendem Jahr (Kontrolle)"},null,null,null,{"$f":"$F$58","v":"kj"},{"$f":"IF($AJ$14=0,0,$AJ$14)","v":0},null,{"$f":"IF($AK$14=0,0,$AK$14)","v":0},null,{"$f":"IF($AL$14=0,0,$AL$14)","v":0},null,{"$f":"IF($AM$14=0,0,$AM$14)","v":0},null,{"$f":"IF($AN$14=0,0,$AN$14)","v":0},null,{"$f":"IF($AO$14=0,0,$AO$14)","v":0},null,{"$f":"IF($AP$14=0,0,$AP$14)","v":0},null,{"$f":"IF($AQ$14=0,0,$AQ$14)","v":0},null,{"$f":"IF($AR$14=0,0,$AR$14)","v":0},null,{"$f":"IF($AS$14=0,0,$AS$14)","v":0},null,{"$f":"IF($AT$14=0,0,$AT$14)","v":0},null,{"$f":"IF($AU$14=0,0,$AU$14)","v":0},null,{"$f":"IF($AV$14=0,0,$AV$14)","v":0}]
[{"$f":"$A$59","v":"Auszahlung"},{"$f":"$B$59","v":"Stunden Vorjahressaldo"},null,null,null,null,{"$f":"IF($AJ$18=0,0,$AJ$18)","v":0},null,{"$f":"IF($AK$18=0,0,$AK$18)","v":0},null,{"$f":"IF($AL$18=0,0,$AL$18)","v":0},null,{"$f":"IF($AM$18=0,0,$AM$18)","v":0},null,{"$f":"IF($AN$18=0,0,$AN$18)","v":0},null,{"$f":"IF($AO$18=0,0,$AO$18)","v":0},null,{"$f":"IF($AP$18=0,0,$AP$18)","v":0},null,{"$f":"IF($AQ$18=0,0,$AQ$18)","v":0},null,{"$f":"IF($AR$18=0,0,$AR$18)","v":0},null,null,null,null,null,null,null,{"$f":"IF($AV$18=0,0,$AV$18)","v":0}]
[{"$f":"$A$60","v":"Differenz"},{"$f":"$B$60","v":"nach Kompensation und Auszahlung"},null,null,null,null,{"$f":"IF(ROUND($P$4,3)=0,0,$P$4-SUM(G120+G122))","v":0},null,{"$f":"IF(ROUND(G123,3)=0,0,G123-(SUM(I122+I120)))","v":0},null,{"$f":"IF(ROUND(I123,3)=0,0,I123-(SUM(K122+K120)))","v":0},null,{"$f":"IF(ROUND(K123,3)=0,0,K123-(SUM(M122+M120)))","v":0},null,{"$f":"IF(ROUND(M123,3)=0,0,M123-(SUM(O122+O120)))","v":0},null,{"$f":"IF(ROUND(O123,3)=0,0,O123-(SUM(Q122+Q120)))","v":0},null,{"$f":"IF(ROUND(Q123,3)=0,0,Q123-(SUM(S122+S120)))","v":0},null,{"$f":"IF(ROUND(S123,3)=0,0,S123-(SUM(U122+U120)))","v":0},null,{"$f":"IF(ROUND(U123,3)=0,0,U123-(SUM(W122+W120)))","v":0},null,{"$f":"$Y$60","v":""}]
[{"$f":"$A$61","v":"Auszahlung"},{"$f":"$B$61","v":"Stunden laufendes Jahr"},null,null,null,null,{"$f":"IF($AJ$19=0,0,$AJ$19)","v":0},null,{"$f":"IF($AK$19=0,0,$AK$19)","v":0},null,{"$f":"IF($AL$19=0,0,$AL$19)","v":0},null,{"$f":"IF($AM$19=0,0,$AM$19)","v":0},null,{"$f":"IF($AN$19=0,0,$AN$19)","v":0},null,{"$f":"IF($AO$19=0,0,$AO$19)","v":0},null,{"$f":"IF($AP$19=0,0,$AP$19)","v":0},null,{"$f":"IF($AQ$19=0,0,$AQ$19)","v":0},null,{"$f":"IF($AR$19=0,0,$AR$19)","v":0},null,{"$f":"IF($AS$19=0,0,$AS$19)","v":0},null,{"$f":"IF($AT$19=0,0,$AT$19)","v":0},null,{"$f":"IF($AU$19=0,0,$AU$19)","v":0},null,{"$f":"IF($AV$19=0,0,$AV$19)","v":0}]
[{"$f":"$A$62","v":"Fehlstunden"},{"$f":"$B$62","v":"laufendes Jahr (Kontrolle)"},null,null,null,{"$f":"$F$62","v":"fe"},{"$f":"IF($AJ$13=0,0,$AJ$13)","v":0},null,{"$f":"IF($AK$13=0,0,$AK$13)","v":0},null,{"$f":"IF($AL$13=0,0,$AL$13)","v":0},null,{"$f":"IF($AM$13=0,0,$AM$13)","v":0},null,{"$f":"IF($AN$13=0,0,$AN$13)","v":0},null,{"$f":"IF($AO$13=0,0,$AO$13)","v":0},null,{"$f":"IF($AP$13=0,0,$AP$13)","v":0},null,{"$f":"IF($AQ$13=0,0,$AQ$13)","v":0},null,{"$f":"IF($AR$13=0,0,$AR$13)","v":0},null,{"$f":"IF($AS$13=0,0,$AS$13)","v":0},null,{"$f":"IF($AT$13=0,0,$AT$13)","v":0},null,{"$f":"IF($AU$13=0,0,$AU$13)","v":0},null,{"$f":"IF($AV$13=0,0,$AV$13)","v":0}]
[{"$f":"$A$63","v":"Total inkl. Zeitzuschläge"},{"$f":"$B$63","v":"Stunden produktiv und unproduktiv"},null,null,null,null,{"$f":"IF($AG$36=0,0,$AG$36)","v":0},null,{"$f":"IF($AG$99=0,0,$AG$99)","v":0},null,{"$f":"IF($AG$162=0,0,$AG$162)","v":0},null,{"$f":"IF($AG$225=0,0,$AG$225)","v":0},null,{"$f":"IF($AG$288=0,0,$AG$288)","v":0},null,{"$f":"IF($AG$351=0,0,$AG$351)","v":0},null,{"$f":"IF($AG$414=0,0,$AG$414)","v":0},null,{"$f":"IF($AG$477=0,0,$AG$477)","v":0},null,{"$f":"IF($AG$540=0,0,$AG$540)","v":0},null,{"$f":"IF($AG$603=0,0,$AG$603)","v":0},null,{"$f":"IF($AG$666=0,0,$AG$666)","v":0},null,{"$f":"IF($AG$729=0,0,$AG$729)","v":0},null,{"$f":"SUM($G$63:$AD$63)","v":0}]
[{"$f":"$A$64","v":"Vergleich"},{"$f":"$B$64","v":"Stunden zu Soll-Stunden (inkl. allfälli-\nge Minusstunden Vorjahr)"},null,null,null,null,{"$f":"$G$64","v":-172.82999999999998},null,{"$f":"$I$64","v":-164.6},null,{"$f":"$K$64","v":-189.28999999999996},null,{"$f":"$M$64","v":-181.05999999999997},null,{"$f":"$O$64","v":-172.82999999999998},null,{"$f":"$Q$64","v":-181.05999999999997},null,{"$f":"$S$64","v":-181.05999999999997},null,{"$f":"$U$64","v":-181.05999999999997},null,{"$f":"$W$64","v":-181.05999999999997},null,{"$f":"$Y$64","v":-172.82999999999998},null,{"$f":"$AA$64","v":-181.05999999999997},null,{"$f":"$AC$64","v":-189.28999999999996},null,{"$f":"$AE$64","v":-2148.0299999999997}]
[null,{"$f":"$B$65","v":"Stunden zu Soll-Stunden (kumuliert)"},null,null,null,null,{"$f":"$G$65","v":-172.82999999999998},null,{"$f":"$I$65","v":-337.42999999999995},null,{"$f":"$K$65","v":-526.71999999999991},null,{"$f":"$M$65","v":-707.77999999999986},null,{"$f":"$O$65","v":-880.6099999999999},null,{"$f":"$Q$65","v":-1061.6699999999998},null,{"$f":"$S$65","v":-1242.7299999999998},null,{"$f":"$U$65","v":-1423.7899999999997},null,{"$f":"$W$65","v":-1604.8499999999997},null,{"$f":"$Y$65","v":-1777.6799999999996},null,{"$f":"$AA$65","v":-1958.7399999999996},null,{"$f":"$AC$65","v":-2148.0299999999997},null,{"$f":"$AE$65","v":0}]
[{"$f":"$A$66","v":"Ferienkontrolle"},{"$f":"$B$66","v":"Ferienguthaben Vorjahr"},null,null,null,null,{"$f":"IF($AA$4=0,0,$AA$4)","v":0},null,{"$f":"$I$66","v":"Ferienguthaben nach \nArt. 12.1 GAV"},null,null,null,{"$f":"IF($AA$5=0,0,$AA$5)","v":0},null,{"$f":"$O$66","v":"Ferienguthaben total"},null,null,null,{"$f":"SUM(G129+M129)","v":0},null,{"$f":"$U$66","v":"Ferien bezogen"},null,null,null,{"$f":"IF($AV$4=0,0,$AV$4)","v":0},null,{"$f":"$AA$66","v":"Aktuelles Ferienguthaben"},null,null,null,{"$f":"IF(S129=0,0,S129-Y129)","v":0}]
[]
[]
[{"$f":"$A$3","v":"Mitarbeiter/In"},{"$f":"IF($B$3=\"\",\"\",$B$3)","v":"Muster Peter"},null,null,null,null,null,null,null,null,null,null,null,null,null,null,null,null,null,null,null,null,null,null,null,null,null,null,null,null,null,{"$f":"AF3","v":0}]
[{"$f":"$A$4","v":"Anstellung %"},100,null,{"$f":"Labels!B91","v":"im März"}]
[{"$f":"$A$5","v":"Saldo für das Jahr"},null,null,{"$f":"IF($AE$64=0,0,$AE$64)","v":-2148.0299999999997}]
[{"$f":"TEXT(DATE(YEAR(AP28),MONTH(AP28)+2,1),\"MMMM\"&Labels!B13)","v":"März"},{"$f":"$B$9","v":"Saldo Monat + / -"},null,null,null,{"$f":"(AG138-(SUM(AG139:AG153)-AE160))*-1","v":-189.28999999999996},null,null,null,null,{"$f":"$K$9","v":" = "},{"$f":"$L$9","v":"Gelbe Felder müssen ausgefüllt werden (die übrigen werden automatisch berechnet)"}]
[{"$f":"$A$10","v":"Tag"},{"$f":"IF(MOD($AE$95,4)>=1,$AC$73+1,$AC$73+2)","v":"2021-03-01"},{"$f":"B136+1","v":"2021-03-02"},"2021-03-03","2021-03-04","2021-03-05","2021-03-06","2021-03-07","2021-03-08","2021-03-09","2021-03-10","2021-03-11","2021-03-12","2021-03-13","2021-03-14","2021-03-15","2021-03-16","2021-03-17","2021-03-18","2021-03-19","2021-03-20","2021-03-21","2021-03-22","2021-03-23","2021-03-24","2021-03-25","2021-03-26","2021-03-27","2021-03-28","2021-03-29","2021-03-30","2021-03-31",{"$f":"COUNT(B138:AF138)&\" \"&Labels!$B$63","v":"23 Tage"}]
[{"$f":"$A$11","v":"Kalenderwoche"},{"$f":"IF(B136=\"\",\"\",TRUNC((B136-DATE(YEAR(B136+3-MOD(B136-2,7)),1,MOD(B136-2,7)-9))/7))","v":9},9,9,9,9,9,9,10,10,10,10,10,10,10,11,11,11,11,11,11,11,12,12,12,12,12,12,12,13,13,13]
[{"$f":"$A$12","v":"Sollstunden"},{"$f":"IF(MOD(B136,7)>=2,$J$7*$B$133%,\"\")","v":8.23},8.23,8.23,8.23,8.23,"","",8.23,8.23,8.23,8.23,8.23,"","",8.23,8.23,8.23,8.23,8.23,"","",8.23,8.23,8.23,8.23,8.23,"","",8.23,8.23,8.23,{"$f":"SUM(B138:AF138)","v":189.28999999999996}]
[{"$f":"$A$13","v":"Absenz in Std"},{"$f":"B865","v":0},{"$f":"C865","v":0},0,0,0,0,0,0,0,0,0,0,0,0,0,0,0,0,0,0,0,0,0,0,0,0,0,0,0,0,0,{"$f":"SUM(AL3:AL12)","v":0}]
[{"$f":"$A$14","v":"Code"},{"$f":"IF(B865<>0,IF(MAX(B852:B864)<B865,Labels!$B$163,INDEX($AH$852:$AH$864,MATCH(MAX(B852:B864),B852:B864,0))),\"\")","v":""},{"$f":"IF(C865<>0,IF(MAX(C852:C864)<C865,Labels!$B$163,INDEX($AH$852:$AH$864,MATCH(MAX(C852:C864),C852:C864,0))),\"\")","v":""},{"$f":"IF(D865<>0,IF(MAX(D852:D864)<D865,Labels!$B$163,INDEX($AH$852:$AH$864,MATCH(MAX(D852:D864),D852:D864,0))),\"\")","v":""},{"$f":"IF(E865<>0,IF(MAX(E852:E864)<E865,Labels!$B$163,INDEX($AH$852:$AH$864,MATCH(MAX(E852:E864),E852:E864,0))),\"\")","v":""},{"$f":"IF(F865<>0,IF(MAX(F852:F864)<F865,Labels!$B$163,INDEX($AH$852:$AH$864,MATCH(MAX(F852:F864),F852:F864,0))),\"\")","v":""},{"$f":"IF(G865<>0,IF(MAX(G852:G864)<G865,Labels!$B$163,INDEX($AH$852:$AH$864,MATCH(MAX(G852:G864),G852:G864,0))),\"\")","v":""},{"$f":"IF(H865<>0,IF(MAX(H852:H864)<H865,Labels!$B$163,INDEX($AH$852:$AH$864,MATCH(MAX(H852:H864),H852:H864,0))),\"\")","v":""},{"$f":"IF(I865<>0,IF(MAX(I852:I864)<I865,Labels!$B$163,INDEX($AH$852:$AH$864,MATCH(MAX(I852:I864),I852:I864,0))),\"\")","v":""},{"$f":"IF(J865<>0,IF(MAX(J852:J864)<J865,Labels!$B$163,INDEX($AH$852:$AH$864,MATCH(MAX(J852:J864),J852:J864,0))),\"\")","v":""},{"$f":"IF(K865<>0,IF(MAX(K852:K864)<K865,Labels!$B$163,INDEX($AH$852:$AH$864,MATCH(MAX(K852:K864),K852:K864,0))),\"\")","v":""},{"$f":"IF(L865<>0,IF(MAX(L852:L864)<L865,Labels!$B$163,INDEX($AH$852:$AH$864,MATCH(MAX(L852:L864),L852:L864,0))),\"\")","v":""},{"$f":"IF(M865<>0,IF(MAX(M852:M864)<M865,Labels!$B$163,INDEX($AH$852:$AH$864,MATCH(MAX(M852:M864),M852:M864,0))),\"\")","v":""},{"$f":"IF(N865<>0,IF(MAX(N852:N864)<N865,Labels!$B$163,INDEX($AH$852:$AH$864,MATCH(MAX(N852:N864),N852:N864,0))),\"\")","v":""},{"$f":"IF(O865<>0,IF(MAX(O852:O864)<O865,Labels!$B$163,INDEX($AH$852:$AH$864,MATCH(MAX(O852:O864),O852:O864,0))),\"\")","v":""},{"$f":"IF(P865<>0,IF(MAX(P852:P864)<P865,Labels!$B$163,INDEX($AH$852:$AH$864,MATCH(MAX(P852:P864),P852:P864,0))),\"\")","v":""},{"$f":"IF(Q865<>0,IF(MAX(Q852:Q864)<Q865,Labels!$B$163,INDEX($AH$852:$AH$864,MATCH(MAX(Q852:Q864),Q852:Q864,0))),\"\")","v":""},{"$f":"IF(R865<>0,IF(MAX(R852:R864)<R865,Labels!$B$163,INDEX($AH$852:$AH$864,MATCH(MAX(R852:R864),R852:R864,0))),\"\")","v":""},{"$f":"IF(S865<>0,IF(MAX(S852:S864)<S865,Labels!$B$163,INDEX($AH$852:$AH$864,MATCH(MAX(S852:S864),S852:S864,0))),\"\")","v":""},{"$f":"IF(T865<>0,IF(MAX(T852:T864)<T865,Labels!$B$163,INDEX($AH$852:$AH$864,MATCH(MAX(T852:T864),T852:T864,0))),\"\")","v":""},{"$f":"IF(U865<>0,IF(MAX(U852:U864)<U865,Labels!$B$163,INDEX($AH$852:$AH$864,MATCH(MAX(U852:U864),U852:U864,0))),\"\")","v":""},{"$f":"IF(V865<>0,IF(MAX(V852:V864)<V865,Labels!$B$163,INDEX($AH$852:$AH$864,MATCH(MAX(V852:V864),V852:V864,0))),\"\")","v":""},{"$f":"IF(W865<>0,IF(MAX(W852:W864)<W865,Labels!$B$163,INDEX($AH$852:$AH$864,MATCH(MAX(W852:W864),W852:W864,0))),\"\")","v":""},{"$f":"IF(X865<>0,IF(MAX(X852:X864)<X865,Labels!$B$163,INDEX($AH$852:$AH$864,MATCH(MAX(X852:X864),X852:X864,0))),\"\")","v":""},{"$f":"IF(Y865<>0,IF(MAX(Y852:Y864)<Y865,Labels!$B$163,INDEX($AH$852:$AH$864,MATCH(MAX(Y852:Y864),Y852:Y864,0))),\"\")","v":""},{"$f":"IF(Z865<>0,IF(MAX(Z852:Z864)<Z865,Labels!$B$163,INDEX($AH$852:$AH$864,MATCH(MAX(Z852:Z864),Z852:Z864,0))),\"\")","v":""},{"$f":"IF(AA865<>0,IF(MAX(AA852:AA864)<AA865,Labels!$B$163,INDEX($AH$852:$AH$864,MATCH(MAX(AA852:AA864),AA852:AA864,0))),\"\")","v":""},{"$f":"IF(AB865<>0,IF(MAX(AB852:AB864)<AB865,Labels!$B$163,INDEX($AH$852:$AH$864,MATCH(MAX(AB852:AB864),AB852:AB864,0))),\"\")","v":""},{"$f":"IF(AC865<>0,IF(MAX(AC852:AC864)<AC865,Labels!$B$163,INDEX($AH$852:$AH$864,MATCH(MAX(AC852:AC864),AC852:AC864,0))),\"\")","v":""},{"$f":"IF(AD865<>0,IF(MAX(AD852:AD864)<AD865,Labels!$B$163,INDEX($AH$852:$AH$864,MATCH(MAX(AD852:AD864),AD852:AD864,0))),\"\")","v":""},{"$f":"IF(AE865<>0,IF(MAX(AE852:AE864)<AE865,Labels!$B$163,INDEX($AH$852:$AH$864,MATCH(MAX(AE852:AE864),AE852:AE864,0))),\"\")","v":""},{"$f":"IF(AF865<>0,IF(MAX(AF852:AF864)<AF865,Labels!$B$163,INDEX($AH$852:$AH$864,MATCH(MAX(AF852:AF864),AF852:AF864,0))),\"\")","v":""}]
[{"$f":"$A$15","v":"00.00-06.00h"},null,null,null,null,null,null,null,null,null,null,null,null,null,null,null,null,null,null,null,null,null,null,null,null,null,null,null,null,null,null,null,{"$f":"SUM(B141:AF141)","v":0}]
[{"$f":"$A$16","v":"06.00-20.00h"},null,null,null,null,null,null,null,null,null,null,null,null,null,null,null,null,null,null,null,null,null,null,null,null,null,null,null,null,null,null,null,{"$f":"SUM(B142:AF142)","v":0}]
[{"$f":"$A$17","v":"20.00-24.00h"},null,null,null,null,null,null,null,null,null,null,null,null,null,null,null,null,null,null,null,null,null,null,null,null,null,null,null,null,null,null,null,{"$f":"SUM(B143:AF143)","v":0},"[0]"]
[{"$f":"$A$18","v":"Feiertag \"ft\""},{"$f":"IF(WEEKDAY(B136,2)<=6,IF(KALENDER!E7=\"x\",Labels!$B$118,\"\"),\"\")","v":""},{"$f":"IF(WEEKDAY(C136,2)<=6,IF(KALENDER!F7=\"x\",Labels!$B$118,\"\"),\"\")","v":""},{"$f":"IF(WEEKDAY(D136,2)<=6,IF(KALENDER!G7=\"x\",Labels!$B$118,\"\"),\"\")","v":""},{"$f":"IF(WEEKDAY(E136,2)<=6,IF(KALENDER!H7=\"x\",Labels!$B$118,\"\"),\"\")","v":""},{"$f":"IF(WEEKDAY(F136,2)<=6,IF(KALENDER!I7=\"x\",Labels!$B$118,\"\"),\"\")","v":""},{"$f":"IF(WEEKDAY(G136,2)<=6,IF(KALENDER!J7=\"x\",Labels!$B$118,\"\"),\"\")","v":""},{"$f":"IF(WEEKDAY(H136,2)<=6,IF(KALENDER!K7=\"x\",Labels!$B$118,\"\"),\"\")","v":""},{"$f":"IF(WEEKDAY(I136,2)<=6,IF(KALENDER!L7=\"x\",Labels!$B$118,\"\"),\"\")","v":""},{"$f":"IF(WEEKDAY(J136,2)<=6,IF(KALENDER!M7=\"x\",Labels!$B$118,\"\"),\"\")","v":""},{"$f":"IF(WEEKDAY(K136,2)<=6,IF(KALENDER!N7=\"x\",Labels!$B$118,\"\"),\"\")","v":""},{"$f":"IF(WEEKDAY(L136,2)<=6,IF(KALENDER!O7=\"x\",Labels!$B$118,\"\"),\"\")","v":""},{"$f":"IF(WEEKDAY(M136,2)<=6,IF(KALENDER!P7=\"x\",Labels!$B$118,\"\"),\"\")","v":""},{"$f":"IF(WEEKDAY(N136,2)<=6,IF(KALENDER!Q7=\"x\",Labels!$B$118,\"\"),\"\")","v":""},{"$f":"IF(WEEKDAY(O136,2)<=6,IF(KALENDER!R7=\"x\",Labels!$B$118,\"\"),\"\")","v":""},{"$f":"IF(WEEKDAY(P136,2)<=6,IF(KALENDER!S7=\"x\",Labels!$B$118,\"\"),\"\")","v":""},{"$f":"IF(WEEKDAY(Q136,2)<=6,IF(KALENDER!T7=\"x\",Labels!$B$118,\"\"),\"\")","v":""},{"$f":"IF(WEEKDAY(R136,2)<=6,IF(KALENDER!U7=\"x\",Labels!$B$118,\"\"),\"\")","v":""},{"$f":"IF(WEEKDAY(S136,2)<=6,IF(KALENDER!V7=\"x\",Labels!$B$118,\"\"),\"\")","v":""},{"$f":"IF(WEEKDAY(T136,2)<=6,IF(KALENDER!W7=\"x\",Labels!$B$118,\"\"),\"\")","v":""},{"$f":"IF(WEEKDAY(U136,2)<=6,IF(KALENDER!X7=\"x\",Labels!$B$118,\"\"),\"\")","v":""},{"$f":"IF(WEEKDAY(V136,2)<=6,IF(KALENDER!Y7=\"x\",Labels!$B$118,\"\"),\"\")","v":""},{"$f":"IF(WEEKDAY(W136,2)<=6,IF(KALENDER!Z7=\"x\",Labels!$B$118,\"\"),\"\")","v":""},{"$f":"IF(WEEKDAY(X136,2)<=6,IF(KALENDER!AA7=\"x\",Labels!$B$118,\"\"),\"\")","v":""},{"$f":"IF(WEEKDAY(Y136,2)<=6,IF(KALENDER!AB7=\"x\",Labels!$B$118,\"\"),\"\")","v":""},{"$f":"IF(WEEKDAY(Z136,2)<=6,IF(KALENDER!AC7=\"x\",Labels!$B$118,\"\"),\"\")","v":""},{"$f":"IF(WEEKDAY(AA136,2)<=6,IF(KALENDER!AD7=\"x\",Labels!$B$118,\"\"),\"\")","v":""},{"$f":"IF(WEEKDAY(AB136,2)<=6,IF(KALENDER!AE7=\"x\",Labels!$B$118,\"\"),\"\")","v":""},{"$f":"IF(WEEKDAY(AC136,2)<=6,IF(KALENDER!AF7=\"x\",Labels!$B$118,\"\"),\"\")","v":""},{"$f":"IF(WEEKDAY(AD136,2)<=6,IF(KALENDER!AG7=\"x\",Labels!$B$118,\"\"),\"\")","v":""},{"$f":"IF(WEEKDAY(AE136,2)<=6,IF(KALENDER!AH7=\"x\",Labels!$B$118,\"\"),\"\")","v":""},{"$f":"IF(WEEKDAY(AF136,2)<=6,IF(KALENDER!AI7=\"x\",Labels!$B$118,\"\"),\"\")","v":""}]
[{"$f":"$A$19","v":"Gutschrift \"ft\""},{"$f":"IF(AND(B144=Labels!$B$118,WEEKDAY(B136,2)<6),$J$7*$B$133%,\"\")","v":""},{"$f":"IF(AND(C144=Labels!$B$118,WEEKDAY(C136,2)<6),$J$7*$B$133%,\"\")","v":""},{"$f":"IF(AND(D144=Labels!$B$118,WEEKDAY(D136,2)<6),$J$7*$B$133%,\"\")","v":""},{"$f":"IF(AND(E144=Labels!$B$118,WEEKDAY(E136,2)<6),$J$7*$B$133%,\"\")","v":""},{"$f":"IF(AND(F144=Labels!$B$118,WEEKDAY(F136,2)<6),$J$7*$B$133%,\"\")","v":""},{"$f":"IF(AND(G144=Labels!$B$118,WEEKDAY(G136,2)<6),$J$7*$B$133%,\"\")","v":""},{"$f":"IF(AND(H144=Labels!$B$118,WEEKDAY(H136,2)<6),$J$7*$B$133%,\"\")","v":""},{"$f":"IF(AND(I144=Labels!$B$118,WEEKDAY(I136,2)<6),$J$7*$B$133%,\"\")","v":""},{"$f":"IF(AND(J144=Labels!$B$118,WEEKDAY(J136,2)<6),$J$7*$B$133%,\"\")","v":""},{"$f":"IF(AND(K144=Labels!$B$118,WEEKDAY(K136,2)<6),$J$7*$B$133%,\"\")","v":""},{"$f":"IF(AND(L144=Labels!$B$118,WEEKDAY(L136,2)<6),$J$7*$B$133%,\"\")","v":""},{"$f":"IF(AND(M144=Labels!$B$118,WEEKDAY(M136,2)<6),$J$7*$B$133%,\"\")","v":""},{"$f":"IF(AND(N144=Labels!$B$118,WEEKDAY(N136,2)<6),$J$7*$B$133%,\"\")","v":""},{"$f":"IF(AND(O144=Labels!$B$118,WEEKDAY(O136,2)<6),$J$7*$B$133%,\"\")","v":""},{"$f":"IF(AND(P144=Labels!$B$118,WEEKDAY(P136,2)<6),$J$7*$B$133%,\"\")","v":""},{"$f":"IF(AND(Q144=Labels!$B$118,WEEKDAY(Q136,2)<6),$J$7*$B$133%,\"\")","v":""},{"$f":"IF(AND(R144=Labels!$B$118,WEEKDAY(R136,2)<6),$J$7*$B$133%,\"\")","v":""},{"$f":"IF(AND(S144=Labels!$B$118,WEEKDAY(S136,2)<6),$J$7*$B$133%,\"\")","v":""},{"$f":"IF(AND(T144=Labels!$B$118,WEEKDAY(T136,2)<6),$J$7*$B$133%,\"\")","v":""},{"$f":"IF(AND(U144=Labels!$B$118,WEEKDAY(U136,2)<6),$J$7*$B$133%,\"\")","v":""},{"$f":"IF(AND(V144=Labels!$B$118,WEEKDAY(V136,2)<6),$J$7*$B$133%,\"\")","v":""},{"$f":"IF(AND(W144=Labels!$B$118,WEEKDAY(W136,2)<6),$J$7*$B$133%,\"\")","v":""},{"$f":"IF(AND(X144=Labels!$B$118,WEEKDAY(X136,2)<6),$J$7*$B$133%,\"\")","v":""},{"$f":"IF(AND(Y144=Labels!$B$118,WEEKDAY(Y136,2)<6),$J$7*$B$133%,\"\")","v":""},{"$f":"IF(AND(Z144=Labels!$B$118,WEEKDAY(Z136,2)<6),$J$7*$B$133%,\"\")","v":""},{"$f":"IF(AND(AA144=Labels!$B$118,WEEKDAY(AA136,2)<6),$J$7*$B$133%,\"\")","v":""},{"$f":"IF(AND(AB144=Labels!$B$118,WEEKDAY(AB136,2)<6),$J$7*$B$133%,\"\")","v":""},{"$f":"IF(AND(AC144=Labels!$B$118,WEEKDAY(AC136,2)<6),$J$7*$B$133%,\"\")","v":""},{"$f":"IF(AND(AD144=Labels!$B$118,WEEKDAY(AD136,2)<6),$J$7*$B$133%,\"\")","v":""},{"$f":"IF(AND(AE144=Labels!$B$118,WEEKDAY(AE136,2)<6),$J$7*$B$133%,\"\")","v":""},{"$f":"IF(AND(AF144=Labels!$B$118,WEEKDAY(AF136,2)<6),$J$7*$B$133%,\"\")","v":""},{"$f":"SUM(B145:AF145)","v":0}]
[{"$f":"$A$20","v":"Tagestotal"},{"$f":"SUM(B141:B143)","v":0},{"$f":"SUM(C141:C143)","v":0},0,0,0,0,0,0,0,0,0,0,0,0,0,0,0,0,0,0,0,0,0,0,0,0,0,0,0,0,0]
[{"$f":"$A$21","v":"."}]
[{"$f":"$A$22","v":"."}]
[{"$f":"$A$23","v":"Monatsübergang"},{"$f":"IF(WEEKDAY(B136)=1,TEXT(B136-1,\"MMM\"&Labels!B13),\"\")","v":""},null,null,null,null,null,null,null,null,null,null,null,null,null,null,null,null,null,null,null,null,null,null,null,null,null,null,null,null,null,{"$f":"IF(AND(WEEKDAY(AF136)>1,WEEKDAY(AF136)<7),TEXT(DATE($B$5,MONTH(AF136)+1,1),\"MMM\"&Labels!B13),\"\")","v":"Apr"}]
[{"$f":"$A$24","v":"Wochentotal"},{"$f":"IF(WEEKDAY(B136)=7,SUMIF($B74:$AF74,B137,$B83:$AF83)+SUMIF($B137:$AF137,B137,$B146:$AF146)+SUMIF($B200:$AF200,B137,$B209:$AF209),B149)","v":""},{"$f":"IF(WEEKDAY(C136)=7,SUMIF($B74:$AF74,C137,$B83:$AF83)+SUMIF($B137:$AF137,C137,$B146:$AF146)+SUMIF($B200:$AF200,C137,$B209:$AF209),\"\")","v":""},"","","",0,"","","","","","",0,"","","","","","",0,"","","","","","",0,"","","",{"$f":"IF(WEEKDAY(AF136)=7,SUMIF($B74:$AF74,AF137,$B83:$AF83)+SUMIF($B137:$AF137,AF137,$B146:$AF146)+SUMIF($B200:$AF200,AF137,$B209:$AF209),AF149)","v":"Apr"}]
[{"$f":"$A$25","v":"Zeitzuschlag 1)"},{"$f":"IF(B158=\"FALSCH\",\"\",B158)","v":""},{"$f":"IF(C158=\"FALSCH\",\"\",C158)","v":""},"","","","","","","","","","","","","","","","","","","","","","","","","","","","","",{"$f":"SUM(B151:AF151)","v":0}]
[{"$f":"$A$26","v":"Zeitzuschlag 2)"},{"$f":"IF((B141+B143)=0,\"\",SUM(B141,B143))","v":""},{"$f":"IF((C141+C143)=0,\"\",SUM(C141,C143))","v":""},"","","","","","","","","","","","","","","","","","","","","","","","","","","","","",0,"[1]"]
[{"$f":"$A$27","v":"Zeitzuschlag 3)"},{"$f":"SUM(B154:B157)","v":0},{"$f":"SUM(C154:C157)","v":0},0,0,0,0,0,0,0,0,0,0,0,0,0,0,0,0,0,0,0,0,0,0,0,0,0,0,0,0,0,{"$f":"SUM(B153:AF153)","v":0},"[2]"]
[{"$f":"$A$28","v":"Sonntag Tag"},{"$f":"IF(WEEKDAY(B136)=1,B142,\"\")","v":""},{"$f":"IF(WEEKDAY(C136)=1,C142,\"\")","v":""},"","","","",0,"","","","","","",0,"","","","","","",0,"","","","","","",0,"","","",0,"[3]"]
[{"$f":"$A$29","v":"Sonntag Nacht"},{"$f":"IF(WEEKDAY(B136)=1,SUM(B141+B143),\"\")","v":""},{"$f":"IF(WEEKDAY(C136)=1,SUM(C141+C143),\"\")","v":""},"","","","",0,"","","","","","",0,"","","","","","",0,"","","","","","",0,"","","",0,"[4]"]
[{"$f":"$A$30","v":"ft-Tazuschlag"},{"$f":"IF(B144=Labels!$B$118,B142,\"\")","v":""},{"$f":"IF(C144=Labels!$B$118,C142,\"\")","v":""},{"$f":"IF(D144=Labels!$B$118,D142,\"\")","v":""},{"$f":"IF(E144=Labels!$B$118,E142,\"\")","v":""},{"$f":"IF(F144=Labels!$B$118,F142,\"\")","v":""},{"$f":"IF(G144=Labels!$B$118,G142,\"\")","v":""},{"$f":"IF(H144=Labels!$B$118,H142,\"\")","v":""},{"$f":"IF(I144=Labels!$B$118,I142,\"\")","v":""},{"$f":"IF(J144=Labels!$B$118,J142,\"\")","v":""},{"$f":"IF(K144=Labels!$B$118,K142,\"\")","v":""},{"$f":"IF(L144=Labels!$B$118,L142,\"\")","v":""},{"$f":"IF(M144=Labels!$B$118,M142,\"\")","v":""},{"$f":"IF(N144=Labels!$B$118,N142,\"\")","v":""},{"$f":"IF(O144=Labels!$B$118,O142,\"\")","v":""},{"$f":"IF(P144=Labels!$B$118,P142,\"\")","v":""},{"$f":"IF(Q144=Labels!$B$118,Q142,\"\")","v":""},{"$f":"IF(R144=Labels!$B$118,R142,\"\")","v":""},{"$f":"IF(S144=Labels!$B$118,S142,\"\")","v":""},{"$f":"IF(T144=Labels!$B$118,T142,\"\")","v":""},{"$f":"IF(U144=Labels!$B$118,U142,\"\")","v":""},{"$f":"IF(V144=Labels!$B$118,V142,\"\")","v":""},{"$f":"IF(W144=Labels!$B$118,W142,\"\")","v":""},{"$f":"IF(X144=Labels!$B$118,X142,\"\")","v":""},{"$f":"IF(Y144=Labels!$B$118,Y142,\"\")","v":""},{"$f":"IF(Z144=Labels!$B$118,Z142,\"\")","v":""},{"$f":"IF(AA144=Labels!$B$118,AA142,\"\")","v":""},{"$f":"IF(AB144=Labels!$B$118,AB142,\"\")","v":""},{"$f":"IF(AC144=Labels!$B$118,AC142,\"\")","v":""},{"$f":"IF(AD144=Labels!$B$118,AD142,\"\")","v":""},{"$f":"IF(AE144=Labels!$B$118,AE142,\"\")","v":""},{"$f":"IF(AF144=Labels!$B$118,AF142,\"\")","v":""},0,"[5]"]
[{"$f":"$A$31","v":"ft-Nazuschlag"},{"$f":"IF(B144=Labels!$B$118,SUM(B141,B143),\"\")","v":""},{"$f":"IF(C144=Labels!$B$118,SUM(C141,C143),\"\")","v":""},{"$f":"IF(D144=Labels!$B$118,SUM(D141,D143),\"\")","v":""},{"$f":"IF(E144=Labels!$B$118,SUM(E141,E143),\"\")","v":""},{"$f":"IF(F144=Labels!$B$118,SUM(F141,F143),\"\")","v":""},{"$f":"IF(G144=Labels!$B$118,SUM(G141,G143),\"\")","v":""},{"$f":"IF(H144=Labels!$B$118,SUM(H141,H143),\"\")","v":""},{"$f":"IF(I144=Labels!$B$118,SUM(I141,I143),\"\")","v":""},{"$f":"IF(J144=Labels!$B$118,SUM(J141,J143),\"\")","v":""},{"$f":"IF(K144=Labels!$B$118,SUM(K141,K143),\"\")","v":""},{"$f":"IF(L144=Labels!$B$118,SUM(L141,L143),\"\")","v":""},{"$f":"IF(M144=Labels!$B$118,SUM(M141,M143),\"\")","v":""},{"$f":"IF(N144=Labels!$B$118,SUM(N141,N143),\"\")","v":""},{"$f":"IF(O144=Labels!$B$118,SUM(O141,O143),\"\")","v":""},{"$f":"IF(P144=Labels!$B$118,SUM(P141,P143),\"\")","v":""},{"$f":"IF(Q144=Labels!$B$118,SUM(Q141,Q143),\"\")","v":""},{"$f":"IF(R144=Labels!$B$118,SUM(R141,R143),\"\")","v":""},{"$f":"IF(S144=Labels!$B$118,SUM(S141,S143),\"\")","v":""},{"$f":"IF(T144=Labels!$B$118,SUM(T141,T143),\"\")","v":""},{"$f":"IF(U144=Labels!$B$118,SUM(U141,U143),\"\")","v":""},{"$f":"IF(V144=Labels!$B$118,SUM(V141,V143),\"\")","v":""},{"$f":"IF(W144=Labels!$B$118,SUM(W141,W143),\"\")","v":""},{"$f":"IF(X144=Labels!$B$118,SUM(X141,X143),\"\")","v":""},{"$f":"IF(Y144=Labels!$B$118,SUM(Y141,Y143),\"\")","v":""},{"$f":"IF(Z144=Labels!$B$118,SUM(Z141,Z143),\"\")","v":""},{"$f":"IF(AA144=Labels!$B$118,SUM(AA141,AA143),\"\")","v":""},{"$f":"IF(AB144=Labels!$B$118,SUM(AB141,AB143),\"\")","v":""},{"$f":"IF(AC144=Labels!$B$118,SUM(AC141,AC143),\"\")","v":""},{"$f":"IF(AD144=Labels!$B$118,SUM(AD141,AD143),\"\")","v":""},{"$f":"IF(AE144=Labels!$B$118,SUM(AE141,AE143),\"\")","v":""},{"$f":"IF(AF144=Labels!$B$118,SUM(AF141,AF143),\"\")","v":""},0,"[6]"]
[{"$f":"$A$32","v":"Zuschlag  blind (Wochentotal)"},{"$f":"IF(OR(ISTEXT(B150),B150=\"\",B150<$B$7),\"\",ROUND(((B150-$B$7)*25%)/25,4)*25)","v":""},{"$f":"IF(OR(ISTEXT(C150),C150=\"\",C150<$B$7),\"\",ROUND(((C150-$B$7)*25%)/25,4)*25)","v":""},"","","","","","","","","","","","","","","","","","","","","","","","","","","","","",{"$f":"AG142","v":0},"[7]"]
[null,{"$f":"$B$33","v":"1)   25% Zeitzuschlag für Überschreitung Wochentotal"},null,null,null,null,null,null,null,null,null,{"$f":"$L$33","v":"2) 100% Zeitzuschlag für Nachtarbeit"},null,null,null,null,null,null,null,{"$f":"$T$33","v":"Eingabe der ausbezahlten Stunden Vorjahressaldo"},null,null,null,null,null,null,null,null,null,null,null,null,{"$f":"SUM(AG141+AG143)","v":0},"[8]"]
[null,{"$f":"$B$34","v":"3) 100% Zeitzuschlag für Sonn- und Feiertagsarbeit"},null,null,null,null,null,null,null,null,null,null,null,null,null,null,null,null,null,{"$f":"$T$34","v":"Eingabe der ausbezahlten Stunden laufendes Jahr (Überstunden)"},null,null,null,null,null,null,null,null,null,null,null,null,{"$f":"SUM(AG141:AG143)","v":0},"[9]"]
[{"$f":"$A$35","v":"Bemerkungen"},null,null,null,null,null,null,null,null,null,null,null,null,null,null,null,null,null,null,null,null,null,null,null,null,null,null,null,null,null,null,null,{"$f":"SUM(AG139+AG145)","v":0},"[10]"]
[null,null,null,null,null,null,null,null,null,null,null,null,null,null,null,null,null,null,null,null,null,null,null,null,null,null,null,null,null,null,null,null,{"$f":"SUM(AG139:AG153)","v":0},"[11]"]
[null,null,null,null,null,null,null,null,null,null,null,null,null,null,null,null,null,null,null,null,null,null,null,null,null,null,null,null,null,null,null,null,{"$f":"AG138","v":189.28999999999996}]
[null,null,null,null,null,null,null,null,null,null,null,null,null,null,null,null,null,null,null,null,null,null,null,null,null,null,null,null,null,null,null,null,{"$f":"SUM(AG162-AG138)","v":-189.28999999999996}]
[{"$f":"$A$39","v":"Zusammenstellung"},null,null,null,null,null,{"$f":"$G$39","v":"Jan"},null,{"$f":"$I$39","v":"Feb"},null,{"$f":"$K$39","v":"Mrz"},null,{"$f":"$M$39","v":"Apr"},null,{"$f":"$O$39","v":"Mai"},null,{"$f":"$Q$39","v":"Jun"},null,{"$f":"$S$39","v":"Jul"},null,{"$f":"$U$39","v":"Aug"},null,{"$f":"$W$39","v":"Sep"},null,{"$f":"$Y$39","v":"Okt"},null,{"$f":"$AA$39","v":"Nov"},null,{"$f":"$AC$39","v":"Dez"},null,{"$f":"$AE$39","v":"Jahr"}]
[{"$f":"$A$40","v":"Anstellung %"},null,null,null,null,null,{"$f":"IF($B$4=0,0,$B$4)","v":100},null,{"$f":"IF($B$70=0,0,$B$70)","v":100},null,{"$f":"IF($B$133=0,0,$B$133)","v":100},null,{"$f":"IF($B$196=0,0,$B$196)","v":100},null,{"$f":"IF($B$259=0,0,$B$259)","v":100},null,{"$f":"IF($B$322=0,0,$B$322)","v":100},null,{"$f":"IF($B$385=0,0,$B$385)","v":100},null,{"$f":"IF($B$448=0,0,$B$448)","v":100},null,{"$f":"IF($B$511=0,0,$B$511)","v":100},null,{"$f":"IF($B$574=0,0,$B$574)","v":100},null,{"$f":"IF($B$637=0,0,$B$637)","v":100},null,{"$f":"IF($B$700=0,0,$B$700)","v":100}]
[{"$f":"$A$41","v":"Sollstunden gemäss GAV"},null,null,null,null,null,{"$f":"IF($AG$37=0,0,$AG$37)","v":172.82999999999998},null,{"$f":"IF($AG$100=0,0,$AG$100)","v":164.6},null,{"$f":"IF($AG$138=0,0,$AG$138)","v":189.28999999999996},null,{"$f":"IF($AG$226=0,0,$AG$226)","v":181.05999999999997},null,{"$f":"IF($AG$289=0,0,$AG$289)","v":172.82999999999998},null,{"$f":"IF($AG$352=0,0,$AG$352)","v":181.05999999999997},null,{"$f":"IF($AG$415=0,0,$AG$415)","v":181.05999999999997},null,{"$f":"IF($AG$478=0,0,$AG$478)","v":181.05999999999997},null,{"$f":"IF($AG$541=0,0,$AG$541)","v":181.05999999999997},null,{"$f":"IF($AG$604=0,0,$AG$604)","v":172.82999999999998},null,{"$f":"IF($AG$667=0,0,$AG$667)","v":181.05999999999997},null,{"$f":"IF($AG$730=0,0,$AG$730)","v":189.28999999999996},null,{"$f":"SUM(G167:AD167)","v":2148.0299999999997}]
[{"$f":"$A$42","v":"Produktive Stunden"},{"$f":"$B$42","v":"06.00 - 20.00 Uhr"},null,null,null,null,{"$f":"IF($AG$32=0,0,$AG$32)","v":0},null,{"$f":"IF($AG$95=0,0,$AG$95)","v":0},null,{"$f":"IF($AG$158=0,0,$AG$158)","v":0},null,{"$f":"IF($AG$221=0,0,$AG$221)","v":0},null,{"$f":"IF($AG$284=0,0,$AG$284)","v":0},null,{"$f":"IF($AG$347=0,0,$AG$347)","v":0},null,{"$f":"IF($AG$410=0,0,$AG$410)","v":0},null,{"$f":"IF($AG$473=0,0,$AG$473)","v":0},null,{"$f":"IF($AG$536=0,0,$AG$536)","v":0},null,{"$f":"IF($AG$599=0,0,$AG$599)","v":0},null,{"$f":"IF($AG$662=0,0,$AG$662)","v":0},null,{"$f":"IF($AG$725=0,0,$AG$725)","v":0},null,{"$f":"SUM(G168:AD168)","v":0}]
[null,{"$f":"$B$43","v":"Nacht-, Sonn-, Feiertagsarbeit"},null,null,null,null,{"$f":"IF($AG$33=0,0,$AG$33)","v":0},null,{"$f":"IF($AG$96=0,0,$AG$96)","v":0},null,{"$f":"IF($AG$159=0,0,$AG$159)","v":0},null,{"$f":"IF($AG$222=0,0,$AG$222)","v":0},null,{"$f":"IF($AG$285=0,0,$AG$285)","v":0},null,{"$f":"IF($AG$348=0,0,$AG$348)","v":0},null,{"$f":"IF($AG$411=0,0,$AG$411)","v":0},null,{"$f":"IF($AG$474=0,0,$AG$474)","v":0},null,{"$f":"IF($AG$537=0,0,$AG$537)","v":0},null,{"$f":"IF($AG$600=0,0,$AG$600)","v":0},null,{"$f":"IF($AG$663=0,0,$AG$663)","v":0},null,{"$f":"IF($AG$726=0,0,$AG$726)","v":0},null,{"$f":"SUM(G169:AD169)","v":0}]
[{"$f":"$A$44","v":"Zeitzuschläge"},{"$f":"$B$44","v":"aus Wochentotal"},null,null,null,null,{"$f":"IF($AG$25=0,0,$AG$25)","v":0},null,{"$f":"IF($AG$88=0,0,$AG$88)","v":0},null,{"$f":"IF($AG$151=0,0,$AG$151)","v":0},null,{"$f":"IF($AG$214=0,0,$AG$214)","v":0},null,{"$f":"IF($AG$277=0,0,$AG$277)","v":0},null,{"$f":"IF($AG$340=0,0,$AG$340)","v":0},null,{"$f":"IF($AG$403=0,0,$AG$403)","v":0},null,{"$f":"IF($AG$466=0,0,$AG$466)","v":0},null,{"$f":"IF($AG$529=0,0,$AG$529)","v":0},null,{"$f":"IF($AG$592=0,0,$AG$592)","v":0},null,{"$f":"IF($AG$655=0,0,$AG$655)","v":0},null,{"$f":"IF($AG$718=0,0,$AG$718)","v":0},null,{"$f":"SUM(G170:AD170)","v":0}]
[null,{"$f":"$B$45","v":"aus Nacht-, Sonn-, Feiertagsarbeiten"},null,null,null,null,{"$f":"IF($AJ$20=0,0,$AJ$20)","v":0},null,{"$f":"IF($AK$20=0,0,$AK$20)","v":0},null,{"$f":"IF($AL$20=0,0,$AL$20)","v":0},null,{"$f":"IF($AM$20=0,0,$AM$20)","v":0},null,{"$f":"IF($AN$20=0,0,$AN$20)","v":0},null,{"$f":"IF($AO$20=0,0,$AO$20)","v":0},null,{"$f":"IF($AP$20=0,0,$AP$20)","v":0},null,{"$f":"IF($AQ$20=0,0,$AQ$20)","v":0},null,{"$f":"IF($AR$20=0,0,$AR$20)","v":0},null,{"$f":"IF($AS$20=0,0,$AS$20)","v":0},null,{"$f":"IF($AT$20=0,0,$AT$20)","v":0},null,{"$f":"IF($AU$20=0,0,$AU$20)","v":0},null,{"$f":"SUM(G171:AD171)","v":0}]
[{"$f":"$A$46","v":"Unproduktive Stunden"}]
[{"$f":"$A$47","v":"   Absenzen, Kurzabsenzen Art. 11 GAV"},null,null,null,null,{"$f":"$F$47","v":"a"},{"$f":"IF($AJ$3=0,0,$AJ$3)","v":0},null,{"$f":"IF($AK$3=0,0,$AK$3)","v":0},null,{"$f":"IF($AL$3=0,0,$AL$3)","v":0},null,{"$f":"IF($AM$3=0,0,$AM$3)","v":0},null,{"$f":"IF($AN$3=0,0,$AN$3)","v":0},null,{"$f":"IF($AO$3=0,0,$AO$3)","v":0},null,{"$f":"IF($AP$3=0,0,$AP$3)","v":0},null,{"$f":"IF($AQ$3=0,0,$AQ$3)","v":0},null,{"$f":"IF($AR$3=0,0,$AR$3)","v":0},null,{"$f":"IF($AS$3=0,0,$AS$3)","v":0},null,{"$f":"IF(AT$3=0,0,$AT$3)","v":0},null,{"$f":"IF($AU$3=0,0,$AU$3)","v":0},null,{"$f":"IF($AV$3=0,0,$AV$3)","v":0}]
[{"$f":"$A$48","v":"   Ferien Art. 12.1 GAV"},null,null,null,null,{"$f":"$F$48","v":"f"},{"$f":"IF($AJ$4=0,0,$AJ$4)","v":0},null,{"$f":"IF($AK$4=0,0,$AK$4)","v":0},null,{"$f":"IF($AL$4=0,0,$AL$4)","v":0},null,{"$f":"IF($AM$4=0,0,$AM$4)","v":0},null,{"$f":"IF($AN$4=0,0,$AN$4)","v":0},null,{"$f":"IF($AO$4=0,0,$AO$4)","v":0},null,{"$f":"IF($AP$4=0,0,$AP$4)","v":0},null,{"$f":"IF($AQ$4=0,0,$AQ$4)","v":0},null,{"$f":"IF($AR$4=0,0,$AR$4)","v":0},null,{"$f":"IF($AS$4=0,0,$AS$4)","v":0},null,{"$f":"IF($AT$4=0,0,$AT$4)","v":0},null,{"$f":"IF($AU$4=0,0,$AU$4)","v":0},null,{"$f":"IF($AV$4=0,0,$AV$4)","v":0}]
[{"$f":"$A$49","v":"   Feiertage Art. 12.2 GAV"},null,{"$f":"IF($AJ$17=\"\",\"\",$AJ$17)","v":""},null,null,{"$f":"$F$49","v":"ft"},{"$f":"IF($AJ$15=0,0,$AJ$15)","v":0},null,{"$f":"IF($AK$15=0,0,$AK$15)","v":0},null,{"$f":"IF($AL$15=0,0,$AL$15)","v":0},null,{"$f":"IF($AM$15=0,0,$AM$15)","v":0},null,{"$f":"IF($AN$15=0,0,$AN$15)","v":0},null,{"$f":"IF($AO$15=0,0,$AO$15)","v":0},null,{"$f":"IF($AP$15=0,0,$AP$15)","v":0},null,{"$f":"IF($AQ$15=0,0,$AQ$15)","v":0},null,{"$f":"IF($AR$15=0,0,$AR$15)","v":0},null,{"$f":"IF($AS$15=0,0,$AS$15)","v":0},null,{"$f":"IF($AT$15=0,0,$AT$15)","v":0},null,{"$f":"IF($AU$15=0,0,$AU$15)","v":0},null,{"$f":"IF($AV$15=0,0,$AV$15)","v":0}]
[{"$f":"$A$50","v":"   Krankheit Art. 13 GAV"},null,null,null,null,{"$f":"$F$50","v":"k"},{"$f":"IF($AJ$5=0,0,$AJ$5)","v":0},null,{"$f":"IF($AK$5=0,0,$AK$5)","v":0},null,{"$f":"IF($AL$5=0,0,$AL$5)","v":0},null,{"$f":"IF($AM$5=0,0,$AM$5)","v":0},null,{"$f":"IF($AN$5=0,0,$AN$5)","v":0},null,{"$f":"IF($AO$5=0,0,$AO$5)","v":0},null,{"$f":"IF($AP$5=0,0,$AP$5)","v":0},null,{"$f":"IF($AQ$5=0,0,$AQ$5)","v":0},null,{"$f":"IF($AR$5=0,0,$AR$5)","v":0},null,{"$f":"IF($AS$5=0,0,$AS$5)","v":0},null,{"$f":"IF($AT$5=0,0,$AT$5)","v":0},null,{"$f":"IF($AU$5=0,0,$AU$5)","v":0},null,{"$f":"IF($AV$5=0,0,$AV$5)","v":0}]
[{"$f":"$A$51","v":"   Unfall Art. 14 GAV"},null,null,null,null,{"$f":"$F$51","v":"u"},{"$f":"IF($AJ$6=0,0,$AJ$6)","v":0},null,{"$f":"IF($AK$6=0,0,$AK$6)","v":0},null,{"$f":"IF($AL$6=0,0,$AL$6)","v":0},null,{"$f":"IF($AM$6=0,0,$AM$6)","v":0},null,{"$f":"IF($AN$6=0,0,$AN$6)","v":0},null,{"$f":"IF($AO$6=0,0,$AO$6)","v":0},null,{"$f":"IF($AP$6=0,0,$AP$6)","v":0},null,{"$f":"IF($AQ$6=0,0,$AQ$6)","v":0},null,{"$f":"IF($AR$6=0,0,$AR$6)","v":0},null,{"$f":"IF($AS$6=0,0,$AS$6)","v":0},null,{"$f":"IF($AT$6=0,0,$AT$6)","v":0},null,{"$f":"IF($AU$6=0,0,$AU$6)","v":0},null,{"$f":"IF($AV$6=0,0,$AV$6)","v":0}]
[{"$f":"$A$52","v":"   Schwangerschaft/Mutterschaft Art. 15 GAV"},null,null,null,null,{"$f":"$F$52","v":"s"},{"$f":"IF($AJ$7=0,0,$AJ$7)","v":0},null,{"$f":"IF($AK$7=0,0,$AK$7)","v":0},null,{"$f":"IF($AL$7=0,0,$AL$7)","v":0},null,{"$f":"IF($AM$7=0,0,$AM$7)","v":0},null,{"$f":"IF($AN$7=0,0,$AN$7)","v":0},null,{"$f":"IF($AO$7=0,0,$AO$7)","v":0},null,{"$f":"IF($AP$7=0,0,$AP$7)","v":0},null,{"$f":"IF($AQ$7=0,0,$AQ$7)","v":0},null,{"$f":"IF($AR$7=0,0,$AR$7)","v":0},null,{"$f":"IF($AS$7=0,0,$AS$7)","v":0},null,{"$f":"IF($AT$7=0,0,$AT$7)","v":0},null,{"$f":"IF($AU$7=0,0,$AU$7)","v":0},null,{"$f":"IF($AV$7=0,0,$AV$7)","v":0}]
[{"$f":"$A$53","v":"   Militär/Beförderung/Zivilschutz Art. 16 GAV"},null,null,null,null,{"$f":"$F$53","v":"m"},{"$f":"IF($AJ$8=0,0,$AJ$8)","v":0},null,{"$f":"IF($AK$8=0,0,$AK$8)","v":0},null,{"$f":"IF($AL$8=0,0,$AL$8)","v":0},null,{"$f":"IF($AM$8=0,0,$AM$8)","v":0},null,{"$f":"IF($AN$8=0,0,$AN$8)","v":0},null,{"$f":"IF($AO$8=0,0,$AO$8)","v":0},null,{"$f":"IF($AP$8=0,0,$AP$8)","v":0},null,{"$f":"IF($AQ$8=0,0,$AQ$8)","v":0},null,{"$f":"IF($AR$8=0,0,$AR$8)","v":0},null,{"$f":"IF($AS$8=0,0,$AS$8)","v":0},null,{"$f":"IF($AT$8=0,0,$AT$8)","v":0},null,{"$f":"IF($AU$8=0,0,$AU$8)","v":0},null,{"$f":"IF($AV$8=0,0,$AV$8)","v":0}]
[{"$f":"$A$54","v":"   Kurzarbeit und Schlechtwetterausfälle"},null,null,null,null,{"$f":"$F$54","v":"ka"},{"$f":"IF($AJ$11=0,0,$AJ$11)","v":0},null,{"$f":"IF($AK$11=0,0,$AK$11)","v":0},null,{"$f":"IF($AL$11=0,0,$AL$11)","v":0},null,{"$f":"IF($AM$11=0,0,$AM$11)","v":0},null,{"$f":"IF($AN$11=0,0,$AN$11)","v":0},null,{"$f":"IF($AO$11=0,0,$AO$11)","v":0},null,{"$f":"IF($AP$11=0,0,$AP$11)","v":0},null,{"$f":"IF($AQ$11=0,0,$AQ$11)","v":0},null,{"$f":"IF($AR$11=0,0,$AR$11)","v":0},null,{"$f":"IF($AS$11=0,0,$AS$11)","v":0},null,{"$f":"IF($AT$11=0,0,$AT$11)","v":0},null,{"$f":"IF($AU$11=0,0,$AU$11)","v":0},null,{"$f":"IF($AV$11=0,0,$AV$11)","v":0}]
[{"$f":"$A$55","v":"   Berufsschule"},null,null,null,null,{"$f":"$F$55","v":"bs"},{"$f":"IF($AJ$9=0,0,$AJ$9)","v":0},null,{"$f":"IF($AK$9=0,0,$AK$9)","v":0},null,{"$f":"IF($AL$9=0,0,$AL$9)","v":0},null,{"$f":"IF($AM$9=0,0,$AM$9)","v":0},null,{"$f":"IF($AN$9=0,0,$AN$9)","v":0},null,{"$f":"IF($AO$9=0,0,$AO$9)","v":0},null,{"$f":"IF($AP$9=0,0,$AP$9)","v":0},null,{"$f":"IF($AQ$9=0,0,$AQ$9)","v":0},null,{"$f":"IF($AR$9=0,0,$AR$9)","v":0},null,{"$f":"IF($AS$9=0,0,$AS$9)","v":0},null,{"$f":"IF($AT$9=0,0,$AT$9)","v":0},null,{"$f":"IF($AU$9=0,0,$AU$9)","v":0},null,{"$f":"IF($AV$9=0,0,$AV$9)","v":0}]
[{"$f":"$A$56","v":"   Kurse"},null,null,null,null,{"$f":"$F$56","v":"ku"},{"$f":"IF($AJ$10=0,0,$AJ$10)","v":0},null,{"$f":"IF($AK$10=0,0,$AK$10)","v":0},null,{"$f":"IF($AL$10=0,0,$AL$10)","v":0},null,{"$f":"IF($AM$10=0,0,$AM$10)","v":0},null,{"$f":"IF($AN$10=0,0,$AN$10)","v":0},null,{"$f":"IF($AO$10=0,0,$AO$10)","v":0},null,{"$f":"IF($AP$10=0,0,$AP$10)","v":0},null,{"$f":"IF($AQ$10=0,0,$AQ$10)","v":0},null,{"$f":"IF($AR$10=0,0,$AR$10)","v":0},null,{"$f":"IF($AS$10=0,0,$AS$10)","v":0},null,{"$f":"IF($AT$10=0,0,$AT$10)","v":0},null,{"$f":"IF($AU$10=0,0,$AU$10)","v":0},null,{"$f":"IF($AV$10=0,0,$AV$10)","v":0}]
[{"$f":"$A$57","v":"Kompensations-Std"},{"$f":"$B$57","v":"aus Vorjahr"},null,null,null,{"$f":"$F$57","v":"kv"},{"$f":"IF($AJ$12=0,0,$AJ$12)","v":0},null,{"$f":"IF($AK$12=0,0,$AK$12)","v":0},null,{"$f":"IF($AL$12=0,0,$AL$12)","v":0},null,{"$f":"IF($AM$12=0,0,$AM$12)","v":0},null,{"$f":"IF($AN$12=0,0,$AN$12)","v":0},null,{"$f":"IF($AO$12=0,0,$AO$12)","v":0},null,{"$f":"IF($AP$12=0,0,$AP$12)","v":0},null,{"$f":"IF($AQ$12=0,0,$AQ$12)","v":0},null,{"$f":"IF($AR$12=0,0,$AR$12)","v":0},null,null,null,null,null,null,null,{"$f":"IF($AV$12=0,0,$AV$12)","v":0}]
[null,{"$f":"$B$58","v":"aus laufendem Jahr (Kontrolle)"},null,null,null,{"$f":"$F$58","v":"kj"},{"$f":"IF($AJ$14=0,0,$AJ$14)","v":0},null,{"$f":"IF($AK$14=0,0,$AK$14)","v":0},null,{"$f":"IF($AL$14=0,0,$AL$14)","v":0},null,{"$f":"IF($AM$14=0,0,$AM$14)","v":0},null,{"$f":"IF($AN$14=0,0,$AN$14)","v":0},null,{"$f":"IF($AO$14=0,0,$AO$14)","v":0},null,{"$f":"IF($AP$14=0,0,$AP$14)","v":0},null,{"$f":"IF($AQ$14=0,0,$AQ$14)","v":0},null,{"$f":"IF($AR$14=0,0,$AR$14)","v":0},null,{"$f":"IF($AS$14=0,0,$AS$14)","v":0},null,{"$f":"IF($AT$14=0,0,$AT$14)","v":0},null,{"$f":"IF($AU$14=0,0,$AU$14)","v":0},null,{"$f":"IF($AV$14=0,0,$AV$14)","v":0}]
[{"$f":"$A$59","v":"Auszahlung"},{"$f":"$B$59","v":"Stunden Vorjahressaldo"},null,null,null,null,{"$f":"IF($AJ$18=0,0,$AJ$18)","v":0},null,{"$f":"IF($AK$18=0,0,$AK$18)","v":0},null,{"$f":"IF($AL$18=0,0,$AL$18)","v":0},null,{"$f":"IF($AM$18=0,0,$AM$18)","v":0},null,{"$f":"IF($AN$18=0,0,$AN$18)","v":0},null,{"$f":"IF($AO$18=0,0,$AO$18)","v":0},null,{"$f":"IF($AP$18=0,0,$AP$18)","v":0},null,{"$f":"IF($AQ$18=0,0,$AQ$18)","v":0},null,{"$f":"IF($AR$18=0,0,$AR$18)","v":0},null,null,null,null,null,null,null,{"$f":"IF($AV$18=0,0,$AV$18)","v":0}]
[{"$f":"$A$60","v":"Differenz"},{"$f":"$B$60","v":"nach Kompensation und Auszahlung"},null,null,null,null,{"$f":"IF(ROUND($P$4,3)=0,0,$P$4-SUM(G183+G185))","v":0},null,{"$f":"IF(ROUND(G186,3)=0,0,G186-(SUM(I185+I183)))","v":0},null,{"$f":"IF(ROUND(I186,3)=0,0,I186-(SUM(K185+K183)))","v":0},null,{"$f":"IF(ROUND(K186,3)=0,0,K186-(SUM(M185+M183)))","v":0},null,{"$f":"IF(ROUND(M186,3)=0,0,M186-(SUM(O185+O183)))","v":0},null,{"$f":"IF(ROUND(O186,3)=0,0,O186-(SUM(Q185+Q183)))","v":0},null,{"$f":"IF(ROUND(Q186,3)=0,0,Q186-(SUM(S185+S183)))","v":0},null,{"$f":"IF(ROUND(S186,3)=0,0,S186-(SUM(U185+U183)))","v":0},null,{"$f":"IF(ROUND(U186,3)=0,0,U186-(SUM(W185+W183)))","v":0},null,{"$f":"$Y$60","v":""}]
[{"$f":"$A$61","v":"Auszahlung"},{"$f":"$B$61","v":"Stunden laufendes Jahr"},null,null,null,null,{"$f":"IF($AJ$19=0,0,$AJ$19)","v":0},null,{"$f":"IF($AK$19=0,0,$AK$19)","v":0},null,{"$f":"IF($AL$19=0,0,$AL$19)","v":0},null,{"$f":"IF($AM$19=0,0,$AM$19)","v":0},null,{"$f":"IF($AN$19=0,0,$AN$19)","v":0},null,{"$f":"IF($AO$19=0,0,$AO$19)","v":0},null,{"$f":"IF($AP$19=0,0,$AP$19)","v":0},null,{"$f":"IF($AQ$19=0,0,$AQ$19)","v":0},null,{"$f":"IF($AR$19=0,0,$AR$19)","v":0},null,{"$f":"IF($AS$19=0,0,$AS$19)","v":0},null,{"$f":"IF($AT$19=0,0,$AT$19)","v":0},null,{"$f":"IF($AU$19=0,0,$AU$19)","v":0},null,{"$f":"IF($AV$19=0,0,$AV$19)","v":0}]
[{"$f":"$A$62","v":"Fehlstunden"},{"$f":"$B$62","v":"laufendes Jahr (Kontrolle)"},null,null,null,{"$f":"$F$62","v":"fe"},{"$f":"IF($AJ$13=0,0,$AJ$13)","v":0},null,{"$f":"IF($AK$13=0,0,$AK$13)","v":0},null,{"$f":"IF($AL$13=0,0,$AL$13)","v":0},null,{"$f":"IF($AM$13=0,0,$AM$13)","v":0},null,{"$f":"IF($AN$13=0,0,$AN$13)","v":0},null,{"$f":"IF($AO$13=0,0,$AO$13)","v":0},null,{"$f":"IF($AP$13=0,0,$AP$13)","v":0},null,{"$f":"IF($AQ$13=0,0,$AQ$13)","v":0},null,{"$f":"IF($AR$13=0,0,$AR$13)","v":0},null,{"$f":"IF($AS$13=0,0,$AS$13)","v":0},null,{"$f":"IF($AT$13=0,0,$AT$13)","v":0},null,{"$f":"IF($AU$13=0,0,$AU$13)","v":0},null,{"$f":"IF($AV$13=0,0,$AV$13)","v":0}]
[{"$f":"$A$63","v":"Total inkl. Zeitzuschläge"},{"$f":"$B$63","v":"Stunden produktiv und unproduktiv"},null,null,null,null,{"$f":"IF($AG$36=0,0,$AG$36)","v":0},null,{"$f":"IF($AG$99=0,0,$AG$99)","v":0},null,{"$f":"IF($AG$162=0,0,$AG$162)","v":0},null,{"$f":"IF($AG$225=0,0,$AG$225)","v":0},null,{"$f":"IF($AG$288=0,0,$AG$288)","v":0},null,{"$f":"IF($AG$351=0,0,$AG$351)","v":0},null,{"$f":"IF($AG$414=0,0,$AG$414)","v":0},null,{"$f":"IF($AG$477=0,0,$AG$477)","v":0},null,{"$f":"IF($AG$540=0,0,$AG$540)","v":0},null,{"$f":"IF($AG$603=0,0,$AG$603)","v":0},null,{"$f":"IF($AG$666=0,0,$AG$666)","v":0},null,{"$f":"IF($AG$729=0,0,$AG$729)","v":0},null,{"$f":"SUM($G$63:$AD$63)","v":0}]
[{"$f":"$A$64","v":"Vergleich"},{"$f":"$B$64","v":"Stunden zu Soll-Stunden (inkl. allfälli-\nge Minusstunden Vorjahr)"},null,null,null,null,{"$f":"IF($AG$38=0,0,$AG$38)-$AE$34+$P$5","v":-172.82999999999998},null,{"$f":"IF($AG$101=0,0,$AG$101)-$AE$97","v":-164.6},null,{"$f":"IF($AG$164=0,0,$AG$164)-$AE$160","v":-189.28999999999996},null,{"$f":"IF($AG$227=0,0,$AG$227)-$AE$223","v":-181.05999999999997},null,{"$f":"IF($AG$290=0,0,$AG$290)-$AE$286","v":-172.82999999999998},null,{"$f":"IF($AG$353=0,0,$AG$353)-$AE$349","v":-181.05999999999997},null,{"$f":"IF($AG$416=0,0,$AG$416)-$AE$412","v":-181.05999999999997},null,{"$f":"IF($AG$479=0,0,$AG$479)-$AE$475","v":-181.05999999999997},null,{"$f":"IF($AG$542=0,0,$AG$542)-$AE$538","v":-181.05999999999997},null,{"$f":"IF($AG$605=0,0,$AG$605)-$AE$601","v":-172.82999999999998},null,{"$f":"IF($AG$668=0,0,$AG$668)-$AE$664","v":-181.05999999999997},null,{"$f":"IF($AG$731=0,0,$AG$731)-$AE$727","v":-189.28999999999996},null,{"$f":"SUM($G$64:$AD$64)","v":-2148.0299999999997}]
[null,{"$f":"$B$65","v":"Stunden zu Soll-Stunden (kumuliert)"},null,null,null,null,{"$f":"$G$65","v":-172.82999999999998},null,{"$f":"$I$65","v":-337.42999999999995},null,{"$f":"$K$65","v":-526.71999999999991},null,{"$f":"$M$65","v":-707.77999999999986},null,{"$f":"$O$65","v":-880.6099999999999},null,{"$f":"$Q$65","v":-1061.6699999999998},null,{"$f":"$S$65","v":-1242.7299999999998},null,{"$f":"$U$65","v":-1423.7899999999997},null,{"$f":"$W$65","v":-1604.8499999999997},null,{"$f":"$Y$65","v":-1777.6799999999996},null,{"$f":"$AA$65","v":-1958.7399999999996},null,{"$f":"$AC$65","v":-2148.0299999999997}]
[{"$f":"$A$66","v":"Ferienkontrolle"},{"$f":"$B$66","v":"Ferienguthaben Vorjahr"},null,null,null,null,{"$f":"IF($AA$4=0,0,$AA$4)","v":0},null,{"$f":"$I$66","v":"Ferienguthaben nach \nArt. 12.1 GAV"},null,null,null,{"$f":"IF($AA$5=0,0,$AA$5)","v":0},null,{"$f":"$O$66","v":"Ferienguthaben total"},null,null,null,{"$f":"SUM(G192+M192)","v":0},null,{"$f":"$U$66","v":"Ferien bezogen"},null,null,null,{"$f":"IF($AV$4=0,0,$AV$4)","v":0},null,{"$f":"$AA$66","v":"Aktuelles Ferienguthaben"},null,null,null,{"$f":"IF(S192=0,0,S192-Y192)","v":0}]
[]
[]
[{"$f":"$A$3","v":"Mitarbeiter/In"},{"$f":"IF($B$3=\"\",\"\",$B$3)","v":"Muster Peter"},null,null,null,null,null,null,null,null,null,null,null,null,null,null,null,null,null,null,null,null,null,null,null,null,null,null,null,null,null,{"$f":"AF3","v":0}]
[{"$f":"$A$4","v":"Anstellung %"},100,null,{"$f":"Labels!B92","v":"im April"}]
[{"$f":"$A$5","v":"Saldo für das Jahr"},null,null,{"$f":"IF($AE$64=0,0,$AE$64)","v":-2148.0299999999997}]
[{"$f":"TEXT(DATE(YEAR(AP28),MONTH(AP28)+3,1),\"MMMM\"&Labels!B13)","v":"April"},{"$f":"$B$9","v":"Saldo Monat + / -"},null,null,null,{"$f":"(AG201-(SUM(AG202:AG216)-AE223))*-1","v":-181.05999999999997},null,null,null,null,{"$f":"$K$9","v":" = "},{"$f":"$L$9","v":"Gelbe Felder müssen ausgefüllt werden (die übrigen werden automatisch berechnet)"}]
[{"$f":"$A$10","v":"Tag"},{"$f":"AF136+1","v":"2021-04-01"},{"$f":"B199+1","v":"2021-04-02"},{"$f":"C199+1","v":"2021-04-03"},"2021-04-04","2021-04-05","2021-04-06","2021-04-07","2021-04-08","2021-04-09","2021-04-10","2021-04-11","2021-04-12","2021-04-13","2021-04-14","2021-04-15","2021-04-16","2021-04-17","2021-04-18","2021-04-19","2021-04-20","2021-04-21","2021-04-22","2021-04-23","2021-04-24","2021-04-25","2021-04-26","2021-04-27","2021-04-28","2021-04-29","2021-04-30",null,{"$f":"COUNT(B201:AF201)&\" \"&Labels!$B$63","v":"22 Tage"}]
[{"$f":"$A$11","v":"Kalenderwoche"},{"$f":"IF(B199=\"\",\"\",TRUNC((B199-DATE(YEAR(B199+3-MOD(B199-2,7)),1,MOD(B199-2,7)-9))/7))","v":13},13,13,13,14,14,14,14,14,14,14,15,15,15,15,15,15,15,16,16,16,16,16,16,16,17,17,17,17,17,""]
[{"$f":"$A$12","v":"Sollstunden"},{"$f":"IF(MOD(B199,7)>=2,$J$7*$B$196%,\"\")","v":8.23},8.23,"","",8.23,8.23,8.23,8.23,8.23,"","",8.23,8.23,8.23,8.23,8.23,"","",8.23,8.23,8.23,8.23,8.23,"","",8.23,8.23,8.23,8.23,8.23,null,{"$f":"SUM(B201:AF201)","v":181.05999999999997}]
[{"$f":"$A$13","v":"Absenz in Std"},{"$f":"B888","v":0},{"$f":"C888","v":0},0,0,0,0,0,0,0,0,0,0,0,0,0,0,0,0,0,0,0,0,0,0,0,0,0,0,0,0,null,{"$f":"SUM(AM3:AM12)","v":0}]
[{"$f":"$A$14","v":"Code"},{"$f":"IF(B888<>0,IF(MAX(B875:B887)<B888,Labels!$B$163,INDEX($AH$875:$AH$887,MATCH(MAX(B875:B887),B875:B887,0))),\"\")","v":""},{"$f":"IF(C888<>0,IF(MAX(C875:C887)<C888,Labels!$B$163,INDEX($AH$875:$AH$887,MATCH(MAX(C875:C887),C875:C887,0))),\"\")","v":""},{"$f":"IF(D888<>0,IF(MAX(D875:D887)<D888,Labels!$B$163,INDEX($AH$875:$AH$887,MATCH(MAX(D875:D887),D875:D887,0))),\"\")","v":""},{"$f":"IF(E888<>0,IF(MAX(E875:E887)<E888,Labels!$B$163,INDEX($AH$875:$AH$887,MATCH(MAX(E875:E887),E875:E887,0))),\"\")","v":""},{"$f":"IF(F888<>0,IF(MAX(F875:F887)<F888,Labels!$B$163,INDEX($AH$875:$AH$887,MATCH(MAX(F875:F887),F875:F887,0))),\"\")","v":""},{"$f":"IF(G888<>0,IF(MAX(G875:G887)<G888,Labels!$B$163,INDEX($AH$875:$AH$887,MATCH(MAX(G875:G887),G875:G887,0))),\"\")","v":""},{"$f":"IF(H888<>0,IF(MAX(H875:H887)<H888,Labels!$B$163,INDEX($AH$875:$AH$887,MATCH(MAX(H875:H887),H875:H887,0))),\"\")","v":""},{"$f":"IF(I888<>0,IF(MAX(I875:I887)<I888,Labels!$B$163,INDEX($AH$875:$AH$887,MATCH(MAX(I875:I887),I875:I887,0))),\"\")","v":""},{"$f":"IF(J888<>0,IF(MAX(J875:J887)<J888,Labels!$B$163,INDEX($AH$875:$AH$887,MATCH(MAX(J875:J887),J875:J887,0))),\"\")","v":""},{"$f":"IF(K888<>0,IF(MAX(K875:K887)<K888,Labels!$B$163,INDEX($AH$875:$AH$887,MATCH(MAX(K875:K887),K875:K887,0))),\"\")","v":""},{"$f":"IF(L888<>0,IF(MAX(L875:L887)<L888,Labels!$B$163,INDEX($AH$875:$AH$887,MATCH(MAX(L875:L887),L875:L887,0))),\"\")","v":""},{"$f":"IF(M888<>0,IF(MAX(M875:M887)<M888,Labels!$B$163,INDEX($AH$875:$AH$887,MATCH(MAX(M875:M887),M875:M887,0))),\"\")","v":""},{"$f":"IF(N888<>0,IF(MAX(N875:N887)<N888,Labels!$B$163,INDEX($AH$875:$AH$887,MATCH(MAX(N875:N887),N875:N887,0))),\"\")","v":""},{"$f":"IF(O888<>0,IF(MAX(O875:O887)<O888,Labels!$B$163,INDEX($AH$875:$AH$887,MATCH(MAX(O875:O887),O875:O887,0))),\"\")","v":""},{"$f":"IF(P888<>0,IF(MAX(P875:P887)<P888,Labels!$B$163,INDEX($AH$875:$AH$887,MATCH(MAX(P875:P887),P875:P887,0))),\"\")","v":""},{"$f":"IF(Q888<>0,IF(MAX(Q875:Q887)<Q888,Labels!$B$163,INDEX($AH$875:$AH$887,MATCH(MAX(Q875:Q887),Q875:Q887,0))),\"\")","v":""},{"$f":"IF(R888<>0,IF(MAX(R875:R887)<R888,Labels!$B$163,INDEX($AH$875:$AH$887,MATCH(MAX(R875:R887),R875:R887,0))),\"\")","v":""},{"$f":"IF(S888<>0,IF(MAX(S875:S887)<S888,Labels!$B$163,INDEX($AH$875:$AH$887,MATCH(MAX(S875:S887),S875:S887,0))),\"\")","v":""},{"$f":"IF(T888<>0,IF(MAX(T875:T887)<T888,Labels!$B$163,INDEX($AH$875:$AH$887,MATCH(MAX(T875:T887),T875:T887,0))),\"\")","v":""},{"$f":"IF(U888<>0,IF(MAX(U875:U887)<U888,Labels!$B$163,INDEX($AH$875:$AH$887,MATCH(MAX(U875:U887),U875:U887,0))),\"\")","v":""},{"$f":"IF(V888<>0,IF(MAX(V875:V887)<V888,Labels!$B$163,INDEX($AH$875:$AH$887,MATCH(MAX(V875:V887),V875:V887,0))),\"\")","v":""},{"$f":"IF(W888<>0,IF(MAX(W875:W887)<W888,Labels!$B$163,INDEX($AH$875:$AH$887,MATCH(MAX(W875:W887),W875:W887,0))),\"\")","v":""},{"$f":"IF(X888<>0,IF(MAX(X875:X887)<X888,Labels!$B$163,INDEX($AH$875:$AH$887,MATCH(MAX(X875:X887),X875:X887,0))),\"\")","v":""},{"$f":"IF(Y888<>0,IF(MAX(Y875:Y887)<Y888,Labels!$B$163,INDEX($AH$875:$AH$887,MATCH(MAX(Y875:Y887),Y875:Y887,0))),\"\")","v":""},{"$f":"IF(Z888<>0,IF(MAX(Z875:Z887)<Z888,Labels!$B$163,INDEX($AH$875:$AH$887,MATCH(MAX(Z875:Z887),Z875:Z887,0))),\"\")","v":""},{"$f":"IF(AA888<>0,IF(MAX(AA875:AA887)<AA888,Labels!$B$163,INDEX($AH$875:$AH$887,MATCH(MAX(AA875:AA887),AA875:AA887,0))),\"\")","v":""},{"$f":"IF(AB888<>0,IF(MAX(AB875:AB887)<AB888,Labels!$B$163,INDEX($AH$875:$AH$887,MATCH(MAX(AB875:AB887),AB875:AB887,0))),\"\")","v":""},{"$f":"IF(AC888<>0,IF(MAX(AC875:AC887)<AC888,Labels!$B$163,INDEX($AH$875:$AH$887,MATCH(MAX(AC875:AC887),AC875:AC887,0))),\"\")","v":""},{"$f":"IF(AD888<>0,IF(MAX(AD875:AD887)<AD888,Labels!$B$163,INDEX($AH$875:$AH$887,MATCH(MAX(AD875:AD887),AD875:AD887,0))),\"\")","v":""},{"$f":"IF(AE888<>0,IF(MAX(AE875:AE887)<AE888,Labels!$B$163,INDEX($AH$875:$AH$887,MATCH(MAX(AE875:AE887),AE875:AE887,0))),\"\")","v":""}]
[{"$f":"$A$15","v":"00.00-06.00h"},null,null,null,null,null,null,null,null,null,null,null,null,null,null,null,null,null,null,null,null,null,null,null,null,null,null,null,null,null,null,null,{"$f":"SUM(B204:AF204)","v":0}]
[{"$f":"$A$16","v":"06.00-20.00h"},null,null,null,null,null,null,null,null,null,null,null,null,null,null,null,null,null,null,null,null,null,null,null,null,null,null,null,null,null,null,null,{"$f":"SUM(B205:AF205)","v":0}]
[{"$f":"$A$17","v":"20.00-24.00h"},null,null,null,null,null,null,null,null,null,null,null,null,null,null,null,null,null,null,null,null,null,null,null,null,null,null,null,null,null,null,null,{"$f":"SUM(B206:AF206)","v":0},"[0]"]
[{"$f":"$A$18","v":"Feiertag \"ft\""},{"$f":"IF(WEEKDAY(B199,2)<=6,IF(KALENDER!E9=\"x\",Labels!$B$118,\"\"),\"\")","v":""},{"$f":"IF(WEEKDAY(C199,2)<=6,IF(KALENDER!F9=\"x\",Labels!$B$118,\"\"),\"\")","v":""},{"$f":"IF(WEEKDAY(D199,2)<=6,IF(KALENDER!G9=\"x\",Labels!$B$118,\"\"),\"\")","v":""},{"$f":"IF(WEEKDAY(E199,2)<=6,IF(KALENDER!H9=\"x\",Labels!$B$118,\"\"),\"\")","v":""},{"$f":"IF(WEEKDAY(F199,2)<=6,IF(KALENDER!I9=\"x\",Labels!$B$118,\"\"),\"\")","v":""},{"$f":"IF(WEEKDAY(G199,2)<=6,IF(KALENDER!J9=\"x\",Labels!$B$118,\"\"),\"\")","v":""},{"$f":"IF(WEEKDAY(H199,2)<=6,IF(KALENDER!K9=\"x\",Labels!$B$118,\"\"),\"\")","v":""},{"$f":"IF(WEEKDAY(I199,2)<=6,IF(KALENDER!L9=\"x\",Labels!$B$118,\"\"),\"\")","v":""},{"$f":"IF(WEEKDAY(J199,2)<=6,IF(KALENDER!M9=\"x\",Labels!$B$118,\"\"),\"\")","v":""},{"$f":"IF(WEEKDAY(K199,2)<=6,IF(KALENDER!N9=\"x\",Labels!$B$118,\"\"),\"\")","v":""},{"$f":"IF(WEEKDAY(L199,2)<=6,IF(KALENDER!O9=\"x\",Labels!$B$118,\"\"),\"\")","v":""},{"$f":"IF(WEEKDAY(M199,2)<=6,IF(KALENDER!P9=\"x\",Labels!$B$118,\"\"),\"\")","v":""},{"$f":"IF(WEEKDAY(N199,2)<=6,IF(KALENDER!Q9=\"x\",Labels!$B$118,\"\"),\"\")","v":""},{"$f":"IF(WEEKDAY(O199,2)<=6,IF(KALENDER!R9=\"x\",Labels!$B$118,\"\"),\"\")","v":""},{"$f":"IF(WEEKDAY(P199,2)<=6,IF(KALENDER!S9=\"x\",Labels!$B$118,\"\"),\"\")","v":""},{"$f":"IF(WEEKDAY(Q199,2)<=6,IF(KALENDER!T9=\"x\",Labels!$B$118,\"\"),\"\")","v":""},{"$f":"IF(WEEKDAY(R199,2)<=6,IF(KALENDER!U9=\"x\",Labels!$B$118,\"\"),\"\")","v":""},{"$f":"IF(WEEKDAY(S199,2)<=6,IF(KALENDER!V9=\"x\",Labels!$B$118,\"\"),\"\")","v":""},{"$f":"IF(WEEKDAY(T199,2)<=6,IF(KALENDER!W9=\"x\",Labels!$B$118,\"\"),\"\")","v":""},{"$f":"IF(WEEKDAY(U199,2)<=6,IF(KALENDER!X9=\"x\",Labels!$B$118,\"\"),\"\")","v":""},{"$f":"IF(WEEKDAY(V199,2)<=6,IF(KALENDER!Y9=\"x\",Labels!$B$118,\"\"),\"\")","v":""},{"$f":"IF(WEEKDAY(W199,2)<=6,IF(KALENDER!Z9=\"x\",Labels!$B$118,\"\"),\"\")","v":""},{"$f":"IF(WEEKDAY(X199,2)<=6,IF(KALENDER!AA9=\"x\",Labels!$B$118,\"\"),\"\")","v":""},{"$f":"IF(WEEKDAY(Y199,2)<=6,IF(KALENDER!AB9=\"x\",Labels!$B$118,\"\"),\"\")","v":""},{"$f":"IF(WEEKDAY(Z199,2)<=6,IF(KALENDER!AC9=\"x\",Labels!$B$118,\"\"),\"\")","v":""},{"$f":"IF(WEEKDAY(AA199,2)<=6,IF(KALENDER!AD9=\"x\",Labels!$B$118,\"\"),\"\")","v":""},{"$f":"IF(WEEKDAY(AB199,2)<=6,IF(KALENDER!AE9=\"x\",Labels!$B$118,\"\"),\"\")","v":""},{"$f":"IF(WEEKDAY(AC199,2)<=6,IF(KALENDER!AF9=\"x\",Labels!$B$118,\"\"),\"\")","v":""},{"$f":"IF(WEEKDAY(AD199,2)<=6,IF(KALENDER!AG9=\"x\",Labels!$B$118,\"\"),\"\")","v":""},{"$f":"IF(WEEKDAY(AE199,2)<=6,IF(KALENDER!AH9=\"x\",Labels!$B$118,\"\"),\"\")","v":""}]
[{"$f":"$A$19","v":"Gutschrift \"ft\""},{"$f":"IF(AND(B207=Labels!$B$118,WEEKDAY(B199,2)<6),$J$7*$B$196%,\"\")","v":""},{"$f":"IF(AND(C207=Labels!$B$118,WEEKDAY(C199,2)<6),$J$7*$B$196%,\"\")","v":""},{"$f":"IF(AND(D207=Labels!$B$118,WEEKDAY(D199,2)<6),$J$7*$B$196%,\"\")","v":""},{"$f":"IF(AND(E207=Labels!$B$118,WEEKDAY(E199,2)<6),$J$7*$B$196%,\"\")","v":""},{"$f":"IF(AND(F207=Labels!$B$118,WEEKDAY(F199,2)<6),$J$7*$B$196%,\"\")","v":""},{"$f":"IF(AND(G207=Labels!$B$118,WEEKDAY(G199,2)<6),$J$7*$B$196%,\"\")","v":""},{"$f":"IF(AND(H207=Labels!$B$118,WEEKDAY(H199,2)<6),$J$7*$B$196%,\"\")","v":""},{"$f":"IF(AND(I207=Labels!$B$118,WEEKDAY(I199,2)<6),$J$7*$B$196%,\"\")","v":""},{"$f":"IF(AND(J207=Labels!$B$118,WEEKDAY(J199,2)<6),$J$7*$B$196%,\"\")","v":""},{"$f":"IF(AND(K207=Labels!$B$118,WEEKDAY(K199,2)<6),$J$7*$B$196%,\"\")","v":""},{"$f":"IF(AND(L207=Labels!$B$118,WEEKDAY(L199,2)<6),$J$7*$B$196%,\"\")","v":""},{"$f":"IF(AND(M207=Labels!$B$118,WEEKDAY(M199,2)<6),$J$7*$B$196%,\"\")","v":""},{"$f":"IF(AND(N207=Labels!$B$118,WEEKDAY(N199,2)<6),$J$7*$B$196%,\"\")","v":""},{"$f":"IF(AND(O207=Labels!$B$118,WEEKDAY(O199,2)<6),$J$7*$B$196%,\"\")","v":""},{"$f":"IF(AND(P207=Labels!$B$118,WEEKDAY(P199,2)<6),$J$7*$B$196%,\"\")","v":""},{"$f":"IF(AND(Q207=Labels!$B$118,WEEKDAY(Q199,2)<6),$J$7*$B$196%,\"\")","v":""},{"$f":"IF(AND(R207=Labels!$B$118,WEEKDAY(R199,2)<6),$J$7*$B$196%,\"\")","v":""},{"$f":"IF(AND(S207=Labels!$B$118,WEEKDAY(S199,2)<6),$J$7*$B$196%,\"\")","v":""},{"$f":"IF(AND(T207=Labels!$B$118,WEEKDAY(T199,2)<6),$J$7*$B$196%,\"\")","v":""},{"$f":"IF(AND(U207=Labels!$B$118,WEEKDAY(U199,2)<6),$J$7*$B$196%,\"\")","v":""},{"$f":"IF(AND(V207=Labels!$B$118,WEEKDAY(V199,2)<6),$J$7*$B$196%,\"\")","v":""},{"$f":"IF(AND(W207=Labels!$B$118,WEEKDAY(W199,2)<6),$J$7*$B$196%,\"\")","v":""},{"$f":"IF(AND(X207=Labels!$B$118,WEEKDAY(X199,2)<6),$J$7*$B$196%,\"\")","v":""},{"$f":"IF(AND(Y207=Labels!$B$118,WEEKDAY(Y199,2)<6),$J$7*$B$196%,\"\")","v":""},{"$f":"IF(AND(Z207=Labels!$B$118,WEEKDAY(Z199,2)<6),$J$7*$B$196%,\"\")","v":""},{"$f":"IF(AND(AA207=Labels!$B$118,WEEKDAY(AA199,2)<6),$J$7*$B$196%,\"\")","v":""},{"$f":"IF(AND(AB207=Labels!$B$118,WEEKDAY(AB199,2)<6),$J$7*$B$196%,\"\")","v":""},{"$f":"IF(AND(AC207=Labels!$B$118,WEEKDAY(AC199,2)<6),$J$7*$B$196%,\"\")","v":""},{"$f":"IF(AND(AD207=Labels!$B$118,WEEKDAY(AD199,2)<6),$J$7*$B$196%,\"\")","v":""},{"$f":"IF(AND(AE207=Labels!$B$118,WEEKDAY(AE199,2)<6),$J$7*$B$196%,\"\")","v":""},{"$f":"IF(AND(AF207=Labels!$B$118,WEEKDAY(AF199,2)<6),$J$7*$B$196%,\"\")","v":""},{"$f":"SUM(B208:AF208)","v":0}]
[{"$f":"$A$20","v":"Tagestotal"},{"$f":"SUM(B204:B206)","v":0},{"$f":"SUM(C204:C206)","v":0},0,0,0,0,0,0,0,0,0,0,0,0,0,0,0,0,0,0,0,0,0,0,0,0,0,0,0,0]
[{"$f":"$A$21","v":"."}]
[{"$f":"$A$22","v":"."}]
[{"$f":"$A$23","v":"Monatsübergang"},{"$f":"IF(WEEKDAY(B199)=1,TEXT(B199-1,\"MMM\"&Labels!B13),\"\")","v":""},null,null,null,null,null,null,null,null,null,null,null,null,null,null,null,null,null,null,null,null,null,null,null,null,null,null,null,null,{"$f":"IF(AND(WEEKDAY(AE199)>1,WEEKDAY(AE199)<7),TEXT(DATE($B$5,MONTH(AE199)+1,1),\"MMM\"&Labels!B13),\"\")","v":"Mai"}]
[{"$f":"$A$24","v":"Wochentotal"},{"$f":"IF(WEEKDAY(B199)=7,SUMIF($B137:$AF137,B200,$B146:$AF146)+SUMIF($B200:$AF200,B200,$B209:$AF209)+SUMIF($B263:$AF263,B200,$B272:$AF272),B212)","v":""},{"$f":"IF(WEEKDAY(C199)=7,SUMIF($B137:$AF137,C200,$B146:$AF146)+SUMIF($B200:$AF200,C200,$B209:$AF209)+SUMIF($B263:$AF263,C200,$B272:$AF272),\"\")","v":""},0,"","","","","","",0,"","","","","","",0,"","","","","","",0,"","","","","",{"$f":"IF(WEEKDAY(AE199)=7,SUMIF($B137:$AF137,AE200,$B146:$AF146)+SUMIF($B200:$AF200,AE200,$B209:$AF209)+SUMIF($B263:$AF263,AE200,$B272:$AF272),AE212)","v":"Mai"}]
[{"$f":"$A$25","v":"Zeitzuschlag 1)"},{"$f":"IF(B221=\"FALSCH\",\"\",B221)","v":""},{"$f":"IF(C221=\"FALSCH\",\"\",C221)","v":""},"","","","","","","","","","","","","","","","","","","","","","","","","","","","",null,{"$f":"SUM(B214:AF214)","v":0}]
[{"$f":"$A$26","v":"Zeitzuschlag 2)"},{"$f":"IF((B204+B206)=0,\"\",SUM(B204,B206))","v":""},{"$f":"IF((C204+C206)=0,\"\",SUM(C204,C206))","v":""},"","","","","","","","","","","","","","","","","","","","","","","","","","","","",null,0,"[1]"]
[{"$f":"$A$27","v":"Zeitzuschlag 3)"},{"$f":"SUM(B217:B220)","v":0},{"$f":"SUM(C217:C220)","v":0},0,0,0,0,0,0,0,0,0,0,0,0,0,0,0,0,0,0,0,0,0,0,0,0,0,0,0,0,null,{"$f":"SUM(B216:AF216)","v":0},"[2]"]
[{"$f":"$A$28","v":"Sonntag Tag"},{"$f":"IF(WEEKDAY(B199)=1,B205,\"\")","v":""},{"$f":"IF(WEEKDAY(C199)=1,C205,\"\")","v":""},"",0,"","","","","","",0,"","","","","","",0,"","","","","","",0,"","","","","",null,0,"[3]"]
[{"$f":"$A$29","v":"Sonntag Nacht"},{"$f":"IF(WEEKDAY(B199)=1,SUM(B204+B206),\"\")","v":""},{"$f":"IF(WEEKDAY(C199)=1,SUM(C204+C206),\"\")","v":""},"",0,"","","","","","",0,"","","","","","",0,"","","","","","",0,"","","","","",null,0,"[4]"]
[{"$f":"$A$30","v":"ft-Tazuschlag"},{"$f":"IF(B207=Labels!$B$118,B205,\"\")","v":""},{"$f":"IF(C207=Labels!$B$118,C205,\"\")","v":""},{"$f":"IF(D207=Labels!$B$118,D205,\"\")","v":""},{"$f":"IF(E207=Labels!$B$118,E205,\"\")","v":""},{"$f":"IF(F207=Labels!$B$118,F205,\"\")","v":""},{"$f":"IF(G207=Labels!$B$118,G205,\"\")","v":""},{"$f":"IF(H207=Labels!$B$118,H205,\"\")","v":""},{"$f":"IF(I207=Labels!$B$118,I205,\"\")","v":""},{"$f":"IF(J207=Labels!$B$118,J205,\"\")","v":""},{"$f":"IF(K207=Labels!$B$118,K205,\"\")","v":""},{"$f":"IF(L207=Labels!$B$118,L205,\"\")","v":""},{"$f":"IF(M207=Labels!$B$118,M205,\"\")","v":""},{"$f":"IF(N207=Labels!$B$118,N205,\"\")","v":""},{"$f":"IF(O207=Labels!$B$118,O205,\"\")","v":""},{"$f":"IF(P207=Labels!$B$118,P205,\"\")","v":""},{"$f":"IF(Q207=Labels!$B$118,Q205,\"\")","v":""},{"$f":"IF(R207=Labels!$B$118,R205,\"\")","v":""},{"$f":"IF(S207=Labels!$B$118,S205,\"\")","v":""},{"$f":"IF(T207=Labels!$B$118,T205,\"\")","v":""},{"$f":"IF(U207=Labels!$B$118,U205,\"\")","v":""},{"$f":"IF(V207=Labels!$B$118,V205,\"\")","v":""},{"$f":"IF(W207=Labels!$B$118,W205,\"\")","v":""},{"$f":"IF(X207=Labels!$B$118,X205,\"\")","v":""},{"$f":"IF(Y207=Labels!$B$118,Y205,\"\")","v":""},{"$f":"IF(Z207=Labels!$B$118,Z205,\"\")","v":""},{"$f":"IF(AA207=Labels!$B$118,AA205,\"\")","v":""},{"$f":"IF(AB207=Labels!$B$118,AB205,\"\")","v":""},{"$f":"IF(AC207=Labels!$B$118,AC205,\"\")","v":""},{"$f":"IF(AD207=Labels!$B$118,AD205,\"\")","v":""},{"$f":"IF(AE207=Labels!$B$118,AE205,\"\")","v":""},null,0,"[5]"]
[{"$f":"$A$31","v":"ft-Nazuschlag"},{"$f":"IF(B207=Labels!$B$118,SUM(B204,B206),\"\")","v":""},{"$f":"IF(C207=Labels!$B$118,SUM(C204,C206),\"\")","v":""},{"$f":"IF(D207=Labels!$B$118,SUM(D204,D206),\"\")","v":""},{"$f":"IF(E207=Labels!$B$118,SUM(E204,E206),\"\")","v":""},{"$f":"IF(F207=Labels!$B$118,SUM(F204,F206),\"\")","v":""},{"$f":"IF(G207=Labels!$B$118,SUM(G204,G206),\"\")","v":""},{"$f":"IF(H207=Labels!$B$118,SUM(H204,H206),\"\")","v":""},{"$f":"IF(I207=Labels!$B$118,SUM(I204,I206),\"\")","v":""},{"$f":"IF(J207=Labels!$B$118,SUM(J204,J206),\"\")","v":""},{"$f":"IF(K207=Labels!$B$118,SUM(K204,K206),\"\")","v":""},{"$f":"IF(L207=Labels!$B$118,SUM(L204,L206),\"\")","v":""},{"$f":"IF(M207=Labels!$B$118,SUM(M204,M206),\"\")","v":""},{"$f":"IF(N207=Labels!$B$118,SUM(N204,N206),\"\")","v":""},{"$f":"IF(O207=Labels!$B$118,SUM(O204,O206),\"\")","v":""},{"$f":"IF(P207=Labels!$B$118,SUM(P204,P206),\"\")","v":""},{"$f":"IF(Q207=Labels!$B$118,SUM(Q204,Q206),\"\")","v":""},{"$f":"IF(R207=Labels!$B$118,SUM(R204,R206),\"\")","v":""},{"$f":"IF(S207=Labels!$B$118,SUM(S204,S206),\"\")","v":""},{"$f":"IF(T207=Labels!$B$118,SUM(T204,T206),\"\")","v":""},{"$f":"IF(U207=Labels!$B$118,SUM(U204,U206),\"\")","v":""},{"$f":"IF(V207=Labels!$B$118,SUM(V204,V206),\"\")","v":""},{"$f":"IF(W207=Labels!$B$118,SUM(W204,W206),\"\")","v":""},{"$f":"IF(X207=Labels!$B$118,SUM(X204,X206),\"\")","v":""},{"$f":"IF(Y207=Labels!$B$118,SUM(Y204,Y206),\"\")","v":""},{"$f":"IF(Z207=Labels!$B$118,SUM(Z204,Z206),\"\")","v":""},{"$f":"IF(AA207=Labels!$B$118,SUM(AA204,AA206),\"\")","v":""},{"$f":"IF(AB207=Labels!$B$118,SUM(AB204,AB206),\"\")","v":""},{"$f":"IF(AC207=Labels!$B$118,SUM(AC204,AC206),\"\")","v":""},{"$f":"IF(AD207=Labels!$B$118,SUM(AD204,AD206),\"\")","v":""},{"$f":"IF(AE207=Labels!$B$118,SUM(AE204,AE206),\"\")","v":""},null,0,"[6]"]
[{"$f":"$A$32","v":"Zuschlag  blind (Wochentotal)"},{"$f":"IF(OR(ISTEXT(B213),B213=\"\",B213<$B$7),\"\",ROUND(((B213-$B$7)*25%)/25,4)*25)","v":""},{"$f":"IF(OR(ISTEXT(C213),C213=\"\",C213<$B$7),\"\",ROUND(((C213-$B$7)*25%)/25,4)*25)","v":""},"","","","","","","","","","","","","","","","","","","","","","","","","","","","",null,{"$f":"AG205","v":0},"[7]"]
[null,{"$f":"$B$33","v":"1)   25% Zeitzuschlag für Überschreitung Wochentotal"},null,null,null,null,null,null,null,null,null,{"$f":"$L$33","v":"2) 100% Zeitzuschlag für Nachtarbeit"},null,null,null,null,null,null,null,{"$f":"$T$33","v":"Eingabe der ausbezahlten Stunden Vorjahressaldo"},null,null,null,null,null,null,null,null,null,null,null,null,{"$f":"SUM(AG204+AG206)","v":0},"[8]"]
[null,{"$f":"$B$34","v":"3) 100% Zeitzuschlag für Sonn- und Feiertagsarbeit"},null,null,null,null,null,null,null,null,null,null,null,null,null,null,null,null,null,{"$f":"$T$34","v":"Eingabe der ausbezahlten Stunden laufendes Jahr (Überstunden)"},null,null,null,null,null,null,null,null,null,null,null,null,{"$f":"SUM(AG204:AG206)","v":0},"[9]"]
[{"$f":"$A$35","v":"Bemerkungen"},null,null,null,null,null,null,null,null,null,null,null,null,null,null,null,null,null,null,null,null,null,null,null,null,null,null,null,null,null,null,null,{"$f":"SUM(AG202+AG208)","v":0},"[10]"]
[null,null,null,null,null,null,null,null,null,null,null,null,null,null,null,null,null,null,null,null,null,null,null,null,null,null,null,null,null,null,null,null,{"$f":"SUM(AG202:AG216)","v":0},"[11]"]
[null,null,null,null,null,null,null,null,null,null,null,null,null,null,null,null,null,null,null,null,null,null,null,null,null,null,null,null,null,null,null,null,{"$f":"AG201","v":181.05999999999997}]
[null,null,null,null,null,null,null,null,null,null,null,null,null,null,null,null,null,null,null,null,null,null,null,null,null,null,null,null,null,null,null,null,{"$f":"SUM(AG225-AG201)","v":-181.05999999999997}]
[{"$f":"$A$39","v":"Zusammenstellung"},null,null,null,null,null,{"$f":"$G$39","v":"Jan"},null,{"$f":"$I$39","v":"Feb"},null,{"$f":"$K$39","v":"Mrz"},null,{"$f":"$M$39","v":"Apr"},null,{"$f":"$O$39","v":"Mai"},null,{"$f":"$Q$39","v":"Jun"},null,{"$f":"$S$39","v":"Jul"},null,{"$f":"$U$39","v":"Aug"},null,{"$f":"$W$39","v":"Sep"},null,{"$f":"$Y$39","v":"Okt"},null,{"$f":"$AA$39","v":"Nov"},null,{"$f":"$AC$39","v":"Dez"},null,{"$f":"$AE$39","v":"Jahr"}]
[{"$f":"$A$40","v":"Anstellung %"},null,null,null,null,null,{"$f":"IF($B$4=0,0,$B$4)","v":100},null,{"$f":"IF($B$70=0,0,$B$70)","v":100},null,{"$f":"IF($B$133=0,0,$B$133)","v":100},null,{"$f":"IF($B$196=0,0,$B$196)","v":100},null,{"$f":"IF($B$259=0,0,$B$259)","v":100},null,{"$f":"IF($B$322=0,0,$B$322)","v":100},null,{"$f":"IF($B$385=0,0,$B$385)","v":100},null,{"$f":"IF($B$448=0,0,$B$448)","v":100},null,{"$f":"IF($B$511=0,0,$B$511)","v":100},null,{"$f":"IF($B$574=0,0,$B$574)","v":100},null,{"$f":"IF($B$637=0,0,$B$637)","v":100},null,{"$f":"IF($B$700=0,0,$B$700)","v":100}]
[{"$f":"$A$41","v":"Sollstunden gemäss GAV"},null,null,null,null,null,{"$f":"IF($AG$37=0,0,$AG$37)","v":172.82999999999998},null,{"$f":"IF($AG$100=0,0,$AG$100)","v":164.6},null,{"$f":"IF($AG$138=0,0,$AG$138)","v":189.28999999999996},null,{"$f":"IF($AG$226=0,0,$AG$226)","v":181.05999999999997},null,{"$f":"IF($AG$289=0,0,$AG$289)","v":172.82999999999998},null,{"$f":"IF($AG$352=0,0,$AG$352)","v":181.05999999999997},null,{"$f":"IF($AG$415=0,0,$AG$415)","v":181.05999999999997},null,{"$f":"IF($AG$478=0,0,$AG$478)","v":181.05999999999997},null,{"$f":"IF($AG$541=0,0,$AG$541)","v":181.05999999999997},null,{"$f":"IF($AG$604=0,0,$AG$604)","v":172.82999999999998},null,{"$f":"IF($AG$667=0,0,$AG$667)","v":181.05999999999997},null,{"$f":"IF($AG$730=0,0,$AG$730)","v":189.28999999999996},null,{"$f":"SUM(G230:AD230)","v":2148.0299999999997}]
[{"$f":"$A$42","v":"Produktive Stunden"},{"$f":"$B$42","v":"06.00 - 20.00 Uhr"},null,null,null,null,{"$f":"IF($AG$32=0,0,$AG$32)","v":0},null,{"$f":"IF($AG$95=0,0,$AG$95)","v":0},null,{"$f":"IF($AG$158=0,0,$AG$158)","v":0},null,{"$f":"IF($AG$221=0,0,$AG$221)","v":0},null,{"$f":"IF($AG$284=0,0,$AG$284)","v":0},null,{"$f":"IF($AG$347=0,0,$AG$347)","v":0},null,{"$f":"IF($AG$410=0,0,$AG$410)","v":0},null,{"$f":"IF($AG$473=0,0,$AG$473)","v":0},null,{"$f":"IF($AG$536=0,0,$AG$536)","v":0},null,{"$f":"IF($AG$599=0,0,$AG$599)","v":0},null,{"$f":"IF($AG$662=0,0,$AG$662)","v":0},null,{"$f":"IF($AG$725=0,0,$AG$725)","v":0},null,{"$f":"SUM(G231:AD231)","v":0}]
[null,{"$f":"$B$43","v":"Nacht-, Sonn-, Feiertagsarbeit"},null,null,null,null,{"$f":"IF($AG$33=0,0,$AG$33)","v":0},null,{"$f":"IF($AG$96=0,0,$AG$96)","v":0},null,{"$f":"IF($AG$159=0,0,$AG$159)","v":0},null,{"$f":"IF($AG$222=0,0,$AG$222)","v":0},null,{"$f":"IF($AG$285=0,0,$AG$285)","v":0},null,{"$f":"IF($AG$348=0,0,$AG$348)","v":0},null,{"$f":"IF($AG$411=0,0,$AG$411)","v":0},null,{"$f":"IF($AG$474=0,0,$AG$474)","v":0},null,{"$f":"IF($AG$537=0,0,$AG$537)","v":0},null,{"$f":"IF($AG$600=0,0,$AG$600)","v":0},null,{"$f":"IF($AG$663=0,0,$AG$663)","v":0},null,{"$f":"IF($AG$726=0,0,$AG$726)","v":0},null,{"$f":"SUM(G232:AD232)","v":0}]
[{"$f":"$A$44","v":"Zeitzuschläge"},{"$f":"$B$44","v":"aus Wochentotal"},null,null,null,null,{"$f":"IF($AG$25=0,0,$AG$25)","v":0},null,{"$f":"IF($AG$88=0,0,$AG$88)","v":0},null,{"$f":"IF($AG$151=0,0,$AG$151)","v":0},null,{"$f":"IF($AG$214=0,0,$AG$214)","v":0},null,{"$f":"IF($AG$277=0,0,$AG$277)","v":0},null,{"$f":"IF($AG$340=0,0,$AG$340)","v":0},null,{"$f":"IF($AG$403=0,0,$AG$403)","v":0},null,{"$f":"IF($AG$466=0,0,$AG$466)","v":0},null,{"$f":"IF($AG$529=0,0,$AG$529)","v":0},null,{"$f":"IF($AG$592=0,0,$AG$592)","v":0},null,{"$f":"IF($AG$655=0,0,$AG$655)","v":0},null,{"$f":"IF($AG$718=0,0,$AG$718)","v":0},null,{"$f":"SUM(G233:AD233)","v":0}]
[null,{"$f":"$B$45","v":"aus Nacht-, Sonn-, Feiertagsarbeiten"},null,null,null,null,{"$f":"IF($AJ$20=0,0,$AJ$20)","v":0},null,{"$f":"IF($AK$20=0,0,$AK$20)","v":0},null,{"$f":"IF($AL$20=0,0,$AL$20)","v":0},null,{"$f":"IF($AM$20=0,0,$AM$20)","v":0},null,{"$f":"IF($AN$20=0,0,$AN$20)","v":0},null,{"$f":"IF($AO$20=0,0,$AO$20)","v":0},null,{"$f":"IF($AP$20=0,0,$AP$20)","v":0},null,{"$f":"IF($AQ$20=0,0,$AQ$20)","v":0},null,{"$f":"IF($AR$20=0,0,$AR$20)","v":0},null,{"$f":"IF($AS$20=0,0,$AS$20)","v":0},null,{"$f":"IF($AT$20=0,0,$AT$20)","v":0},null,{"$f":"IF($AU$20=0,0,$AU$20)","v":0},null,{"$f":"SUM(G234:AD234)","v":0}]
[{"$f":"$A$46","v":"Unproduktive Stunden"}]
[{"$f":"$A$47","v":"   Absenzen, Kurzabsenzen Art. 11 GAV"},null,null,null,null,{"$f":"$F$47","v":"a"},{"$f":"IF($AJ$3=0,0,$AJ$3)","v":0},null,{"$f":"IF($AK$3=0,0,$AK$3)","v":0},null,{"$f":"IF($AL$3=0,0,$AL$3)","v":0},null,{"$f":"IF($AM$3=0,0,$AM$3)","v":0},null,{"$f":"IF($AN$3=0,0,$AN$3)","v":0},null,{"$f":"IF($AO$3=0,0,$AO$3)","v":0},null,{"$f":"IF($AP$3=0,0,$AP$3)","v":0},null,{"$f":"IF($AQ$3=0,0,$AQ$3)","v":0},null,{"$f":"IF($AR$3=0,0,$AR$3)","v":0},null,{"$f":"IF($AS$3=0,0,$AS$3)","v":0},null,{"$f":"IF(AT$3=0,0,$AT$3)","v":0},null,{"$f":"IF($AU$3=0,0,$AU$3)","v":0},null,{"$f":"IF($AV$3=0,0,$AV$3)","v":0}]
[{"$f":"$A$48","v":"   Ferien Art. 12.1 GAV"},null,null,null,null,{"$f":"$F$48","v":"f"},{"$f":"IF($AJ$4=0,0,$AJ$4)","v":0},null,{"$f":"IF($AK$4=0,0,$AK$4)","v":0},null,{"$f":"IF($AL$4=0,0,$AL$4)","v":0},null,{"$f":"IF($AM$4=0,0,$AM$4)","v":0},null,{"$f":"IF($AN$4=0,0,$AN$4)","v":0},null,{"$f":"IF($AO$4=0,0,$AO$4)","v":0},null,{"$f":"IF($AP$4=0,0,$AP$4)","v":0},null,{"$f":"IF($AQ$4=0,0,$AQ$4)","v":0},null,{"$f":"IF($AR$4=0,0,$AR$4)","v":0},null,{"$f":"IF($AS$4=0,0,$AS$4)","v":0},null,{"$f":"IF($AT$4=0,0,$AT$4)","v":0},null,{"$f":"IF($AU$4=0,0,$AU$4)","v":0},null,{"$f":"IF($AV$4=0,0,$AV$4)","v":0}]
[{"$f":"$A$49","v":"   Feiertage Art. 12.2 GAV"},null,{"$f":"IF($AJ$17=\"\",\"\",$AJ$17)","v":""},null,null,{"$f":"$F$49","v":"ft"},{"$f":"IF($AJ$15=0,0,$AJ$15)","v":0},null,{"$f":"IF($AK$15=0,0,$AK$15)","v":0},null,{"$f":"IF($AL$15=0,0,$AL$15)","v":0},null,{"$f":"IF($AM$15=0,0,$AM$15)","v":0},null,{"$f":"IF($AN$15=0,0,$AN$15)","v":0},null,{"$f":"IF($AO$15=0,0,$AO$15)","v":0},null,{"$f":"IF($AP$15=0,0,$AP$15)","v":0},null,{"$f":"IF($AQ$15=0,0,$AQ$15)","v":0},null,{"$f":"IF($AR$15=0,0,$AR$15)","v":0},null,{"$f":"IF($AS$15=0,0,$AS$15)","v":0},null,{"$f":"IF($AT$15=0,0,$AT$15)","v":0},null,{"$f":"IF($AU$15=0,0,$AU$15)","v":0},null,{"$f":"IF($AV$15=0,0,$AV$15)","v":0}]
[{"$f":"$A$50","v":"   Krankheit Art. 13 GAV"},null,null,null,null,{"$f":"$F$50","v":"k"},{"$f":"IF($AJ$5=0,0,$AJ$5)","v":0},null,{"$f":"IF($AK$5=0,0,$AK$5)","v":0},null,{"$f":"IF($AL$5=0,0,$AL$5)","v":0},null,{"$f":"IF($AM$5=0,0,$AM$5)","v":0},null,{"$f":"IF($AN$5=0,0,$AN$5)","v":0},null,{"$f":"IF($AO$5=0,0,$AO$5)","v":0},null,{"$f":"IF($AP$5=0,0,$AP$5)","v":0},null,{"$f":"IF($AQ$5=0,0,$AQ$5)","v":0},null,{"$f":"IF($AR$5=0,0,$AR$5)","v":0},null,{"$f":"IF($AS$5=0,0,$AS$5)","v":0},null,{"$f":"IF($AT$5=0,0,$AT$5)","v":0},null,{"$f":"IF($AU$5=0,0,$AU$5)","v":0},null,{"$f":"IF($AV$5=0,0,$AV$5)","v":0}]
[{"$f":"$A$51","v":"   Unfall Art. 14 GAV"},null,null,null,null,{"$f":"$F$51","v":"u"},{"$f":"IF($AJ$6=0,0,$AJ$6)","v":0},null,{"$f":"IF($AK$6=0,0,$AK$6)","v":0},null,{"$f":"IF($AL$6=0,0,$AL$6)","v":0},null,{"$f":"IF($AM$6=0,0,$AM$6)","v":0},null,{"$f":"IF($AN$6=0,0,$AN$6)","v":0},null,{"$f":"IF($AO$6=0,0,$AO$6)","v":0},null,{"$f":"IF($AP$6=0,0,$AP$6)","v":0},null,{"$f":"IF($AQ$6=0,0,$AQ$6)","v":0},null,{"$f":"IF($AR$6=0,0,$AR$6)","v":0},null,{"$f":"IF($AS$6=0,0,$AS$6)","v":0},null,{"$f":"IF($AT$6=0,0,$AT$6)","v":0},null,{"$f":"IF($AU$6=0,0,$AU$6)","v":0},null,{"$f":"IF($AV$6=0,0,$AV$6)","v":0}]
[{"$f":"$A$52","v":"   Schwangerschaft/Mutterschaft Art. 15 GAV"},null,null,null,null,{"$f":"$F$52","v":"s"},{"$f":"IF($AJ$7=0,0,$AJ$7)","v":0},null,{"$f":"IF($AK$7=0,0,$AK$7)","v":0},null,{"$f":"IF($AL$7=0,0,$AL$7)","v":0},null,{"$f":"IF($AM$7=0,0,$AM$7)","v":0},null,{"$f":"IF($AN$7=0,0,$AN$7)","v":0},null,{"$f":"IF($AO$7=0,0,$AO$7)","v":0},null,{"$f":"IF($AP$7=0,0,$AP$7)","v":0},null,{"$f":"IF($AQ$7=0,0,$AQ$7)","v":0},null,{"$f":"IF($AR$7=0,0,$AR$7)","v":0},null,{"$f":"IF($AS$7=0,0,$AS$7)","v":0},null,{"$f":"IF($AT$7=0,0,$AT$7)","v":0},null,{"$f":"IF($AU$7=0,0,$AU$7)","v":0},null,{"$f":"IF($AV$7=0,0,$AV$7)","v":0}]
[{"$f":"$A$53","v":"   Militär/Beförderung/Zivilschutz Art. 16 GAV"},null,null,null,null,{"$f":"$F$53","v":"m"},{"$f":"IF($AJ$8=0,0,$AJ$8)","v":0},null,{"$f":"IF($AK$8=0,0,$AK$8)","v":0},null,{"$f":"IF($AL$8=0,0,$AL$8)","v":0},null,{"$f":"IF($AM$8=0,0,$AM$8)","v":0},null,{"$f":"IF($AN$8=0,0,$AN$8)","v":0},null,{"$f":"IF($AO$8=0,0,$AO$8)","v":0},null,{"$f":"IF($AP$8=0,0,$AP$8)","v":0},null,{"$f":"IF($AQ$8=0,0,$AQ$8)","v":0},null,{"$f":"IF($AR$8=0,0,$AR$8)","v":0},null,{"$f":"IF($AS$8=0,0,$AS$8)","v":0},null,{"$f":"IF($AT$8=0,0,$AT$8)","v":0},null,{"$f":"IF($AU$8=0,0,$AU$8)","v":0},null,{"$f":"IF($AV$8=0,0,$AV$8)","v":0}]
[{"$f":"$A$54","v":"   Kurzarbeit und Schlechtwetterausfälle"},null,null,null,null,{"$f":"$F$54","v":"ka"},{"$f":"IF($AJ$11=0,0,$AJ$11)","v":0},null,{"$f":"IF($AK$11=0,0,$AK$11)","v":0},null,{"$f":"IF($AL$11=0,0,$AL$11)","v":0},null,{"$f":"IF($AM$11=0,0,$AM$11)","v":0},null,{"$f":"IF($AN$11=0,0,$AN$11)","v":0},null,{"$f":"IF($AO$11=0,0,$AO$11)","v":0},null,{"$f":"IF($AP$11=0,0,$AP$11)","v":0},null,{"$f":"IF($AQ$11=0,0,$AQ$11)","v":0},null,{"$f":"IF($AR$11=0,0,$AR$11)","v":0},null,{"$f":"IF($AS$11=0,0,$AS$11)","v":0},null,{"$f":"IF($AT$11=0,0,$AT$11)","v":0},null,{"$f":"IF($AU$11=0,0,$AU$11)","v":0},null,{"$f":"IF($AV$11=0,0,$AV$11)","v":0}]
[{"$f":"$A$55","v":"   Berufsschule"},null,null,null,null,{"$f":"$F$55","v":"bs"},{"$f":"IF($AJ$9=0,0,$AJ$9)","v":0},null,{"$f":"IF($AK$9=0,0,$AK$9)","v":0},null,{"$f":"IF($AL$9=0,0,$AL$9)","v":0},null,{"$f":"IF($AM$9=0,0,$AM$9)","v":0},null,{"$f":"IF($AN$9=0,0,$AN$9)","v":0},null,{"$f":"IF($AO$9=0,0,$AO$9)","v":0},null,{"$f":"IF($AP$9=0,0,$AP$9)","v":0},null,{"$f":"IF($AQ$9=0,0,$AQ$9)","v":0},null,{"$f":"IF($AR$9=0,0,$AR$9)","v":0},null,{"$f":"IF($AS$9=0,0,$AS$9)","v":0},null,{"$f":"IF($AT$9=0,0,$AT$9)","v":0},null,{"$f":"IF($AU$9=0,0,$AU$9)","v":0},null,{"$f":"IF($AV$9=0,0,$AV$9)","v":0}]
[{"$f":"$A$56","v":"   Kurse"},null,null,null,null,{"$f":"$F$56","v":"ku"},{"$f":"IF($AJ$10=0,0,$AJ$10)","v":0},null,{"$f":"IF($AK$10=0,0,$AK$10)","v":0},null,{"$f":"IF($AL$10=0,0,$AL$10)","v":0},null,{"$f":"IF($AM$10=0,0,$AM$10)","v":0},null,{"$f":"IF($AN$10=0,0,$AN$10)","v":0},null,{"$f":"IF($AO$10=0,0,$AO$10)","v":0},null,{"$f":"IF($AP$10=0,0,$AP$10)","v":0},null,{"$f":"IF($AQ$10=0,0,$AQ$10)","v":0},null,{"$f":"IF($AR$10=0,0,$AR$10)","v":0},null,{"$f":"IF($AS$10=0,0,$AS$10)","v":0},null,{"$f":"IF($AT$10=0,0,$AT$10)","v":0},null,{"$f":"IF($AU$10=0,0,$AU$10)","v":0},null,{"$f":"IF($AV$10=0,0,$AV$10)","v":0}]
[{"$f":"$A$57","v":"Kompensations-Std"},{"$f":"$B$57","v":"aus Vorjahr"},null,null,null,{"$f":"$F$57","v":"kv"},{"$f":"IF($AJ$12=0,0,$AJ$12)","v":0},null,{"$f":"IF($AK$12=0,0,$AK$12)","v":0},null,{"$f":"IF($AL$12=0,0,$AL$12)","v":0},null,{"$f":"IF($AM$12=0,0,$AM$12)","v":0},null,{"$f":"IF($AN$12=0,0,$AN$12)","v":0},null,{"$f":"IF($AO$12=0,0,$AO$12)","v":0},null,{"$f":"IF($AP$12=0,0,$AP$12)","v":0},null,{"$f":"IF($AQ$12=0,0,$AQ$12)","v":0},null,{"$f":"IF($AR$12=0,0,$AR$12)","v":0},null,null,null,null,null,null,null,{"$f":"IF($AV$12=0,0,$AV$12)","v":0}]
[null,{"$f":"$B$58","v":"aus laufendem Jahr (Kontrolle)"},null,null,null,{"$f":"$F$58","v":"kj"},{"$f":"IF($AJ$14=0,0,$AJ$14)","v":0},null,{"$f":"IF($AK$14=0,0,$AK$14)","v":0},null,{"$f":"IF($AL$14=0,0,$AL$14)","v":0},null,{"$f":"IF($AM$14=0,0,$AM$14)","v":0},null,{"$f":"IF($AN$14=0,0,$AN$14)","v":0},null,{"$f":"IF($AO$14=0,0,$AO$14)","v":0},null,{"$f":"IF($AP$14=0,0,$AP$14)","v":0},null,{"$f":"IF($AQ$14=0,0,$AQ$14)","v":0},null,{"$f":"IF($AR$14=0,0,$AR$14)","v":0},null,{"$f":"IF($AS$14=0,0,$AS$14)","v":0},null,{"$f":"IF($AT$14=0,0,$AT$14)","v":0},null,{"$f":"IF($AU$14=0,0,$AU$14)","v":0},null,{"$f":"IF($AV$14=0,0,$AV$14)","v":0}]
[{"$f":"$A$59","v":"Auszahlung"},{"$f":"$B$59","v":"Stunden Vorjahressaldo"},null,null,null,null,{"$f":"IF($AJ$18=0,0,$AJ$18)","v":0},null,{"$f":"IF($AK$18=0,0,$AK$18)","v":0},null,{"$f":"IF($AL$18=0,0,$AL$18)","v":0},null,{"$f":"IF($AM$18=0,0,$AM$18)","v":0},null,{"$f":"IF($AN$18=0,0,$AN$18)","v":0},null,{"$f":"IF($AO$18=0,0,$AO$18)","v":0},null,{"$f":"IF($AP$18=0,0,$AP$18)","v":0},null,{"$f":"IF($AQ$18=0,0,$AQ$18)","v":0},null,{"$f":"IF($AR$18=0,0,$AR$18)","v":0},null,null,null,null,null,null,null,{"$f":"IF($AV$18=0,0,$AV$18)","v":0}]
[{"$f":"$A$60","v":"Differenz"},{"$f":"$B$60","v":"nach Kompensation und Auszahlung"},null,null,null,null,{"$f":"IF(ROUND($P$4,3)=0,0,$P$4-SUM(G246+G248))","v":0},null,{"$f":"IF(ROUND(G249,3)=0,0,G249-(SUM(I248+I246)))","v":0},null,{"$f":"IF(ROUND(I249,3)=0,0,I249-(SUM(K248+K246)))","v":0},null,{"$f":"IF(ROUND(K249,3)=0,0,K249-(SUM(M248+M246)))","v":0},null,{"$f":"IF(ROUND(M249,3)=0,0,M249-(SUM(O248+O246)))","v":0},null,{"$f":"IF(ROUND(O249,3)=0,0,O249-(SUM(Q248+Q246)))","v":0},null,{"$f":"IF(ROUND(Q249,3)=0,0,Q249-(SUM(S248+S246)))","v":0},null,{"$f":"IF(ROUND(S249,3)=0,0,S249-(SUM(U248+U246)))","v":0},null,{"$f":"IF(ROUND(U249,3)=0,0,U249-(SUM(W248+W246)))","v":0},null,{"$f":"$Y$60","v":""}]
[{"$f":"$A$61","v":"Auszahlung"},{"$f":"$B$61","v":"Stunden laufendes Jahr"},null,null,null,null,{"$f":"IF($AJ$19=0,0,$AJ$19)","v":0},null,{"$f":"IF($AK$19=0,0,$AK$19)","v":0},null,{"$f":"IF($AL$19=0,0,$AL$19)","v":0},null,{"$f":"IF($AM$19=0,0,$AM$19)","v":0},null,{"$f":"IF($AN$19=0,0,$AN$19)","v":0},null,{"$f":"IF($AO$19=0,0,$AO$19)","v":0},null,{"$f":"IF($AP$19=0,0,$AP$19)","v":0},null,{"$f":"IF($AQ$19=0,0,$AQ$19)","v":0},null,{"$f":"IF($AR$19=0,0,$AR$19)","v":0},null,{"$f":"IF($AS$19=0,0,$AS$19)","v":0},null,{"$f":"IF($AT$19=0,0,$AT$19)","v":0},null,{"$f":"IF($AU$19=0,0,$AU$19)","v":0},null,{"$f":"IF($AV$19=0,0,$AV$19)","v":0}]
[{"$f":"$A$62","v":"Fehlstunden"},{"$f":"$B$62","v":"laufendes Jahr (Kontrolle)"},null,null,null,{"$f":"$F$62","v":"fe"},{"$f":"IF($AJ$13=0,0,$AJ$13)","v":0},null,{"$f":"IF($AK$13=0,0,$AK$13)","v":0},null,{"$f":"IF($AL$13=0,0,$AL$13)","v":0},null,{"$f":"IF($AM$13=0,0,$AM$13)","v":0},null,{"$f":"IF($AN$13=0,0,$AN$13)","v":0},null,{"$f":"IF($AO$13=0,0,$AO$13)","v":0},null,{"$f":"IF($AP$13=0,0,$AP$13)","v":0},null,{"$f":"IF($AQ$13=0,0,$AQ$13)","v":0},null,{"$f":"IF($AR$13=0,0,$AR$13)","v":0},null,{"$f":"IF($AS$13=0,0,$AS$13)","v":0},null,{"$f":"IF($AT$13=0,0,$AT$13)","v":0},null,{"$f":"IF($AU$13=0,0,$AU$13)","v":0},null,{"$f":"IF($AV$13=0,0,$AV$13)","v":0}]
[{"$f":"$A$63","v":"Total inkl. Zeitzuschläge"},{"$f":"$B$63","v":"Stunden produktiv und unproduktiv"},null,null,null,null,{"$f":"IF($AG$36=0,0,$AG$36)","v":0},null,{"$f":"IF($AG$99=0,0,$AG$99)","v":0},null,{"$f":"IF($AG$162=0,0,$AG$162)","v":0},null,{"$f":"IF($AG$225=0,0,$AG$225)","v":0},null,{"$f":"IF($AG$288=0,0,$AG$288)","v":0},null,{"$f":"IF($AG$351=0,0,$AG$351)","v":0},null,{"$f":"IF($AG$414=0,0,$AG$414)","v":0},null,{"$f":"IF($AG$477=0,0,$AG$477)","v":0},null,{"$f":"IF($AG$540=0,0,$AG$540)","v":0},null,{"$f":"IF($AG$603=0,0,$AG$603)","v":0},null,{"$f":"IF($AG$666=0,0,$AG$666)","v":0},null,{"$f":"IF($AG$729=0,0,$AG$729)","v":0},null,{"$f":"SUM($G$63:$AD$63)","v":0}]
[{"$f":"$A$64","v":"Vergleich"},{"$f":"$B$64","v":"Stunden zu Soll-Stunden (inkl. allfälli-\nge Minusstunden Vorjahr)"},null,null,null,null,{"$f":"$G$64","v":-172.82999999999998},null,{"$f":"$I$64","v":-164.6},null,{"$f":"$K$64","v":-189.28999999999996},null,{"$f":"$M$64","v":-181.05999999999997},null,{"$f":"$O$64","v":-172.82999999999998},null,{"$f":"$Q$64","v":-181.05999999999997},null,{"$f":"$S$64","v":-181.05999999999997},null,{"$f":"$U$64","v":-181.05999999999997},null,{"$f":"$W$64","v":-181.05999999999997},null,{"$f":"$Y$64","v":-172.82999999999998},null,{"$f":"$AA$64","v":-181.05999999999997},null,{"$f":"$AC$64","v":-189.28999999999996},null,{"$f":"$AE$64","v":-2148.0299999999997}]
[null,{"$f":"$B$65","v":"Stunden zu Soll-Stunden (kumuliert)"},null,null,null,null,{"$f":"$G$65","v":-172.82999999999998},null,{"$f":"$I$65","v":-337.42999999999995},null,{"$f":"$K$65","v":-526.71999999999991},null,{"$f":"$M$65","v":-707.77999999999986},null,{"$f":"$O$65","v":-880.6099999999999},null,{"$f":"$Q$65","v":-1061.6699999999998},null,{"$f":"$S$65","v":-1242.7299999999998},null,{"$f":"$U$65","v":-1423.7899999999997},null,{"$f":"$W$65","v":-1604.8499999999997},null,{"$f":"$Y$65","v":-1777.6799999999996},null,{"$f":"$AA$65","v":-1958.7399999999996},null,{"$f":"$AC$65","v":-2148.0299999999997},null,{"$f":"$AE$65","v":0}]
[{"$f":"$A$66","v":"Ferienkontrolle"},{"$f":"$B$66","v":"Ferienguthaben Vorjahr"},null,null,null,null,{"$f":"IF($AA$4=0,0,$AA$4)","v":0},null,{"$f":"$I$66","v":"Ferienguthaben nach \nArt. 12.1 GAV"},null,null,null,{"$f":"IF($AA$5=0,0,$AA$5)","v":0},null,{"$f":"$O$66","v":"Ferienguthaben total"},null,null,null,{"$f":"SUM(G255+M255)","v":0},null,{"$f":"$U$66","v":"Ferien bezogen"},null,null,null,{"$f":"IF($AV$4=0,0,$AV$4)","v":0},null,{"$f":"$AA$66","v":"Aktuelles Ferienguthaben"},null,null,null,{"$f":"IF(S255=0,0,S255-Y255)","v":0}]
[]
[]
[{"$f":"$A$3","v":"Mitarbeiter/In"},{"$f":"IF($B$3=\"\",\"\",$B$3)","v":"Muster Peter"},null,null,null,null,null,null,null,null,null,null,null,null,null,null,null,null,null,null,null,null,null,null,null,null,null,null,null,null,null,{"$f":"AF3","v":0}]
[{"$f":"$A$4","v":"Anstellung %"},100,null,{"$f":"Labels!B93","v":"im Mai"}]
[{"$f":"$A$5","v":"Saldo für das Jahr"},null,null,{"$f":"IF($AE$64=0,0,$AE$64)","v":-2148.0299999999997}]
[{"$f":"TEXT(DATE(YEAR(AP28),MONTH(AP28)+4,1),\"MMMM\"&Labels!B13)","v":"Mai"},{"$f":"$B$9","v":"Saldo Monat + / -"},null,null,null,{"$f":"(AG264-(SUM(AG265:AG279)-AE286))*-1","v":-172.82999999999998},null,null,null,null,{"$f":"$K$9","v":" = "},{"$f":"$L$9","v":"Gelbe Felder müssen ausgefüllt werden (die übrigen werden automatisch berechnet)"}]
[{"$f":"$A$10","v":"Tag"},{"$f":"AE199+1","v":"2021-05-01"},{"$f":"B262+1","v":"2021-05-02"},{"$f":"C262+1","v":"2021-05-03"},"2021-05-04","2021-05-05","2021-05-06","2021-05-07","2021-05-08","2021-05-09","2021-05-10","2021-05-11","2021-05-12","2021-05-13","2021-05-14","2021-05-15","2021-05-16","2021-05-17","2021-05-18","2021-05-19","2021-05-20","2021-05-21","2021-05-22","2021-05-23","2021-05-24","2021-05-25","2021-05-26","2021-05-27","2021-05-28","2021-05-29","2021-05-30","2021-05-31",{"$f":"COUNT(B264:AF264)&\" \"&Labels!$B$63","v":"21 Tage"}]
[{"$f":"$A$11","v":"Kalenderwoche"},{"$f":"IF(B262=\"\",\"\",TRUNC((B262-DATE(YEAR(B262+3-MOD(B262-2,7)),1,MOD(B262-2,7)-9))/7))","v":17},17,18,18,18,18,18,18,18,19,19,19,19,19,19,19,20,20,20,20,20,20,20,21,21,21,21,21,21,21,22]
[{"$f":"$A$12","v":"Sollstunden"},{"$f":"IF(MOD(B262,7)>=2,$J$7*$B$259%,\"\")","v":""},"",8.23,8.23,8.23,8.23,8.23,"","",8.23,8.23,8.23,8.23,8.23,"","",8.23,8.23,8.23,8.23,8.23,"","",8.23,8.23,8.23,8.23,8.23,"","",8.23,{"$f":"SUM(B264:AF264)","v":172.82999999999998}]
[{"$f":"$A$13","v":"Absenz in Std"},{"$f":"B911","v":0},{"$f":"C911","v":0},0,0,0,0,0,0,0,0,0,0,0,0,0,0,0,0,0,0,0,0,0,0,0,0,0,0,0,0,0,{"$f":"SUM(AN3:AN12)","v":0}]
[{"$f":"$A$14","v":"Code"},{"$f":"IF(B911<>0,IF(MAX(B898:B910)<B911,Labels!$B$163,INDEX($AH$898:$AH$910,MATCH(MAX(B898:B910),B898:B910,0))),\"\")","v":""},{"$f":"IF(C911<>0,IF(MAX(C898:C910)<C911,Labels!$B$163,INDEX($AH$898:$AH$910,MATCH(MAX(C898:C910),C898:C910,0))),\"\")","v":""},{"$f":"IF(D911<>0,IF(MAX(D898:D910)<D911,Labels!$B$163,INDEX($AH$898:$AH$910,MATCH(MAX(D898:D910),D898:D910,0))),\"\")","v":""},{"$f":"IF(E911<>0,IF(MAX(E898:E910)<E911,Labels!$B$163,INDEX($AH$898:$AH$910,MATCH(MAX(E898:E910),E898:E910,0))),\"\")","v":""},{"$f":"IF(F911<>0,IF(MAX(F898:F910)<F911,Labels!$B$163,INDEX($AH$898:$AH$910,MATCH(MAX(F898:F910),F898:F910,0))),\"\")","v":""},{"$f":"IF(G911<>0,IF(MAX(G898:G910)<G911,Labels!$B$163,INDEX($AH$898:$AH$910,MATCH(MAX(G898:G910),G898:G910,0))),\"\")","v":""},{"$f":"IF(H911<>0,IF(MAX(H898:H910)<H911,Labels!$B$163,INDEX($AH$898:$AH$910,MATCH(MAX(H898:H910),H898:H910,0))),\"\")","v":""},{"$f":"IF(I911<>0,IF(MAX(I898:I910)<I911,Labels!$B$163,INDEX($AH$898:$AH$910,MATCH(MAX(I898:I910),I898:I910,0))),\"\")","v":""},{"$f":"IF(J911<>0,IF(MAX(J898:J910)<J911,Labels!$B$163,INDEX($AH$898:$AH$910,MATCH(MAX(J898:J910),J898:J910,0))),\"\")","v":""},{"$f":"IF(K911<>0,IF(MAX(K898:K910)<K911,Labels!$B$163,INDEX($AH$898:$AH$910,MATCH(MAX(K898:K910),K898:K910,0))),\"\")","v":""},{"$f":"IF(L911<>0,IF(MAX(L898:L910)<L911,Labels!$B$163,INDEX($AH$898:$AH$910,MATCH(MAX(L898:L910),L898:L910,0))),\"\")","v":""},{"$f":"IF(M911<>0,IF(MAX(M898:M910)<M911,Labels!$B$163,INDEX($AH$898:$AH$910,MATCH(MAX(M898:M910),M898:M910,0))),\"\")","v":""},{"$f":"IF(N911<>0,IF(MAX(N898:N910)<N911,Labels!$B$163,INDEX($AH$898:$AH$910,MATCH(MAX(N898:N910),N898:N910,0))),\"\")","v":""},{"$f":"IF(O911<>0,IF(MAX(O898:O910)<O911,Labels!$B$163,INDEX($AH$898:$AH$910,MATCH(MAX(O898:O910),O898:O910,0))),\"\")","v":""},{"$f":"IF(P911<>0,IF(MAX(P898:P910)<P911,Labels!$B$163,INDEX($AH$898:$AH$910,MATCH(MAX(P898:P910),P898:P910,0))),\"\")","v":""},{"$f":"IF(Q911<>0,IF(MAX(Q898:Q910)<Q911,Labels!$B$163,INDEX($AH$898:$AH$910,MATCH(MAX(Q898:Q910),Q898:Q910,0))),\"\")","v":""},{"$f":"IF(R911<>0,IF(MAX(R898:R910)<R911,Labels!$B$163,INDEX($AH$898:$AH$910,MATCH(MAX(R898:R910),R898:R910,0))),\"\")","v":""},{"$f":"IF(S911<>0,IF(MAX(S898:S910)<S911,Labels!$B$163,INDEX($AH$898:$AH$910,MATCH(MAX(S898:S910),S898:S910,0))),\"\")","v":""},{"$f":"IF(T911<>0,IF(MAX(T898:T910)<T911,Labels!$B$163,INDEX($AH$898:$AH$910,MATCH(MAX(T898:T910),T898:T910,0))),\"\")","v":""},{"$f":"IF(U911<>0,IF(MAX(U898:U910)<U911,Labels!$B$163,INDEX($AH$898:$AH$910,MATCH(MAX(U898:U910),U898:U910,0))),\"\")","v":""},{"$f":"IF(V911<>0,IF(MAX(V898:V910)<V911,Labels!$B$163,INDEX($AH$898:$AH$910,MATCH(MAX(V898:V910),V898:V910,0))),\"\")","v":""},{"$f":"IF(W911<>0,IF(MAX(W898:W910)<W911,Labels!$B$163,INDEX($AH$898:$AH$910,MATCH(MAX(W898:W910),W898:W910,0))),\"\")","v":""},{"$f":"IF(X911<>0,IF(MAX(X898:X910)<X911,Labels!$B$163,INDEX($AH$898:$AH$910,MATCH(MAX(X898:X910),X898:X910,0))),\"\")","v":""},{"$f":"IF(Y911<>0,IF(MAX(Y898:Y910)<Y911,Labels!$B$163,INDEX($AH$898:$AH$910,MATCH(MAX(Y898:Y910),Y898:Y910,0))),\"\")","v":""},{"$f":"IF(Z911<>0,IF(MAX(Z898:Z910)<Z911,Labels!$B$163,INDEX($AH$898:$AH$910,MATCH(MAX(Z898:Z910),Z898:Z910,0))),\"\")","v":""},{"$f":"IF(AA911<>0,IF(MAX(AA898:AA910)<AA911,Labels!$B$163,INDEX($AH$898:$AH$910,MATCH(MAX(AA898:AA910),AA898:AA910,0))),\"\")","v":""},{"$f":"IF(AB911<>0,IF(MAX(AB898:AB910)<AB911,Labels!$B$163,INDEX($AH$898:$AH$910,MATCH(MAX(AB898:AB910),AB898:AB910,0))),\"\")","v":""},{"$f":"IF(AC911<>0,IF(MAX(AC898:AC910)<AC911,Labels!$B$163,INDEX($AH$898:$AH$910,MATCH(MAX(AC898:AC910),AC898:AC910,0))),\"\")","v":""},{"$f":"IF(AD911<>0,IF(MAX(AD898:AD910)<AD911,Labels!$B$163,INDEX($AH$898:$AH$910,MATCH(MAX(AD898:AD910),AD898:AD910,0))),\"\")","v":""},{"$f":"IF(AE911<>0,IF(MAX(AE898:AE910)<AE911,Labels!$B$163,INDEX($AH$898:$AH$910,MATCH(MAX(AE898:AE910),AE898:AE910,0))),\"\")","v":""},{"$f":"IF(AF911<>0,IF(MAX(AF898:AF910)<AF911,Labels!$B$163,INDEX($AH$898:$AH$910,MATCH(MAX(AF898:AF910),AF898:AF910,0))),\"\")","v":""}]
[{"$f":"$A$15","v":"00.00-06.00h"},null,null,null,null,null,null,null,null,null,null,null,null,null,null,null,null,null,null,null,null,null,null,null,null,null,null,null,null,null,null,null,{"$f":"SUM(B267:AF267)","v":0}]
[{"$f":"$A$16","v":"06.00-20.00h"},null,null,null,null,null,null,null,null,null,null,null,null,null,null,null,null,null,null,null,null,null,null,null,null,null,null,null,null,null,null,null,{"$f":"SUM(B268:AF268)","v":0}]
[{"$f":"$A$17","v":"20.00-24.00h"},null,null,null,null,null,null,null,null,null,null,null,null,null,null,null,null,null,null,null,null,null,null,null,null,null,null,null,null,null,null,null,{"$f":"SUM(B269:AF269)","v":0},"[0]"]
[{"$f":"$A$18","v":"Feiertag \"ft\""},{"$f":"IF(WEEKDAY(B262,2)<=6,IF(KALENDER!E11=\"x\",Labels!$B$118,\"\"),\"\")","v":""},{"$f":"IF(WEEKDAY(C262,2)<=6,IF(KALENDER!F11=\"x\",Labels!$B$118,\"\"),\"\")","v":""},{"$f":"IF(WEEKDAY(D262,2)<=6,IF(KALENDER!G11=\"x\",Labels!$B$118,\"\"),\"\")","v":""},{"$f":"IF(WEEKDAY(E262,2)<=6,IF(KALENDER!H11=\"x\",Labels!$B$118,\"\"),\"\")","v":""},{"$f":"IF(WEEKDAY(F262,2)<=6,IF(KALENDER!I11=\"x\",Labels!$B$118,\"\"),\"\")","v":""},{"$f":"IF(WEEKDAY(G262,2)<=6,IF(KALENDER!J11=\"x\",Labels!$B$118,\"\"),\"\")","v":""},{"$f":"IF(WEEKDAY(H262,2)<=6,IF(KALENDER!K11=\"x\",Labels!$B$118,\"\"),\"\")","v":""},{"$f":"IF(WEEKDAY(I262,2)<=6,IF(KALENDER!L11=\"x\",Labels!$B$118,\"\"),\"\")","v":""},{"$f":"IF(WEEKDAY(J262,2)<=6,IF(KALENDER!M11=\"x\",Labels!$B$118,\"\"),\"\")","v":""},{"$f":"IF(WEEKDAY(K262,2)<=6,IF(KALENDER!N11=\"x\",Labels!$B$118,\"\"),\"\")","v":""},{"$f":"IF(WEEKDAY(L262,2)<=6,IF(KALENDER!O11=\"x\",Labels!$B$118,\"\"),\"\")","v":""},{"$f":"IF(WEEKDAY(M262,2)<=6,IF(KALENDER!P11=\"x\",Labels!$B$118,\"\"),\"\")","v":""},{"$f":"IF(WEEKDAY(N262,2)<=6,IF(KALENDER!Q11=\"x\",Labels!$B$118,\"\"),\"\")","v":""},{"$f":"IF(WEEKDAY(O262,2)<=6,IF(KALENDER!R11=\"x\",Labels!$B$118,\"\"),\"\")","v":""},{"$f":"IF(WEEKDAY(P262,2)<=6,IF(KALENDER!S11=\"x\",Labels!$B$118,\"\"),\"\")","v":""},{"$f":"IF(WEEKDAY(Q262,2)<=6,IF(KALENDER!T11=\"x\",Labels!$B$118,\"\"),\"\")","v":""},{"$f":"IF(WEEKDAY(R262,2)<=6,IF(KALENDER!U11=\"x\",Labels!$B$118,\"\"),\"\")","v":""},{"$f":"IF(WEEKDAY(S262,2)<=6,IF(KALENDER!V11=\"x\",Labels!$B$118,\"\"),\"\")","v":""},{"$f":"IF(WEEKDAY(T262,2)<=6,IF(KALENDER!W11=\"x\",Labels!$B$118,\"\"),\"\")","v":""},{"$f":"IF(WEEKDAY(U262,2)<=6,IF(KALENDER!X11=\"x\",Labels!$B$118,\"\"),\"\")","v":""},{"$f":"IF(WEEKDAY(V262,2)<=6,IF(KALENDER!Y11=\"x\",Labels!$B$118,\"\"),\"\")","v":""},{"$f":"IF(WEEKDAY(W262,2)<=6,IF(KALENDER!Z11=\"x\",Labels!$B$118,\"\"),\"\")","v":""},{"$f":"IF(WEEKDAY(X262,2)<=6,IF(KALENDER!AA11=\"x\",Labels!$B$118,\"\"),\"\")","v":""},{"$f":"IF(WEEKDAY(Y262,2)<=6,IF(KALENDER!AB11=\"x\",Labels!$B$118,\"\"),\"\")","v":""},{"$f":"IF(WEEKDAY(Z262,2)<=6,IF(KALENDER!AC11=\"x\",Labels!$B$118,\"\"),\"\")","v":""},{"$f":"IF(WEEKDAY(AA262,2)<=6,IF(KALENDER!AD11=\"x\",Labels!$B$118,\"\"),\"\")","v":""},{"$f":"IF(WEEKDAY(AB262,2)<=6,IF(KALENDER!AE11=\"x\",Labels!$B$118,\"\"),\"\")","v":""},{"$f":"IF(WEEKDAY(AC262,2)<=6,IF(KALENDER!AF11=\"x\",Labels!$B$118,\"\"),\"\")","v":""},{"$f":"IF(WEEKDAY(AD262,2)<=6,IF(KALENDER!AG11=\"x\",Labels!$B$118,\"\"),\"\")","v":""},{"$f":"IF(WEEKDAY(AE262,2)<=6,IF(KALENDER!AH11=\"x\",Labels!$B$118,\"\"),\"\")","v":""},{"$f":"IF(WEEKDAY(AF262,2)<=6,IF(KALENDER!AI11=\"x\",Labels!$B$118,\"\"),\"\")","v":""}]
[{"$f":"$A$19","v":"Gutschrift \"ft\""},{"$f":"IF(AND(B270=Labels!$B$118,WEEKDAY(B262,2)<6),$J$7*$B$259%,\"\")","v":""},{"$f":"IF(AND(C270=Labels!$B$118,WEEKDAY(C262,2)<6),$J$7*$B$259%,\"\")","v":""},{"$f":"IF(AND(D270=Labels!$B$118,WEEKDAY(D262,2)<6),$J$7*$B$259%,\"\")","v":""},{"$f":"IF(AND(E270=Labels!$B$118,WEEKDAY(E262,2)<6),$J$7*$B$259%,\"\")","v":""},{"$f":"IF(AND(F270=Labels!$B$118,WEEKDAY(F262,2)<6),$J$7*$B$259%,\"\")","v":""},{"$f":"IF(AND(G270=Labels!$B$118,WEEKDAY(G262,2)<6),$J$7*$B$259%,\"\")","v":""},{"$f":"IF(AND(H270=Labels!$B$118,WEEKDAY(H262,2)<6),$J$7*$B$259%,\"\")","v":""},{"$f":"IF(AND(I270=Labels!$B$118,WEEKDAY(I262,2)<6),$J$7*$B$259%,\"\")","v":""},{"$f":"IF(AND(J270=Labels!$B$118,WEEKDAY(J262,2)<6),$J$7*$B$259%,\"\")","v":""},{"$f":"IF(AND(K270=Labels!$B$118,WEEKDAY(K262,2)<6),$J$7*$B$259%,\"\")","v":""},{"$f":"IF(AND(L270=Labels!$B$118,WEEKDAY(L262,2)<6),$J$7*$B$259%,\"\")","v":""},{"$f":"IF(AND(M270=Labels!$B$118,WEEKDAY(M262,2)<6),$J$7*$B$259%,\"\")","v":""},{"$f":"IF(AND(N270=Labels!$B$118,WEEKDAY(N262,2)<6),$J$7*$B$259%,\"\")","v":""},{"$f":"IF(AND(O270=Labels!$B$118,WEEKDAY(O262,2)<6),$J$7*$B$259%,\"\")","v":""},{"$f":"IF(AND(P270=Labels!$B$118,WEEKDAY(P262,2)<6),$J$7*$B$259%,\"\")","v":""},{"$f":"IF(AND(Q270=Labels!$B$118,WEEKDAY(Q262,2)<6),$J$7*$B$259%,\"\")","v":""},{"$f":"IF(AND(R270=Labels!$B$118,WEEKDAY(R262,2)<6),$J$7*$B$259%,\"\")","v":""},{"$f":"IF(AND(S270=Labels!$B$118,WEEKDAY(S262,2)<6),$J$7*$B$259%,\"\")","v":""},{"$f":"IF(AND(T270=Labels!$B$118,WEEKDAY(T262,2)<6),$J$7*$B$259%,\"\")","v":""},{"$f":"IF(AND(U270=Labels!$B$118,WEEKDAY(U262,2)<6),$J$7*$B$259%,\"\")","v":""},{"$f":"IF(AND(V270=Labels!$B$118,WEEKDAY(V262,2)<6),$J$7*$B$259%,\"\")","v":""},{"$f":"IF(AND(W270=Labels!$B$118,WEEKDAY(W262,2)<6),$J$7*$B$259%,\"\")","v":""},{"$f":"IF(AND(X270=Labels!$B$118,WEEKDAY(X262,2)<6),$J$7*$B$259%,\"\")","v":""},{"$f":"IF(AND(Y270=Labels!$B$118,WEEKDAY(Y262,2)<6),$J$7*$B$259%,\"\")","v":""},{"$f":"IF(AND(Z270=Labels!$B$118,WEEKDAY(Z262,2)<6),$J$7*$B$259%,\"\")","v":""},{"$f":"IF(AND(AA270=Labels!$B$118,WEEKDAY(AA262,2)<6),$J$7*$B$259%,\"\")","v":""},{"$f":"IF(AND(AB270=Labels!$B$118,WEEKDAY(AB262,2)<6),$J$7*$B$259%,\"\")","v":""},{"$f":"IF(AND(AC270=Labels!$B$118,WEEKDAY(AC262,2)<6),$J$7*$B$259%,\"\")","v":""},{"$f":"IF(AND(AD270=Labels!$B$118,WEEKDAY(AD262,2)<6),$J$7*$B$259%,\"\")","v":""},{"$f":"IF(AND(AE270=Labels!$B$118,WEEKDAY(AE262,2)<6),$J$7*$B$259%,\"\")","v":""},{"$f":"IF(AND(AF270=Labels!$B$118,WEEKDAY(AF262,2)<6),$J$7*$B$259%,\"\")","v":""},{"$f":"SUM(B271:AF271)","v":0}]
[{"$f":"$A$20","v":"Tagestotal"},{"$f":"SUM(B267:B269)","v":0},{"$f":"SUM(C267:C269)","v":0},0,0,0,0,0,0,0,0,0,0,0,0,0,0,0,0,0,0,0,0,0,0,0,0,0,0,0,0,0]
[{"$f":"$A$21","v":"."}]
[{"$f":"$A$22","v":"."}]
[{"$f":"$A$23","v":"Monatsübergang"},{"$f":"IF(WEEKDAY(B262)=1,TEXT(B262-1,\"MMM\"&Labels!B13),\"\")","v":""},null,null,null,null,null,null,null,null,null,null,null,null,null,null,null,null,null,null,null,null,null,null,null,null,null,null,null,null,null,{"$f":"IF(AND(WEEKDAY(AF262)>1,WEEKDAY(AF262)<7),TEXT(DATE($B$5,MONTH(AF262)+1,1),\"MMM\"&Labels!B13),\"\")","v":"Jun"}]
[{"$f":"$A$24","v":"Wochentotal"},{"$f":"IF(WEEKDAY(B262)=7,SUMIF($B200:$AF200,B263,$B209:$AF209)+SUMIF($B263:$AF263,B263,$B272:$AF272)+SUMIF($B326:$AF326,B263,$B335:$AF335),B275)","v":0},{"$f":"IF(WEEKDAY(C262)=7,SUMIF($B200:$AF200,C263,$B209:$AF209)+SUMIF($B263:$AF263,C263,$B272:$AF272)+SUMIF($B326:$AF326,C263,$B335:$AF335),\"\")","v":""},"","","","","",0,"","","","","","",0,"","","","","","",0,"","","","","","",0,"",{"$f":"IF(WEEKDAY(AF262)=7,SUMIF($B200:$AF200,AF263,$B209:$AF209)+SUMIF($B263:$AF263,AF263,$B272:$AF272)+SUMIF($B326:$AF326,AF263,$B335:$AF335),AF275)","v":"Jun"}]
[{"$f":"$A$25","v":"Zeitzuschlag 1)"},{"$f":"IF(B284=\"FALSCH\",\"\",B284)","v":""},{"$f":"IF(C284=\"FALSCH\",\"\",C284)","v":""},"","","","","","","","","","","","","","","","","","","","","","","","","","","","","",{"$f":"SUM(B277:AF277)","v":0}]
[{"$f":"$A$26","v":"Zeitzuschlag 2)"},{"$f":"IF((B267+B269)=0,\"\",SUM(B267,B269))","v":""},{"$f":"IF((C267+C269)=0,\"\",SUM(C267,C269))","v":""},"","","","","","","","","","","","","","","","","","","","","","","","","","","","","",0,"[1]"]
[{"$f":"$A$27","v":"Zeitzuschlag 3)"},{"$f":"SUM(B280:B283)","v":0},{"$f":"SUM(C280:C283)","v":0},0,0,0,0,0,0,0,0,0,0,0,0,0,0,0,0,0,0,0,0,0,0,0,0,0,0,0,0,0,{"$f":"SUM(B279:AF279)","v":0},"[2]"]
[{"$f":"$A$28","v":"Sonntag Tag"},{"$f":"IF(WEEKDAY(B262)=1,B268,\"\")","v":""},{"$f":"IF(WEEKDAY(C262)=1,C268,\"\")","v":0},"","","","","","",0,"","","","","","",0,"","","","","","",0,"","","","","","",0,"",0,"[3]"]
[{"$f":"$A$29","v":"Sonntag Nacht"},{"$f":"IF(WEEKDAY(B262)=1,SUM(B267+B269),\"\")","v":""},{"$f":"IF(WEEKDAY(C262)=1,SUM(C267+C269),\"\")","v":0},"","","","","","",0,"","","","","","",0,"","","","","","",0,"","","","","","",0,"",0,"[4]"]
[{"$f":"$A$30","v":"ft-Tazuschlag"},{"$f":"IF(B270=Labels!$B$118,B268,\"\")","v":""},{"$f":"IF(C270=Labels!$B$118,C268,\"\")","v":""},{"$f":"IF(D270=Labels!$B$118,D268,\"\")","v":""},{"$f":"IF(E270=Labels!$B$118,E268,\"\")","v":""},{"$f":"IF(F270=Labels!$B$118,F268,\"\")","v":""},{"$f":"IF(G270=Labels!$B$118,G268,\"\")","v":""},{"$f":"IF(H270=Labels!$B$118,H268,\"\")","v":""},{"$f":"IF(I270=Labels!$B$118,I268,\"\")","v":""},{"$f":"IF(J270=Labels!$B$118,J268,\"\")","v":""},{"$f":"IF(K270=Labels!$B$118,K268,\"\")","v":""},{"$f":"IF(L270=Labels!$B$118,L268,\"\")","v":""},{"$f":"IF(M270=Labels!$B$118,M268,\"\")","v":""},{"$f":"IF(N270=Labels!$B$118,N268,\"\")","v":""},{"$f":"IF(O270=Labels!$B$118,O268,\"\")","v":""},{"$f":"IF(P270=Labels!$B$118,P268,\"\")","v":""},{"$f":"IF(Q270=Labels!$B$118,Q268,\"\")","v":""},{"$f":"IF(R270=Labels!$B$118,R268,\"\")","v":""},{"$f":"IF(S270=Labels!$B$118,S268,\"\")","v":""},{"$f":"IF(T270=Labels!$B$118,T268,\"\")","v":""},{"$f":"IF(U270=Labels!$B$118,U268,\"\")","v":""},{"$f":"IF(V270=Labels!$B$118,V268,\"\")","v":""},{"$f":"IF(W270=Labels!$B$118,W268,\"\")","v":""},{"$f":"IF(X270=Labels!$B$118,X268,\"\")","v":""},{"$f":"IF(Y270=Labels!$B$118,Y268,\"\")","v":""},{"$f":"IF(Z270=Labels!$B$118,Z268,\"\")","v":""},{"$f":"IF(AA270=Labels!$B$118,AA268,\"\")","v":""},{"$f":"IF(AB270=Labels!$B$118,AB268,\"\")","v":""},{"$f":"IF(AC270=Labels!$B$118,AC268,\"\")","v":""},{"$f":"IF(AD270=Labels!$B$118,AD268,\"\")","v":""},{"$f":"IF(AE270=Labels!$B$118,AE268,\"\")","v":""},{"$f":"IF(AF270=Labels!$B$118,AF268,\"\")","v":""},0,"[5]"]
[{"$f":"$A$31","v":"ft-Nazuschlag"},{"$f":"IF(B270=Labels!$B$118,SUM(B267,B269),\"\")","v":""},{"$f":"IF(C270=Labels!$B$118,SUM(C267,C269),\"\")","v":""},{"$f":"IF(D270=Labels!$B$118,SUM(D267,D269),\"\")","v":""},{"$f":"IF(E270=Labels!$B$118,SUM(E267,E269),\"\")","v":""},{"$f":"IF(F270=Labels!$B$118,SUM(F267,F269),\"\")","v":""},{"$f":"IF(G270=Labels!$B$118,SUM(G267,G269),\"\")","v":""},{"$f":"IF(H270=Labels!$B$118,SUM(H267,H269),\"\")","v":""},{"$f":"IF(I270=Labels!$B$118,SUM(I267,I269),\"\")","v":""},{"$f":"IF(J270=Labels!$B$118,SUM(J267,J269),\"\")","v":""},{"$f":"IF(K270=Labels!$B$118,SUM(K267,K269),\"\")","v":""},{"$f":"IF(L270=Labels!$B$118,SUM(L267,L269),\"\")","v":""},{"$f":"IF(M270=Labels!$B$118,SUM(M267,M269),\"\")","v":""},{"$f":"IF(N270=Labels!$B$118,SUM(N267,N269),\"\")","v":""},{"$f":"IF(O270=Labels!$B$118,SUM(O267,O269),\"\")","v":""},{"$f":"IF(P270=Labels!$B$118,SUM(P267,P269),\"\")","v":""},{"$f":"IF(Q270=Labels!$B$118,SUM(Q267,Q269),\"\")","v":""},{"$f":"IF(R270=Labels!$B$118,SUM(R267,R269),\"\")","v":""},{"$f":"IF(S270=Labels!$B$118,SUM(S267,S269),\"\")","v":""},{"$f":"IF(T270=Labels!$B$118,SUM(T267,T269),\"\")","v":""},{"$f":"IF(U270=Labels!$B$118,SUM(U267,U269),\"\")","v":""},{"$f":"IF(V270=Labels!$B$118,SUM(V267,V269),\"\")","v":""},{"$f":"IF(W270=Labels!$B$118,SUM(W267,W269),\"\")","v":""},{"$f":"IF(X270=Labels!$B$118,SUM(X267,X269),\"\")","v":""},{"$f":"IF(Y270=Labels!$B$118,SUM(Y267,Y269),\"\")","v":""},{"$f":"IF(Z270=Labels!$B$118,SUM(Z267,Z269),\"\")","v":""},{"$f":"IF(AA270=Labels!$B$118,SUM(AA267,AA269),\"\")","v":""},{"$f":"IF(AB270=Labels!$B$118,SUM(AB267,AB269),\"\")","v":""},{"$f":"IF(AC270=Labels!$B$118,SUM(AC267,AC269),\"\")","v":""},{"$f":"IF(AD270=Labels!$B$118,SUM(AD267,AD269),\"\")","v":""},{"$f":"IF(AE270=Labels!$B$118,SUM(AE267,AE269),\"\")","v":""},{"$f":"IF(AF270=Labels!$B$118,SUM(AF267,AF269),\"\")","v":""},0,"[6]"]
[{"$f":"$A$32","v":"Zuschlag  blind (Wochentotal)"},{"$f":"IF(OR(ISTEXT(B276),B276=\"\",B276<$B$7),\"\",ROUND(((B276-$B$7)*25%)/25,4)*25)","v":""},{"$f":"IF(OR(ISTEXT(C276),C276=\"\",C276<$B$7),\"\",ROUND(((C276-$B$7)*25%)/25,4)*25)","v":""},"","","","","","","","","","","","","","","","","","","","","","","","","","","","","",{"$f":"AG268","v":0},"[7]"]
[null,{"$f":"$B$33","v":"1)   25% Zeitzuschlag für Überschreitung Wochentotal"},null,null,null,null,null,null,null,null,null,{"$f":"$L$33","v":"2) 100% Zeitzuschlag für Nachtarbeit"},null,null,null,null,null,null,null,{"$f":"$T$33","v":"Eingabe der ausbezahlten Stunden Vorjahressaldo"},null,null,null,null,null,null,null,null,null,null,null,null,{"$f":"SUM(AG267+AG269)","v":0},"[8]"]
[null,{"$f":"$B$34","v":"3) 100% Zeitzuschlag für Sonn- und Feiertagsarbeit"},null,null,null,null,null,null,null,null,null,null,null,null,null,null,null,null,null,{"$f":"$T$34","v":"Eingabe der ausbezahlten Stunden laufendes Jahr (Überstunden)"},null,null,null,null,null,null,null,null,null,null,null,null,{"$f":"SUM(AG267:AG269)","v":0},"[9]"]
[{"$f":"$A$35","v":"Bemerkungen"},null,null,null,null,null,null,null,null,null,null,null,null,null,null,null,null,null,null,null,null,null,null,null,null,null,null,null,null,null,null,null,{"$f":"SUM(AG265+AG271)","v":0},"[10]"]
[null,null,null,null,null,null,null,null,null,null,null,null,null,null,null,null,null,null,null,null,null,null,null,null,null,null,null,null,null,null,null,null,{"$f":"SUM(AG265:AG279)","v":0},"[11]"]
[null,null,null,null,null,null,null,null,null,null,null,null,null,null,null,null,null,null,null,null,null,null,null,null,null,null,null,null,null,null,null,null,{"$f":"AG264","v":172.82999999999998}]
[null,null,null,null,null,null,null,null,null,null,null,null,null,null,null,null,null,null,null,null,null,null,null,null,null,null,null,null,null,null,null,null,{"$f":"SUM(AG288-AG264)","v":-172.82999999999998}]
[{"$f":"$A$39","v":"Zusammenstellung"},null,null,null,null,null,{"$f":"$G$39","v":"Jan"},null,{"$f":"$I$39","v":"Feb"},null,{"$f":"$K$39","v":"Mrz"},null,{"$f":"$M$39","v":"Apr"},null,{"$f":"$O$39","v":"Mai"},null,{"$f":"$Q$39","v":"Jun"},null,{"$f":"$S$39","v":"Jul"},null,{"$f":"$U$39","v":"Aug"},null,{"$f":"$W$39","v":"Sep"},null,{"$f":"$Y$39","v":"Okt"},null,{"$f":"$AA$39","v":"Nov"},null,{"$f":"$AC$39","v":"Dez"},null,{"$f":"$AE$39","v":"Jahr"}]
[{"$f":"$A$40","v":"Anstellung %"},null,null,null,null,null,{"$f":"IF($B$4=0,0,$B$4)","v":100},null,{"$f":"IF($B$70=0,0,$B$70)","v":100},null,{"$f":"IF($B$133=0,0,$B$133)","v":100},null,{"$f":"IF($B$196=0,0,$B$196)","v":100},null,{"$f":"IF($B$259=0,0,$B$259)","v":100},null,{"$f":"IF($B$322=0,0,$B$322)","v":100},null,{"$f":"IF($B$385=0,0,$B$385)","v":100},null,{"$f":"IF($B$448=0,0,$B$448)","v":100},null,{"$f":"IF($B$511=0,0,$B$511)","v":100},null,{"$f":"IF($B$574=0,0,$B$574)","v":100},null,{"$f":"IF($B$637=0,0,$B$637)","v":100},null,{"$f":"IF($B$700=0,0,$B$700)","v":100}]
[{"$f":"$A$41","v":"Sollstunden gemäss GAV"},null,null,null,null,null,{"$f":"IF($AG$37=0,0,$AG$37)","v":172.82999999999998},null,{"$f":"IF($AG$100=0,0,$AG$100)","v":164.6},null,{"$f":"IF($AG$138=0,0,$AG$138)","v":189.28999999999996},null,{"$f":"IF($AG$226=0,0,$AG$226)","v":181.05999999999997},null,{"$f":"IF($AG$289=0,0,$AG$289)","v":172.82999999999998},null,{"$f":"IF($AG$352=0,0,$AG$352)","v":181.05999999999997},null,{"$f":"IF($AG$415=0,0,$AG$415)","v":181.05999999999997},null,{"$f":"IF($AG$478=0,0,$AG$478)","v":181.05999999999997},null,{"$f":"IF($AG$541=0,0,$AG$541)","v":181.05999999999997},null,{"$f":"IF($AG$604=0,0,$AG$604)","v":172.82999999999998},null,{"$f":"IF($AG$667=0,0,$AG$667)","v":181.05999999999997},null,{"$f":"IF($AG$730=0,0,$AG$730)","v":189.28999999999996},null,{"$f":"SUM(G293:AD293)","v":2148.0299999999997}]
[{"$f":"$A$42","v":"Produktive Stunden"},{"$f":"$B$42","v":"06.00 - 20.00 Uhr"},null,null,null,null,{"$f":"IF($AG$32=0,0,$AG$32)","v":0},null,{"$f":"IF($AG$95=0,0,$AG$95)","v":0},null,{"$f":"IF($AG$158=0,0,$AG$158)","v":0},null,{"$f":"IF($AG$221=0,0,$AG$221)","v":0},null,{"$f":"IF($AG$284=0,0,$AG$284)","v":0},null,{"$f":"IF($AG$347=0,0,$AG$347)","v":0},null,{"$f":"IF($AG$410=0,0,$AG$410)","v":0},null,{"$f":"IF($AG$473=0,0,$AG$473)","v":0},null,{"$f":"IF($AG$536=0,0,$AG$536)","v":0},null,{"$f":"IF($AG$599=0,0,$AG$599)","v":0},null,{"$f":"IF($AG$662=0,0,$AG$662)","v":0},null,{"$f":"IF($AG$725=0,0,$AG$725)","v":0},null,{"$f":"SUM(G294:AD294)","v":0}]
[null,{"$f":"$B$43","v":"Nacht-, Sonn-, Feiertagsarbeit"},null,null,null,null,{"$f":"IF($AG$33=0,0,$AG$33)","v":0},null,{"$f":"IF($AG$96=0,0,$AG$96)","v":0},null,{"$f":"IF($AG$159=0,0,$AG$159)","v":0},null,{"$f":"IF($AG$222=0,0,$AG$222)","v":0},null,{"$f":"IF($AG$285=0,0,$AG$285)","v":0},null,{"$f":"IF($AG$348=0,0,$AG$348)","v":0},null,{"$f":"IF($AG$411=0,0,$AG$411)","v":0},null,{"$f":"IF($AG$474=0,0,$AG$474)","v":0},null,{"$f":"IF($AG$537=0,0,$AG$537)","v":0},null,{"$f":"IF($AG$600=0,0,$AG$600)","v":0},null,{"$f":"IF($AG$663=0,0,$AG$663)","v":0},null,{"$f":"IF($AG$726=0,0,$AG$726)","v":0},null,{"$f":"SUM(G295:AD295)","v":0}]
[{"$f":"$A$44","v":"Zeitzuschläge"},{"$f":"$B$44","v":"aus Wochentotal"},null,null,null,null,{"$f":"IF($AG$25=0,0,$AG$25)","v":0},null,{"$f":"IF($AG$88=0,0,$AG$88)","v":0},null,{"$f":"IF($AG$151=0,0,$AG$151)","v":0},null,{"$f":"IF($AG$214=0,0,$AG$214)","v":0},null,{"$f":"IF($AG$277=0,0,$AG$277)","v":0},null,{"$f":"IF($AG$340=0,0,$AG$340)","v":0},null,{"$f":"IF($AG$403=0,0,$AG$403)","v":0},null,{"$f":"IF($AG$466=0,0,$AG$466)","v":0},null,{"$f":"IF($AG$529=0,0,$AG$529)","v":0},null,{"$f":"IF($AG$592=0,0,$AG$592)","v":0},null,{"$f":"IF($AG$655=0,0,$AG$655)","v":0},null,{"$f":"IF($AG$718=0,0,$AG$718)","v":0},null,{"$f":"SUM(G296:AD296)","v":0}]
[null,{"$f":"$B$45","v":"aus Nacht-, Sonn-, Feiertagsarbeiten"},null,null,null,null,{"$f":"IF($AJ$20=0,0,$AJ$20)","v":0},null,{"$f":"IF($AK$20=0,0,$AK$20)","v":0},null,{"$f":"IF($AL$20=0,0,$AL$20)","v":0},null,{"$f":"IF($AM$20=0,0,$AM$20)","v":0},null,{"$f":"IF($AN$20=0,0,$AN$20)","v":0},null,{"$f":"IF($AO$20=0,0,$AO$20)","v":0},null,{"$f":"IF($AP$20=0,0,$AP$20)","v":0},null,{"$f":"IF($AQ$20=0,0,$AQ$20)","v":0},null,{"$f":"IF($AR$20=0,0,$AR$20)","v":0},null,{"$f":"IF($AS$20=0,0,$AS$20)","v":0},null,{"$f":"IF($AT$20=0,0,$AT$20)","v":0},null,{"$f":"IF($AU$20=0,0,$AU$20)","v":0},null,{"$f":"SUM(G297:AD297)","v":0}]
[{"$f":"$A$46","v":"Unproduktive Stunden"}]
[{"$f":"$A$47","v":"   Absenzen, Kurzabsenzen Art. 11 GAV"},null,null,null,null,{"$f":"$F$47","v":"a"},{"$f":"IF($AJ$3=0,0,$AJ$3)","v":0},null,{"$f":"IF($AK$3=0,0,$AK$3)","v":0},null,{"$f":"IF($AL$3=0,0,$AL$3)","v":0},null,{"$f":"IF($AM$3=0,0,$AM$3)","v":0},null,{"$f":"IF($AN$3=0,0,$AN$3)","v":0},null,{"$f":"IF($AO$3=0,0,$AO$3)","v":0},null,{"$f":"IF($AP$3=0,0,$AP$3)","v":0},null,{"$f":"IF($AQ$3=0,0,$AQ$3)","v":0},null,{"$f":"IF($AR$3=0,0,$AR$3)","v":0},null,{"$f":"IF($AS$3=0,0,$AS$3)","v":0},null,{"$f":"IF(AT$3=0,0,$AT$3)","v":0},null,{"$f":"IF($AU$3=0,0,$AU$3)","v":0},null,{"$f":"IF($AV$3=0,0,$AV$3)","v":0}]
[{"$f":"$A$48","v":"   Ferien Art. 12.1 GAV"},null,null,null,null,{"$f":"$F$48","v":"f"},{"$f":"IF($AJ$4=0,0,$AJ$4)","v":0},null,{"$f":"IF($AK$4=0,0,$AK$4)","v":0},null,{"$f":"IF($AL$4=0,0,$AL$4)","v":0},null,{"$f":"IF($AM$4=0,0,$AM$4)","v":0},null,{"$f":"IF($AN$4=0,0,$AN$4)","v":0},null,{"$f":"IF($AO$4=0,0,$AO$4)","v":0},null,{"$f":"IF($AP$4=0,0,$AP$4)","v":0},null,{"$f":"IF($AQ$4=0,0,$AQ$4)","v":0},null,{"$f":"IF($AR$4=0,0,$AR$4)","v":0},null,{"$f":"IF($AS$4=0,0,$AS$4)","v":0},null,{"$f":"IF($AT$4=0,0,$AT$4)","v":0},null,{"$f":"IF($AU$4=0,0,$AU$4)","v":0},null,{"$f":"IF($AV$4=0,0,$AV$4)","v":0}]
[{"$f":"$A$49","v":"   Feiertage Art. 12.2 GAV"},null,{"$f":"IF($AJ$17=\"\",\"\",$AJ$17)","v":""},null,null,{"$f":"$F$49","v":"ft"},{"$f":"IF($AJ$15=0,0,$AJ$15)","v":0},null,{"$f":"IF($AK$15=0,0,$AK$15)","v":0},null,{"$f":"IF($AL$15=0,0,$AL$15)","v":0},null,{"$f":"IF($AM$15=0,0,$AM$15)","v":0},null,{"$f":"IF($AN$15=0,0,$AN$15)","v":0},null,{"$f":"IF($AO$15=0,0,$AO$15)","v":0},null,{"$f":"IF($AP$15=0,0,$AP$15)","v":0},null,{"$f":"IF($AQ$15=0,0,$AQ$15)","v":0},null,{"$f":"IF($AR$15=0,0,$AR$15)","v":0},null,{"$f":"IF($AS$15=0,0,$AS$15)","v":0},null,{"$f":"IF($AT$15=0,0,$AT$15)","v":0},null,{"$f":"IF($AU$15=0,0,$AU$15)","v":0},null,{"$f":"IF($AV$15=0,0,$AV$15)","v":0}]
[{"$f":"$A$50","v":"   Krankheit Art. 13 GAV"},null,null,null,null,{"$f":"$F$50","v":"k"},{"$f":"IF($AJ$5=0,0,$AJ$5)","v":0},null,{"$f":"IF($AK$5=0,0,$AK$5)","v":0},null,{"$f":"IF($AL$5=0,0,$AL$5)","v":0},null,{"$f":"IF($AM$5=0,0,$AM$5)","v":0},null,{"$f":"IF($AN$5=0,0,$AN$5)","v":0},null,{"$f":"IF($AO$5=0,0,$AO$5)","v":0},null,{"$f":"IF($AP$5=0,0,$AP$5)","v":0},null,{"$f":"IF($AQ$5=0,0,$AQ$5)","v":0},null,{"$f":"IF($AR$5=0,0,$AR$5)","v":0},null,{"$f":"IF($AS$5=0,0,$AS$5)","v":0},null,{"$f":"IF($AT$5=0,0,$AT$5)","v":0},null,{"$f":"IF($AU$5=0,0,$AU$5)","v":0},null,{"$f":"IF($AV$5=0,0,$AV$5)","v":0}]
[{"$f":"$A$51","v":"   Unfall Art. 14 GAV"},null,null,null,null,{"$f":"$F$51","v":"u"},{"$f":"IF($AJ$6=0,0,$AJ$6)","v":0},null,{"$f":"IF($AK$6=0,0,$AK$6)","v":0},null,{"$f":"IF($AL$6=0,0,$AL$6)","v":0},null,{"$f":"IF($AM$6=0,0,$AM$6)","v":0},null,{"$f":"IF($AN$6=0,0,$AN$6)","v":0},null,{"$f":"IF($AO$6=0,0,$AO$6)","v":0},null,{"$f":"IF($AP$6=0,0,$AP$6)","v":0},null,{"$f":"IF($AQ$6=0,0,$AQ$6)","v":0},null,{"$f":"IF($AR$6=0,0,$AR$6)","v":0},null,{"$f":"IF($AS$6=0,0,$AS$6)","v":0},null,{"$f":"IF($AT$6=0,0,$AT$6)","v":0},null,{"$f":"IF($AU$6=0,0,$AU$6)","v":0},null,{"$f":"IF($AV$6=0,0,$AV$6)","v":0}]
[{"$f":"$A$52","v":"   Schwangerschaft/Mutterschaft Art. 15 GAV"},null,null,null,null,{"$f":"$F$52","v":"s"},{"$f":"IF($AJ$7=0,0,$AJ$7)","v":0},null,{"$f":"IF($AK$7=0,0,$AK$7)","v":0},null,{"$f":"IF($AL$7=0,0,$AL$7)","v":0},null,{"$f":"IF($AM$7=0,0,$AM$7)","v":0},null,{"$f":"IF($AN$7=0,0,$AN$7)","v":0},null,{"$f":"IF($AO$7=0,0,$AO$7)","v":0},null,{"$f":"IF($AP$7=0,0,$AP$7)","v":0},null,{"$f":"IF($AQ$7=0,0,$AQ$7)","v":0},null,{"$f":"IF($AR$7=0,0,$AR$7)","v":0},null,{"$f":"IF($AS$7=0,0,$AS$7)","v":0},null,{"$f":"IF($AT$7=0,0,$AT$7)","v":0},null,{"$f":"IF($AU$7=0,0,$AU$7)","v":0},null,{"$f":"IF($AV$7=0,0,$AV$7)","v":0}]
[{"$f":"$A$53","v":"   Militär/Beförderung/Zivilschutz Art. 16 GAV"},null,null,null,null,{"$f":"$F$53","v":"m"},{"$f":"IF($AJ$8=0,0,$AJ$8)","v":0},null,{"$f":"IF($AK$8=0,0,$AK$8)","v":0},null,{"$f":"IF($AL$8=0,0,$AL$8)","v":0},null,{"$f":"IF($AM$8=0,0,$AM$8)","v":0},null,{"$f":"IF($AN$8=0,0,$AN$8)","v":0},null,{"$f":"IF($AO$8=0,0,$AO$8)","v":0},null,{"$f":"IF($AP$8=0,0,$AP$8)","v":0},null,{"$f":"IF($AQ$8=0,0,$AQ$8)","v":0},null,{"$f":"IF($AR$8=0,0,$AR$8)","v":0},null,{"$f":"IF($AS$8=0,0,$AS$8)","v":0},null,{"$f":"IF($AT$8=0,0,$AT$8)","v":0},null,{"$f":"IF($AU$8=0,0,$AU$8)","v":0},null,{"$f":"IF($AV$8=0,0,$AV$8)","v":0}]
[{"$f":"$A$54","v":"   Kurzarbeit und Schlechtwetterausfälle"},null,null,null,null,{"$f":"$F$54","v":"ka"},{"$f":"IF($AJ$11=0,0,$AJ$11)","v":0},null,{"$f":"IF($AK$11=0,0,$AK$11)","v":0},null,{"$f":"IF($AL$11=0,0,$AL$11)","v":0},null,{"$f":"IF($AM$11=0,0,$AM$11)","v":0},null,{"$f":"IF($AN$11=0,0,$AN$11)","v":0},null,{"$f":"IF($AO$11=0,0,$AO$11)","v":0},null,{"$f":"IF($AP$11=0,0,$AP$11)","v":0},null,{"$f":"IF($AQ$11=0,0,$AQ$11)","v":0},null,{"$f":"IF($AR$11=0,0,$AR$11)","v":0},null,{"$f":"IF($AS$11=0,0,$AS$11)","v":0},null,{"$f":"IF($AT$11=0,0,$AT$11)","v":0},null,{"$f":"IF($AU$11=0,0,$AU$11)","v":0},null,{"$f":"IF($AV$11=0,0,$AV$11)","v":0}]
[{"$f":"$A$55","v":"   Berufsschule"},null,null,null,null,{"$f":"$F$55","v":"bs"},{"$f":"IF($AJ$9=0,0,$AJ$9)","v":0},null,{"$f":"IF($AK$9=0,0,$AK$9)","v":0},null,{"$f":"IF($AL$9=0,0,$AL$9)","v":0},null,{"$f":"IF($AM$9=0,0,$AM$9)","v":0},null,{"$f":"IF($AN$9=0,0,$AN$9)","v":0},null,{"$f":"IF($AO$9=0,0,$AO$9)","v":0},null,{"$f":"IF($AP$9=0,0,$AP$9)","v":0},null,{"$f":"IF($AQ$9=0,0,$AQ$9)","v":0},null,{"$f":"IF($AR$9=0,0,$AR$9)","v":0},null,{"$f":"IF($AS$9=0,0,$AS$9)","v":0},null,{"$f":"IF($AT$9=0,0,$AT$9)","v":0},null,{"$f":"IF($AU$9=0,0,$AU$9)","v":0},null,{"$f":"IF($AV$9=0,0,$AV$9)","v":0}]
[{"$f":"$A$56","v":"   Kurse"},null,null,null,null,{"$f":"$F$56","v":"ku"},{"$f":"IF($AJ$10=0,0,$AJ$10)","v":0},null,{"$f":"IF($AK$10=0,0,$AK$10)","v":0},null,{"$f":"IF($AL$10=0,0,$AL$10)","v":0},null,{"$f":"IF($AM$10=0,0,$AM$10)","v":0},null,{"$f":"IF($AN$10=0,0,$AN$10)","v":0},null,{"$f":"IF($AO$10=0,0,$AO$10)","v":0},null,{"$f":"IF($AP$10=0,0,$AP$10)","v":0},null,{"$f":"IF($AQ$10=0,0,$AQ$10)","v":0},null,{"$f":"IF($AR$10=0,0,$AR$10)","v":0},null,{"$f":"IF($AS$10=0,0,$AS$10)","v":0},null,{"$f":"IF($AT$10=0,0,$AT$10)","v":0},null,{"$f":"IF($AU$10=0,0,$AU$10)","v":0},null,{"$f":"IF($AV$10=0,0,$AV$10)","v":0}]
[{"$f":"$A$57","v":"Kompensations-Std"},{"$f":"$B$57","v":"aus Vorjahr"},null,null,null,{"$f":"$F$57","v":"kv"},{"$f":"IF($AJ$12=0,0,$AJ$12)","v":0},null,{"$f":"IF($AK$12=0,0,$AK$12)","v":0},null,{"$f":"IF($AL$12=0,0,$AL$12)","v":0},null,{"$f":"IF($AM$12=0,0,$AM$12)","v":0},null,{"$f":"IF($AN$12=0,0,$AN$12)","v":0},null,{"$f":"IF($AO$12=0,0,$AO$12)","v":0},null,{"$f":"IF($AP$12=0,0,$AP$12)","v":0},null,{"$f":"IF($AQ$12=0,0,$AQ$12)","v":0},null,{"$f":"IF($AR$12=0,0,$AR$12)","v":0},null,null,null,null,null,null,null,{"$f":"IF($AV$12=0,0,$AV$12)","v":0}]
[null,{"$f":"$B$58","v":"aus laufendem Jahr (Kontrolle)"},null,null,null,{"$f":"$F$58","v":"kj"},{"$f":"IF($AJ$14=0,0,$AJ$14)","v":0},null,{"$f":"IF($AK$14=0,0,$AK$14)","v":0},null,{"$f":"IF($AL$14=0,0,$AL$14)","v":0},null,{"$f":"IF($AM$14=0,0,$AM$14)","v":0},null,{"$f":"IF($AN$14=0,0,$AN$14)","v":0},null,{"$f":"IF($AO$14=0,0,$AO$14)","v":0},null,{"$f":"IF($AP$14=0,0,$AP$14)","v":0},null,{"$f":"IF($AQ$14=0,0,$AQ$14)","v":0},null,{"$f":"IF($AR$14=0,0,$AR$14)","v":0},null,{"$f":"IF($AS$14=0,0,$AS$14)","v":0},null,{"$f":"IF($AT$14=0,0,$AT$14)","v":0},null,{"$f":"IF($AU$14=0,0,$AU$14)","v":0},null,{"$f":"IF($AV$14=0,0,$AV$14)","v":0}]
[{"$f":"$A$59","v":"Auszahlung"},{"$f":"$B$59","v":"Stunden Vorjahressaldo"},null,null,null,null,{"$f":"IF($AJ$18=0,0,$AJ$18)","v":0},null,{"$f":"IF($AK$18=0,0,$AK$18)","v":0},null,{"$f":"IF($AL$18=0,0,$AL$18)","v":0},null,{"$f":"IF($AM$18=0,0,$AM$18)","v":0},null,{"$f":"IF($AN$18=0,0,$AN$18)","v":0},null,{"$f":"IF($AO$18=0,0,$AO$18)","v":0},null,{"$f":"IF($AP$18=0,0,$AP$18)","v":0},null,{"$f":"IF($AQ$18=0,0,$AQ$18)","v":0},null,{"$f":"IF($AR$18=0,0,$AR$18)","v":0},null,null,null,null,null,null,null,{"$f":"IF($AV$18=0,0,$AV$18)","v":0}]
[{"$f":"$A$60","v":"Differenz"},{"$f":"$B$60","v":"nach Kompensation und Auszahlung"},null,null,null,null,{"$f":"IF(ROUND($P$4,3)=0,0,$P$4-SUM(G309+G311))","v":0},null,{"$f":"IF(ROUND(G312,3)=0,0,G312-(SUM(I311+I309)))","v":0},null,{"$f":"IF(ROUND(I312,3)=0,0,I312-(SUM(K311+K309)))","v":0},null,{"$f":"IF(ROUND(K312,3)=0,0,K312-(SUM(M311+M309)))","v":0},null,{"$f":"IF(ROUND(M312,3)=0,0,M312-(SUM(O311+O309)))","v":0},null,{"$f":"IF(ROUND(O312,3)=0,0,O312-(SUM(Q311+Q309)))","v":0},null,{"$f":"IF(ROUND(Q312,3)=0,0,Q312-(SUM(S311+S309)))","v":0},null,{"$f":"IF(ROUND(S312,3)=0,0,S312-(SUM(U311+U309)))","v":0},null,{"$f":"IF(ROUND(U312,3)=0,0,U312-(SUM(W311+W309)))","v":0},null,{"$f":"$Y$60","v":""}]
[{"$f":"$A$61","v":"Auszahlung"},{"$f":"$B$61","v":"Stunden laufendes Jahr"},null,null,null,null,{"$f":"IF($AJ$19=0,0,$AJ$19)","v":0},null,{"$f":"IF($AK$19=0,0,$AK$19)","v":0},null,{"$f":"IF($AL$19=0,0,$AL$19)","v":0},null,{"$f":"IF($AM$19=0,0,$AM$19)","v":0},null,{"$f":"IF($AN$19=0,0,$AN$19)","v":0},null,{"$f":"IF($AO$19=0,0,$AO$19)","v":0},null,{"$f":"IF($AP$19=0,0,$AP$19)","v":0},null,{"$f":"IF($AQ$19=0,0,$AQ$19)","v":0},null,{"$f":"IF($AR$19=0,0,$AR$19)","v":0},null,{"$f":"IF($AS$19=0,0,$AS$19)","v":0},null,{"$f":"IF($AT$19=0,0,$AT$19)","v":0},null,{"$f":"IF($AU$19=0,0,$AU$19)","v":0},null,{"$f":"IF($AV$19=0,0,$AV$19)","v":0}]
[{"$f":"$A$62","v":"Fehlstunden"},{"$f":"$B$62","v":"laufendes Jahr (Kontrolle)"},null,null,null,{"$f":"$F$62","v":"fe"},{"$f":"IF($AJ$13=0,0,$AJ$13)","v":0},null,{"$f":"IF($AK$13=0,0,$AK$13)","v":0},null,{"$f":"IF($AL$13=0,0,$AL$13)","v":0},null,{"$f":"IF($AM$13=0,0,$AM$13)","v":0},null,{"$f":"IF($AN$13=0,0,$AN$13)","v":0},null,{"$f":"IF($AO$13=0,0,$AO$13)","v":0},null,{"$f":"IF($AP$13=0,0,$AP$13)","v":0},null,{"$f":"IF($AQ$13=0,0,$AQ$13)","v":0},null,{"$f":"IF($AR$13=0,0,$AR$13)","v":0},null,{"$f":"IF($AS$13=0,0,$AS$13)","v":0},null,{"$f":"IF($AT$13=0,0,$AT$13)","v":0},null,{"$f":"IF($AU$13=0,0,$AU$13)","v":0},null,{"$f":"IF($AV$13=0,0,$AV$13)","v":0}]
[{"$f":"$A$63","v":"Total inkl. Zeitzuschläge"},{"$f":"$B$63","v":"Stunden produktiv und unproduktiv"},null,null,null,null,{"$f":"IF($AG$36=0,0,$AG$36)","v":0},null,{"$f":"IF($AG$99=0,0,$AG$99)","v":0},null,{"$f":"IF($AG$162=0,0,$AG$162)","v":0},null,{"$f":"IF($AG$225=0,0,$AG$225)","v":0},null,{"$f":"IF($AG$288=0,0,$AG$288)","v":0},null,{"$f":"IF($AG$351=0,0,$AG$351)","v":0},null,{"$f":"IF($AG$414=0,0,$AG$414)","v":0},null,{"$f":"IF($AG$477=0,0,$AG$477)","v":0},null,{"$f":"IF($AG$540=0,0,$AG$540)","v":0},null,{"$f":"IF($AG$603=0,0,$AG$603)","v":0},null,{"$f":"IF($AG$666=0,0,$AG$666)","v":0},null,{"$f":"IF($AG$729=0,0,$AG$729)","v":0},null,{"$f":"SUM($G$63:$AD$63)","v":0}]
[{"$f":"$A$64","v":"Vergleich"},{"$f":"$B$64","v":"Stunden zu Soll-Stunden (inkl. allfälli-\nge Minusstunden Vorjahr)"},null,null,null,null,{"$f":"$G$64","v":-172.82999999999998},null,{"$f":"$I$64","v":-164.6},null,{"$f":"$K$64","v":-189.28999999999996},null,{"$f":"$M$64","v":-181.05999999999997},null,{"$f":"$O$64","v":-172.82999999999998},null,{"$f":"$Q$64","v":-181.05999999999997},null,{"$f":"$S$64","v":-181.05999999999997},null,{"$f":"$U$64","v":-181.05999999999997},null,{"$f":"$W$64","v":-181.05999999999997},null,{"$f":"$Y$64","v":-172.82999999999998},null,{"$f":"$AA$64","v":-181.05999999999997},null,{"$f":"$AC$64","v":-189.28999999999996},null,{"$f":"$AE$64","v":-2148.0299999999997}]
[null,{"$f":"$B$65","v":"Stunden zu Soll-Stunden (kumuliert)"},null,null,null,null,{"$f":"$G$65","v":-172.82999999999998},null,{"$f":"$I$65","v":-337.42999999999995},null,{"$f":"$K$65","v":-526.71999999999991},null,{"$f":"$M$65","v":-707.77999999999986},null,{"$f":"$O$65","v":-880.6099999999999},null,{"$f":"$Q$65","v":-1061.6699999999998},null,{"$f":"$S$65","v":-1242.7299999999998},null,{"$f":"$U$65","v":-1423.7899999999997},null,{"$f":"$W$65","v":-1604.8499999999997},null,{"$f":"$Y$65","v":-1777.6799999999996},null,{"$f":"$AA$65","v":-1958.7399999999996},null,{"$f":"$AC$65","v":-2148.0299999999997},null,{"$f":"$AE$65","v":0}]
[{"$f":"$A$66","v":"Ferienkontrolle"},{"$f":"$B$66","v":"Ferienguthaben Vorjahr"},null,null,null,null,{"$f":"IF($AA$4=0,0,$AA$4)","v":0},null,{"$f":"$I$66","v":"Ferienguthaben nach \nArt. 12.1 GAV"},null,null,null,{"$f":"IF($AA$5=0,0,$AA$5)","v":0},null,{"$f":"$O$66","v":"Ferienguthaben total"},null,null,null,{"$f":"SUM(G318+M318)","v":0},null,{"$f":"$U$66","v":"Ferien bezogen"},null,null,null,{"$f":"IF($AV$4=0,0,$AV$4)","v":0},null,{"$f":"$AA$66","v":"Aktuelles Ferienguthaben"},null,null,null,{"$f":"IF(S318=0,0,S318-Y318)","v":0}]
[]
[]
[{"$f":"$A$3","v":"Mitarbeiter/In"},{"$f":"IF($B$3=\"\",\"\",$B$3)","v":"Muster Peter"},null,null,null,null,null,null,null,null,null,null,null,null,null,null,null,null,null,null,null,null,null,null,null,null,null,null,null,null,null,{"$f":"AF3","v":0}]
[{"$f":"$A$4","v":"Anstellung %"},100,null,{"$f":"Labels!B94","v":"im Juni"}]
[{"$f":"$A$5","v":"Saldo für das Jahr"},null,null,{"$f":"IF($AE$64=0,0,$AE$64)","v":-2148.0299999999997}]
[{"$f":"TEXT(DATE(YEAR(AP28),MONTH(AP28)+5,1),\"MMMM\"&Labels!B13)","v":"Juni"},{"$f":"$B$9","v":"Saldo Monat + / -"},null,null,null,{"$f":"(AG327-(SUM(AG328:AG342)-AE349))*-1","v":-181.05999999999997},null,null,null,null,{"$f":"$K$9","v":" = "},{"$f":"$L$9","v":"Gelbe Felder müssen ausgefüllt werden (die übrigen werden automatisch berechnet)"}]
[{"$f":"$A$10","v":"Tag"},{"$f":"AF262+1","v":"2021-06-01"},{"$f":"B325+1","v":"2021-06-02"},{"$f":"C325+1","v":"2021-06-03"},"2021-06-04","2021-06-05","2021-06-06","2021-06-07","2021-06-08","2021-06-09","2021-06-10","2021-06-11","2021-06-12","2021-06-13","2021-06-14","2021-06-15","2021-06-16","2021-06-17","2021-06-18","2021-06-19","2021-06-20","2021-06-21","2021-06-22","2021-06-23","2021-06-24","2021-06-25","2021-06-26","2021-06-27","2021-06-28","2021-06-29","2021-06-30",null,{"$f":"COUNT(B327:AF327)&\" \"&Labels!$B$63","v":"22 Tage"}]
[{"$f":"$A$11","v":"Kalenderwoche"},{"$f":"IF(B325=\"\",\"\",TRUNC((B325-DATE(YEAR(B325+3-MOD(B325-2,7)),1,MOD(B325-2,7)-9))/7))","v":22},22,22,22,22,22,23,23,23,23,23,23,23,24,24,24,24,24,24,24,25,25,25,25,25,25,25,26,26,26,""]
[{"$f":"$A$12","v":"Sollstunden"},{"$f":"IF(MOD(B325,7)>=2,$J$7*$B$322%,\"\")","v":8.23},8.23,8.23,8.23,"","",8.23,8.23,8.23,8.23,8.23,"","",8.23,8.23,8.23,8.23,8.23,"","",8.23,8.23,8.23,8.23,8.23,"","",8.23,8.23,8.23,null,{"$f":"SUM(B327:AF327)","v":181.05999999999997}]
[{"$f":"$A$13","v":"Absenz in Std"},{"$f":"B934","v":0},{"$f":"C934","v":0},0,0,0,0,0,0,0,0,0,0,0,0,0,0,0,0,0,0,0,0,0,0,0,0,0,0,0,0,null,{"$f":"SUM(AO3:AO12)","v":0}]
[{"$f":"$A$14","v":"Code"},{"$f":"IF(B934<>0,IF(MAX(B921:B933)<B934,Labels!$B$163,INDEX($AH$921:$AH$933,MATCH(MAX(B921:B933),B921:B933,0))),\"\")","v":""},{"$f":"IF(C934<>0,IF(MAX(C921:C933)<C934,Labels!$B$163,INDEX($AH$921:$AH$933,MATCH(MAX(C921:C933),C921:C933,0))),\"\")","v":""},{"$f":"IF(D934<>0,IF(MAX(D921:D933)<D934,Labels!$B$163,INDEX($AH$921:$AH$933,MATCH(MAX(D921:D933),D921:D933,0))),\"\")","v":""},{"$f":"IF(E934<>0,IF(MAX(E921:E933)<E934,Labels!$B$163,INDEX($AH$921:$AH$933,MATCH(MAX(E921:E933),E921:E933,0))),\"\")","v":""},{"$f":"IF(F934<>0,IF(MAX(F921:F933)<F934,Labels!$B$163,INDEX($AH$921:$AH$933,MATCH(MAX(F921:F933),F921:F933,0))),\"\")","v":""},{"$f":"IF(G934<>0,IF(MAX(G921:G933)<G934,Labels!$B$163,INDEX($AH$921:$AH$933,MATCH(MAX(G921:G933),G921:G933,0))),\"\")","v":""},{"$f":"IF(H934<>0,IF(MAX(H921:H933)<H934,Labels!$B$163,INDEX($AH$921:$AH$933,MATCH(MAX(H921:H933),H921:H933,0))),\"\")","v":""},{"$f":"IF(I934<>0,IF(MAX(I921:I933)<I934,Labels!$B$163,INDEX($AH$921:$AH$933,MATCH(MAX(I921:I933),I921:I933,0))),\"\")","v":""},{"$f":"IF(J934<>0,IF(MAX(J921:J933)<J934,Labels!$B$163,INDEX($AH$921:$AH$933,MATCH(MAX(J921:J933),J921:J933,0))),\"\")","v":""},{"$f":"IF(K934<>0,IF(MAX(K921:K933)<K934,Labels!$B$163,INDEX($AH$921:$AH$933,MATCH(MAX(K921:K933),K921:K933,0))),\"\")","v":""},{"$f":"IF(L934<>0,IF(MAX(L921:L933)<L934,Labels!$B$163,INDEX($AH$921:$AH$933,MATCH(MAX(L921:L933),L921:L933,0))),\"\")","v":""},{"$f":"IF(M934<>0,IF(MAX(M921:M933)<M934,Labels!$B$163,INDEX($AH$921:$AH$933,MATCH(MAX(M921:M933),M921:M933,0))),\"\")","v":""},{"$f":"IF(N934<>0,IF(MAX(N921:N933)<N934,Labels!$B$163,INDEX($AH$921:$AH$933,MATCH(MAX(N921:N933),N921:N933,0))),\"\")","v":""},{"$f":"IF(O934<>0,IF(MAX(O921:O933)<O934,Labels!$B$163,INDEX($AH$921:$AH$933,MATCH(MAX(O921:O933),O921:O933,0))),\"\")","v":""},{"$f":"IF(P934<>0,IF(MAX(P921:P933)<P934,Labels!$B$163,INDEX($AH$921:$AH$933,MATCH(MAX(P921:P933),P921:P933,0))),\"\")","v":""},{"$f":"IF(Q934<>0,IF(MAX(Q921:Q933)<Q934,Labels!$B$163,INDEX($AH$921:$AH$933,MATCH(MAX(Q921:Q933),Q921:Q933,0))),\"\")","v":""},{"$f":"IF(R934<>0,IF(MAX(R921:R933)<R934,Labels!$B$163,INDEX($AH$921:$AH$933,MATCH(MAX(R921:R933),R921:R933,0))),\"\")","v":""},{"$f":"IF(S934<>0,IF(MAX(S921:S933)<S934,Labels!$B$163,INDEX($AH$921:$AH$933,MATCH(MAX(S921:S933),S921:S933,0))),\"\")","v":""},{"$f":"IF(T934<>0,IF(MAX(T921:T933)<T934,Labels!$B$163,INDEX($AH$921:$AH$933,MATCH(MAX(T921:T933),T921:T933,0))),\"\")","v":""},{"$f":"IF(U934<>0,IF(MAX(U921:U933)<U934,Labels!$B$163,INDEX($AH$921:$AH$933,MATCH(MAX(U921:U933),U921:U933,0))),\"\")","v":""},{"$f":"IF(V934<>0,IF(MAX(V921:V933)<V934,Labels!$B$163,INDEX($AH$921:$AH$933,MATCH(MAX(V921:V933),V921:V933,0))),\"\")","v":""},{"$f":"IF(W934<>0,IF(MAX(W921:W933)<W934,Labels!$B$163,INDEX($AH$921:$AH$933,MATCH(MAX(W921:W933),W921:W933,0))),\"\")","v":""},{"$f":"IF(X934<>0,IF(MAX(X921:X933)<X934,Labels!$B$163,INDEX($AH$921:$AH$933,MATCH(MAX(X921:X933),X921:X933,0))),\"\")","v":""},{"$f":"IF(Y934<>0,IF(MAX(Y921:Y933)<Y934,Labels!$B$163,INDEX($AH$921:$AH$933,MATCH(MAX(Y921:Y933),Y921:Y933,0))),\"\")","v":""},{"$f":"IF(Z934<>0,IF(MAX(Z921:Z933)<Z934,Labels!$B$163,INDEX($AH$921:$AH$933,MATCH(MAX(Z921:Z933),Z921:Z933,0))),\"\")","v":""},{"$f":"IF(AA934<>0,IF(MAX(AA921:AA933)<AA934,Labels!$B$163,INDEX($AH$921:$AH$933,MATCH(MAX(AA921:AA933),AA921:AA933,0))),\"\")","v":""},{"$f":"IF(AB934<>0,IF(MAX(AB921:AB933)<AB934,Labels!$B$163,INDEX($AH$921:$AH$933,MATCH(MAX(AB921:AB933),AB921:AB933,0))),\"\")","v":""},{"$f":"IF(AC934<>0,IF(MAX(AC921:AC933)<AC934,Labels!$B$163,INDEX($AH$921:$AH$933,MATCH(MAX(AC921:AC933),AC921:AC933,0))),\"\")","v":""},{"$f":"IF(AD934<>0,IF(MAX(AD921:AD933)<AD934,Labels!$B$163,INDEX($AH$921:$AH$933,MATCH(MAX(AD921:AD933),AD921:AD933,0))),\"\")","v":""},{"$f":"IF(AE934<>0,IF(MAX(AE921:AE933)<AE934,Labels!$B$163,INDEX($AH$921:$AH$933,MATCH(MAX(AE921:AE933),AE921:AE933,0))),\"\")","v":""}]
[{"$f":"$A$15","v":"00.00-06.00h"},null,null,null,null,null,null,null,null,null,null,null,null,null,null,null,null,null,null,null,null,null,null,null,null,null,null,null,null,null,null,null,{"$f":"SUM(B330:AF330)","v":0}]
[{"$f":"$A$16","v":"06.00-20.00h"},null,null,null,null,null,null,null,null,null,null,null,null,null,null,null,null,null,null,null,null,null,null,null,null,null,null,null,null,null,null,null,{"$f":"SUM(B331:AF331)","v":0}]
[{"$f":"$A$17","v":"20.00-24.00h"},null,null,null,null,null,null,null,null,null,null,null,null,null,null,null,null,null,null,null,null,null,null,null,null,null,null,null,null,null,null,null,{"$f":"SUM(B332:AF332)","v":0},"[0]"]
[{"$f":"$A$18","v":"Feiertag \"ft\""},{"$f":"IF(WEEKDAY(B325,2)<=6,IF(KALENDER!E13=\"x\",Labels!$B$118,\"\"),\"\")","v":""},{"$f":"IF(WEEKDAY(C325,2)<=6,IF(KALENDER!F13=\"x\",Labels!$B$118,\"\"),\"\")","v":""},{"$f":"IF(WEEKDAY(D325,2)<=6,IF(KALENDER!G13=\"x\",Labels!$B$118,\"\"),\"\")","v":""},{"$f":"IF(WEEKDAY(E325,2)<=6,IF(KALENDER!H13=\"x\",Labels!$B$118,\"\"),\"\")","v":""},{"$f":"IF(WEEKDAY(F325,2)<=6,IF(KALENDER!I13=\"x\",Labels!$B$118,\"\"),\"\")","v":""},{"$f":"IF(WEEKDAY(G325,2)<=6,IF(KALENDER!J13=\"x\",Labels!$B$118,\"\"),\"\")","v":""},{"$f":"IF(WEEKDAY(H325,2)<=6,IF(KALENDER!K13=\"x\",Labels!$B$118,\"\"),\"\")","v":""},{"$f":"IF(WEEKDAY(I325,2)<=6,IF(KALENDER!L13=\"x\",Labels!$B$118,\"\"),\"\")","v":""},{"$f":"IF(WEEKDAY(J325,2)<=6,IF(KALENDER!M13=\"x\",Labels!$B$118,\"\"),\"\")","v":""},{"$f":"IF(WEEKDAY(K325,2)<=6,IF(KALENDER!N13=\"x\",Labels!$B$118,\"\"),\"\")","v":""},{"$f":"IF(WEEKDAY(L325,2)<=6,IF(KALENDER!O13=\"x\",Labels!$B$118,\"\"),\"\")","v":""},{"$f":"IF(WEEKDAY(M325,2)<=6,IF(KALENDER!P13=\"x\",Labels!$B$118,\"\"),\"\")","v":""},{"$f":"IF(WEEKDAY(N325,2)<=6,IF(KALENDER!Q13=\"x\",Labels!$B$118,\"\"),\"\")","v":""},{"$f":"IF(WEEKDAY(O325,2)<=6,IF(KALENDER!R13=\"x\",Labels!$B$118,\"\"),\"\")","v":""},{"$f":"IF(WEEKDAY(P325,2)<=6,IF(KALENDER!S13=\"x\",Labels!$B$118,\"\"),\"\")","v":""},{"$f":"IF(WEEKDAY(Q325,2)<=6,IF(KALENDER!T13=\"x\",Labels!$B$118,\"\"),\"\")","v":""},{"$f":"IF(WEEKDAY(R325,2)<=6,IF(KALENDER!U13=\"x\",Labels!$B$118,\"\"),\"\")","v":""},{"$f":"IF(WEEKDAY(S325,2)<=6,IF(KALENDER!V13=\"x\",Labels!$B$118,\"\"),\"\")","v":""},{"$f":"IF(WEEKDAY(T325,2)<=6,IF(KALENDER!W13=\"x\",Labels!$B$118,\"\"),\"\")","v":""},{"$f":"IF(WEEKDAY(U325,2)<=6,IF(KALENDER!X13=\"x\",Labels!$B$118,\"\"),\"\")","v":""},{"$f":"IF(WEEKDAY(V325,2)<=6,IF(KALENDER!Y13=\"x\",Labels!$B$118,\"\"),\"\")","v":""},{"$f":"IF(WEEKDAY(W325,2)<=6,IF(KALENDER!Z13=\"x\",Labels!$B$118,\"\"),\"\")","v":""},{"$f":"IF(WEEKDAY(X325,2)<=6,IF(KALENDER!AA13=\"x\",Labels!$B$118,\"\"),\"\")","v":""},{"$f":"IF(WEEKDAY(Y325,2)<=6,IF(KALENDER!AB13=\"x\",Labels!$B$118,\"\"),\"\")","v":""},{"$f":"IF(WEEKDAY(Z325,2)<=6,IF(KALENDER!AC13=\"x\",Labels!$B$118,\"\"),\"\")","v":""},{"$f":"IF(WEEKDAY(AA325,2)<=6,IF(KALENDER!AD13=\"x\",Labels!$B$118,\"\"),\"\")","v":""},{"$f":"IF(WEEKDAY(AB325,2)<=6,IF(KALENDER!AE13=\"x\",Labels!$B$118,\"\"),\"\")","v":""},{"$f":"IF(WEEKDAY(AC325,2)<=6,IF(KALENDER!AF13=\"x\",Labels!$B$118,\"\"),\"\")","v":""},{"$f":"IF(WEEKDAY(AD325,2)<=6,IF(KALENDER!AG13=\"x\",Labels!$B$118,\"\"),\"\")","v":""},{"$f":"IF(WEEKDAY(AE325,2)<=6,IF(KALENDER!AH13=\"x\",Labels!$B$118,\"\"),\"\")","v":""},{"$f":"IF(WEEKDAY(AF325,2)<=6,IF(KALENDER!AI13=\"x\",Labels!$B$118,\"\"),\"\")","v":""}]
[{"$f":"$A$19","v":"Gutschrift \"ft\""},{"$f":"IF(AND(B333=Labels!$B$118,WEEKDAY(B325,2)<6),$J$7*$B$322%,\"\")","v":""},{"$f":"IF(AND(C333=Labels!$B$118,WEEKDAY(C325,2)<6),$J$7*$B$322%,\"\")","v":""},{"$f":"IF(AND(D333=Labels!$B$118,WEEKDAY(D325,2)<6),$J$7*$B$322%,\"\")","v":""},{"$f":"IF(AND(E333=Labels!$B$118,WEEKDAY(E325,2)<6),$J$7*$B$322%,\"\")","v":""},{"$f":"IF(AND(F333=Labels!$B$118,WEEKDAY(F325,2)<6),$J$7*$B$322%,\"\")","v":""},{"$f":"IF(AND(G333=Labels!$B$118,WEEKDAY(G325,2)<6),$J$7*$B$322%,\"\")","v":""},{"$f":"IF(AND(H333=Labels!$B$118,WEEKDAY(H325,2)<6),$J$7*$B$322%,\"\")","v":""},{"$f":"IF(AND(I333=Labels!$B$118,WEEKDAY(I325,2)<6),$J$7*$B$322%,\"\")","v":""},{"$f":"IF(AND(J333=Labels!$B$118,WEEKDAY(J325,2)<6),$J$7*$B$322%,\"\")","v":""},{"$f":"IF(AND(K333=Labels!$B$118,WEEKDAY(K325,2)<6),$J$7*$B$322%,\"\")","v":""},{"$f":"IF(AND(L333=Labels!$B$118,WEEKDAY(L325,2)<6),$J$7*$B$322%,\"\")","v":""},{"$f":"IF(AND(M333=Labels!$B$118,WEEKDAY(M325,2)<6),$J$7*$B$322%,\"\")","v":""},{"$f":"IF(AND(N333=Labels!$B$118,WEEKDAY(N325,2)<6),$J$7*$B$322%,\"\")","v":""},{"$f":"IF(AND(O333=Labels!$B$118,WEEKDAY(O325,2)<6),$J$7*$B$322%,\"\")","v":""},{"$f":"IF(AND(P333=Labels!$B$118,WEEKDAY(P325,2)<6),$J$7*$B$322%,\"\")","v":""},{"$f":"IF(AND(Q333=Labels!$B$118,WEEKDAY(Q325,2)<6),$J$7*$B$322%,\"\")","v":""},{"$f":"IF(AND(R333=Labels!$B$118,WEEKDAY(R325,2)<6),$J$7*$B$322%,\"\")","v":""},{"$f":"IF(AND(S333=Labels!$B$118,WEEKDAY(S325,2)<6),$J$7*$B$322%,\"\")","v":""},{"$f":"IF(AND(T333=Labels!$B$118,WEEKDAY(T325,2)<6),$J$7*$B$322%,\"\")","v":""},{"$f":"IF(AND(U333=Labels!$B$118,WEEKDAY(U325,2)<6),$J$7*$B$322%,\"\")","v":""},{"$f":"IF(AND(V333=Labels!$B$118,WEEKDAY(V325,2)<6),$J$7*$B$322%,\"\")","v":""},{"$f":"IF(AND(W333=Labels!$B$118,WEEKDAY(W325,2)<6),$J$7*$B$322%,\"\")","v":""},{"$f":"IF(AND(X333=Labels!$B$118,WEEKDAY(X325,2)<6),$J$7*$B$322%,\"\")","v":""},{"$f":"IF(AND(Y333=Labels!$B$118,WEEKDAY(Y325,2)<6),$J$7*$B$322%,\"\")","v":""},{"$f":"IF(AND(Z333=Labels!$B$118,WEEKDAY(Z325,2)<6),$J$7*$B$322%,\"\")","v":""},{"$f":"IF(AND(AA333=Labels!$B$118,WEEKDAY(AA325,2)<6),$J$7*$B$322%,\"\")","v":""},{"$f":"IF(AND(AB333=Labels!$B$118,WEEKDAY(AB325,2)<6),$J$7*$B$322%,\"\")","v":""},{"$f":"IF(AND(AC333=Labels!$B$118,WEEKDAY(AC325,2)<6),$J$7*$B$322%,\"\")","v":""},{"$f":"IF(AND(AD333=Labels!$B$118,WEEKDAY(AD325,2)<6),$J$7*$B$322%,\"\")","v":""},{"$f":"IF(AND(AE333=Labels!$B$118,WEEKDAY(AE325,2)<6),$J$7*$B$322%,\"\")","v":""},{"$f":"IF(AND(AF333=Labels!$B$118,WEEKDAY(AF325,2)<6),$J$7*$B$322%,\"\")","v":""},{"$f":"SUM(B334:AF334)","v":0}]
[{"$f":"$A$20","v":"Tagestotal"},{"$f":"SUM(B330:B332)","v":0},{"$f":"SUM(C330:C332)","v":0},0,0,0,0,0,0,0,0,0,0,0,0,0,0,0,0,0,0,0,0,0,0,0,0,0,0,0,0]
[{"$f":"$A$21","v":"."}]
[{"$f":"$A$22","v":"."}]
[{"$f":"$A$23","v":"Monatsübergang"},{"$f":"IF(WEEKDAY(B325)=1,TEXT(B325-1,\"MMM\"&Labels!B13),\"\")","v":""},null,null,null,null,null,null,null,null,null,null,null,null,null,null,null,null,null,null,null,null,null,null,null,null,null,null,null,null,{"$f":"IF(AND(WEEKDAY(AE325)>1,WEEKDAY(AE325)<7),TEXT(DATE($B$5,MONTH(AE325)+1,1),\"MMM\"&Labels!B13),\"\")","v":"Jul"}]
[{"$f":"$A$24","v":"Wochentotal"},{"$f":"IF(WEEKDAY(B325)=7,SUMIF($B263:$AF263,B326,$B272:$AF272)+SUMIF($B326:$AF326,B326,$B335:$AF335)+SUMIF($B389:$AF389,B326,$B398:$AF398),B338)","v":""},{"$f":"IF(WEEKDAY(C325)=7,SUMIF($B263:$AF263,C326,$B272:$AF272)+SUMIF($B326:$AF326,C326,$B335:$AF335)+SUMIF($B389:$AF389,C326,$B398:$AF398),\"\")","v":""},"","",0,"","","","","","",0,"","","","","","",0,"","","","","","",0,"","","",{"$f":"IF(WEEKDAY(AE325)=7,SUMIF($B263:$AF263,AE326,$B272:$AF272)+SUMIF($B326:$AF326,AE326,$B335:$AF335)+SUMIF($B389:$AF389,AE326,$B398:$AF398),AE338)","v":"Jul"}]
[{"$f":"$A$25","v":"Zeitzuschlag 1)"},{"$f":"IF(B347=\"FALSCH\",\"\",B347)","v":""},{"$f":"IF(C347=\"FALSCH\",\"\",C347)","v":""},"","","","","","","","","","","","","","","","","","","","","","","","","","","","",null,{"$f":"SUM(B340:AF340)","v":0}]
[{"$f":"$A$26","v":"Zeitzuschlag 2)"},{"$f":"IF((B330+B332)=0,\"\",SUM(B330,B332))","v":""},{"$f":"IF((C330+C332)=0,\"\",SUM(C330,C332))","v":""},"","","","","","","","","","","","","","","","","","","","","","","","","","","","",null,0,"[1]"]
[{"$f":"$A$27","v":"Zeitzuschlag 3)"},{"$f":"SUM(B343:B346)","v":0},{"$f":"SUM(C343:C346)","v":0},0,0,0,0,0,0,0,0,0,0,0,0,0,0,0,0,0,0,0,0,0,0,0,0,0,0,0,0,null,{"$f":"SUM(B342:AF342)","v":0},"[2]"]
[{"$f":"$A$28","v":"Sonntag Tag"},{"$f":"IF(WEEKDAY(B325)=1,B331,\"\")","v":""},{"$f":"IF(WEEKDAY(C325)=1,C331,\"\")","v":""},"","","",0,"","","","","","",0,"","","","","","",0,"","","","","","",0,"","","",null,0,"[3]"]
[{"$f":"$A$29","v":"Sonntag Nacht"},{"$f":"IF(WEEKDAY(B325)=1,SUM(B330+B332),\"\")","v":""},{"$f":"IF(WEEKDAY(C325)=1,SUM(C330+C332),\"\")","v":""},"","","",0,"","","","","","",0,"","","","","","",0,"","","","","","",0,"","","",null,0,"[4]"]
[{"$f":"$A$30","v":"ft-Tazuschlag"},{"$f":"IF(B333=Labels!$B$118,B331,\"\")","v":""},{"$f":"IF(C333=Labels!$B$118,C331,\"\")","v":""},{"$f":"IF(D333=Labels!$B$118,D331,\"\")","v":""},{"$f":"IF(E333=Labels!$B$118,E331,\"\")","v":""},{"$f":"IF(F333=Labels!$B$118,F331,\"\")","v":""},{"$f":"IF(G333=Labels!$B$118,G331,\"\")","v":""},{"$f":"IF(H333=Labels!$B$118,H331,\"\")","v":""},{"$f":"IF(I333=Labels!$B$118,I331,\"\")","v":""},{"$f":"IF(J333=Labels!$B$118,J331,\"\")","v":""},{"$f":"IF(K333=Labels!$B$118,K331,\"\")","v":""},{"$f":"IF(L333=Labels!$B$118,L331,\"\")","v":""},{"$f":"IF(M333=Labels!$B$118,M331,\"\")","v":""},{"$f":"IF(N333=Labels!$B$118,N331,\"\")","v":""},{"$f":"IF(O333=Labels!$B$118,O331,\"\")","v":""},{"$f":"IF(P333=Labels!$B$118,P331,\"\")","v":""},{"$f":"IF(Q333=Labels!$B$118,Q331,\"\")","v":""},{"$f":"IF(R333=Labels!$B$118,R331,\"\")","v":""},{"$f":"IF(S333=Labels!$B$118,S331,\"\")","v":""},{"$f":"IF(T333=Labels!$B$118,T331,\"\")","v":""},{"$f":"IF(U333=Labels!$B$118,U331,\"\")","v":""},{"$f":"IF(V333=Labels!$B$118,V331,\"\")","v":""},{"$f":"IF(W333=Labels!$B$118,W331,\"\")","v":""},{"$f":"IF(X333=Labels!$B$118,X331,\"\")","v":""},{"$f":"IF(Y333=Labels!$B$118,Y331,\"\")","v":""},{"$f":"IF(Z333=Labels!$B$118,Z331,\"\")","v":""},{"$f":"IF(AA333=Labels!$B$118,AA331,\"\")","v":""},{"$f":"IF(AB333=Labels!$B$118,AB331,\"\")","v":""},{"$f":"IF(AC333=Labels!$B$118,AC331,\"\")","v":""},{"$f":"IF(AD333=Labels!$B$118,AD331,\"\")","v":""},{"$f":"IF(AE333=Labels!$B$118,AE331,\"\")","v":""},null,0,"[5]"]
[{"$f":"$A$31","v":"ft-Nazuschlag"},{"$f":"IF(B333=Labels!$B$118,SUM(B330,B332),\"\")","v":""},{"$f":"IF(C333=Labels!$B$118,SUM(C330,C332),\"\")","v":""},{"$f":"IF(D333=Labels!$B$118,SUM(D330,D332),\"\")","v":""},{"$f":"IF(E333=Labels!$B$118,SUM(E330,E332),\"\")","v":""},{"$f":"IF(F333=Labels!$B$118,SUM(F330,F332),\"\")","v":""},{"$f":"IF(G333=Labels!$B$118,SUM(G330,G332),\"\")","v":""},{"$f":"IF(H333=Labels!$B$118,SUM(H330,H332),\"\")","v":""},{"$f":"IF(I333=Labels!$B$118,SUM(I330,I332),\"\")","v":""},{"$f":"IF(J333=Labels!$B$118,SUM(J330,J332),\"\")","v":""},{"$f":"IF(K333=Labels!$B$118,SUM(K330,K332),\"\")","v":""},{"$f":"IF(L333=Labels!$B$118,SUM(L330,L332),\"\")","v":""},{"$f":"IF(M333=Labels!$B$118,SUM(M330,M332),\"\")","v":""},{"$f":"IF(N333=Labels!$B$118,SUM(N330,N332),\"\")","v":""},{"$f":"IF(O333=Labels!$B$118,SUM(O330,O332),\"\")","v":""},{"$f":"IF(P333=Labels!$B$118,SUM(P330,P332),\"\")","v":""},{"$f":"IF(Q333=Labels!$B$118,SUM(Q330,Q332),\"\")","v":""},{"$f":"IF(R333=Labels!$B$118,SUM(R330,R332),\"\")","v":""},{"$f":"IF(S333=Labels!$B$118,SUM(S330,S332),\"\")","v":""},{"$f":"IF(T333=Labels!$B$118,SUM(T330,T332),\"\")","v":""},{"$f":"IF(U333=Labels!$B$118,SUM(U330,U332),\"\")","v":""},{"$f":"IF(V333=Labels!$B$118,SUM(V330,V332),\"\")","v":""},{"$f":"IF(W333=Labels!$B$118,SUM(W330,W332),\"\")","v":""},{"$f":"IF(X333=Labels!$B$118,SUM(X330,X332),\"\")","v":""},{"$f":"IF(Y333=Labels!$B$118,SUM(Y330,Y332),\"\")","v":""},{"$f":"IF(Z333=Labels!$B$118,SUM(Z330,Z332),\"\")","v":""},{"$f":"IF(AA333=Labels!$B$118,SUM(AA330,AA332),\"\")","v":""},{"$f":"IF(AB333=Labels!$B$118,SUM(AB330,AB332),\"\")","v":""},{"$f":"IF(AC333=Labels!$B$118,SUM(AC330,AC332),\"\")","v":""},{"$f":"IF(AD333=Labels!$B$118,SUM(AD330,AD332),\"\")","v":""},{"$f":"IF(AE333=Labels!$B$118,SUM(AE330,AE332),\"\")","v":""},null,0,"[6]"]
[{"$f":"$A$32","v":"Zuschlag  blind (Wochentotal)"},{"$f":"IF(OR(ISTEXT(B339),B339=\"\",B339<$B$7),\"\",ROUND(((B339-$B$7)*25%)/25,4)*25)","v":""},{"$f":"IF(OR(ISTEXT(C339),C339=\"\",C339<$B$7),\"\",ROUND(((C339-$B$7)*25%)/25,4)*25)","v":""},"","","","","","","","","","","","","","","","","","","","","","","","","","","","",null,{"$f":"AG331","v":0},"[7]"]
[null,{"$f":"$B$33","v":"1)   25% Zeitzuschlag für Überschreitung Wochentotal"},null,null,null,null,null,null,null,null,null,{"$f":"$L$33","v":"2) 100% Zeitzuschlag für Nachtarbeit"},null,null,null,null,null,null,null,{"$f":"$T$33","v":"Eingabe der ausbezahlten Stunden Vorjahressaldo"},null,null,null,null,null,null,null,null,null,null,null,null,{"$f":"SUM(AG330+AG332)","v":0},"[8]"]
[null,{"$f":"$B$34","v":"3) 100% Zeitzuschlag für Sonn- und Feiertagsarbeit"},null,null,null,null,null,null,null,null,null,null,null,null,null,null,null,null,null,{"$f":"$T$34","v":"Eingabe der ausbezahlten Stunden laufendes Jahr (Überstunden)"},null,null,null,null,null,null,null,null,null,null,null,null,{"$f":"SUM(AG330:AG332)","v":0},"[9]"]
[{"$f":"$A$35","v":"Bemerkungen"},null,null,null,null,null,null,null,null,null,null,null,null,null,null,null,null,null,null,null,null,null,null,null,null,null,null,null,null,null,null,null,{"$f":"SUM(AG328+AG334)","v":0},"[10]"]
[null,null,null,null,null,null,null,null,null,null,null,null,null,null,null,null,null,null,null,null,null,null,null,null,null,null,null,null,null,null,null,null,{"$f":"SUM(AG328:AG342)","v":0},"[11]"]
[null,null,null,null,null,null,null,null,null,null,null,null,null,null,null,null,null,null,null,null,null,null,null,null,null,null,null,null,null,null,null,null,{"$f":"AG327","v":181.05999999999997}]
[null,null,null,null,null,null,null,null,null,null,null,null,null,null,null,null,null,null,null,null,null,null,null,null,null,null,null,null,null,null,null,null,{"$f":"SUM(AG351-AG327)","v":-181.05999999999997}]
[{"$f":"$A$39","v":"Zusammenstellung"},null,null,null,null,null,{"$f":"$G$39","v":"Jan"},null,{"$f":"$I$39","v":"Feb"},null,{"$f":"$K$39","v":"Mrz"},null,{"$f":"$M$39","v":"Apr"},null,{"$f":"$O$39","v":"Mai"},null,{"$f":"$Q$39","v":"Jun"},null,{"$f":"$S$39","v":"Jul"},null,{"$f":"$U$39","v":"Aug"},null,{"$f":"$W$39","v":"Sep"},null,{"$f":"$Y$39","v":"Okt"},null,{"$f":"$AA$39","v":"Nov"},null,{"$f":"$AC$39","v":"Dez"},null,{"$f":"$AE$39","v":"Jahr"}]
[{"$f":"$A$40","v":"Anstellung %"},null,null,null,null,null,{"$f":"IF($B$4=0,0,$B$4)","v":100},null,{"$f":"IF($B$70=0,0,$B$70)","v":100},null,{"$f":"IF($B$133=0,0,$B$133)","v":100},null,{"$f":"IF($B$196=0,0,$B$196)","v":100},null,{"$f":"IF($B$259=0,0,$B$259)","v":100},null,{"$f":"IF($B$322=0,0,$B$322)","v":100},null,{"$f":"IF($B$385=0,0,$B$385)","v":100},null,{"$f":"IF($B$448=0,0,$B$448)","v":100},null,{"$f":"IF($B$511=0,0,$B$511)","v":100},null,{"$f":"IF($B$574=0,0,$B$574)","v":100},null,{"$f":"IF($B$637=0,0,$B$637)","v":100},null,{"$f":"IF($B$700=0,0,$B$700)","v":100}]
[{"$f":"$A$41","v":"Sollstunden gemäss GAV"},null,null,null,null,null,{"$f":"IF($AG$37=0,0,$AG$37)","v":172.82999999999998},null,{"$f":"IF($AG$100=0,0,$AG$100)","v":164.6},null,{"$f":"IF($AG$138=0,0,$AG$138)","v":189.28999999999996},null,{"$f":"IF($AG$226=0,0,$AG$226)","v":181.05999999999997},null,{"$f":"IF($AG$289=0,0,$AG$289)","v":172.82999999999998},null,{"$f":"IF($AG$352=0,0,$AG$352)","v":181.05999999999997},null,{"$f":"IF($AG$415=0,0,$AG$415)","v":181.05999999999997},null,{"$f":"IF($AG$478=0,0,$AG$478)","v":181.05999999999997},null,{"$f":"IF($AG$541=0,0,$AG$541)","v":181.05999999999997},null,{"$f":"IF($AG$604=0,0,$AG$604)","v":172.82999999999998},null,{"$f":"IF($AG$667=0,0,$AG$667)","v":181.05999999999997},null,{"$f":"IF($AG$730=0,0,$AG$730)","v":189.28999999999996},null,{"$f":"SUM(G356:AD356)","v":2148.0299999999997}]
[{"$f":"$A$42","v":"Produktive Stunden"},{"$f":"$B$42","v":"06.00 - 20.00 Uhr"},null,null,null,null,{"$f":"IF($AG$32=0,0,$AG$32)","v":0},null,{"$f":"IF($AG$95=0,0,$AG$95)","v":0},null,{"$f":"IF($AG$158=0,0,$AG$158)","v":0},null,{"$f":"IF($AG$221=0,0,$AG$221)","v":0},null,{"$f":"IF($AG$284=0,0,$AG$284)","v":0},null,{"$f":"IF($AG$347=0,0,$AG$347)","v":0},null,{"$f":"IF($AG$410=0,0,$AG$410)","v":0},null,{"$f":"IF($AG$473=0,0,$AG$473)","v":0},null,{"$f":"IF($AG$536=0,0,$AG$536)","v":0},null,{"$f":"IF($AG$599=0,0,$AG$599)","v":0},null,{"$f":"IF($AG$662=0,0,$AG$662)","v":0},null,{"$f":"IF($AG$725=0,0,$AG$725)","v":0},null,{"$f":"SUM(G357:AD357)","v":0}]
[null,{"$f":"$B$43","v":"Nacht-, Sonn-, Feiertagsarbeit"},null,null,null,null,{"$f":"IF($AG$33=0,0,$AG$33)","v":0},null,{"$f":"IF($AG$96=0,0,$AG$96)","v":0},null,{"$f":"IF($AG$159=0,0,$AG$159)","v":0},null,{"$f":"IF($AG$222=0,0,$AG$222)","v":0},null,{"$f":"IF($AG$285=0,0,$AG$285)","v":0},null,{"$f":"IF($AG$348=0,0,$AG$348)","v":0},null,{"$f":"IF($AG$411=0,0,$AG$411)","v":0},null,{"$f":"IF($AG$474=0,0,$AG$474)","v":0},null,{"$f":"IF($AG$537=0,0,$AG$537)","v":0},null,{"$f":"IF($AG$600=0,0,$AG$600)","v":0},null,{"$f":"IF($AG$663=0,0,$AG$663)","v":0},null,{"$f":"IF($AG$726=0,0,$AG$726)","v":0},null,{"$f":"SUM(G358:AD358)","v":0}]
[{"$f":"$A$44","v":"Zeitzuschläge"},{"$f":"$B$44","v":"aus Wochentotal"},null,null,null,null,{"$f":"IF($AG$25=0,0,$AG$25)","v":0},null,{"$f":"IF($AG$88=0,0,$AG$88)","v":0},null,{"$f":"IF($AG$151=0,0,$AG$151)","v":0},null,{"$f":"IF($AG$214=0,0,$AG$214)","v":0},null,{"$f":"IF($AG$277=0,0,$AG$277)","v":0},null,{"$f":"IF($AG$340=0,0,$AG$340)","v":0},null,{"$f":"IF($AG$403=0,0,$AG$403)","v":0},null,{"$f":"IF($AG$466=0,0,$AG$466)","v":0},null,{"$f":"IF($AG$529=0,0,$AG$529)","v":0},null,{"$f":"IF($AG$592=0,0,$AG$592)","v":0},null,{"$f":"IF($AG$655=0,0,$AG$655)","v":0},null,{"$f":"IF($AG$718=0,0,$AG$718)","v":0},null,{"$f":"SUM(G359:AD359)","v":0}]
[null,{"$f":"$B$45","v":"aus Nacht-, Sonn-, Feiertagsarbeiten"},null,null,null,null,{"$f":"IF($AJ$20=0,0,$AJ$20)","v":0},null,{"$f":"IF($AK$20=0,0,$AK$20)","v":0},null,{"$f":"IF($AL$20=0,0,$AL$20)","v":0},null,{"$f":"IF($AM$20=0,0,$AM$20)","v":0},null,{"$f":"IF($AN$20=0,0,$AN$20)","v":0},null,{"$f":"IF($AO$20=0,0,$AO$20)","v":0},null,{"$f":"IF($AP$20=0,0,$AP$20)","v":0},null,{"$f":"IF($AQ$20=0,0,$AQ$20)","v":0},null,{"$f":"IF($AR$20=0,0,$AR$20)","v":0},null,{"$f":"IF($AS$20=0,0,$AS$20)","v":0},null,{"$f":"IF($AT$20=0,0,$AT$20)","v":0},null,{"$f":"IF($AU$20=0,0,$AU$20)","v":0},null,{"$f":"SUM(G360:AD360)","v":0}]
[{"$f":"$A$46","v":"Unproduktive Stunden"}]
[{"$f":"$A$47","v":"   Absenzen, Kurzabsenzen Art. 11 GAV"},null,null,null,null,{"$f":"$F$47","v":"a"},{"$f":"IF($AJ$3=0,0,$AJ$3)","v":0},null,{"$f":"IF($AK$3=0,0,$AK$3)","v":0},null,{"$f":"IF($AL$3=0,0,$AL$3)","v":0},null,{"$f":"IF($AM$3=0,0,$AM$3)","v":0},null,{"$f":"IF($AN$3=0,0,$AN$3)","v":0},null,{"$f":"IF($AO$3=0,0,$AO$3)","v":0},null,{"$f":"IF($AP$3=0,0,$AP$3)","v":0},null,{"$f":"IF($AQ$3=0,0,$AQ$3)","v":0},null,{"$f":"IF($AR$3=0,0,$AR$3)","v":0},null,{"$f":"IF($AS$3=0,0,$AS$3)","v":0},null,{"$f":"IF(AT$3=0,0,$AT$3)","v":0},null,{"$f":"IF($AU$3=0,0,$AU$3)","v":0},null,{"$f":"IF($AV$3=0,0,$AV$3)","v":0}]
[{"$f":"$A$48","v":"   Ferien Art. 12.1 GAV"},null,null,null,null,{"$f":"$F$48","v":"f"},{"$f":"IF($AJ$4=0,0,$AJ$4)","v":0},null,{"$f":"IF($AK$4=0,0,$AK$4)","v":0},null,{"$f":"IF($AL$4=0,0,$AL$4)","v":0},null,{"$f":"IF($AM$4=0,0,$AM$4)","v":0},null,{"$f":"IF($AN$4=0,0,$AN$4)","v":0},null,{"$f":"IF($AO$4=0,0,$AO$4)","v":0},null,{"$f":"IF($AP$4=0,0,$AP$4)","v":0},null,{"$f":"IF($AQ$4=0,0,$AQ$4)","v":0},null,{"$f":"IF($AR$4=0,0,$AR$4)","v":0},null,{"$f":"IF($AS$4=0,0,$AS$4)","v":0},null,{"$f":"IF($AT$4=0,0,$AT$4)","v":0},null,{"$f":"IF($AU$4=0,0,$AU$4)","v":0},null,{"$f":"IF($AV$4=0,0,$AV$4)","v":0}]
[{"$f":"$A$49","v":"   Feiertage Art. 12.2 GAV"},null,{"$f":"IF($AJ$17=\"\",\"\",$AJ$17)","v":""},null,null,{"$f":"$F$49","v":"ft"},{"$f":"IF($AJ$15=0,0,$AJ$15)","v":0},null,{"$f":"IF($AK$15=0,0,$AK$15)","v":0},null,{"$f":"IF($AL$15=0,0,$AL$15)","v":0},null,{"$f":"IF($AM$15=0,0,$AM$15)","v":0},null,{"$f":"IF($AN$15=0,0,$AN$15)","v":0},null,{"$f":"IF($AO$15=0,0,$AO$15)","v":0},null,{"$f":"IF($AP$15=0,0,$AP$15)","v":0},null,{"$f":"IF($AQ$15=0,0,$AQ$15)","v":0},null,{"$f":"IF($AR$15=0,0,$AR$15)","v":0},null,{"$f":"IF($AS$15=0,0,$AS$15)","v":0},null,{"$f":"IF($AT$15=0,0,$AT$15)","v":0},null,{"$f":"IF($AU$15=0,0,$AU$15)","v":0},null,{"$f":"IF($AV$15=0,0,$AV$15)","v":0}]
[{"$f":"$A$50","v":"   Krankheit Art. 13 GAV"},null,null,null,null,{"$f":"$F$50","v":"k"},{"$f":"IF($AJ$5=0,0,$AJ$5)","v":0},null,{"$f":"IF($AK$5=0,0,$AK$5)","v":0},null,{"$f":"IF($AL$5=0,0,$AL$5)","v":0},null,{"$f":"IF($AM$5=0,0,$AM$5)","v":0},null,{"$f":"IF($AN$5=0,0,$AN$5)","v":0},null,{"$f":"IF($AO$5=0,0,$AO$5)","v":0},null,{"$f":"IF($AP$5=0,0,$AP$5)","v":0},null,{"$f":"IF($AQ$5=0,0,$AQ$5)","v":0},null,{"$f":"IF($AR$5=0,0,$AR$5)","v":0},null,{"$f":"IF($AS$5=0,0,$AS$5)","v":0},null,{"$f":"IF($AT$5=0,0,$AT$5)","v":0},null,{"$f":"IF($AU$5=0,0,$AU$5)","v":0},null,{"$f":"IF($AV$5=0,0,$AV$5)","v":0}]
[{"$f":"$A$51","v":"   Unfall Art. 14 GAV"},null,null,null,null,{"$f":"$F$51","v":"u"},{"$f":"IF($AJ$6=0,0,$AJ$6)","v":0},null,{"$f":"IF($AK$6=0,0,$AK$6)","v":0},null,{"$f":"IF($AL$6=0,0,$AL$6)","v":0},null,{"$f":"IF($AM$6=0,0,$AM$6)","v":0},null,{"$f":"IF($AN$6=0,0,$AN$6)","v":0},null,{"$f":"IF($AO$6=0,0,$AO$6)","v":0},null,{"$f":"IF($AP$6=0,0,$AP$6)","v":0},null,{"$f":"IF($AQ$6=0,0,$AQ$6)","v":0},null,{"$f":"IF($AR$6=0,0,$AR$6)","v":0},null,{"$f":"IF($AS$6=0,0,$AS$6)","v":0},null,{"$f":"IF($AT$6=0,0,$AT$6)","v":0},null,{"$f":"IF($AU$6=0,0,$AU$6)","v":0},null,{"$f":"IF($AV$6=0,0,$AV$6)","v":0}]
[{"$f":"$A$52","v":"   Schwangerschaft/Mutterschaft Art. 15 GAV"},null,null,null,null,{"$f":"$F$52","v":"s"},{"$f":"IF($AJ$7=0,0,$AJ$7)","v":0},null,{"$f":"IF($AK$7=0,0,$AK$7)","v":0},null,{"$f":"IF($AL$7=0,0,$AL$7)","v":0},null,{"$f":"IF($AM$7=0,0,$AM$7)","v":0},null,{"$f":"IF($AN$7=0,0,$AN$7)","v":0},null,{"$f":"IF($AO$7=0,0,$AO$7)","v":0},null,{"$f":"IF($AP$7=0,0,$AP$7)","v":0},null,{"$f":"IF($AQ$7=0,0,$AQ$7)","v":0},null,{"$f":"IF($AR$7=0,0,$AR$7)","v":0},null,{"$f":"IF($AS$7=0,0,$AS$7)","v":0},null,{"$f":"IF($AT$7=0,0,$AT$7)","v":0},null,{"$f":"IF($AU$7=0,0,$AU$7)","v":0},null,{"$f":"IF($AV$7=0,0,$AV$7)","v":0}]
[{"$f":"$A$53","v":"   Militär/Beförderung/Zivilschutz Art. 16 GAV"},null,null,null,null,{"$f":"$F$53","v":"m"},{"$f":"IF($AJ$8=0,0,$AJ$8)","v":0},null,{"$f":"IF($AK$8=0,0,$AK$8)","v":0},null,{"$f":"IF($AL$8=0,0,$AL$8)","v":0},null,{"$f":"IF($AM$8=0,0,$AM$8)","v":0},null,{"$f":"IF($AN$8=0,0,$AN$8)","v":0},null,{"$f":"IF($AO$8=0,0,$AO$8)","v":0},null,{"$f":"IF($AP$8=0,0,$AP$8)","v":0},null,{"$f":"IF($AQ$8=0,0,$AQ$8)","v":0},null,{"$f":"IF($AR$8=0,0,$AR$8)","v":0},null,{"$f":"IF($AS$8=0,0,$AS$8)","v":0},null,{"$f":"IF($AT$8=0,0,$AT$8)","v":0},null,{"$f":"IF($AU$8=0,0,$AU$8)","v":0},null,{"$f":"IF($AV$8=0,0,$AV$8)","v":0}]
[{"$f":"$A$54","v":"   Kurzarbeit und Schlechtwetterausfälle"},null,null,null,null,{"$f":"$F$54","v":"ka"},{"$f":"IF($AJ$11=0,0,$AJ$11)","v":0},null,{"$f":"IF($AK$11=0,0,$AK$11)","v":0},null,{"$f":"IF($AL$11=0,0,$AL$11)","v":0},null,{"$f":"IF($AM$11=0,0,$AM$11)","v":0},null,{"$f":"IF($AN$11=0,0,$AN$11)","v":0},null,{"$f":"IF($AO$11=0,0,$AO$11)","v":0},null,{"$f":"IF($AP$11=0,0,$AP$11)","v":0},null,{"$f":"IF($AQ$11=0,0,$AQ$11)","v":0},null,{"$f":"IF($AR$11=0,0,$AR$11)","v":0},null,{"$f":"IF($AS$11=0,0,$AS$11)","v":0},null,{"$f":"IF($AT$11=0,0,$AT$11)","v":0},null,{"$f":"IF($AU$11=0,0,$AU$11)","v":0},null,{"$f":"IF($AV$11=0,0,$AV$11)","v":0}]
[{"$f":"$A$55","v":"   Berufsschule"},null,null,null,null,{"$f":"$F$55","v":"bs"},{"$f":"IF($AJ$9=0,0,$AJ$9)","v":0},null,{"$f":"IF($AK$9=0,0,$AK$9)","v":0},null,{"$f":"IF($AL$9=0,0,$AL$9)","v":0},null,{"$f":"IF($AM$9=0,0,$AM$9)","v":0},null,{"$f":"IF($AN$9=0,0,$AN$9)","v":0},null,{"$f":"IF($AO$9=0,0,$AO$9)","v":0},null,{"$f":"IF($AP$9=0,0,$AP$9)","v":0},null,{"$f":"IF($AQ$9=0,0,$AQ$9)","v":0},null,{"$f":"IF($AR$9=0,0,$AR$9)","v":0},null,{"$f":"IF($AS$9=0,0,$AS$9)","v":0},null,{"$f":"IF($AT$9=0,0,$AT$9)","v":0},null,{"$f":"IF($AU$9=0,0,$AU$9)","v":0},null,{"$f":"IF($AV$9=0,0,$AV$9)","v":0}]
[{"$f":"$A$56","v":"   Kurse"},null,null,null,null,{"$f":"$F$56","v":"ku"},{"$f":"IF($AJ$10=0,0,$AJ$10)","v":0},null,{"$f":"IF($AK$10=0,0,$AK$10)","v":0},null,{"$f":"IF($AL$10=0,0,$AL$10)","v":0},null,{"$f":"IF($AM$10=0,0,$AM$10)","v":0},null,{"$f":"IF($AN$10=0,0,$AN$10)","v":0},null,{"$f":"IF($AO$10=0,0,$AO$10)","v":0},null,{"$f":"IF($AP$10=0,0,$AP$10)","v":0},null,{"$f":"IF($AQ$10=0,0,$AQ$10)","v":0},null,{"$f":"IF($AR$10=0,0,$AR$10)","v":0},null,{"$f":"IF($AS$10=0,0,$AS$10)","v":0},null,{"$f":"IF($AT$10=0,0,$AT$10)","v":0},null,{"$f":"IF($AU$10=0,0,$AU$10)","v":0},null,{"$f":"IF($AV$10=0,0,$AV$10)","v":0}]
[{"$f":"$A$57","v":"Kompensations-Std"},{"$f":"$B$57","v":"aus Vorjahr"},null,null,null,{"$f":"$F$57","v":"kv"},{"$f":"IF($AJ$12=0,0,$AJ$12)","v":0},null,{"$f":"IF($AK$12=0,0,$AK$12)","v":0},null,{"$f":"IF($AL$12=0,0,$AL$12)","v":0},null,{"$f":"IF($AM$12=0,0,$AM$12)","v":0},null,{"$f":"IF($AN$12=0,0,$AN$12)","v":0},null,{"$f":"IF($AO$12=0,0,$AO$12)","v":0},null,{"$f":"IF($AP$12=0,0,$AP$12)","v":0},null,{"$f":"IF($AQ$12=0,0,$AQ$12)","v":0},null,{"$f":"IF($AR$12=0,0,$AR$12)","v":0},null,null,null,null,null,null,null,{"$f":"IF($AV$12=0,0,$AV$12)","v":0}]
[null,{"$f":"$B$58","v":"aus laufendem Jahr (Kontrolle)"},null,null,null,{"$f":"$F$58","v":"kj"},{"$f":"IF($AJ$14=0,0,$AJ$14)","v":0},null,{"$f":"IF($AK$14=0,0,$AK$14)","v":0},null,{"$f":"IF($AL$14=0,0,$AL$14)","v":0},null,{"$f":"IF($AM$14=0,0,$AM$14)","v":0},null,{"$f":"IF($AN$14=0,0,$AN$14)","v":0},null,{"$f":"IF($AO$14=0,0,$AO$14)","v":0},null,{"$f":"IF($AP$14=0,0,$AP$14)","v":0},null,{"$f":"IF($AQ$14=0,0,$AQ$14)","v":0},null,{"$f":"IF($AR$14=0,0,$AR$14)","v":0},null,{"$f":"IF($AS$14=0,0,$AS$14)","v":0},null,{"$f":"IF($AT$14=0,0,$AT$14)","v":0},null,{"$f":"IF($AU$14=0,0,$AU$14)","v":0},null,{"$f":"IF($AV$14=0,0,$AV$14)","v":0}]
[{"$f":"$A$59","v":"Auszahlung"},{"$f":"$B$59","v":"Stunden Vorjahressaldo"},null,null,null,null,{"$f":"IF($AJ$18=0,0,$AJ$18)","v":0},null,{"$f":"IF($AK$18=0,0,$AK$18)","v":0},null,{"$f":"IF($AL$18=0,0,$AL$18)","v":0},null,{"$f":"IF($AM$18=0,0,$AM$18)","v":0},null,{"$f":"IF($AN$18=0,0,$AN$18)","v":0},null,{"$f":"IF($AO$18=0,0,$AO$18)","v":0},null,{"$f":"IF($AP$18=0,0,$AP$18)","v":0},null,{"$f":"IF($AQ$18=0,0,$AQ$18)","v":0},null,{"$f":"IF($AR$18=0,0,$AR$18)","v":0},null,null,null,null,null,null,null,{"$f":"IF($AV$18=0,0,$AV$18)","v":0}]
[{"$f":"$A$60","v":"Differenz"},{"$f":"$B$60","v":"nach Kompensation und Auszahlung"},null,null,null,null,{"$f":"IF(ROUND($P$4,3)=0,0,$P$4-SUM(G372+G374))","v":0},null,{"$f":"IF(ROUND(G375,3)=0,0,G375-(SUM(I374+I372)))","v":0},null,{"$f":"IF(ROUND(I375,3)=0,0,I375-(SUM(K374+K372)))","v":0},null,{"$f":"IF(ROUND(K375,3)=0,0,K375-(SUM(M374+M372)))","v":0},null,{"$f":"IF(ROUND(M375,3)=0,0,M375-(SUM(O374+O372)))","v":0},null,{"$f":"IF(ROUND(O375,3)=0,0,O375-(SUM(Q374+Q372)))","v":0},null,{"$f":"IF(ROUND(Q375,3)=0,0,Q375-(SUM(S374+S372)))","v":0},null,{"$f":"IF(ROUND(S375,3)=0,0,S375-(SUM(U374+U372)))","v":0},null,{"$f":"IF(ROUND(U375,3)=0,0,U375-(SUM(W374+W372)))","v":0},null,{"$f":"$Y$60","v":""}]
[{"$f":"$A$61","v":"Auszahlung"},{"$f":"$B$61","v":"Stunden laufendes Jahr"},null,null,null,null,{"$f":"IF($AJ$19=0,0,$AJ$19)","v":0},null,{"$f":"IF($AK$19=0,0,$AK$19)","v":0},null,{"$f":"IF($AL$19=0,0,$AL$19)","v":0},null,{"$f":"IF($AM$19=0,0,$AM$19)","v":0},null,{"$f":"IF($AN$19=0,0,$AN$19)","v":0},null,{"$f":"IF($AO$19=0,0,$AO$19)","v":0},null,{"$f":"IF($AP$19=0,0,$AP$19)","v":0},null,{"$f":"IF($AQ$19=0,0,$AQ$19)","v":0},null,{"$f":"IF($AR$19=0,0,$AR$19)","v":0},null,{"$f":"IF($AS$19=0,0,$AS$19)","v":0},null,{"$f":"IF($AT$19=0,0,$AT$19)","v":0},null,{"$f":"IF($AU$19=0,0,$AU$19)","v":0},null,{"$f":"IF($AV$19=0,0,$AV$19)","v":0}]
[{"$f":"$A$62","v":"Fehlstunden"},{"$f":"$B$62","v":"laufendes Jahr (Kontrolle)"},null,null,null,{"$f":"$F$62","v":"fe"},{"$f":"IF($AJ$13=0,0,$AJ$13)","v":0},null,{"$f":"IF($AK$13=0,0,$AK$13)","v":0},null,{"$f":"IF($AL$13=0,0,$AL$13)","v":0},null,{"$f":"IF($AM$13=0,0,$AM$13)","v":0},null,{"$f":"IF($AN$13=0,0,$AN$13)","v":0},null,{"$f":"IF($AO$13=0,0,$AO$13)","v":0},null,{"$f":"IF($AP$13=0,0,$AP$13)","v":0},null,{"$f":"IF($AQ$13=0,0,$AQ$13)","v":0},null,{"$f":"IF($AR$13=0,0,$AR$13)","v":0},null,{"$f":"IF($AS$13=0,0,$AS$13)","v":0},null,{"$f":"IF($AT$13=0,0,$AT$13)","v":0},null,{"$f":"IF($AU$13=0,0,$AU$13)","v":0},null,{"$f":"IF($AV$13=0,0,$AV$13)","v":0}]
[{"$f":"$A$63","v":"Total inkl. Zeitzuschläge"},{"$f":"$B$63","v":"Stunden produktiv und unproduktiv"},null,null,null,null,{"$f":"IF($AG$36=0,0,$AG$36)","v":0},null,{"$f":"IF($AG$99=0,0,$AG$99)","v":0},null,{"$f":"IF($AG$162=0,0,$AG$162)","v":0},null,{"$f":"IF($AG$225=0,0,$AG$225)","v":0},null,{"$f":"IF($AG$288=0,0,$AG$288)","v":0},null,{"$f":"IF($AG$351=0,0,$AG$351)","v":0},null,{"$f":"IF($AG$414=0,0,$AG$414)","v":0},null,{"$f":"IF($AG$477=0,0,$AG$477)","v":0},null,{"$f":"IF($AG$540=0,0,$AG$540)","v":0},null,{"$f":"IF($AG$603=0,0,$AG$603)","v":0},null,{"$f":"IF($AG$666=0,0,$AG$666)","v":0},null,{"$f":"IF($AG$729=0,0,$AG$729)","v":0},null,{"$f":"SUM($G$63:$AD$63)","v":0}]
[{"$f":"$A$64","v":"Vergleich"},{"$f":"$B$64","v":"Stunden zu Soll-Stunden (inkl. allfälli-\nge Minusstunden Vorjahr)"},null,null,null,null,{"$f":"$G$64","v":-172.82999999999998},null,{"$f":"$I$64","v":-164.6},null,{"$f":"$K$64","v":-189.28999999999996},null,{"$f":"$M$64","v":-181.05999999999997},null,{"$f":"$O$64","v":-172.82999999999998},null,{"$f":"$Q$64","v":-181.05999999999997},null,{"$f":"$S$64","v":-181.05999999999997},null,{"$f":"$U$64","v":-181.05999999999997},null,{"$f":"$W$64","v":-181.05999999999997},null,{"$f":"$Y$64","v":-172.82999999999998},null,{"$f":"$AA$64","v":-181.05999999999997},null,{"$f":"$AC$64","v":-189.28999999999996},null,{"$f":"$AE$64","v":-2148.0299999999997}]
[null,{"$f":"$B$65","v":"Stunden zu Soll-Stunden (kumuliert)"},null,null,null,null,{"$f":"$G$65","v":-172.82999999999998},null,{"$f":"$I$65","v":-337.42999999999995},null,{"$f":"$K$65","v":-526.71999999999991},null,{"$f":"$M$65","v":-707.77999999999986},null,{"$f":"$O$65","v":-880.6099999999999},null,{"$f":"$Q$65","v":-1061.6699999999998},null,{"$f":"$S$65","v":-1242.7299999999998},null,{"$f":"$U$65","v":-1423.7899999999997},null,{"$f":"$W$65","v":-1604.8499999999997},null,{"$f":"$Y$65","v":-1777.6799999999996},null,{"$f":"$AA$65","v":-1958.7399999999996},null,{"$f":"$AC$65","v":-2148.0299999999997},null,{"$f":"$AE$65","v":0}]
[{"$f":"$A$66","v":"Ferienkontrolle"},{"$f":"$B$66","v":"Ferienguthaben Vorjahr"},null,null,null,null,{"$f":"IF($AA$4=0,0,$AA$4)","v":0},null,{"$f":"$I$66","v":"Ferienguthaben nach \nArt. 12.1 GAV"},null,null,null,{"$f":"IF($AA$5=0,0,$AA$5)","v":0},null,{"$f":"$O$66","v":"Ferienguthaben total"},null,null,null,{"$f":"SUM(G381+M381)","v":0},null,{"$f":"$U$66","v":"Ferien bezogen"},null,null,null,{"$f":"IF($AV$4=0,0,$AV$4)","v":0},null,{"$f":"$AA$66","v":"Aktuelles Ferienguthaben"},null,null,null,{"$f":"IF(S381=0,0,S381-Y381)","v":0}]
[]
[]
[{"$f":"$A$3","v":"Mitarbeiter/In"},{"$f":"IF($B$3=\"\",\"\",$B$3)","v":"Muster Peter"},null,null,null,null,null,null,null,null,null,null,null,null,null,null,null,null,null,null,null,null,null,null,null,null,null,null,null,null,null,{"$f":"AF3","v":0}]
[{"$f":"$A$4","v":"Anstellung %"},100,null,{"$f":"Labels!B95","v":"im Juli"}]
[{"$f":"$A$5","v":"Saldo für das Jahr"},null,null,{"$f":"IF($AE$64=0,0,$AE$64)","v":-2148.0299999999997}]
[{"$f":"TEXT(DATE(YEAR(AP28),MONTH(AP28)+6,1),\"MMMM\"&Labels!B13)","v":"Juli"},{"$f":"$B$9","v":"Saldo Monat + / -"},null,null,null,{"$f":"(AG390-(SUM(AG391:AG405)-AE412))*-1","v":-181.05999999999997},null,null,null,null,{"$f":"$K$9","v":" = "},{"$f":"$L$9","v":"Gelbe Felder müssen ausgefüllt werden (die übrigen werden automatisch berechnet)"}]
[{"$f":"$A$10","v":"Tag"},{"$f":"AE325+1","v":"2021-07-01"},{"$f":"B388+1","v":"2021-07-02"},"2021-07-03","2021-07-04","2021-07-05","2021-07-06","2021-07-07","2021-07-08","2021-07-09","2021-07-10","2021-07-11","2021-07-12","2021-07-13","2021-07-14","2021-07-15","2021-07-16","2021-07-17","2021-07-18","2021-07-19","2021-07-20","2021-07-21","2021-07-22","2021-07-23","2021-07-24","2021-07-25","2021-07-26","2021-07-27","2021-07-28","2021-07-29","2021-07-30","2021-07-31",{"$f":"COUNT(B390:AF390)&\" \"&Labels!$B$63","v":"22 Tage"}]
[{"$f":"$A$11","v":"Kalenderwoche"},{"$f":"IF(B388=\"\",\"\",TRUNC((B388-DATE(YEAR(B388+3-MOD(B388-2,7)),1,MOD(B388-2,7)-9))/7))","v":26},26,26,26,27,27,27,27,27,27,27,28,28,28,28,28,28,28,29,29,29,29,29,29,29,30,30,30,30,30,30]
[{"$f":"$A$12","v":"Sollstunden"},{"$f":"IF(MOD(B388,7)>=2,$J$7*$B$385%,\"\")","v":8.23},8.23,"","",8.23,8.23,8.23,8.23,8.23,"","",8.23,8.23,8.23,8.23,8.23,"","",8.23,8.23,8.23,8.23,8.23,"","",8.23,8.23,8.23,8.23,8.23,"",{"$f":"SUM(B390:AF390)","v":181.05999999999997}]
[{"$f":"$A$13","v":"Absenz in Std"},{"$f":"B957","v":0},{"$f":"C957","v":0},0,0,0,0,0,0,0,0,0,0,0,0,0,0,0,0,0,0,0,0,0,0,0,0,0,0,0,0,0,{"$f":"SUM(AP3:AP12)","v":0}]
[{"$f":"$A$14","v":"Code"},{"$f":"IF(B957<>0,IF(MAX(B944:B956)<B957,Labels!$B$163,INDEX($AH$944:$AH$956,MATCH(MAX(B944:B956),B944:B956,0))),\"\")","v":""},{"$f":"IF(C957<>0,IF(MAX(C944:C956)<C957,Labels!$B$163,INDEX($AH$944:$AH$956,MATCH(MAX(C944:C956),C944:C956,0))),\"\")","v":""},{"$f":"IF(D957<>0,IF(MAX(D944:D956)<D957,Labels!$B$163,INDEX($AH$944:$AH$956,MATCH(MAX(D944:D956),D944:D956,0))),\"\")","v":""},{"$f":"IF(E957<>0,IF(MAX(E944:E956)<E957,Labels!$B$163,INDEX($AH$944:$AH$956,MATCH(MAX(E944:E956),E944:E956,0))),\"\")","v":""},{"$f":"IF(F957<>0,IF(MAX(F944:F956)<F957,Labels!$B$163,INDEX($AH$944:$AH$956,MATCH(MAX(F944:F956),F944:F956,0))),\"\")","v":""},{"$f":"IF(G957<>0,IF(MAX(G944:G956)<G957,Labels!$B$163,INDEX($AH$944:$AH$956,MATCH(MAX(G944:G956),G944:G956,0))),\"\")","v":""},{"$f":"IF(H957<>0,IF(MAX(H944:H956)<H957,Labels!$B$163,INDEX($AH$944:$AH$956,MATCH(MAX(H944:H956),H944:H956,0))),\"\")","v":""},{"$f":"IF(I957<>0,IF(MAX(I944:I956)<I957,Labels!$B$163,INDEX($AH$944:$AH$956,MATCH(MAX(I944:I956),I944:I956,0))),\"\")","v":""},{"$f":"IF(J957<>0,IF(MAX(J944:J956)<J957,Labels!$B$163,INDEX($AH$944:$AH$956,MATCH(MAX(J944:J956),J944:J956,0))),\"\")","v":""},{"$f":"IF(K957<>0,IF(MAX(K944:K956)<K957,Labels!$B$163,INDEX($AH$944:$AH$956,MATCH(MAX(K944:K956),K944:K956,0))),\"\")","v":""},{"$f":"IF(L957<>0,IF(MAX(L944:L956)<L957,Labels!$B$163,INDEX($AH$944:$AH$956,MATCH(MAX(L944:L956),L944:L956,0))),\"\")","v":""},{"$f":"IF(M957<>0,IF(MAX(M944:M956)<M957,Labels!$B$163,INDEX($AH$944:$AH$956,MATCH(MAX(M944:M956),M944:M956,0))),\"\")","v":""},{"$f":"IF(N957<>0,IF(MAX(N944:N956)<N957,Labels!$B$163,INDEX($AH$944:$AH$956,MATCH(MAX(N944:N956),N944:N956,0))),\"\")","v":""},{"$f":"IF(O957<>0,IF(MAX(O944:O956)<O957,Labels!$B$163,INDEX($AH$944:$AH$956,MATCH(MAX(O944:O956),O944:O956,0))),\"\")","v":""},{"$f":"IF(P957<>0,IF(MAX(P944:P956)<P957,Labels!$B$163,INDEX($AH$944:$AH$956,MATCH(MAX(P944:P956),P944:P956,0))),\"\")","v":""},{"$f":"IF(Q957<>0,IF(MAX(Q944:Q956)<Q957,Labels!$B$163,INDEX($AH$944:$AH$956,MATCH(MAX(Q944:Q956),Q944:Q956,0))),\"\")","v":""},{"$f":"IF(R957<>0,IF(MAX(R944:R956)<R957,Labels!$B$163,INDEX($AH$944:$AH$956,MATCH(MAX(R944:R956),R944:R956,0))),\"\")","v":""},{"$f":"IF(S957<>0,IF(MAX(S944:S956)<S957,Labels!$B$163,INDEX($AH$944:$AH$956,MATCH(MAX(S944:S956),S944:S956,0))),\"\")","v":""},{"$f":"IF(T957<>0,IF(MAX(T944:T956)<T957,Labels!$B$163,INDEX($AH$944:$AH$956,MATCH(MAX(T944:T956),T944:T956,0))),\"\")","v":""},{"$f":"IF(U957<>0,IF(MAX(U944:U956)<U957,Labels!$B$163,INDEX($AH$944:$AH$956,MATCH(MAX(U944:U956),U944:U956,0))),\"\")","v":""},{"$f":"IF(V957<>0,IF(MAX(V944:V956)<V957,Labels!$B$163,INDEX($AH$944:$AH$956,MATCH(MAX(V944:V956),V944:V956,0))),\"\")","v":""},{"$f":"IF(W957<>0,IF(MAX(W944:W956)<W957,Labels!$B$163,INDEX($AH$944:$AH$956,MATCH(MAX(W944:W956),W944:W956,0))),\"\")","v":""},{"$f":"IF(X957<>0,IF(MAX(X944:X956)<X957,Labels!$B$163,INDEX($AH$944:$AH$956,MATCH(MAX(X944:X956),X944:X956,0))),\"\")","v":""},{"$f":"IF(Y957<>0,IF(MAX(Y944:Y956)<Y957,Labels!$B$163,INDEX($AH$944:$AH$956,MATCH(MAX(Y944:Y956),Y944:Y956,0))),\"\")","v":""},{"$f":"IF(Z957<>0,IF(MAX(Z944:Z956)<Z957,Labels!$B$163,INDEX($AH$944:$AH$956,MATCH(MAX(Z944:Z956),Z944:Z956,0))),\"\")","v":""},{"$f":"IF(AA957<>0,IF(MAX(AA944:AA956)<AA957,Labels!$B$163,INDEX($AH$944:$AH$956,MATCH(MAX(AA944:AA956),AA944:AA956,0))),\"\")","v":""},{"$f":"IF(AB957<>0,IF(MAX(AB944:AB956)<AB957,Labels!$B$163,INDEX($AH$944:$AH$956,MATCH(MAX(AB944:AB956),AB944:AB956,0))),\"\")","v":""},{"$f":"IF(AC957<>0,IF(MAX(AC944:AC956)<AC957,Labels!$B$163,INDEX($AH$944:$AH$956,MATCH(MAX(AC944:AC956),AC944:AC956,0))),\"\")","v":""},{"$f":"IF(AD957<>0,IF(MAX(AD944:AD956)<AD957,Labels!$B$163,INDEX($AH$944:$AH$956,MATCH(MAX(AD944:AD956),AD944:AD956,0))),\"\")","v":""},{"$f":"IF(AE957<>0,IF(MAX(AE944:AE956)<AE957,Labels!$B$163,INDEX($AH$944:$AH$956,MATCH(MAX(AE944:AE956),AE944:AE956,0))),\"\")","v":""},{"$f":"IF(AF957<>0,IF(MAX(AF944:AF956)<AF957,Labels!$B$163,INDEX($AH$944:$AH$956,MATCH(MAX(AF944:AF956),AF944:AF956,0))),\"\")","v":""}]
[{"$f":"$A$15","v":"00.00-06.00h"},null,null,null,null,null,null,null,null,null,null,null,null,null,null,null,null,null,null,null,null,null,null,null,null,null,null,null,null,null,null,null,{"$f":"SUM(B393:AF393)","v":0}]
[{"$f":"$A$16","v":"06.00-20.00h"},null,null,null,null,null,null,null,null,null,null,null,null,null,null,null,null,null,null,null,null,null,null,null,null,null,null,null,null,null,null,null,{"$f":"SUM(B394:AF394)","v":0}]
[{"$f":"$A$17","v":"20.00-24.00h"},null,null,null,null,null,null,null,null,null,null,null,null,null,null,null,null,null,null,null,null,null,null,null,null,null,null,null,null,null,null,null,{"$f":"SUM(B395:AF395)","v":0},"[0]"]
[{"$f":"$A$18","v":"Feiertag \"ft\""},{"$f":"IF(WEEKDAY(B388,2)<=6,IF(KALENDER!E15=\"x\",Labels!$B$118,\"\"),\"\")","v":""},{"$f":"IF(WEEKDAY(C388,2)<=6,IF(KALENDER!F15=\"x\",Labels!$B$118,\"\"),\"\")","v":""},{"$f":"IF(WEEKDAY(D388,2)<=6,IF(KALENDER!G15=\"x\",Labels!$B$118,\"\"),\"\")","v":""},{"$f":"IF(WEEKDAY(E388,2)<=6,IF(KALENDER!H15=\"x\",Labels!$B$118,\"\"),\"\")","v":""},{"$f":"IF(WEEKDAY(F388,2)<=6,IF(KALENDER!I15=\"x\",Labels!$B$118,\"\"),\"\")","v":""},{"$f":"IF(WEEKDAY(G388,2)<=6,IF(KALENDER!J15=\"x\",Labels!$B$118,\"\"),\"\")","v":""},{"$f":"IF(WEEKDAY(H388,2)<=6,IF(KALENDER!K15=\"x\",Labels!$B$118,\"\"),\"\")","v":""},{"$f":"IF(WEEKDAY(I388,2)<=6,IF(KALENDER!L15=\"x\",Labels!$B$118,\"\"),\"\")","v":""},{"$f":"IF(WEEKDAY(J388,2)<=6,IF(KALENDER!M15=\"x\",Labels!$B$118,\"\"),\"\")","v":""},{"$f":"IF(WEEKDAY(K388,2)<=6,IF(KALENDER!N15=\"x\",Labels!$B$118,\"\"),\"\")","v":""},{"$f":"IF(WEEKDAY(L388,2)<=6,IF(KALENDER!O15=\"x\",Labels!$B$118,\"\"),\"\")","v":""},{"$f":"IF(WEEKDAY(M388,2)<=6,IF(KALENDER!P15=\"x\",Labels!$B$118,\"\"),\"\")","v":""},{"$f":"IF(WEEKDAY(N388,2)<=6,IF(KALENDER!Q15=\"x\",Labels!$B$118,\"\"),\"\")","v":""},{"$f":"IF(WEEKDAY(O388,2)<=6,IF(KALENDER!R15=\"x\",Labels!$B$118,\"\"),\"\")","v":""},{"$f":"IF(WEEKDAY(P388,2)<=6,IF(KALENDER!S15=\"x\",Labels!$B$118,\"\"),\"\")","v":""},{"$f":"IF(WEEKDAY(Q388,2)<=6,IF(KALENDER!T15=\"x\",Labels!$B$118,\"\"),\"\")","v":""},{"$f":"IF(WEEKDAY(R388,2)<=6,IF(KALENDER!U15=\"x\",Labels!$B$118,\"\"),\"\")","v":""},{"$f":"IF(WEEKDAY(S388,2)<=6,IF(KALENDER!V15=\"x\",Labels!$B$118,\"\"),\"\")","v":""},{"$f":"IF(WEEKDAY(T388,2)<=6,IF(KALENDER!W15=\"x\",Labels!$B$118,\"\"),\"\")","v":""},{"$f":"IF(WEEKDAY(U388,2)<=6,IF(KALENDER!X15=\"x\",Labels!$B$118,\"\"),\"\")","v":""},{"$f":"IF(WEEKDAY(V388,2)<=6,IF(KALENDER!Y15=\"x\",Labels!$B$118,\"\"),\"\")","v":""},{"$f":"IF(WEEKDAY(W388,2)<=6,IF(KALENDER!Z15=\"x\",Labels!$B$118,\"\"),\"\")","v":""},{"$f":"IF(WEEKDAY(X388,2)<=6,IF(KALENDER!AA15=\"x\",Labels!$B$118,\"\"),\"\")","v":""},{"$f":"IF(WEEKDAY(Y388,2)<=6,IF(KALENDER!AB15=\"x\",Labels!$B$118,\"\"),\"\")","v":""},{"$f":"IF(WEEKDAY(Z388,2)<=6,IF(KALENDER!AC15=\"x\",Labels!$B$118,\"\"),\"\")","v":""},{"$f":"IF(WEEKDAY(AA388,2)<=6,IF(KALENDER!AD15=\"x\",Labels!$B$118,\"\"),\"\")","v":""},{"$f":"IF(WEEKDAY(AB388,2)<=6,IF(KALENDER!AE15=\"x\",Labels!$B$118,\"\"),\"\")","v":""},{"$f":"IF(WEEKDAY(AC388,2)<=6,IF(KALENDER!AF15=\"x\",Labels!$B$118,\"\"),\"\")","v":""},{"$f":"IF(WEEKDAY(AD388,2)<=6,IF(KALENDER!AG15=\"x\",Labels!$B$118,\"\"),\"\")","v":""},{"$f":"IF(WEEKDAY(AE388,2)<=6,IF(KALENDER!AH15=\"x\",Labels!$B$118,\"\"),\"\")","v":""},{"$f":"IF(WEEKDAY(AF388,2)<=6,IF(KALENDER!AI15=\"x\",Labels!$B$118,\"\"),\"\")","v":""}]
[{"$f":"$A$19","v":"Gutschrift \"ft\""},{"$f":"IF(AND(B396=Labels!$B$118,WEEKDAY(B388,2)<6),$J$7*$B$385%,\"\")","v":""},{"$f":"IF(AND(C396=Labels!$B$118,WEEKDAY(C388,2)<6),$J$7*$B$385%,\"\")","v":""},{"$f":"IF(AND(D396=Labels!$B$118,WEEKDAY(D388,2)<6),$J$7*$B$385%,\"\")","v":""},{"$f":"IF(AND(E396=Labels!$B$118,WEEKDAY(E388,2)<6),$J$7*$B$385%,\"\")","v":""},{"$f":"IF(AND(F396=Labels!$B$118,WEEKDAY(F388,2)<6),$J$7*$B$385%,\"\")","v":""},{"$f":"IF(AND(G396=Labels!$B$118,WEEKDAY(G388,2)<6),$J$7*$B$385%,\"\")","v":""},{"$f":"IF(AND(H396=Labels!$B$118,WEEKDAY(H388,2)<6),$J$7*$B$385%,\"\")","v":""},{"$f":"IF(AND(I396=Labels!$B$118,WEEKDAY(I388,2)<6),$J$7*$B$385%,\"\")","v":""},{"$f":"IF(AND(J396=Labels!$B$118,WEEKDAY(J388,2)<6),$J$7*$B$385%,\"\")","v":""},{"$f":"IF(AND(K396=Labels!$B$118,WEEKDAY(K388,2)<6),$J$7*$B$385%,\"\")","v":""},{"$f":"IF(AND(L396=Labels!$B$118,WEEKDAY(L388,2)<6),$J$7*$B$385%,\"\")","v":""},{"$f":"IF(AND(M396=Labels!$B$118,WEEKDAY(M388,2)<6),$J$7*$B$385%,\"\")","v":""},{"$f":"IF(AND(N396=Labels!$B$118,WEEKDAY(N388,2)<6),$J$7*$B$385%,\"\")","v":""},{"$f":"IF(AND(O396=Labels!$B$118,WEEKDAY(O388,2)<6),$J$7*$B$385%,\"\")","v":""},{"$f":"IF(AND(P396=Labels!$B$118,WEEKDAY(P388,2)<6),$J$7*$B$385%,\"\")","v":""},{"$f":"IF(AND(Q396=Labels!$B$118,WEEKDAY(Q388,2)<6),$J$7*$B$385%,\"\")","v":""},{"$f":"IF(AND(R396=Labels!$B$118,WEEKDAY(R388,2)<6),$J$7*$B$385%,\"\")","v":""},{"$f":"IF(AND(S396=Labels!$B$118,WEEKDAY(S388,2)<6),$J$7*$B$385%,\"\")","v":""},{"$f":"IF(AND(T396=Labels!$B$118,WEEKDAY(T388,2)<6),$J$7*$B$385%,\"\")","v":""},{"$f":"IF(AND(U396=Labels!$B$118,WEEKDAY(U388,2)<6),$J$7*$B$385%,\"\")","v":""},{"$f":"IF(AND(V396=Labels!$B$118,WEEKDAY(V388,2)<6),$J$7*$B$385%,\"\")","v":""},{"$f":"IF(AND(W396=Labels!$B$118,WEEKDAY(W388,2)<6),$J$7*$B$385%,\"\")","v":""},{"$f":"IF(AND(X396=Labels!$B$118,WEEKDAY(X388,2)<6),$J$7*$B$385%,\"\")","v":""},{"$f":"IF(AND(Y396=Labels!$B$118,WEEKDAY(Y388,2)<6),$J$7*$B$385%,\"\")","v":""},{"$f":"IF(AND(Z396=Labels!$B$118,WEEKDAY(Z388,2)<6),$J$7*$B$385%,\"\")","v":""},{"$f":"IF(AND(AA396=Labels!$B$118,WEEKDAY(AA388,2)<6),$J$7*$B$385%,\"\")","v":""},{"$f":"IF(AND(AB396=Labels!$B$118,WEEKDAY(AB388,2)<6),$J$7*$B$385%,\"\")","v":""},{"$f":"IF(AND(AC396=Labels!$B$118,WEEKDAY(AC388,2)<6),$J$7*$B$385%,\"\")","v":""},{"$f":"IF(AND(AD396=Labels!$B$118,WEEKDAY(AD388,2)<6),$J$7*$B$385%,\"\")","v":""},{"$f":"IF(AND(AE396=Labels!$B$118,WEEKDAY(AE388,2)<6),$J$7*$B$385%,\"\")","v":""},{"$f":"IF(AND(AF396=Labels!$B$118,WEEKDAY(AF388,2)<6),$J$7*$B$385%,\"\")","v":""},{"$f":"SUM(B397:AF397)","v":0}]
[{"$f":"$A$20","v":"Tagestotal"},{"$f":"SUM(B393:B395)","v":0},{"$f":"SUM(C393:C395)","v":0},0,0,0,0,0,0,0,0,0,0,0,0,0,0,0,0,0,0,0,0,0,0,0,0,0,0,0,0,0]
[{"$f":"$A$21","v":"."}]
[{"$f":"$A$22","v":"."}]
[{"$f":"$A$23","v":"Monatsübergang"},{"$f":"IF(WEEKDAY(B388)=1,TEXT(B388-1,\"MMM\"&Labels!B13),\"\")","v":""},null,null,null,null,null,null,null,null,null,null,null,null,null,null,null,null,null,null,null,null,null,null,null,null,null,null,null,null,null,{"$f":"IF(AND(WEEKDAY(AF388)>1,WEEKDAY(AF388)<7),TEXT(DATE($B$5,MONTH(AF388)+1,1),\"MMM\"&Labels!B13),\"\")","v":""}]
[{"$f":"$A$24","v":"Wochentotal"},{"$f":"IF(WEEKDAY(B388)=7,SUMIF($B326:$AF326,B389,$B335:$AF335)+SUMIF($B389:$AF389,B389,$B398:$AF398)+SUMIF($B452:$AF452,B389,$B461:$AF461),B401)","v":""},{"$f":"IF(WEEKDAY(C388)=7,SUMIF($B326:$AF326,C389,$B335:$AF335)+SUMIF($B389:$AF389,C389,$B398:$AF398)+SUMIF($B452:$AF452,C389,$B461:$AF461),\"\")","v":""},0,"","","","","","",0,"","","","","","",0,"","","","","","",0,"","","","","","",{"$f":"IF(WEEKDAY(AF388)=7,SUMIF($B326:$AF326,AF389,$B335:$AF335)+SUMIF($B389:$AF389,AF389,$B398:$AF398)+SUMIF($B452:$AF452,AF389,$B461:$AF461),AF401)","v":0}]
[{"$f":"$A$25","v":"Zeitzuschlag 1)"},{"$f":"IF(B410=\"FALSCH\",\"\",B410)","v":""},{"$f":"IF(C410=\"FALSCH\",\"\",C410)","v":""},"","","","","","","","","","","","","","","","","","","","","","","","","","","","","",{"$f":"SUM(B403:AF403)","v":0}]
[{"$f":"$A$26","v":"Zeitzuschlag 2)"},{"$f":"IF((B393+B395)=0,\"\",SUM(B393,B395))","v":""},{"$f":"IF((C393+C395)=0,\"\",SUM(C393,C395))","v":""},"","","","","","","","","","","","","","","","","","","","","","","","","","","","","",0,"[1]"]
[{"$f":"$A$27","v":"Zeitzuschlag 3)"},{"$f":"SUM(B406:B409)","v":0},{"$f":"SUM(C406:C409)","v":0},0,0,0,0,0,0,0,0,0,0,0,0,0,0,0,0,0,0,0,0,0,0,0,0,0,0,0,0,0,{"$f":"SUM(B405:AF405)","v":0},"[2]"]
[{"$f":"$A$28","v":"Sonntag Tag"},{"$f":"IF(WEEKDAY(B388)=1,B394,\"\")","v":""},{"$f":"IF(WEEKDAY(C388)=1,C394,\"\")","v":""},"",0,"","","","","","",0,"","","","","","",0,"","","","","","",0,"","","","","","",0,"[3]"]
[{"$f":"$A$29","v":"Sonntag Nacht"},{"$f":"IF(WEEKDAY(B388)=1,SUM(B393+B395),\"\")","v":""},{"$f":"IF(WEEKDAY(C388)=1,SUM(C393+C395),\"\")","v":""},"",0,"","","","","","",0,"","","","","","",0,"","","","","","",0,"","","","","","",0,"[4]"]
[{"$f":"$A$30","v":"ft-Tazuschlag"},{"$f":"IF(B396=Labels!$B$118,B394,\"\")","v":""},{"$f":"IF(C396=Labels!$B$118,C394,\"\")","v":""},{"$f":"IF(D396=Labels!$B$118,D394,\"\")","v":""},{"$f":"IF(E396=Labels!$B$118,E394,\"\")","v":""},{"$f":"IF(F396=Labels!$B$118,F394,\"\")","v":""},{"$f":"IF(G396=Labels!$B$118,G394,\"\")","v":""},{"$f":"IF(H396=Labels!$B$118,H394,\"\")","v":""},{"$f":"IF(I396=Labels!$B$118,I394,\"\")","v":""},{"$f":"IF(J396=Labels!$B$118,J394,\"\")","v":""},{"$f":"IF(K396=Labels!$B$118,K394,\"\")","v":""},{"$f":"IF(L396=Labels!$B$118,L394,\"\")","v":""},{"$f":"IF(M396=Labels!$B$118,M394,\"\")","v":""},{"$f":"IF(N396=Labels!$B$118,N394,\"\")","v":""},{"$f":"IF(O396=Labels!$B$118,O394,\"\")","v":""},{"$f":"IF(P396=Labels!$B$118,P394,\"\")","v":""},{"$f":"IF(Q396=Labels!$B$118,Q394,\"\")","v":""},{"$f":"IF(R396=Labels!$B$118,R394,\"\")","v":""},{"$f":"IF(S396=Labels!$B$118,S394,\"\")","v":""},{"$f":"IF(T396=Labels!$B$118,T394,\"\")","v":""},{"$f":"IF(U396=Labels!$B$118,U394,\"\")","v":""},{"$f":"IF(V396=Labels!$B$118,V394,\"\")","v":""},{"$f":"IF(W396=Labels!$B$118,W394,\"\")","v":""},{"$f":"IF(X396=Labels!$B$118,X394,\"\")","v":""},{"$f":"IF(Y396=Labels!$B$118,Y394,\"\")","v":""},{"$f":"IF(Z396=Labels!$B$118,Z394,\"\")","v":""},{"$f":"IF(AA396=Labels!$B$118,AA394,\"\")","v":""},{"$f":"IF(AB396=Labels!$B$118,AB394,\"\")","v":""},{"$f":"IF(AC396=Labels!$B$118,AC394,\"\")","v":""},{"$f":"IF(AD396=Labels!$B$118,AD394,\"\")","v":""},{"$f":"IF(AE396=Labels!$B$118,AE394,\"\")","v":""},{"$f":"IF(AF396=Labels!$B$118,AF394,\"\")","v":""},0,"[5]"]
[{"$f":"$A$31","v":"ft-Nazuschlag"},{"$f":"IF(B396=Labels!$B$118,SUM(B393,B395),\"\")","v":""},{"$f":"IF(C396=Labels!$B$118,SUM(C393,C395),\"\")","v":""},{"$f":"IF(D396=Labels!$B$118,SUM(D393,D395),\"\")","v":""},{"$f":"IF(E396=Labels!$B$118,SUM(E393,E395),\"\")","v":""},{"$f":"IF(F396=Labels!$B$118,SUM(F393,F395),\"\")","v":""},{"$f":"IF(G396=Labels!$B$118,SUM(G393,G395),\"\")","v":""},{"$f":"IF(H396=Labels!$B$118,SUM(H393,H395),\"\")","v":""},{"$f":"IF(I396=Labels!$B$118,SUM(I393,I395),\"\")","v":""},{"$f":"IF(J396=Labels!$B$118,SUM(J393,J395),\"\")","v":""},{"$f":"IF(K396=Labels!$B$118,SUM(K393,K395),\"\")","v":""},{"$f":"IF(L396=Labels!$B$118,SUM(L393,L395),\"\")","v":""},{"$f":"IF(M396=Labels!$B$118,SUM(M393,M395),\"\")","v":""},{"$f":"IF(N396=Labels!$B$118,SUM(N393,N395),\"\")","v":""},{"$f":"IF(O396=Labels!$B$118,SUM(O393,O395),\"\")","v":""},{"$f":"IF(P396=Labels!$B$118,SUM(P393,P395),\"\")","v":""},{"$f":"IF(Q396=Labels!$B$118,SUM(Q393,Q395),\"\")","v":""},{"$f":"IF(R396=Labels!$B$118,SUM(R393,R395),\"\")","v":""},{"$f":"IF(S396=Labels!$B$118,SUM(S393,S395),\"\")","v":""},{"$f":"IF(T396=Labels!$B$118,SUM(T393,T395),\"\")","v":""},{"$f":"IF(U396=Labels!$B$118,SUM(U393,U395),\"\")","v":""},{"$f":"IF(V396=Labels!$B$118,SUM(V393,V395),\"\")","v":""},{"$f":"IF(W396=Labels!$B$118,SUM(W393,W395),\"\")","v":""},{"$f":"IF(X396=Labels!$B$118,SUM(X393,X395),\"\")","v":""},{"$f":"IF(Y396=Labels!$B$118,SUM(Y393,Y395),\"\")","v":""},{"$f":"IF(Z396=Labels!$B$118,SUM(Z393,Z395),\"\")","v":""},{"$f":"IF(AA396=Labels!$B$118,SUM(AA393,AA395),\"\")","v":""},{"$f":"IF(AB396=Labels!$B$118,SUM(AB393,AB395),\"\")","v":""},{"$f":"IF(AC396=Labels!$B$118,SUM(AC393,AC395),\"\")","v":""},{"$f":"IF(AD396=Labels!$B$118,SUM(AD393,AD395),\"\")","v":""},{"$f":"IF(AE396=Labels!$B$118,SUM(AE393,AE395),\"\")","v":""},{"$f":"IF(AF396=Labels!$B$118,SUM(AF393,AF395),\"\")","v":""},0,"[6]"]
[{"$f":"$A$32","v":"Zuschlag  blind (Wochentotal)"},{"$f":"IF(OR(ISTEXT(B402),B402=\"\",B402<$B$7),\"\",ROUND(((B402-$B$7)*25%)/25,4)*25)","v":""},{"$f":"IF(OR(ISTEXT(C402),C402=\"\",C402<$B$7),\"\",ROUND(((C402-$B$7)*25%)/25,4)*25)","v":""},"","","","","","","","","","","","","","","","","","","","","","","","","","","","","",{"$f":"AG394","v":0},"[7]"]
[null,{"$f":"$B$33","v":"1)   25% Zeitzuschlag für Überschreitung Wochentotal"},null,null,null,null,null,null,null,null,null,{"$f":"$L$33","v":"2) 100% Zeitzuschlag für Nachtarbeit"},null,null,null,null,null,null,null,{"$f":"$T$33","v":"Eingabe der ausbezahlten Stunden Vorjahressaldo"},null,null,null,null,null,null,null,null,null,null,null,null,{"$f":"SUM(AG393+AG395)","v":0},"[8]"]
[null,{"$f":"$B$34","v":"3) 100% Zeitzuschlag für Sonn- und Feiertagsarbeit"},null,null,null,null,null,null,null,null,null,null,null,null,null,null,null,null,null,{"$f":"$T$34","v":"Eingabe der ausbezahlten Stunden laufendes Jahr (Überstunden)"},null,null,null,null,null,null,null,null,null,null,null,null,{"$f":"SUM(AG393:AG395)","v":0},"[9]"]
[{"$f":"$A$35","v":"Bemerkungen"},null,null,null,null,null,null,null,null,null,null,null,null,null,null,null,null,null,null,null,null,null,null,null,null,null,null,null,null,null,null,null,{"$f":"SUM(AG391+AG397)","v":0},"[10]"]
[null,null,null,null,null,null,null,null,null,null,null,null,null,null,null,null,null,null,null,null,null,null,null,null,null,null,null,null,null,null,null,null,{"$f":"SUM(AG391:AG405)","v":0},"[11]"]
[null,null,null,null,null,null,null,null,null,null,null,null,null,null,null,null,null,null,null,null,null,null,null,null,null,null,null,null,null,null,null,null,{"$f":"AG390","v":181.05999999999997}]
[null,null,null,null,null,null,null,null,null,null,null,null,null,null,null,null,null,null,null,null,null,null,null,null,null,null,null,null,null,null,null,null,{"$f":"SUM(AG414-AG390)","v":-181.05999999999997}]
[{"$f":"$A$39","v":"Zusammenstellung"},null,null,null,null,null,{"$f":"$G$39","v":"Jan"},null,{"$f":"$I$39","v":"Feb"},null,{"$f":"$K$39","v":"Mrz"},null,{"$f":"$M$39","v":"Apr"},null,{"$f":"$O$39","v":"Mai"},null,{"$f":"$Q$39","v":"Jun"},null,{"$f":"$S$39","v":"Jul"},null,{"$f":"$U$39","v":"Aug"},null,{"$f":"$W$39","v":"Sep"},null,{"$f":"$Y$39","v":"Okt"},null,{"$f":"$AA$39","v":"Nov"},null,{"$f":"$AC$39","v":"Dez"},null,{"$f":"$AE$39","v":"Jahr"}]
[{"$f":"$A$40","v":"Anstellung %"},null,null,null,null,null,{"$f":"IF($B$4=0,0,$B$4)","v":100},null,{"$f":"IF($B$70=0,0,$B$70)","v":100},null,{"$f":"IF($B$133=0,0,$B$133)","v":100},null,{"$f":"IF($B$196=0,0,$B$196)","v":100},null,{"$f":"IF($B$259=0,0,$B$259)","v":100},null,{"$f":"IF($B$322=0,0,$B$322)","v":100},null,{"$f":"IF($B$385=0,0,$B$385)","v":100},null,{"$f":"IF($B$448=0,0,$B$448)","v":100},null,{"$f":"IF($B$511=0,0,$B$511)","v":100},null,{"$f":"IF($B$574=0,0,$B$574)","v":100},null,{"$f":"IF($B$637=0,0,$B$637)","v":100},null,{"$f":"IF($B$700=0,0,$B$700)","v":100}]
[{"$f":"$A$41","v":"Sollstunden gemäss GAV"},null,null,null,null,null,{"$f":"IF($AG$37=0,0,$AG$37)","v":172.82999999999998},null,{"$f":"IF($AG$100=0,0,$AG$100)","v":164.6},null,{"$f":"IF($AG$138=0,0,$AG$138)","v":189.28999999999996},null,{"$f":"IF($AG$226=0,0,$AG$226)","v":181.05999999999997},null,{"$f":"IF($AG$289=0,0,$AG$289)","v":172.82999999999998},null,{"$f":"IF($AG$352=0,0,$AG$352)","v":181.05999999999997},null,{"$f":"IF($AG$415=0,0,$AG$415)","v":181.05999999999997},null,{"$f":"IF($AG$478=0,0,$AG$478)","v":181.05999999999997},null,{"$f":"IF($AG$541=0,0,$AG$541)","v":181.05999999999997},null,{"$f":"IF($AG$604=0,0,$AG$604)","v":172.82999999999998},null,{"$f":"IF($AG$667=0,0,$AG$667)","v":181.05999999999997},null,{"$f":"IF($AG$730=0,0,$AG$730)","v":189.28999999999996},null,{"$f":"SUM(G419:AD419)","v":2148.0299999999997}]
[{"$f":"$A$42","v":"Produktive Stunden"},{"$f":"$B$42","v":"06.00 - 20.00 Uhr"},null,null,null,null,{"$f":"IF($AG$32=0,0,$AG$32)","v":0},null,{"$f":"IF($AG$95=0,0,$AG$95)","v":0},null,{"$f":"IF($AG$158=0,0,$AG$158)","v":0},null,{"$f":"IF($AG$221=0,0,$AG$221)","v":0},null,{"$f":"IF($AG$284=0,0,$AG$284)","v":0},null,{"$f":"IF($AG$347=0,0,$AG$347)","v":0},null,{"$f":"IF($AG$410=0,0,$AG$410)","v":0},null,{"$f":"IF($AG$473=0,0,$AG$473)","v":0},null,{"$f":"IF($AG$536=0,0,$AG$536)","v":0},null,{"$f":"IF($AG$599=0,0,$AG$599)","v":0},null,{"$f":"IF($AG$662=0,0,$AG$662)","v":0},null,{"$f":"IF($AG$725=0,0,$AG$725)","v":0},null,{"$f":"SUM(G420:AD420)","v":0}]
[null,{"$f":"$B$43","v":"Nacht-, Sonn-, Feiertagsarbeit"},null,null,null,null,{"$f":"IF($AG$33=0,0,$AG$33)","v":0},null,{"$f":"IF($AG$96=0,0,$AG$96)","v":0},null,{"$f":"IF($AG$159=0,0,$AG$159)","v":0},null,{"$f":"IF($AG$222=0,0,$AG$222)","v":0},null,{"$f":"IF($AG$285=0,0,$AG$285)","v":0},null,{"$f":"IF($AG$348=0,0,$AG$348)","v":0},null,{"$f":"IF($AG$411=0,0,$AG$411)","v":0},null,{"$f":"IF($AG$474=0,0,$AG$474)","v":0},null,{"$f":"IF($AG$537=0,0,$AG$537)","v":0},null,{"$f":"IF($AG$600=0,0,$AG$600)","v":0},null,{"$f":"IF($AG$663=0,0,$AG$663)","v":0},null,{"$f":"IF($AG$726=0,0,$AG$726)","v":0},null,{"$f":"SUM(G421:AD421)","v":0}]
[{"$f":"$A$44","v":"Zeitzuschläge"},{"$f":"$B$44","v":"aus Wochentotal"},null,null,null,null,{"$f":"IF($AG$25=0,0,$AG$25)","v":0},null,{"$f":"IF($AG$88=0,0,$AG$88)","v":0},null,{"$f":"IF($AG$151=0,0,$AG$151)","v":0},null,{"$f":"IF($AG$214=0,0,$AG$214)","v":0},null,{"$f":"IF($AG$277=0,0,$AG$277)","v":0},null,{"$f":"IF($AG$340=0,0,$AG$340)","v":0},null,{"$f":"IF($AG$403=0,0,$AG$403)","v":0},null,{"$f":"IF($AG$466=0,0,$AG$466)","v":0},null,{"$f":"IF($AG$529=0,0,$AG$529)","v":0},null,{"$f":"IF($AG$592=0,0,$AG$592)","v":0},null,{"$f":"IF($AG$655=0,0,$AG$655)","v":0},null,{"$f":"IF($AG$718=0,0,$AG$718)","v":0},null,{"$f":"SUM(G422:AD422)","v":0}]
[null,{"$f":"$B$45","v":"aus Nacht-, Sonn-, Feiertagsarbeiten"},null,null,null,null,{"$f":"IF($AJ$20=0,0,$AJ$20)","v":0},null,{"$f":"IF($AK$20=0,0,$AK$20)","v":0},null,{"$f":"IF($AL$20=0,0,$AL$20)","v":0},null,{"$f":"IF($AM$20=0,0,$AM$20)","v":0},null,{"$f":"IF($AN$20=0,0,$AN$20)","v":0},null,{"$f":"IF($AO$20=0,0,$AO$20)","v":0},null,{"$f":"IF($AP$20=0,0,$AP$20)","v":0},null,{"$f":"IF($AQ$20=0,0,$AQ$20)","v":0},null,{"$f":"IF($AR$20=0,0,$AR$20)","v":0},null,{"$f":"IF($AS$20=0,0,$AS$20)","v":0},null,{"$f":"IF($AT$20=0,0,$AT$20)","v":0},null,{"$f":"IF($AU$20=0,0,$AU$20)","v":0},null,{"$f":"SUM(G423:AD423)","v":0}]
[{"$f":"$A$46","v":"Unproduktive Stunden"}]
[{"$f":"$A$47","v":"   Absenzen, Kurzabsenzen Art. 11 GAV"},null,null,null,null,{"$f":"$F$47","v":"a"},{"$f":"IF($AJ$3=0,0,$AJ$3)","v":0},null,{"$f":"IF($AK$3=0,0,$AK$3)","v":0},null,{"$f":"IF($AL$3=0,0,$AL$3)","v":0},null,{"$f":"IF($AM$3=0,0,$AM$3)","v":0},null,{"$f":"IF($AN$3=0,0,$AN$3)","v":0},null,{"$f":"IF($AO$3=0,0,$AO$3)","v":0},null,{"$f":"IF($AP$3=0,0,$AP$3)","v":0},null,{"$f":"IF($AQ$3=0,0,$AQ$3)","v":0},null,{"$f":"IF($AR$3=0,0,$AR$3)","v":0},null,{"$f":"IF($AS$3=0,0,$AS$3)","v":0},null,{"$f":"IF(AT$3=0,0,$AT$3)","v":0},null,{"$f":"IF($AU$3=0,0,$AU$3)","v":0},null,{"$f":"IF($AV$3=0,0,$AV$3)","v":0}]
[{"$f":"$A$48","v":"   Ferien Art. 12.1 GAV"},null,null,null,null,{"$f":"$F$48","v":"f"},{"$f":"IF($AJ$4=0,0,$AJ$4)","v":0},null,{"$f":"IF($AK$4=0,0,$AK$4)","v":0},null,{"$f":"IF($AL$4=0,0,$AL$4)","v":0},null,{"$f":"IF($AM$4=0,0,$AM$4)","v":0},null,{"$f":"IF($AN$4=0,0,$AN$4)","v":0},null,{"$f":"IF($AO$4=0,0,$AO$4)","v":0},null,{"$f":"IF($AP$4=0,0,$AP$4)","v":0},null,{"$f":"IF($AQ$4=0,0,$AQ$4)","v":0},null,{"$f":"IF($AR$4=0,0,$AR$4)","v":0},null,{"$f":"IF($AS$4=0,0,$AS$4)","v":0},null,{"$f":"IF($AT$4=0,0,$AT$4)","v":0},null,{"$f":"IF($AU$4=0,0,$AU$4)","v":0},null,{"$f":"IF($AV$4=0,0,$AV$4)","v":0}]
[{"$f":"$A$49","v":"   Feiertage Art. 12.2 GAV"},null,{"$f":"IF($AJ$17=\"\",\"\",$AJ$17)","v":""},null,null,{"$f":"$F$49","v":"ft"},{"$f":"IF($AJ$15=0,0,$AJ$15)","v":0},null,{"$f":"IF($AK$15=0,0,$AK$15)","v":0},null,{"$f":"IF($AL$15=0,0,$AL$15)","v":0},null,{"$f":"IF($AM$15=0,0,$AM$15)","v":0},null,{"$f":"IF($AN$15=0,0,$AN$15)","v":0},null,{"$f":"IF($AO$15=0,0,$AO$15)","v":0},null,{"$f":"IF($AP$15=0,0,$AP$15)","v":0},null,{"$f":"IF($AQ$15=0,0,$AQ$15)","v":0},null,{"$f":"IF($AR$15=0,0,$AR$15)","v":0},null,{"$f":"IF($AS$15=0,0,$AS$15)","v":0},null,{"$f":"IF($AT$15=0,0,$AT$15)","v":0},null,{"$f":"IF($AU$15=0,0,$AU$15)","v":0},null,{"$f":"IF($AV$15=0,0,$AV$15)","v":0}]
[{"$f":"$A$50","v":"   Krankheit Art. 13 GAV"},null,null,null,null,{"$f":"$F$50","v":"k"},{"$f":"IF($AJ$5=0,0,$AJ$5)","v":0},null,{"$f":"IF($AK$5=0,0,$AK$5)","v":0},null,{"$f":"IF($AL$5=0,0,$AL$5)","v":0},null,{"$f":"IF($AM$5=0,0,$AM$5)","v":0},null,{"$f":"IF($AN$5=0,0,$AN$5)","v":0},null,{"$f":"IF($AO$5=0,0,$AO$5)","v":0},null,{"$f":"IF($AP$5=0,0,$AP$5)","v":0},null,{"$f":"IF($AQ$5=0,0,$AQ$5)","v":0},null,{"$f":"IF($AR$5=0,0,$AR$5)","v":0},null,{"$f":"IF($AS$5=0,0,$AS$5)","v":0},null,{"$f":"IF($AT$5=0,0,$AT$5)","v":0},null,{"$f":"IF($AU$5=0,0,$AU$5)","v":0},null,{"$f":"IF($AV$5=0,0,$AV$5)","v":0}]
[{"$f":"$A$51","v":"   Unfall Art. 14 GAV"},null,null,null,null,{"$f":"$F$51","v":"u"},{"$f":"IF($AJ$6=0,0,$AJ$6)","v":0},null,{"$f":"IF($AK$6=0,0,$AK$6)","v":0},null,{"$f":"IF($AL$6=0,0,$AL$6)","v":0},null,{"$f":"IF($AM$6=0,0,$AM$6)","v":0},null,{"$f":"IF($AN$6=0,0,$AN$6)","v":0},null,{"$f":"IF($AO$6=0,0,$AO$6)","v":0},null,{"$f":"IF($AP$6=0,0,$AP$6)","v":0},null,{"$f":"IF($AQ$6=0,0,$AQ$6)","v":0},null,{"$f":"IF($AR$6=0,0,$AR$6)","v":0},null,{"$f":"IF($AS$6=0,0,$AS$6)","v":0},null,{"$f":"IF($AT$6=0,0,$AT$6)","v":0},null,{"$f":"IF($AU$6=0,0,$AU$6)","v":0},null,{"$f":"IF($AV$6=0,0,$AV$6)","v":0}]
[{"$f":"$A$52","v":"   Schwangerschaft/Mutterschaft Art. 15 GAV"},null,null,null,null,{"$f":"$F$52","v":"s"},{"$f":"IF($AJ$7=0,0,$AJ$7)","v":0},null,{"$f":"IF($AK$7=0,0,$AK$7)","v":0},null,{"$f":"IF($AL$7=0,0,$AL$7)","v":0},null,{"$f":"IF($AM$7=0,0,$AM$7)","v":0},null,{"$f":"IF($AN$7=0,0,$AN$7)","v":0},null,{"$f":"IF($AO$7=0,0,$AO$7)","v":0},null,{"$f":"IF($AP$7=0,0,$AP$7)","v":0},null,{"$f":"IF($AQ$7=0,0,$AQ$7)","v":0},null,{"$f":"IF($AR$7=0,0,$AR$7)","v":0},null,{"$f":"IF($AS$7=0,0,$AS$7)","v":0},null,{"$f":"IF($AT$7=0,0,$AT$7)","v":0},null,{"$f":"IF($AU$7=0,0,$AU$7)","v":0},null,{"$f":"IF($AV$7=0,0,$AV$7)","v":0}]
[{"$f":"$A$53","v":"   Militär/Beförderung/Zivilschutz Art. 16 GAV"},null,null,null,null,{"$f":"$F$53","v":"m"},{"$f":"IF($AJ$8=0,0,$AJ$8)","v":0},null,{"$f":"IF($AK$8=0,0,$AK$8)","v":0},null,{"$f":"IF($AL$8=0,0,$AL$8)","v":0},null,{"$f":"IF($AM$8=0,0,$AM$8)","v":0},null,{"$f":"IF($AN$8=0,0,$AN$8)","v":0},null,{"$f":"IF($AO$8=0,0,$AO$8)","v":0},null,{"$f":"IF($AP$8=0,0,$AP$8)","v":0},null,{"$f":"IF($AQ$8=0,0,$AQ$8)","v":0},null,{"$f":"IF($AR$8=0,0,$AR$8)","v":0},null,{"$f":"IF($AS$8=0,0,$AS$8)","v":0},null,{"$f":"IF($AT$8=0,0,$AT$8)","v":0},null,{"$f":"IF($AU$8=0,0,$AU$8)","v":0},null,{"$f":"IF($AV$8=0,0,$AV$8)","v":0}]
[{"$f":"$A$54","v":"   Kurzarbeit und Schlechtwetterausfälle"},null,null,null,null,{"$f":"$F$54","v":"ka"},{"$f":"IF($AJ$11=0,0,$AJ$11)","v":0},null,{"$f":"IF($AK$11=0,0,$AK$11)","v":0},null,{"$f":"IF($AL$11=0,0,$AL$11)","v":0},null,{"$f":"IF($AM$11=0,0,$AM$11)","v":0},null,{"$f":"IF($AN$11=0,0,$AN$11)","v":0},null,{"$f":"IF($AO$11=0,0,$AO$11)","v":0},null,{"$f":"IF($AP$11=0,0,$AP$11)","v":0},null,{"$f":"IF($AQ$11=0,0,$AQ$11)","v":0},null,{"$f":"IF($AR$11=0,0,$AR$11)","v":0},null,{"$f":"IF($AS$11=0,0,$AS$11)","v":0},null,{"$f":"IF($AT$11=0,0,$AT$11)","v":0},null,{"$f":"IF($AU$11=0,0,$AU$11)","v":0},null,{"$f":"IF($AV$11=0,0,$AV$11)","v":0}]
[{"$f":"$A$55","v":"   Berufsschule"},null,null,null,null,{"$f":"$F$55","v":"bs"},{"$f":"IF($AJ$9=0,0,$AJ$9)","v":0},null,{"$f":"IF($AK$9=0,0,$AK$9)","v":0},null,{"$f":"IF($AL$9=0,0,$AL$9)","v":0},null,{"$f":"IF($AM$9=0,0,$AM$9)","v":0},null,{"$f":"IF($AN$9=0,0,$AN$9)","v":0},null,{"$f":"IF($AO$9=0,0,$AO$9)","v":0},null,{"$f":"IF($AP$9=0,0,$AP$9)","v":0},null,{"$f":"IF($AQ$9=0,0,$AQ$9)","v":0},null,{"$f":"IF($AR$9=0,0,$AR$9)","v":0},null,{"$f":"IF($AS$9=0,0,$AS$9)","v":0},null,{"$f":"IF($AT$9=0,0,$AT$9)","v":0},null,{"$f":"IF($AU$9=0,0,$AU$9)","v":0},null,{"$f":"IF($AV$9=0,0,$AV$9)","v":0}]
[{"$f":"$A$56","v":"   Kurse"},null,null,null,null,{"$f":"$F$56","v":"ku"},{"$f":"IF($AJ$10=0,0,$AJ$10)","v":0},null,{"$f":"IF($AK$10=0,0,$AK$10)","v":0},null,{"$f":"IF($AL$10=0,0,$AL$10)","v":0},null,{"$f":"IF($AM$10=0,0,$AM$10)","v":0},null,{"$f":"IF($AN$10=0,0,$AN$10)","v":0},null,{"$f":"IF($AO$10=0,0,$AO$10)","v":0},null,{"$f":"IF($AP$10=0,0,$AP$10)","v":0},null,{"$f":"IF($AQ$10=0,0,$AQ$10)","v":0},null,{"$f":"IF($AR$10=0,0,$AR$10)","v":0},null,{"$f":"IF($AS$10=0,0,$AS$10)","v":0},null,{"$f":"IF($AT$10=0,0,$AT$10)","v":0},null,{"$f":"IF($AU$10=0,0,$AU$10)","v":0},null,{"$f":"IF($AV$10=0,0,$AV$10)","v":0}]
[{"$f":"$A$57","v":"Kompensations-Std"},{"$f":"$B$57","v":"aus Vorjahr"},null,null,null,{"$f":"$F$57","v":"kv"},{"$f":"IF($AJ$12=0,0,$AJ$12)","v":0},null,{"$f":"IF($AK$12=0,0,$AK$12)","v":0},null,{"$f":"IF($AL$12=0,0,$AL$12)","v":0},null,{"$f":"IF($AM$12=0,0,$AM$12)","v":0},null,{"$f":"IF($AN$12=0,0,$AN$12)","v":0},null,{"$f":"IF($AO$12=0,0,$AO$12)","v":0},null,{"$f":"IF($AP$12=0,0,$AP$12)","v":0},null,{"$f":"IF($AQ$12=0,0,$AQ$12)","v":0},null,{"$f":"IF($AR$12=0,0,$AR$12)","v":0},null,null,null,null,null,null,null,{"$f":"IF($AV$12=0,0,$AV$12)","v":0}]
[null,{"$f":"$B$58","v":"aus laufendem Jahr (Kontrolle)"},null,null,null,{"$f":"$F$58","v":"kj"},{"$f":"IF($AJ$14=0,0,$AJ$14)","v":0},null,{"$f":"IF($AK$14=0,0,$AK$14)","v":0},null,{"$f":"IF($AL$14=0,0,$AL$14)","v":0},null,{"$f":"IF($AM$14=0,0,$AM$14)","v":0},null,{"$f":"IF($AN$14=0,0,$AN$14)","v":0},null,{"$f":"IF($AO$14=0,0,$AO$14)","v":0},null,{"$f":"IF($AP$14=0,0,$AP$14)","v":0},null,{"$f":"IF($AQ$14=0,0,$AQ$14)","v":0},null,{"$f":"IF($AR$14=0,0,$AR$14)","v":0},null,{"$f":"IF($AS$14=0,0,$AS$14)","v":0},null,{"$f":"IF($AT$14=0,0,$AT$14)","v":0},null,{"$f":"IF($AU$14=0,0,$AU$14)","v":0},null,{"$f":"IF($AV$14=0,0,$AV$14)","v":0}]
[{"$f":"$A$59","v":"Auszahlung"},{"$f":"$B$59","v":"Stunden Vorjahressaldo"},null,null,null,null,{"$f":"IF($AJ$18=0,0,$AJ$18)","v":0},null,{"$f":"IF($AK$18=0,0,$AK$18)","v":0},null,{"$f":"IF($AL$18=0,0,$AL$18)","v":0},null,{"$f":"IF($AM$18=0,0,$AM$18)","v":0},null,{"$f":"IF($AN$18=0,0,$AN$18)","v":0},null,{"$f":"IF($AO$18=0,0,$AO$18)","v":0},null,{"$f":"IF($AP$18=0,0,$AP$18)","v":0},null,{"$f":"IF($AQ$18=0,0,$AQ$18)","v":0},null,{"$f":"IF($AR$18=0,0,$AR$18)","v":0},null,null,null,null,null,null,null,{"$f":"IF($AV$18=0,0,$AV$18)","v":0}]
[{"$f":"$A$60","v":"Differenz"},{"$f":"$B$60","v":"nach Kompensation und Auszahlung"},null,null,null,null,{"$f":"IF(ROUND($P$4,3)=0,0,$P$4-SUM(G435+G437))","v":0},null,{"$f":"IF(ROUND(G438,3)=0,0,G438-(SUM(I437+I435)))","v":0},null,{"$f":"IF(ROUND(I438,3)=0,0,I438-(SUM(K437+K435)))","v":0},null,{"$f":"IF(ROUND(K438,3)=0,0,K438-(SUM(M437+M435)))","v":0},null,{"$f":"IF(ROUND(M438,3)=0,0,M438-(SUM(O437+O435)))","v":0},null,{"$f":"IF(ROUND(O438,3)=0,0,O438-(SUM(Q437+Q435)))","v":0},null,{"$f":"IF(ROUND(Q438,3)=0,0,Q438-(SUM(S437+S435)))","v":0},null,{"$f":"IF(ROUND(S438,3)=0,0,S438-(SUM(U437+U435)))","v":0},null,{"$f":"IF(ROUND(U438,3)=0,0,U438-(SUM(W437+W435)))","v":0},null,{"$f":"$Y$60","v":""}]
[{"$f":"$A$61","v":"Auszahlung"},{"$f":"$B$61","v":"Stunden laufendes Jahr"},null,null,null,null,{"$f":"IF($AJ$19=0,0,$AJ$19)","v":0},null,{"$f":"IF($AK$19=0,0,$AK$19)","v":0},null,{"$f":"IF($AL$19=0,0,$AL$19)","v":0},null,{"$f":"IF($AM$19=0,0,$AM$19)","v":0},null,{"$f":"IF($AN$19=0,0,$AN$19)","v":0},null,{"$f":"IF($AO$19=0,0,$AO$19)","v":0},null,{"$f":"IF($AP$19=0,0,$AP$19)","v":0},null,{"$f":"IF($AQ$19=0,0,$AQ$19)","v":0},null,{"$f":"IF($AR$19=0,0,$AR$19)","v":0},null,{"$f":"IF($AS$19=0,0,$AS$19)","v":0},null,{"$f":"IF($AT$19=0,0,$AT$19)","v":0},null,{"$f":"IF($AU$19=0,0,$AU$19)","v":0},null,{"$f":"IF($AV$19=0,0,$AV$19)","v":0}]
[{"$f":"$A$62","v":"Fehlstunden"},{"$f":"$B$62","v":"laufendes Jahr (Kontrolle)"},null,null,null,{"$f":"$F$62","v":"fe"},{"$f":"IF($AJ$13=0,0,$AJ$13)","v":0},null,{"$f":"IF($AK$13=0,0,$AK$13)","v":0},null,{"$f":"IF($AL$13=0,0,$AL$13)","v":0},null,{"$f":"IF($AM$13=0,0,$AM$13)","v":0},null,{"$f":"IF($AN$13=0,0,$AN$13)","v":0},null,{"$f":"IF($AO$13=0,0,$AO$13)","v":0},null,{"$f":"IF($AP$13=0,0,$AP$13)","v":0},null,{"$f":"IF($AQ$13=0,0,$AQ$13)","v":0},null,{"$f":"IF($AR$13=0,0,$AR$13)","v":0},null,{"$f":"IF($AS$13=0,0,$AS$13)","v":0},null,{"$f":"IF($AT$13=0,0,$AT$13)","v":0},null,{"$f":"IF($AU$13=0,0,$AU$13)","v":0},null,{"$f":"IF($AV$13=0,0,$AV$13)","v":0}]
[{"$f":"$A$63","v":"Total inkl. Zeitzuschläge"},{"$f":"$B$63","v":"Stunden produktiv und unproduktiv"},null,null,null,null,{"$f":"IF($AG$36=0,0,$AG$36)","v":0},null,{"$f":"IF($AG$99=0,0,$AG$99)","v":0},null,{"$f":"IF($AG$162=0,0,$AG$162)","v":0},null,{"$f":"IF($AG$225=0,0,$AG$225)","v":0},null,{"$f":"IF($AG$288=0,0,$AG$288)","v":0},null,{"$f":"IF($AG$351=0,0,$AG$351)","v":0},null,{"$f":"IF($AG$414=0,0,$AG$414)","v":0},null,{"$f":"IF($AG$477=0,0,$AG$477)","v":0},null,{"$f":"IF($AG$540=0,0,$AG$540)","v":0},null,{"$f":"IF($AG$603=0,0,$AG$603)","v":0},null,{"$f":"IF($AG$666=0,0,$AG$666)","v":0},null,{"$f":"IF($AG$729=0,0,$AG$729)","v":0},null,{"$f":"SUM($G$63:$AD$63)","v":0}]
[{"$f":"$A$64","v":"Vergleich"},{"$f":"$B$64","v":"Stunden zu Soll-Stunden (inkl. allfälli-\nge Minusstunden Vorjahr)"},null,null,null,null,{"$f":"$G$64","v":-172.82999999999998},null,{"$f":"$I$64","v":-164.6},null,{"$f":"$K$64","v":-189.28999999999996},null,{"$f":"$M$64","v":-181.05999999999997},null,{"$f":"$O$64","v":-172.82999999999998},null,{"$f":"$Q$64","v":-181.05999999999997},null,{"$f":"$S$64","v":-181.05999999999997},null,{"$f":"$U$64","v":-181.05999999999997},null,{"$f":"$W$64","v":-181.05999999999997},null,{"$f":"$Y$64","v":-172.82999999999998},null,{"$f":"$AA$64","v":-181.05999999999997},null,{"$f":"$AC$64","v":-189.28999999999996},null,{"$f":"$AE$64","v":-2148.0299999999997}]
[null,{"$f":"$B$65","v":"Stunden zu Soll-Stunden (kumuliert)"},null,null,null,null,{"$f":"$G$65","v":-172.82999999999998},null,{"$f":"$I$65","v":-337.42999999999995},null,{"$f":"$K$65","v":-526.71999999999991},null,{"$f":"$M$65","v":-707.77999999999986},null,{"$f":"$O$65","v":-880.6099999999999},null,{"$f":"$Q$65","v":-1061.6699999999998},null,{"$f":"$S$65","v":-1242.7299999999998},null,{"$f":"$U$65","v":-1423.7899999999997},null,{"$f":"$W$65","v":-1604.8499999999997},null,{"$f":"$Y$65","v":-1777.6799999999996},null,{"$f":"$AA$65","v":-1958.7399999999996},null,{"$f":"$AC$65","v":-2148.0299999999997},null,{"$f":"$AE$65","v":0}]
[{"$f":"$A$66","v":"Ferienkontrolle"},{"$f":"$B$66","v":"Ferienguthaben Vorjahr"},null,null,null,null,{"$f":"IF($AA$4=0,0,$AA$4)","v":0},null,{"$f":"$I$66","v":"Ferienguthaben nach \nArt. 12.1 GAV"},null,null,null,{"$f":"IF($AA$5=0,0,$AA$5)","v":0},null,{"$f":"$O$66","v":"Ferienguthaben total"},null,null,null,{"$f":"SUM(G444+M444)","v":0},null,{"$f":"$U$66","v":"Ferien bezogen"},null,null,null,{"$f":"IF($AV$4=0,0,$AV$4)","v":0},null,{"$f":"$AA$66","v":"Aktuelles Ferienguthaben"},null,null,null,{"$f":"IF(S444=0,0,S444-Y444)","v":0}]
[]
[]
[{"$f":"$A$3","v":"Mitarbeiter/In"},{"$f":"IF($B$3=\"\",\"\",$B$3)","v":"Muster Peter"},null,null,null,null,null,null,null,null,null,null,null,null,null,null,null,null,null,null,null,null,null,null,null,null,null,null,null,null,null,{"$f":"AF3","v":0}]
[{"$f":"$A$4","v":"Anstellung %"},100,null,{"$f":"Labels!B96","v":"im August"}]
[{"$f":"$A$5","v":"Saldo für das Jahr"},null,null,{"$f":"IF($AE$64=0,0,$AE$64)","v":-2148.0299999999997}]
[{"$f":"TEXT(DATE(YEAR(AP28),MONTH(AP28)+7,1),\"MMMM\"&Labels!B13)","v":"August"},{"$f":"$B$9","v":"Saldo Monat + / -"},null,null,null,{"$f":"(AG453-(SUM(AG454:AG468)-AE475))*-1","v":-181.05999999999997},null,null,null,null,{"$f":"$K$9","v":" = "},{"$f":"$L$9","v":"Gelbe Felder müssen ausgefüllt werden (die übrigen werden automatisch berechnet)"}]
[{"$f":"$A$10","v":"Tag"},{"$f":"AF388+1","v":"2021-08-01"},{"$f":"B451+1","v":"2021-08-02"},{"$f":"C451+1","v":"2021-08-03"},"2021-08-04","2021-08-05","2021-08-06","2021-08-07","2021-08-08","2021-08-09","2021-08-10","2021-08-11","2021-08-12","2021-08-13","2021-08-14","2021-08-15","2021-08-16","2021-08-17","2021-08-18","2021-08-19","2021-08-20","2021-08-21","2021-08-22","2021-08-23","2021-08-24","2021-08-25","2021-08-26","2021-08-27","2021-08-28","2021-08-29","2021-08-30","2021-08-31",{"$f":"COUNT(B453:AF453)&\" \"&Labels!$B$63","v":"22 Tage"}]
[{"$f":"$A$11","v":"Kalenderwoche"},{"$f":"IF(B451=\"\",\"\",TRUNC((B451-DATE(YEAR(B451+3-MOD(B451-2,7)),1,MOD(B451-2,7)-9))/7))","v":30},31,31,31,31,31,31,31,32,32,32,32,32,32,32,33,33,33,33,33,33,33,34,34,34,34,34,34,34,35,35]
[{"$f":"$A$12","v":"Sollstunden"},{"$f":"IF(MOD(B451,7)>=2,$J$7*$B$448%,\"\")","v":""},8.23,8.23,8.23,8.23,8.23,"","",8.23,8.23,8.23,8.23,8.23,"","",8.23,8.23,8.23,8.23,8.23,"","",8.23,8.23,8.23,8.23,8.23,"","",8.23,8.23,{"$f":"SUM(B453:AF453)","v":181.05999999999997}]
[{"$f":"$A$13","v":"Absenz in Std"},{"$f":"B980","v":0},{"$f":"C980","v":0},0,0,0,0,0,0,0,0,0,0,0,0,0,0,0,0,0,0,0,0,0,0,0,0,0,0,0,0,0,{"$f":"SUM(AQ3:AQ12)","v":0}]
[{"$f":"$A$14","v":"Code"},{"$f":"IF(B980<>0,IF(MAX(B967:B979)<B980,Labels!$B$163,INDEX($AH$967:$AH$979,MATCH(MAX(B967:B979),B967:B979,0))),\"\")","v":""},{"$f":"IF(C980<>0,IF(MAX(C967:C979)<C980,Labels!$B$163,INDEX($AH$967:$AH$979,MATCH(MAX(C967:C979),C967:C979,0))),\"\")","v":""},{"$f":"IF(D980<>0,IF(MAX(D967:D979)<D980,Labels!$B$163,INDEX($AH$967:$AH$979,MATCH(MAX(D967:D979),D967:D979,0))),\"\")","v":""},{"$f":"IF(E980<>0,IF(MAX(E967:E979)<E980,Labels!$B$163,INDEX($AH$967:$AH$979,MATCH(MAX(E967:E979),E967:E979,0))),\"\")","v":""},{"$f":"IF(F980<>0,IF(MAX(F967:F979)<F980,Labels!$B$163,INDEX($AH$967:$AH$979,MATCH(MAX(F967:F979),F967:F979,0))),\"\")","v":""},{"$f":"IF(G980<>0,IF(MAX(G967:G979)<G980,Labels!$B$163,INDEX($AH$967:$AH$979,MATCH(MAX(G967:G979),G967:G979,0))),\"\")","v":""},{"$f":"IF(H980<>0,IF(MAX(H967:H979)<H980,Labels!$B$163,INDEX($AH$967:$AH$979,MATCH(MAX(H967:H979),H967:H979,0))),\"\")","v":""},{"$f":"IF(I980<>0,IF(MAX(I967:I979)<I980,Labels!$B$163,INDEX($AH$967:$AH$979,MATCH(MAX(I967:I979),I967:I979,0))),\"\")","v":""},{"$f":"IF(J980<>0,IF(MAX(J967:J979)<J980,Labels!$B$163,INDEX($AH$967:$AH$979,MATCH(MAX(J967:J979),J967:J979,0))),\"\")","v":""},{"$f":"IF(K980<>0,IF(MAX(K967:K979)<K980,Labels!$B$163,INDEX($AH$967:$AH$979,MATCH(MAX(K967:K979),K967:K979,0))),\"\")","v":""},{"$f":"IF(L980<>0,IF(MAX(L967:L979)<L980,Labels!$B$163,INDEX($AH$967:$AH$979,MATCH(MAX(L967:L979),L967:L979,0))),\"\")","v":""},{"$f":"IF(M980<>0,IF(MAX(M967:M979)<M980,Labels!$B$163,INDEX($AH$967:$AH$979,MATCH(MAX(M967:M979),M967:M979,0))),\"\")","v":""},{"$f":"IF(N980<>0,IF(MAX(N967:N979)<N980,Labels!$B$163,INDEX($AH$967:$AH$979,MATCH(MAX(N967:N979),N967:N979,0))),\"\")","v":""},{"$f":"IF(O980<>0,IF(MAX(O967:O979)<O980,Labels!$B$163,INDEX($AH$967:$AH$979,MATCH(MAX(O967:O979),O967:O979,0))),\"\")","v":""},{"$f":"IF(P980<>0,IF(MAX(P967:P979)<P980,Labels!$B$163,INDEX($AH$967:$AH$979,MATCH(MAX(P967:P979),P967:P979,0))),\"\")","v":""},{"$f":"IF(Q980<>0,IF(MAX(Q967:Q979)<Q980,Labels!$B$163,INDEX($AH$967:$AH$979,MATCH(MAX(Q967:Q979),Q967:Q979,0))),\"\")","v":""},{"$f":"IF(R980<>0,IF(MAX(R967:R979)<R980,Labels!$B$163,INDEX($AH$967:$AH$979,MATCH(MAX(R967:R979),R967:R979,0))),\"\")","v":""},{"$f":"IF(S980<>0,IF(MAX(S967:S979)<S980,Labels!$B$163,INDEX($AH$967:$AH$979,MATCH(MAX(S967:S979),S967:S979,0))),\"\")","v":""},{"$f":"IF(T980<>0,IF(MAX(T967:T979)<T980,Labels!$B$163,INDEX($AH$967:$AH$979,MATCH(MAX(T967:T979),T967:T979,0))),\"\")","v":""},{"$f":"IF(U980<>0,IF(MAX(U967:U979)<U980,Labels!$B$163,INDEX($AH$967:$AH$979,MATCH(MAX(U967:U979),U967:U979,0))),\"\")","v":""},{"$f":"IF(V980<>0,IF(MAX(V967:V979)<V980,Labels!$B$163,INDEX($AH$967:$AH$979,MATCH(MAX(V967:V979),V967:V979,0))),\"\")","v":""},{"$f":"IF(W980<>0,IF(MAX(W967:W979)<W980,Labels!$B$163,INDEX($AH$967:$AH$979,MATCH(MAX(W967:W979),W967:W979,0))),\"\")","v":""},{"$f":"IF(X980<>0,IF(MAX(X967:X979)<X980,Labels!$B$163,INDEX($AH$967:$AH$979,MATCH(MAX(X967:X979),X967:X979,0))),\"\")","v":""},{"$f":"IF(Y980<>0,IF(MAX(Y967:Y979)<Y980,Labels!$B$163,INDEX($AH$967:$AH$979,MATCH(MAX(Y967:Y979),Y967:Y979,0))),\"\")","v":""},{"$f":"IF(Z980<>0,IF(MAX(Z967:Z979)<Z980,Labels!$B$163,INDEX($AH$967:$AH$979,MATCH(MAX(Z967:Z979),Z967:Z979,0))),\"\")","v":""},{"$f":"IF(AA980<>0,IF(MAX(AA967:AA979)<AA980,Labels!$B$163,INDEX($AH$967:$AH$979,MATCH(MAX(AA967:AA979),AA967:AA979,0))),\"\")","v":""},{"$f":"IF(AB980<>0,IF(MAX(AB967:AB979)<AB980,Labels!$B$163,INDEX($AH$967:$AH$979,MATCH(MAX(AB967:AB979),AB967:AB979,0))),\"\")","v":""},{"$f":"IF(AC980<>0,IF(MAX(AC967:AC979)<AC980,Labels!$B$163,INDEX($AH$967:$AH$979,MATCH(MAX(AC967:AC979),AC967:AC979,0))),\"\")","v":""},{"$f":"IF(AD980<>0,IF(MAX(AD967:AD979)<AD980,Labels!$B$163,INDEX($AH$967:$AH$979,MATCH(MAX(AD967:AD979),AD967:AD979,0))),\"\")","v":""},{"$f":"IF(AE980<>0,IF(MAX(AE967:AE979)<AE980,Labels!$B$163,INDEX($AH$967:$AH$979,MATCH(MAX(AE967:AE979),AE967:AE979,0))),\"\")","v":""},{"$f":"IF(AF980<>0,IF(MAX(AF967:AF979)<AF980,Labels!$B$163,INDEX($AH$967:$AH$979,MATCH(MAX(AF967:AF979),AF967:AF979,0))),\"\")","v":""}]
[{"$f":"$A$15","v":"00.00-06.00h"},null,null,null,null,null,null,null,null,null,null,null,null,null,null,null,null,null,null,null,null,null,null,null,null,null,null,null,null,null,null,null,{"$f":"SUM(B456:AF456)","v":0}]
[{"$f":"$A$16","v":"06.00-20.00h"},null,null,null,null,null,null,null,null,null,null,null,null,null,null,null,null,null,null,null,null,null,null,null,null,null,null,null,null,null,null,null,{"$f":"SUM(B457:AF457)","v":0}]
[{"$f":"$A$17","v":"20.00-24.00h"},null,null,null,null,null,null,null,null,null,null,null,null,null,null,null,null,null,null,null,null,null,null,null,null,null,null,null,null,null,null,null,{"$f":"SUM(B458:AF458)","v":0},"[0]"]
[{"$f":"$A$18","v":"Feiertag \"ft\""},{"$f":"IF(WEEKDAY(B451,2)<=6,IF(KALENDER!E17=\"x\",Labels!$B$118,\"\"),\"\")","v":""},{"$f":"IF(WEEKDAY(C451,2)<=6,IF(KALENDER!F17=\"x\",Labels!$B$118,\"\"),\"\")","v":""},{"$f":"IF(WEEKDAY(D451,2)<=6,IF(KALENDER!G17=\"x\",Labels!$B$118,\"\"),\"\")","v":""},{"$f":"IF(WEEKDAY(E451,2)<=6,IF(KALENDER!H17=\"x\",Labels!$B$118,\"\"),\"\")","v":""},{"$f":"IF(WEEKDAY(F451,2)<=6,IF(KALENDER!I17=\"x\",Labels!$B$118,\"\"),\"\")","v":""},{"$f":"IF(WEEKDAY(G451,2)<=6,IF(KALENDER!J17=\"x\",Labels!$B$118,\"\"),\"\")","v":""},{"$f":"IF(WEEKDAY(H451,2)<=6,IF(KALENDER!K17=\"x\",Labels!$B$118,\"\"),\"\")","v":""},{"$f":"IF(WEEKDAY(I451,2)<=6,IF(KALENDER!L17=\"x\",Labels!$B$118,\"\"),\"\")","v":""},{"$f":"IF(WEEKDAY(J451,2)<=6,IF(KALENDER!M17=\"x\",Labels!$B$118,\"\"),\"\")","v":""},{"$f":"IF(WEEKDAY(K451,2)<=6,IF(KALENDER!N17=\"x\",Labels!$B$118,\"\"),\"\")","v":""},{"$f":"IF(WEEKDAY(L451,2)<=6,IF(KALENDER!O17=\"x\",Labels!$B$118,\"\"),\"\")","v":""},{"$f":"IF(WEEKDAY(M451,2)<=6,IF(KALENDER!P17=\"x\",Labels!$B$118,\"\"),\"\")","v":""},{"$f":"IF(WEEKDAY(N451,2)<=6,IF(KALENDER!Q17=\"x\",Labels!$B$118,\"\"),\"\")","v":""},{"$f":"IF(WEEKDAY(O451,2)<=6,IF(KALENDER!R17=\"x\",Labels!$B$118,\"\"),\"\")","v":""},{"$f":"IF(WEEKDAY(P451,2)<=6,IF(KALENDER!S17=\"x\",Labels!$B$118,\"\"),\"\")","v":""},{"$f":"IF(WEEKDAY(Q451,2)<=6,IF(KALENDER!T17=\"x\",Labels!$B$118,\"\"),\"\")","v":""},{"$f":"IF(WEEKDAY(R451,2)<=6,IF(KALENDER!U17=\"x\",Labels!$B$118,\"\"),\"\")","v":""},{"$f":"IF(WEEKDAY(S451,2)<=6,IF(KALENDER!V17=\"x\",Labels!$B$118,\"\"),\"\")","v":""},{"$f":"IF(WEEKDAY(T451,2)<=6,IF(KALENDER!W17=\"x\",Labels!$B$118,\"\"),\"\")","v":""},{"$f":"IF(WEEKDAY(U451,2)<=6,IF(KALENDER!X17=\"x\",Labels!$B$118,\"\"),\"\")","v":""},{"$f":"IF(WEEKDAY(V451,2)<=6,IF(KALENDER!Y17=\"x\",Labels!$B$118,\"\"),\"\")","v":""},{"$f":"IF(WEEKDAY(W451,2)<=6,IF(KALENDER!Z17=\"x\",Labels!$B$118,\"\"),\"\")","v":""},{"$f":"IF(WEEKDAY(X451,2)<=6,IF(KALENDER!AA17=\"x\",Labels!$B$118,\"\"),\"\")","v":""},{"$f":"IF(WEEKDAY(Y451,2)<=6,IF(KALENDER!AB17=\"x\",Labels!$B$118,\"\"),\"\")","v":""},{"$f":"IF(WEEKDAY(Z451,2)<=6,IF(KALENDER!AC17=\"x\",Labels!$B$118,\"\"),\"\")","v":""},{"$f":"IF(WEEKDAY(AA451,2)<=6,IF(KALENDER!AD17=\"x\",Labels!$B$118,\"\"),\"\")","v":""},{"$f":"IF(WEEKDAY(AB451,2)<=6,IF(KALENDER!AE17=\"x\",Labels!$B$118,\"\"),\"\")","v":""},{"$f":"IF(WEEKDAY(AC451,2)<=6,IF(KALENDER!AF17=\"x\",Labels!$B$118,\"\"),\"\")","v":""},{"$f":"IF(WEEKDAY(AD451,2)<=6,IF(KALENDER!AG17=\"x\",Labels!$B$118,\"\"),\"\")","v":""},{"$f":"IF(WEEKDAY(AE451,2)<=6,IF(KALENDER!AH17=\"x\",Labels!$B$118,\"\"),\"\")","v":""},{"$f":"IF(WEEKDAY(AF451,2)<=6,IF(KALENDER!AI17=\"x\",Labels!$B$118,\"\"),\"\")","v":""}]
[{"$f":"$A$19","v":"Gutschrift \"ft\""},{"$f":"IF(AND(B459=Labels!$B$118,WEEKDAY(B451,2)<6),$J$7*$B$448%,\"\")","v":""},{"$f":"IF(AND(C459=Labels!$B$118,WEEKDAY(C451,2)<6),$J$7*$B$448%,\"\")","v":""},{"$f":"IF(AND(D459=Labels!$B$118,WEEKDAY(D451,2)<6),$J$7*$B$448%,\"\")","v":""},{"$f":"IF(AND(E459=Labels!$B$118,WEEKDAY(E451,2)<6),$J$7*$B$448%,\"\")","v":""},{"$f":"IF(AND(F459=Labels!$B$118,WEEKDAY(F451,2)<6),$J$7*$B$448%,\"\")","v":""},{"$f":"IF(AND(G459=Labels!$B$118,WEEKDAY(G451,2)<6),$J$7*$B$448%,\"\")","v":""},{"$f":"IF(AND(H459=Labels!$B$118,WEEKDAY(H451,2)<6),$J$7*$B$448%,\"\")","v":""},{"$f":"IF(AND(I459=Labels!$B$118,WEEKDAY(I451,2)<6),$J$7*$B$448%,\"\")","v":""},{"$f":"IF(AND(J459=Labels!$B$118,WEEKDAY(J451,2)<6),$J$7*$B$448%,\"\")","v":""},{"$f":"IF(AND(K459=Labels!$B$118,WEEKDAY(K451,2)<6),$J$7*$B$448%,\"\")","v":""},{"$f":"IF(AND(L459=Labels!$B$118,WEEKDAY(L451,2)<6),$J$7*$B$448%,\"\")","v":""},{"$f":"IF(AND(M459=Labels!$B$118,WEEKDAY(M451,2)<6),$J$7*$B$448%,\"\")","v":""},{"$f":"IF(AND(N459=Labels!$B$118,WEEKDAY(N451,2)<6),$J$7*$B$448%,\"\")","v":""},{"$f":"IF(AND(O459=Labels!$B$118,WEEKDAY(O451,2)<6),$J$7*$B$448%,\"\")","v":""},{"$f":"IF(AND(P459=Labels!$B$118,WEEKDAY(P451,2)<6),$J$7*$B$448%,\"\")","v":""},{"$f":"IF(AND(Q459=Labels!$B$118,WEEKDAY(Q451,2)<6),$J$7*$B$448%,\"\")","v":""},{"$f":"IF(AND(R459=Labels!$B$118,WEEKDAY(R451,2)<6),$J$7*$B$448%,\"\")","v":""},{"$f":"IF(AND(S459=Labels!$B$118,WEEKDAY(S451,2)<6),$J$7*$B$448%,\"\")","v":""},{"$f":"IF(AND(T459=Labels!$B$118,WEEKDAY(T451,2)<6),$J$7*$B$448%,\"\")","v":""},{"$f":"IF(AND(U459=Labels!$B$118,WEEKDAY(U451,2)<6),$J$7*$B$448%,\"\")","v":""},{"$f":"IF(AND(V459=Labels!$B$118,WEEKDAY(V451,2)<6),$J$7*$B$448%,\"\")","v":""},{"$f":"IF(AND(W459=Labels!$B$118,WEEKDAY(W451,2)<6),$J$7*$B$448%,\"\")","v":""},{"$f":"IF(AND(X459=Labels!$B$118,WEEKDAY(X451,2)<6),$J$7*$B$448%,\"\")","v":""},{"$f":"IF(AND(Y459=Labels!$B$118,WEEKDAY(Y451,2)<6),$J$7*$B$448%,\"\")","v":""},{"$f":"IF(AND(Z459=Labels!$B$118,WEEKDAY(Z451,2)<6),$J$7*$B$448%,\"\")","v":""},{"$f":"IF(AND(AA459=Labels!$B$118,WEEKDAY(AA451,2)<6),$J$7*$B$448%,\"\")","v":""},{"$f":"IF(AND(AB459=Labels!$B$118,WEEKDAY(AB451,2)<6),$J$7*$B$448%,\"\")","v":""},{"$f":"IF(AND(AC459=Labels!$B$118,WEEKDAY(AC451,2)<6),$J$7*$B$448%,\"\")","v":""},{"$f":"IF(AND(AD459=Labels!$B$118,WEEKDAY(AD451,2)<6),$J$7*$B$448%,\"\")","v":""},{"$f":"IF(AND(AE459=Labels!$B$118,WEEKDAY(AE451,2)<6),$J$7*$B$448%,\"\")","v":""},{"$f":"IF(AND(AF459=Labels!$B$118,WEEKDAY(AF451,2)<6),$J$7*$B$448%,\"\")","v":""},{"$f":"SUM(B460:AF460)","v":0}]
[{"$f":"$A$20","v":"Tagestotal"},{"$f":"SUM(B456:B458)","v":0},{"$f":"SUM(C456:C458)","v":0},0,0,0,0,0,0,0,0,0,0,0,0,0,0,0,0,0,0,0,0,0,0,0,0,0,0,0,0,0]
[{"$f":"$A$21","v":"."}]
[{"$f":"$A$22","v":"."}]
[{"$f":"$A$23","v":"Monatsübergang"},{"$f":"IF(WEEKDAY(B451)=1,TEXT(B451-1,\"MMM\"&Labels!B13),\"\")","v":"Jul"},null,null,null,null,null,null,null,null,null,null,null,null,null,null,null,null,null,null,null,null,null,null,null,null,null,null,null,null,null,{"$f":"IF(AND(WEEKDAY(AF451)>1,WEEKDAY(AF451)<7),TEXT(DATE($B$5,MONTH(AF451)+1,1),\"MMM\"&Labels!B13),\"\")","v":"Sep"}]
[{"$f":"$A$24","v":"Wochentotal"},{"$f":"IF(WEEKDAY(B451)=7,SUMIF($B389:$AF389,B452,$B398:$AF398)+SUMIF($B452:$AF452,B452,$B461:$AF461)+SUMIF($B515:$AF515,B452,$B524:$AF524),B464)","v":"Jul"},{"$f":"IF(WEEKDAY(C451)=7,SUMIF($B389:$AF389,C452,$B398:$AF398)+SUMIF($B452:$AF452,C452,$B461:$AF461)+SUMIF($B515:$AF515,C452,$B524:$AF524),\"\")","v":""},"","","","",0,"","","","","","",0,"","","","","","",0,"","","","","","",0,"","",{"$f":"IF(WEEKDAY(AF451)=7,SUMIF($B389:$AF389,AF452,$B398:$AF398)+SUMIF($B452:$AF452,AF452,$B461:$AF461)+SUMIF($B515:$AF515,AF452,$B524:$AF524),AF464)","v":"Sep"}]
[{"$f":"$A$25","v":"Zeitzuschlag 1)"},{"$f":"IF(B473=\"FALSCH\",\"\",B473)","v":""},{"$f":"IF(C473=\"FALSCH\",\"\",C473)","v":""},"","","","","","","","","","","","","","","","","","","","","","","","","","","","","",{"$f":"SUM(B466:AF466)","v":0}]
[{"$f":"$A$26","v":"Zeitzuschlag 2)"},{"$f":"IF((B456+B458)=0,\"\",SUM(B456,B458))","v":""},{"$f":"IF((C456+C458)=0,\"\",SUM(C456,C458))","v":""},"","","","","","","","","","","","","","","","","","","","","","","","","","","","","",0,"[1]"]
[{"$f":"$A$27","v":"Zeitzuschlag 3)"},{"$f":"SUM(B469:B472)","v":0},{"$f":"SUM(C469:C472)","v":0},0,0,0,0,0,0,0,0,0,0,0,0,0,0,0,0,0,0,0,0,0,0,0,0,0,0,0,0,0,{"$f":"SUM(B468:AF468)","v":0},"[2]"]
[{"$f":"$A$28","v":"Sonntag Tag"},{"$f":"IF(WEEKDAY(B451)=1,B457,\"\")","v":0},{"$f":"IF(WEEKDAY(C451)=1,C457,\"\")","v":""},"","","","","",0,"","","","","","",0,"","","","","","",0,"","","","","","",0,"","",0,"[3]"]
[{"$f":"$A$29","v":"Sonntag Nacht"},{"$f":"IF(WEEKDAY(B451)=1,SUM(B456+B458),\"\")","v":0},{"$f":"IF(WEEKDAY(C451)=1,SUM(C456+C458),\"\")","v":""},"","","","","",0,"","","","","","",0,"","","","","","",0,"","","","","","",0,"","",0,"[4]"]
[{"$f":"$A$30","v":"ft-Tazuschlag"},{"$f":"IF(B459=Labels!$B$118,B457,\"\")","v":""},{"$f":"IF(C459=Labels!$B$118,C457,\"\")","v":""},{"$f":"IF(D459=Labels!$B$118,D457,\"\")","v":""},{"$f":"IF(E459=Labels!$B$118,E457,\"\")","v":""},{"$f":"IF(F459=Labels!$B$118,F457,\"\")","v":""},{"$f":"IF(G459=Labels!$B$118,G457,\"\")","v":""},{"$f":"IF(H459=Labels!$B$118,H457,\"\")","v":""},{"$f":"IF(I459=Labels!$B$118,I457,\"\")","v":""},{"$f":"IF(J459=Labels!$B$118,J457,\"\")","v":""},{"$f":"IF(K459=Labels!$B$118,K457,\"\")","v":""},{"$f":"IF(L459=Labels!$B$118,L457,\"\")","v":""},{"$f":"IF(M459=Labels!$B$118,M457,\"\")","v":""},{"$f":"IF(N459=Labels!$B$118,N457,\"\")","v":""},{"$f":"IF(O459=Labels!$B$118,O457,\"\")","v":""},{"$f":"IF(P459=Labels!$B$118,P457,\"\")","v":""},{"$f":"IF(Q459=Labels!$B$118,Q457,\"\")","v":""},{"$f":"IF(R459=Labels!$B$118,R457,\"\")","v":""},{"$f":"IF(S459=Labels!$B$118,S457,\"\")","v":""},{"$f":"IF(T459=Labels!$B$118,T457,\"\")","v":""},{"$f":"IF(U459=Labels!$B$118,U457,\"\")","v":""},{"$f":"IF(V459=Labels!$B$118,V457,\"\")","v":""},{"$f":"IF(W459=Labels!$B$118,W457,\"\")","v":""},{"$f":"IF(X459=Labels!$B$118,X457,\"\")","v":""},{"$f":"IF(Y459=Labels!$B$118,Y457,\"\")","v":""},{"$f":"IF(Z459=Labels!$B$118,Z457,\"\")","v":""},{"$f":"IF(AA459=Labels!$B$118,AA457,\"\")","v":""},{"$f":"IF(AB459=Labels!$B$118,AB457,\"\")","v":""},{"$f":"IF(AC459=Labels!$B$118,AC457,\"\")","v":""},{"$f":"IF(AD459=Labels!$B$118,AD457,\"\")","v":""},{"$f":"IF(AE459=Labels!$B$118,AE457,\"\")","v":""},{"$f":"IF(AF459=Labels!$B$118,AF457,\"\")","v":""},0,"[5]"]
[{"$f":"$A$31","v":"ft-Nazuschlag"},{"$f":"IF(B459=Labels!$B$118,SUM(B456,B458),\"\")","v":""},{"$f":"IF(C459=Labels!$B$118,SUM(C456,C458),\"\")","v":""},{"$f":"IF(D459=Labels!$B$118,SUM(D456,D458),\"\")","v":""},{"$f":"IF(E459=Labels!$B$118,SUM(E456,E458),\"\")","v":""},{"$f":"IF(F459=Labels!$B$118,SUM(F456,F458),\"\")","v":""},{"$f":"IF(G459=Labels!$B$118,SUM(G456,G458),\"\")","v":""},{"$f":"IF(H459=Labels!$B$118,SUM(H456,H458),\"\")","v":""},{"$f":"IF(I459=Labels!$B$118,SUM(I456,I458),\"\")","v":""},{"$f":"IF(J459=Labels!$B$118,SUM(J456,J458),\"\")","v":""},{"$f":"IF(K459=Labels!$B$118,SUM(K456,K458),\"\")","v":""},{"$f":"IF(L459=Labels!$B$118,SUM(L456,L458),\"\")","v":""},{"$f":"IF(M459=Labels!$B$118,SUM(M456,M458),\"\")","v":""},{"$f":"IF(N459=Labels!$B$118,SUM(N456,N458),\"\")","v":""},{"$f":"IF(O459=Labels!$B$118,SUM(O456,O458),\"\")","v":""},{"$f":"IF(P459=Labels!$B$118,SUM(P456,P458),\"\")","v":""},{"$f":"IF(Q459=Labels!$B$118,SUM(Q456,Q458),\"\")","v":""},{"$f":"IF(R459=Labels!$B$118,SUM(R456,R458),\"\")","v":""},{"$f":"IF(S459=Labels!$B$118,SUM(S456,S458),\"\")","v":""},{"$f":"IF(T459=Labels!$B$118,SUM(T456,T458),\"\")","v":""},{"$f":"IF(U459=Labels!$B$118,SUM(U456,U458),\"\")","v":""},{"$f":"IF(V459=Labels!$B$118,SUM(V456,V458),\"\")","v":""},{"$f":"IF(W459=Labels!$B$118,SUM(W456,W458),\"\")","v":""},{"$f":"IF(X459=Labels!$B$118,SUM(X456,X458),\"\")","v":""},{"$f":"IF(Y459=Labels!$B$118,SUM(Y456,Y458),\"\")","v":""},{"$f":"IF(Z459=Labels!$B$118,SUM(Z456,Z458),\"\")","v":""},{"$f":"IF(AA459=Labels!$B$118,SUM(AA456,AA458),\"\")","v":""},{"$f":"IF(AB459=Labels!$B$118,SUM(AB456,AB458),\"\")","v":""},{"$f":"IF(AC459=Labels!$B$118,SUM(AC456,AC458),\"\")","v":""},{"$f":"IF(AD459=Labels!$B$118,SUM(AD456,AD458),\"\")","v":""},{"$f":"IF(AE459=Labels!$B$118,SUM(AE456,AE458),\"\")","v":""},{"$f":"IF(AF459=Labels!$B$118,SUM(AF456,AF458),\"\")","v":""},0,"[6]"]
[{"$f":"$A$32","v":"Zuschlag  blind (Wochentotal)"},{"$f":"IF(OR(ISTEXT(B465),B465=\"\",B465<$B$7),\"\",ROUND(((B465-$B$7)*25%)/25,4)*25)","v":""},{"$f":"IF(OR(ISTEXT(C465),C465=\"\",C465<$B$7),\"\",ROUND(((C465-$B$7)*25%)/25,4)*25)","v":""},"","","","","","","","","","","","","","","","","","","","","","","","","","","","","",{"$f":"AG457","v":0},"[7]"]
[null,{"$f":"$B$33","v":"1)   25% Zeitzuschlag für Überschreitung Wochentotal"},null,null,null,null,null,null,null,null,null,{"$f":"$L$33","v":"2) 100% Zeitzuschlag für Nachtarbeit"},null,null,null,null,null,null,null,{"$f":"$T$33","v":"Eingabe der ausbezahlten Stunden Vorjahressaldo"},null,null,null,null,null,null,null,null,null,null,null,null,{"$f":"SUM(AG456+AG458)","v":0},"[8]"]
[null,{"$f":"$B$34","v":"3) 100% Zeitzuschlag für Sonn- und Feiertagsarbeit"},null,null,null,null,null,null,null,null,null,null,null,null,null,null,null,null,null,{"$f":"$T$34","v":"Eingabe der ausbezahlten Stunden laufendes Jahr (Überstunden)"},null,null,null,null,null,null,null,null,null,null,null,null,{"$f":"SUM(AG456:AG458)","v":0},"[9]"]
[{"$f":"$A$35","v":"Bemerkungen"},null,null,null,null,null,null,null,null,null,null,null,null,null,null,null,null,null,null,null,null,null,null,null,null,null,null,null,null,null,null,null,{"$f":"SUM(AG454+AG460)","v":0},"[10]"]
[null,null,null,null,null,null,null,null,null,null,null,null,null,null,null,null,null,null,null,null,null,null,null,null,null,null,null,null,null,null,null,null,{"$f":"SUM(AG454:AG468)","v":0},"[11]"]
[null,null,null,null,null,null,null,null,null,null,null,null,null,null,null,null,null,null,null,null,null,null,null,null,null,null,null,null,null,null,null,null,{"$f":"AG453","v":181.05999999999997}]
[null,null,null,null,null,null,null,null,null,null,null,null,null,null,null,null,null,null,null,null,null,null,null,null,null,null,null,null,null,null,null,null,{"$f":"SUM(AG477-AG453)","v":-181.05999999999997}]
[{"$f":"$A$39","v":"Zusammenstellung"},null,null,null,null,null,{"$f":"$G$39","v":"Jan"},null,{"$f":"$I$39","v":"Feb"},null,{"$f":"$K$39","v":"Mrz"},null,{"$f":"$M$39","v":"Apr"},null,{"$f":"$O$39","v":"Mai"},null,{"$f":"$Q$39","v":"Jun"},null,{"$f":"$S$39","v":"Jul"},null,{"$f":"$U$39","v":"Aug"},null,{"$f":"$W$39","v":"Sep"},null,{"$f":"$Y$39","v":"Okt"},null,{"$f":"$AA$39","v":"Nov"},null,{"$f":"$AC$39","v":"Dez"},null,{"$f":"$AE$39","v":"Jahr"}]
[{"$f":"$A$40","v":"Anstellung %"},null,null,null,null,null,{"$f":"IF($B$4=0,0,$B$4)","v":100},null,{"$f":"IF($B$70=0,0,$B$70)","v":100},null,{"$f":"IF($B$133=0,0,$B$133)","v":100},null,{"$f":"IF($B$196=0,0,$B$196)","v":100},null,{"$f":"IF($B$259=0,0,$B$259)","v":100},null,{"$f":"IF($B$322=0,0,$B$322)","v":100},null,{"$f":"IF($B$385=0,0,$B$385)","v":100},null,{"$f":"IF($B$448=0,0,$B$448)","v":100},null,{"$f":"IF($B$511=0,0,$B$511)","v":100},null,{"$f":"IF($B$574=0,0,$B$574)","v":100},null,{"$f":"IF($B$637=0,0,$B$637)","v":100},null,{"$f":"IF($B$700=0,0,$B$700)","v":100}]
[{"$f":"$A$41","v":"Sollstunden gemäss GAV"},null,null,null,null,null,{"$f":"IF($AG$37=0,0,$AG$37)","v":172.82999999999998},null,{"$f":"IF($AG$100=0,0,$AG$100)","v":164.6},null,{"$f":"IF($AG$138=0,0,$AG$138)","v":189.28999999999996},null,{"$f":"IF($AG$226=0,0,$AG$226)","v":181.05999999999997},null,{"$f":"IF($AG$289=0,0,$AG$289)","v":172.82999999999998},null,{"$f":"IF($AG$352=0,0,$AG$352)","v":181.05999999999997},null,{"$f":"IF($AG$415=0,0,$AG$415)","v":181.05999999999997},null,{"$f":"IF($AG$478=0,0,$AG$478)","v":181.05999999999997},null,{"$f":"IF($AG$541=0,0,$AG$541)","v":181.05999999999997},null,{"$f":"IF($AG$604=0,0,$AG$604)","v":172.82999999999998},null,{"$f":"IF($AG$667=0,0,$AG$667)","v":181.05999999999997},null,{"$f":"IF($AG$730=0,0,$AG$730)","v":189.28999999999996},null,{"$f":"SUM(G482:AD482)","v":2148.0299999999997}]
[{"$f":"$A$42","v":"Produktive Stunden"},{"$f":"$B$42","v":"06.00 - 20.00 Uhr"},null,null,null,null,{"$f":"IF($AG$32=0,0,$AG$32)","v":0},null,{"$f":"IF($AG$95=0,0,$AG$95)","v":0},null,{"$f":"IF($AG$158=0,0,$AG$158)","v":0},null,{"$f":"IF($AG$221=0,0,$AG$221)","v":0},null,{"$f":"IF($AG$284=0,0,$AG$284)","v":0},null,{"$f":"IF($AG$347=0,0,$AG$347)","v":0},null,{"$f":"IF($AG$410=0,0,$AG$410)","v":0},null,{"$f":"IF($AG$473=0,0,$AG$473)","v":0},null,{"$f":"IF($AG$536=0,0,$AG$536)","v":0},null,{"$f":"IF($AG$599=0,0,$AG$599)","v":0},null,{"$f":"IF($AG$662=0,0,$AG$662)","v":0},null,{"$f":"IF($AG$725=0,0,$AG$725)","v":0},null,{"$f":"SUM(G483:AD483)","v":0}]
[null,{"$f":"$B$43","v":"Nacht-, Sonn-, Feiertagsarbeit"},null,null,null,null,{"$f":"IF($AG$33=0,0,$AG$33)","v":0},null,{"$f":"IF($AG$96=0,0,$AG$96)","v":0},null,{"$f":"IF($AG$159=0,0,$AG$159)","v":0},null,{"$f":"IF($AG$222=0,0,$AG$222)","v":0},null,{"$f":"IF($AG$285=0,0,$AG$285)","v":0},null,{"$f":"IF($AG$348=0,0,$AG$348)","v":0},null,{"$f":"IF($AG$411=0,0,$AG$411)","v":0},null,{"$f":"IF($AG$474=0,0,$AG$474)","v":0},null,{"$f":"IF($AG$537=0,0,$AG$537)","v":0},null,{"$f":"IF($AG$600=0,0,$AG$600)","v":0},null,{"$f":"IF($AG$663=0,0,$AG$663)","v":0},null,{"$f":"IF($AG$726=0,0,$AG$726)","v":0},null,{"$f":"SUM(G484:AD484)","v":0}]
[{"$f":"$A$44","v":"Zeitzuschläge"},{"$f":"$B$44","v":"aus Wochentotal"},null,null,null,null,{"$f":"IF($AG$25=0,0,$AG$25)","v":0},null,{"$f":"IF($AG$88=0,0,$AG$88)","v":0},null,{"$f":"IF($AG$151=0,0,$AG$151)","v":0},null,{"$f":"IF($AG$214=0,0,$AG$214)","v":0},null,{"$f":"IF($AG$277=0,0,$AG$277)","v":0},null,{"$f":"IF($AG$340=0,0,$AG$340)","v":0},null,{"$f":"IF($AG$403=0,0,$AG$403)","v":0},null,{"$f":"IF($AG$466=0,0,$AG$466)","v":0},null,{"$f":"IF($AG$529=0,0,$AG$529)","v":0},null,{"$f":"IF($AG$592=0,0,$AG$592)","v":0},null,{"$f":"IF($AG$655=0,0,$AG$655)","v":0},null,{"$f":"IF($AG$718=0,0,$AG$718)","v":0},null,{"$f":"SUM(G485:AD485)","v":0}]
[null,{"$f":"$B$45","v":"aus Nacht-, Sonn-, Feiertagsarbeiten"},null,null,null,null,{"$f":"IF($AJ$20=0,0,$AJ$20)","v":0},null,{"$f":"IF($AK$20=0,0,$AK$20)","v":0},null,{"$f":"IF($AL$20=0,0,$AL$20)","v":0},null,{"$f":"IF($AM$20=0,0,$AM$20)","v":0},null,{"$f":"IF($AN$20=0,0,$AN$20)","v":0},null,{"$f":"IF($AO$20=0,0,$AO$20)","v":0},null,{"$f":"IF($AP$20=0,0,$AP$20)","v":0},null,{"$f":"IF($AQ$20=0,0,$AQ$20)","v":0},null,{"$f":"IF($AR$20=0,0,$AR$20)","v":0},null,{"$f":"IF($AS$20=0,0,$AS$20)","v":0},null,{"$f":"IF($AT$20=0,0,$AT$20)","v":0},null,{"$f":"IF($AU$20=0,0,$AU$20)","v":0},null,{"$f":"SUM(G486:AD486)","v":0}]
[{"$f":"$A$46","v":"Unproduktive Stunden"}]
[{"$f":"$A$47","v":"   Absenzen, Kurzabsenzen Art. 11 GAV"},null,null,null,null,{"$f":"$F$47","v":"a"},{"$f":"IF($AJ$3=0,0,$AJ$3)","v":0},null,{"$f":"IF($AK$3=0,0,$AK$3)","v":0},null,{"$f":"IF($AL$3=0,0,$AL$3)","v":0},null,{"$f":"IF($AM$3=0,0,$AM$3)","v":0},null,{"$f":"IF($AN$3=0,0,$AN$3)","v":0},null,{"$f":"IF($AO$3=0,0,$AO$3)","v":0},null,{"$f":"IF($AP$3=0,0,$AP$3)","v":0},null,{"$f":"IF($AQ$3=0,0,$AQ$3)","v":0},null,{"$f":"IF($AR$3=0,0,$AR$3)","v":0},null,{"$f":"IF($AS$3=0,0,$AS$3)","v":0},null,{"$f":"IF(AT$3=0,0,$AT$3)","v":0},null,{"$f":"IF($AU$3=0,0,$AU$3)","v":0},null,{"$f":"IF($AV$3=0,0,$AV$3)","v":0}]
[{"$f":"$A$48","v":"   Ferien Art. 12.1 GAV"},null,null,null,null,{"$f":"$F$48","v":"f"},{"$f":"IF($AJ$4=0,0,$AJ$4)","v":0},null,{"$f":"IF($AK$4=0,0,$AK$4)","v":0},null,{"$f":"IF($AL$4=0,0,$AL$4)","v":0},null,{"$f":"IF($AM$4=0,0,$AM$4)","v":0},null,{"$f":"IF($AN$4=0,0,$AN$4)","v":0},null,{"$f":"IF($AO$4=0,0,$AO$4)","v":0},null,{"$f":"IF($AP$4=0,0,$AP$4)","v":0},null,{"$f":"IF($AQ$4=0,0,$AQ$4)","v":0},null,{"$f":"IF($AR$4=0,0,$AR$4)","v":0},null,{"$f":"IF($AS$4=0,0,$AS$4)","v":0},null,{"$f":"IF($AT$4=0,0,$AT$4)","v":0},null,{"$f":"IF($AU$4=0,0,$AU$4)","v":0},null,{"$f":"IF($AV$4=0,0,$AV$4)","v":0}]
[{"$f":"$A$49","v":"   Feiertage Art. 12.2 GAV"},null,{"$f":"IF($AJ$17=\"\",\"\",$AJ$17)","v":""},null,null,{"$f":"$F$49","v":"ft"},{"$f":"IF($AJ$15=0,0,$AJ$15)","v":0},null,{"$f":"IF($AK$15=0,0,$AK$15)","v":0},null,{"$f":"IF($AL$15=0,0,$AL$15)","v":0},null,{"$f":"IF($AM$15=0,0,$AM$15)","v":0},null,{"$f":"IF($AN$15=0,0,$AN$15)","v":0},null,{"$f":"IF($AO$15=0,0,$AO$15)","v":0},null,{"$f":"IF($AP$15=0,0,$AP$15)","v":0},null,{"$f":"IF($AQ$15=0,0,$AQ$15)","v":0},null,{"$f":"IF($AR$15=0,0,$AR$15)","v":0},null,{"$f":"IF($AS$15=0,0,$AS$15)","v":0},null,{"$f":"IF($AT$15=0,0,$AT$15)","v":0},null,{"$f":"IF($AU$15=0,0,$AU$15)","v":0},null,{"$f":"IF($AV$15=0,0,$AV$15)","v":0}]
[{"$f":"$A$50","v":"   Krankheit Art. 13 GAV"},null,null,null,null,{"$f":"$F$50","v":"k"},{"$f":"IF($AJ$5=0,0,$AJ$5)","v":0},null,{"$f":"IF($AK$5=0,0,$AK$5)","v":0},null,{"$f":"IF($AL$5=0,0,$AL$5)","v":0},null,{"$f":"IF($AM$5=0,0,$AM$5)","v":0},null,{"$f":"IF($AN$5=0,0,$AN$5)","v":0},null,{"$f":"IF($AO$5=0,0,$AO$5)","v":0},null,{"$f":"IF($AP$5=0,0,$AP$5)","v":0},null,{"$f":"IF($AQ$5=0,0,$AQ$5)","v":0},null,{"$f":"IF($AR$5=0,0,$AR$5)","v":0},null,{"$f":"IF($AS$5=0,0,$AS$5)","v":0},null,{"$f":"IF($AT$5=0,0,$AT$5)","v":0},null,{"$f":"IF($AU$5=0,0,$AU$5)","v":0},null,{"$f":"IF($AV$5=0,0,$AV$5)","v":0}]
[{"$f":"$A$51","v":"   Unfall Art. 14 GAV"},null,null,null,null,{"$f":"$F$51","v":"u"},{"$f":"IF($AJ$6=0,0,$AJ$6)","v":0},null,{"$f":"IF($AK$6=0,0,$AK$6)","v":0},null,{"$f":"IF($AL$6=0,0,$AL$6)","v":0},null,{"$f":"IF($AM$6=0,0,$AM$6)","v":0},null,{"$f":"IF($AN$6=0,0,$AN$6)","v":0},null,{"$f":"IF($AO$6=0,0,$AO$6)","v":0},null,{"$f":"IF($AP$6=0,0,$AP$6)","v":0},null,{"$f":"IF($AQ$6=0,0,$AQ$6)","v":0},null,{"$f":"IF($AR$6=0,0,$AR$6)","v":0},null,{"$f":"IF($AS$6=0,0,$AS$6)","v":0},null,{"$f":"IF($AT$6=0,0,$AT$6)","v":0},null,{"$f":"IF($AU$6=0,0,$AU$6)","v":0},null,{"$f":"IF($AV$6=0,0,$AV$6)","v":0}]
[{"$f":"$A$52","v":"   Schwangerschaft/Mutterschaft Art. 15 GAV"},null,null,null,null,{"$f":"$F$52","v":"s"},{"$f":"IF($AJ$7=0,0,$AJ$7)","v":0},null,{"$f":"IF($AK$7=0,0,$AK$7)","v":0},null,{"$f":"IF($AL$7=0,0,$AL$7)","v":0},null,{"$f":"IF($AM$7=0,0,$AM$7)","v":0},null,{"$f":"IF($AN$7=0,0,$AN$7)","v":0},null,{"$f":"IF($AO$7=0,0,$AO$7)","v":0},null,{"$f":"IF($AP$7=0,0,$AP$7)","v":0},null,{"$f":"IF($AQ$7=0,0,$AQ$7)","v":0},null,{"$f":"IF($AR$7=0,0,$AR$7)","v":0},null,{"$f":"IF($AS$7=0,0,$AS$7)","v":0},null,{"$f":"IF($AT$7=0,0,$AT$7)","v":0},null,{"$f":"IF($AU$7=0,0,$AU$7)","v":0},null,{"$f":"IF($AV$7=0,0,$AV$7)","v":0}]
[{"$f":"$A$53","v":"   Militär/Beförderung/Zivilschutz Art. 16 GAV"},null,null,null,null,{"$f":"$F$53","v":"m"},{"$f":"IF($AJ$8=0,0,$AJ$8)","v":0},null,{"$f":"IF($AK$8=0,0,$AK$8)","v":0},null,{"$f":"IF($AL$8=0,0,$AL$8)","v":0},null,{"$f":"IF($AM$8=0,0,$AM$8)","v":0},null,{"$f":"IF($AN$8=0,0,$AN$8)","v":0},null,{"$f":"IF($AO$8=0,0,$AO$8)","v":0},null,{"$f":"IF($AP$8=0,0,$AP$8)","v":0},null,{"$f":"IF($AQ$8=0,0,$AQ$8)","v":0},null,{"$f":"IF($AR$8=0,0,$AR$8)","v":0},null,{"$f":"IF($AS$8=0,0,$AS$8)","v":0},null,{"$f":"IF($AT$8=0,0,$AT$8)","v":0},null,{"$f":"IF($AU$8=0,0,$AU$8)","v":0},null,{"$f":"IF($AV$8=0,0,$AV$8)","v":0}]
[{"$f":"$A$54","v":"   Kurzarbeit und Schlechtwetterausfälle"},null,null,null,null,{"$f":"$F$54","v":"ka"},{"$f":"IF($AJ$11=0,0,$AJ$11)","v":0},null,{"$f":"IF($AK$11=0,0,$AK$11)","v":0},null,{"$f":"IF($AL$11=0,0,$AL$11)","v":0},null,{"$f":"IF($AM$11=0,0,$AM$11)","v":0},null,{"$f":"IF($AN$11=0,0,$AN$11)","v":0},null,{"$f":"IF($AO$11=0,0,$AO$11)","v":0},null,{"$f":"IF($AP$11=0,0,$AP$11)","v":0},null,{"$f":"IF($AQ$11=0,0,$AQ$11)","v":0},null,{"$f":"IF($AR$11=0,0,$AR$11)","v":0},null,{"$f":"IF($AS$11=0,0,$AS$11)","v":0},null,{"$f":"IF($AT$11=0,0,$AT$11)","v":0},null,{"$f":"IF($AU$11=0,0,$AU$11)","v":0},null,{"$f":"IF($AV$11=0,0,$AV$11)","v":0}]
[{"$f":"$A$55","v":"   Berufsschule"},null,null,null,null,{"$f":"$F$55","v":"bs"},{"$f":"IF($AJ$9=0,0,$AJ$9)","v":0},null,{"$f":"IF($AK$9=0,0,$AK$9)","v":0},null,{"$f":"IF($AL$9=0,0,$AL$9)","v":0},null,{"$f":"IF($AM$9=0,0,$AM$9)","v":0},null,{"$f":"IF($AN$9=0,0,$AN$9)","v":0},null,{"$f":"IF($AO$9=0,0,$AO$9)","v":0},null,{"$f":"IF($AP$9=0,0,$AP$9)","v":0},null,{"$f":"IF($AQ$9=0,0,$AQ$9)","v":0},null,{"$f":"IF($AR$9=0,0,$AR$9)","v":0},null,{"$f":"IF($AS$9=0,0,$AS$9)","v":0},null,{"$f":"IF($AT$9=0,0,$AT$9)","v":0},null,{"$f":"IF($AU$9=0,0,$AU$9)","v":0},null,{"$f":"IF($AV$9=0,0,$AV$9)","v":0}]
[{"$f":"$A$56","v":"   Kurse"},null,null,null,null,{"$f":"$F$56","v":"ku"},{"$f":"IF($AJ$10=0,0,$AJ$10)","v":0},null,{"$f":"IF($AK$10=0,0,$AK$10)","v":0},null,{"$f":"IF($AL$10=0,0,$AL$10)","v":0},null,{"$f":"IF($AM$10=0,0,$AM$10)","v":0},null,{"$f":"IF($AN$10=0,0,$AN$10)","v":0},null,{"$f":"IF($AO$10=0,0,$AO$10)","v":0},null,{"$f":"IF($AP$10=0,0,$AP$10)","v":0},null,{"$f":"IF($AQ$10=0,0,$AQ$10)","v":0},null,{"$f":"IF($AR$10=0,0,$AR$10)","v":0},null,{"$f":"IF($AS$10=0,0,$AS$10)","v":0},null,{"$f":"IF($AT$10=0,0,$AT$10)","v":0},null,{"$f":"IF($AU$10=0,0,$AU$10)","v":0},null,{"$f":"IF($AV$10=0,0,$AV$10)","v":0}]
[{"$f":"$A$57","v":"Kompensations-Std"},{"$f":"$B$57","v":"aus Vorjahr"},null,null,null,{"$f":"$F$57","v":"kv"},{"$f":"IF($AJ$12=0,0,$AJ$12)","v":0},null,{"$f":"IF($AK$12=0,0,$AK$12)","v":0},null,{"$f":"IF($AL$12=0,0,$AL$12)","v":0},null,{"$f":"IF($AM$12=0,0,$AM$12)","v":0},null,{"$f":"IF($AN$12=0,0,$AN$12)","v":0},null,{"$f":"IF($AO$12=0,0,$AO$12)","v":0},null,{"$f":"IF($AP$12=0,0,$AP$12)","v":0},null,{"$f":"IF($AQ$12=0,0,$AQ$12)","v":0},null,{"$f":"IF($AR$12=0,0,$AR$12)","v":0},null,null,null,null,null,null,null,{"$f":"IF($AV$12=0,0,$AV$12)","v":0}]
[null,{"$f":"$B$58","v":"aus laufendem Jahr (Kontrolle)"},null,null,null,{"$f":"$F$58","v":"kj"},{"$f":"IF($AJ$14=0,0,$AJ$14)","v":0},null,{"$f":"IF($AK$14=0,0,$AK$14)","v":0},null,{"$f":"IF($AL$14=0,0,$AL$14)","v":0},null,{"$f":"IF($AM$14=0,0,$AM$14)","v":0},null,{"$f":"IF($AN$14=0,0,$AN$14)","v":0},null,{"$f":"IF($AO$14=0,0,$AO$14)","v":0},null,{"$f":"IF($AP$14=0,0,$AP$14)","v":0},null,{"$f":"IF($AQ$14=0,0,$AQ$14)","v":0},null,{"$f":"IF($AR$14=0,0,$AR$14)","v":0},null,{"$f":"IF($AS$14=0,0,$AS$14)","v":0},null,{"$f":"IF($AT$14=0,0,$AT$14)","v":0},null,{"$f":"IF($AU$14=0,0,$AU$14)","v":0},null,{"$f":"IF($AV$14=0,0,$AV$14)","v":0}]
[{"$f":"$A$59","v":"Auszahlung"},{"$f":"$B$59","v":"Stunden Vorjahressaldo"},null,null,null,null,{"$f":"IF($AJ$18=0,0,$AJ$18)","v":0},null,{"$f":"IF($AK$18=0,0,$AK$18)","v":0},null,{"$f":"IF($AL$18=0,0,$AL$18)","v":0},null,{"$f":"IF($AM$18=0,0,$AM$18)","v":0},null,{"$f":"IF($AN$18=0,0,$AN$18)","v":0},null,{"$f":"IF($AO$18=0,0,$AO$18)","v":0},null,{"$f":"IF($AP$18=0,0,$AP$18)","v":0},null,{"$f":"IF($AQ$18=0,0,$AQ$18)","v":0},null,{"$f":"IF($AR$18=0,0,$AR$18)","v":0},null,null,null,null,null,null,null,{"$f":"IF($AV$18=0,0,$AV$18)","v":0}]
[{"$f":"$A$60","v":"Differenz"},{"$f":"$B$60","v":"nach Kompensation und Auszahlung"},null,null,null,null,{"$f":"IF(ROUND($P$4,3)=0,0,$P$4-SUM(G498+G500))","v":0},null,{"$f":"IF(ROUND(G501,3)=0,0,G501-(SUM(I500+I498)))","v":0},null,{"$f":"IF(ROUND(I501,3)=0,0,I501-(SUM(K500+K498)))","v":0},null,{"$f":"IF(ROUND(K501,3)=0,0,K501-(SUM(M500+M498)))","v":0},null,{"$f":"IF(ROUND(M501,3)=0,0,M501-(SUM(O500+O498)))","v":0},null,{"$f":"IF(ROUND(O501,3)=0,0,O501-(SUM(Q500+Q498)))","v":0},null,{"$f":"IF(ROUND(Q501,3)=0,0,Q501-(SUM(S500+S498)))","v":0},null,{"$f":"IF(ROUND(S501,3)=0,0,S501-(SUM(U500+U498)))","v":0},null,{"$f":"IF(ROUND(U501,3)=0,0,U501-(SUM(W500+W498)))","v":0},null,{"$f":"$Y$60","v":""}]
[{"$f":"$A$61","v":"Auszahlung"},{"$f":"$B$61","v":"Stunden laufendes Jahr"},null,null,null,null,{"$f":"IF($AJ$19=0,0,$AJ$19)","v":0},null,{"$f":"IF($AK$19=0,0,$AK$19)","v":0},null,{"$f":"IF($AL$19=0,0,$AL$19)","v":0},null,{"$f":"IF($AM$19=0,0,$AM$19)","v":0},null,{"$f":"IF($AN$19=0,0,$AN$19)","v":0},null,{"$f":"IF($AO$19=0,0,$AO$19)","v":0},null,{"$f":"IF($AP$19=0,0,$AP$19)","v":0},null,{"$f":"IF($AQ$19=0,0,$AQ$19)","v":0},null,{"$f":"IF($AR$19=0,0,$AR$19)","v":0},null,{"$f":"IF($AS$19=0,0,$AS$19)","v":0},null,{"$f":"IF($AT$19=0,0,$AT$19)","v":0},null,{"$f":"IF($AU$19=0,0,$AU$19)","v":0},null,{"$f":"IF($AV$19=0,0,$AV$19)","v":0}]
[{"$f":"$A$62","v":"Fehlstunden"},{"$f":"$B$62","v":"laufendes Jahr (Kontrolle)"},null,null,null,{"$f":"$F$62","v":"fe"},{"$f":"IF($AJ$13=0,0,$AJ$13)","v":0},null,{"$f":"IF($AK$13=0,0,$AK$13)","v":0},null,{"$f":"IF($AL$13=0,0,$AL$13)","v":0},null,{"$f":"IF($AM$13=0,0,$AM$13)","v":0},null,{"$f":"IF($AN$13=0,0,$AN$13)","v":0},null,{"$f":"IF($AO$13=0,0,$AO$13)","v":0},null,{"$f":"IF($AP$13=0,0,$AP$13)","v":0},null,{"$f":"IF($AQ$13=0,0,$AQ$13)","v":0},null,{"$f":"IF($AR$13=0,0,$AR$13)","v":0},null,{"$f":"IF($AS$13=0,0,$AS$13)","v":0},null,{"$f":"IF($AT$13=0,0,$AT$13)","v":0},null,{"$f":"IF($AU$13=0,0,$AU$13)","v":0},null,{"$f":"IF($AV$13=0,0,$AV$13)","v":0}]
[{"$f":"$A$63","v":"Total inkl. Zeitzuschläge"},{"$f":"$B$63","v":"Stunden produktiv und unproduktiv"},null,null,null,null,{"$f":"IF($AG$36=0,0,$AG$36)","v":0},null,{"$f":"IF($AG$99=0,0,$AG$99)","v":0},null,{"$f":"IF($AG$162=0,0,$AG$162)","v":0},null,{"$f":"IF($AG$225=0,0,$AG$225)","v":0},null,{"$f":"IF($AG$288=0,0,$AG$288)","v":0},null,{"$f":"IF($AG$351=0,0,$AG$351)","v":0},null,{"$f":"IF($AG$414=0,0,$AG$414)","v":0},null,{"$f":"IF($AG$477=0,0,$AG$477)","v":0},null,{"$f":"IF($AG$540=0,0,$AG$540)","v":0},null,{"$f":"IF($AG$603=0,0,$AG$603)","v":0},null,{"$f":"IF($AG$666=0,0,$AG$666)","v":0},null,{"$f":"IF($AG$729=0,0,$AG$729)","v":0},null,{"$f":"SUM($G$63:$AD$63)","v":0}]
[{"$f":"$A$64","v":"Vergleich"},{"$f":"$B$64","v":"Stunden zu Soll-Stunden (inkl. allfälli-\nge Minusstunden Vorjahr)"},null,null,null,null,{"$f":"$G$64","v":-172.82999999999998},null,{"$f":"$I$64","v":-164.6},null,{"$f":"$K$64","v":-189.28999999999996},null,{"$f":"$M$64","v":-181.05999999999997},null,{"$f":"$O$64","v":-172.82999999999998},null,{"$f":"$Q$64","v":-181.05999999999997},null,{"$f":"$S$64","v":-181.05999999999997},null,{"$f":"$U$64","v":-181.05999999999997},null,{"$f":"$W$64","v":-181.05999999999997},null,{"$f":"$Y$64","v":-172.82999999999998},null,{"$f":"$AA$64","v":-181.05999999999997},null,{"$f":"$AC$64","v":-189.28999999999996},null,{"$f":"$AE$64","v":-2148.0299999999997}]
[null,{"$f":"$B$65","v":"Stunden zu Soll-Stunden (kumuliert)"},null,null,null,null,{"$f":"$G$65","v":-172.82999999999998},null,{"$f":"$I$65","v":-337.42999999999995},null,{"$f":"$K$65","v":-526.71999999999991},null,{"$f":"$M$65","v":-707.77999999999986},null,{"$f":"$O$65","v":-880.6099999999999},null,{"$f":"$Q$65","v":-1061.6699999999998},null,{"$f":"$S$65","v":-1242.7299999999998},null,{"$f":"$U$65","v":-1423.7899999999997},null,{"$f":"$W$65","v":-1604.8499999999997},null,{"$f":"$Y$65","v":-1777.6799999999996},null,{"$f":"$AA$65","v":-1958.7399999999996},null,{"$f":"$AC$65","v":-2148.0299999999997},null,{"$f":"$AE$65","v":0}]
[{"$f":"$A$66","v":"Ferienkontrolle"},{"$f":"$B$66","v":"Ferienguthaben Vorjahr"},null,null,null,null,{"$f":"IF($AA$4=0,0,$AA$4)","v":0},null,{"$f":"$I$66","v":"Ferienguthaben nach \nArt. 12.1 GAV"},null,null,null,{"$f":"IF($AA$5=0,0,$AA$5)","v":0},null,{"$f":"$O$66","v":"Ferienguthaben total"},null,null,null,{"$f":"SUM(G507+M507)","v":0},null,{"$f":"$U$66","v":"Ferien bezogen"},null,null,null,{"$f":"IF($AV$4=0,0,$AV$4)","v":0},null,{"$f":"$AA$66","v":"Aktuelles Ferienguthaben"},null,null,null,{"$f":"IF(S507=0,0,S507-Y507)","v":0}]
[]
[]
[{"$f":"$A$3","v":"Mitarbeiter/In"},{"$f":"IF($B$3=\"\",\"\",$B$3)","v":"Muster Peter"},null,null,null,null,null,null,null,null,null,null,null,null,null,null,null,null,null,null,null,null,null,null,null,null,null,null,null,null,null,{"$f":"AF3","v":0}]
[{"$f":"$A$4","v":"Anstellung %"},100,null,{"$f":"Labels!B97","v":"im September"}]
[{"$f":"$A$5","v":"Saldo für das Jahr"},null,null,{"$f":"IF($AE$64=0,0,$AE$64)","v":-2148.0299999999997}]
[{"$f":"TEXT(DATE(YEAR(AP28),MONTH(AP28)+8,1),\"MMMM\"&Labels!B13)","v":"September"},{"$f":"$B$9","v":"Saldo Monat + / -"},null,null,null,{"$f":"(AG516-(SUM(AG517:AG531)-AE538))*-1","v":-181.05999999999997},null,null,null,null,{"$f":"$K$9","v":" = "},{"$f":"$L$9","v":"Gelbe Felder müssen ausgefüllt werden (die übrigen werden automatisch berechnet)"}]
[{"$f":"$A$10","v":"Tag"},{"$f":"AF451+1","v":"2021-09-01"},{"$f":"B514+1","v":"2021-09-02"},{"$f":"C514+1","v":"2021-09-03"},"2021-09-04","2021-09-05","2021-09-06","2021-09-07","2021-09-08","2021-09-09","2021-09-10","2021-09-11","2021-09-12","2021-09-13","2021-09-14","2021-09-15","2021-09-16","2021-09-17","2021-09-18","2021-09-19","2021-09-20","2021-09-21","2021-09-22","2021-09-23","2021-09-24","2021-09-25","2021-09-26","2021-09-27","2021-09-28","2021-09-29","2021-09-30",null,{"$f":"COUNT(B516:AF516)&\" \"&Labels!$B$63","v":"22 Tage"}]
[{"$f":"$A$11","v":"Kalenderwoche"},{"$f":"IF(B514=\"\",\"\",TRUNC((B514-DATE(YEAR(B514+3-MOD(B514-2,7)),1,MOD(B514-2,7)-9))/7))","v":35},35,35,35,35,36,36,36,36,36,36,36,37,37,37,37,37,37,37,38,38,38,38,38,38,38,39,39,39,39,""]
[{"$f":"$A$12","v":"Sollstunden"},{"$f":"IF(MOD(B514,7)>=2,$J$7*$B$511%,\"\")","v":8.23},8.23,8.23,"","",8.23,8.23,8.23,8.23,8.23,"","",8.23,8.23,8.23,8.23,8.23,"","",8.23,8.23,8.23,8.23,8.23,"","",8.23,8.23,8.23,8.23,null,{"$f":"SUM(B516:AF516)","v":181.05999999999997}]
[{"$f":"$A$13","v":"Absenz in Std"},{"$f":"B1003","v":0},{"$f":"C1003","v":0},0,0,0,0,0,0,0,0,0,0,0,0,0,0,0,0,0,0,0,0,0,0,0,0,0,0,0,0,null,{"$f":"SUM(AR3:AR12)","v":0}]
[{"$f":"$A$14","v":"Code"},{"$f":"IF(B1003<>0,IF(MAX(B990:B1002)<B1003,Labels!$B$163,INDEX($AH$990:$AH$1002,MATCH(MAX(B990:B1002),B990:B1002,0))),\"\")","v":""},{"$f":"IF(C1003<>0,IF(MAX(C990:C1002)<C1003,Labels!$B$163,INDEX($AH$990:$AH$1002,MATCH(MAX(C990:C1002),C990:C1002,0))),\"\")","v":""},{"$f":"IF(D1003<>0,IF(MAX(D990:D1002)<D1003,Labels!$B$163,INDEX($AH$990:$AH$1002,MATCH(MAX(D990:D1002),D990:D1002,0))),\"\")","v":""},{"$f":"IF(E1003<>0,IF(MAX(E990:E1002)<E1003,Labels!$B$163,INDEX($AH$990:$AH$1002,MATCH(MAX(E990:E1002),E990:E1002,0))),\"\")","v":""},{"$f":"IF(F1003<>0,IF(MAX(F990:F1002)<F1003,Labels!$B$163,INDEX($AH$990:$AH$1002,MATCH(MAX(F990:F1002),F990:F1002,0))),\"\")","v":""},{"$f":"IF(G1003<>0,IF(MAX(G990:G1002)<G1003,Labels!$B$163,INDEX($AH$990:$AH$1002,MATCH(MAX(G990:G1002),G990:G1002,0))),\"\")","v":""},{"$f":"IF(H1003<>0,IF(MAX(H990:H1002)<H1003,Labels!$B$163,INDEX($AH$990:$AH$1002,MATCH(MAX(H990:H1002),H990:H1002,0))),\"\")","v":""},{"$f":"IF(I1003<>0,IF(MAX(I990:I1002)<I1003,Labels!$B$163,INDEX($AH$990:$AH$1002,MATCH(MAX(I990:I1002),I990:I1002,0))),\"\")","v":""},{"$f":"IF(J1003<>0,IF(MAX(J990:J1002)<J1003,Labels!$B$163,INDEX($AH$990:$AH$1002,MATCH(MAX(J990:J1002),J990:J1002,0))),\"\")","v":""},{"$f":"IF(K1003<>0,IF(MAX(K990:K1002)<K1003,Labels!$B$163,INDEX($AH$990:$AH$1002,MATCH(MAX(K990:K1002),K990:K1002,0))),\"\")","v":""},{"$f":"IF(L1003<>0,IF(MAX(L990:L1002)<L1003,Labels!$B$163,INDEX($AH$990:$AH$1002,MATCH(MAX(L990:L1002),L990:L1002,0))),\"\")","v":""},{"$f":"IF(M1003<>0,IF(MAX(M990:M1002)<M1003,Labels!$B$163,INDEX($AH$990:$AH$1002,MATCH(MAX(M990:M1002),M990:M1002,0))),\"\")","v":""},{"$f":"IF(N1003<>0,IF(MAX(N990:N1002)<N1003,Labels!$B$163,INDEX($AH$990:$AH$1002,MATCH(MAX(N990:N1002),N990:N1002,0))),\"\")","v":""},{"$f":"IF(O1003<>0,IF(MAX(O990:O1002)<O1003,Labels!$B$163,INDEX($AH$990:$AH$1002,MATCH(MAX(O990:O1002),O990:O1002,0))),\"\")","v":""},{"$f":"IF(P1003<>0,IF(MAX(P990:P1002)<P1003,Labels!$B$163,INDEX($AH$990:$AH$1002,MATCH(MAX(P990:P1002),P990:P1002,0))),\"\")","v":""},{"$f":"IF(Q1003<>0,IF(MAX(Q990:Q1002)<Q1003,Labels!$B$163,INDEX($AH$990:$AH$1002,MATCH(MAX(Q990:Q1002),Q990:Q1002,0))),\"\")","v":""},{"$f":"IF(R1003<>0,IF(MAX(R990:R1002)<R1003,Labels!$B$163,INDEX($AH$990:$AH$1002,MATCH(MAX(R990:R1002),R990:R1002,0))),\"\")","v":""},{"$f":"IF(S1003<>0,IF(MAX(S990:S1002)<S1003,Labels!$B$163,INDEX($AH$990:$AH$1002,MATCH(MAX(S990:S1002),S990:S1002,0))),\"\")","v":""},{"$f":"IF(T1003<>0,IF(MAX(T990:T1002)<T1003,Labels!$B$163,INDEX($AH$990:$AH$1002,MATCH(MAX(T990:T1002),T990:T1002,0))),\"\")","v":""},{"$f":"IF(U1003<>0,IF(MAX(U990:U1002)<U1003,Labels!$B$163,INDEX($AH$990:$AH$1002,MATCH(MAX(U990:U1002),U990:U1002,0))),\"\")","v":""},{"$f":"IF(V1003<>0,IF(MAX(V990:V1002)<V1003,Labels!$B$163,INDEX($AH$990:$AH$1002,MATCH(MAX(V990:V1002),V990:V1002,0))),\"\")","v":""},{"$f":"IF(W1003<>0,IF(MAX(W990:W1002)<W1003,Labels!$B$163,INDEX($AH$990:$AH$1002,MATCH(MAX(W990:W1002),W990:W1002,0))),\"\")","v":""},{"$f":"IF(X1003<>0,IF(MAX(X990:X1002)<X1003,Labels!$B$163,INDEX($AH$990:$AH$1002,MATCH(MAX(X990:X1002),X990:X1002,0))),\"\")","v":""},{"$f":"IF(Y1003<>0,IF(MAX(Y990:Y1002)<Y1003,Labels!$B$163,INDEX($AH$990:$AH$1002,MATCH(MAX(Y990:Y1002),Y990:Y1002,0))),\"\")","v":""},{"$f":"IF(Z1003<>0,IF(MAX(Z990:Z1002)<Z1003,Labels!$B$163,INDEX($AH$990:$AH$1002,MATCH(MAX(Z990:Z1002),Z990:Z1002,0))),\"\")","v":""},{"$f":"IF(AA1003<>0,IF(MAX(AA990:AA1002)<AA1003,Labels!$B$163,INDEX($AH$990:$AH$1002,MATCH(MAX(AA990:AA1002),AA990:AA1002,0))),\"\")","v":""},{"$f":"IF(AB1003<>0,IF(MAX(AB990:AB1002)<AB1003,Labels!$B$163,INDEX($AH$990:$AH$1002,MATCH(MAX(AB990:AB1002),AB990:AB1002,0))),\"\")","v":""},{"$f":"IF(AC1003<>0,IF(MAX(AC990:AC1002)<AC1003,Labels!$B$163,INDEX($AH$990:$AH$1002,MATCH(MAX(AC990:AC1002),AC990:AC1002,0))),\"\")","v":""},{"$f":"IF(AD1003<>0,IF(MAX(AD990:AD1002)<AD1003,Labels!$B$163,INDEX($AH$990:$AH$1002,MATCH(MAX(AD990:AD1002),AD990:AD1002,0))),\"\")","v":""},{"$f":"IF(AE1003<>0,IF(MAX(AE990:AE1002)<AE1003,Labels!$B$163,INDEX($AH$990:$AH$1002,MATCH(MAX(AE990:AE1002),AE990:AE1002,0))),\"\")","v":""}]
[{"$f":"$A$15","v":"00.00-06.00h"},null,null,null,null,null,null,null,null,null,null,null,null,null,null,null,null,null,null,null,null,null,null,null,null,null,null,null,null,null,null,null,{"$f":"SUM(B519:AF519)","v":0}]
[{"$f":"$A$16","v":"06.00-20.00h"},null,null,null,null,null,null,null,null,null,null,null,null,null,null,null,null,null,null,null,null,null,null,null,null,null,null,null,null,null,null,null,{"$f":"SUM(B520:AF520)","v":0}]
[{"$f":"$A$17","v":"20.00-24.00h"},null,null,null,null,null,null,null,null,null,null,null,null,null,null,null,null,null,null,null,null,null,null,null,null,null,null,null,null,null,null,null,{"$f":"SUM(B521:AF521)","v":0},"[0]"]
[{"$f":"$A$18","v":"Feiertag \"ft\""},{"$f":"IF(WEEKDAY(B514,2)<=6,IF(KALENDER!E19=\"x\",Labels!$B$118,\"\"),\"\")","v":""},{"$f":"IF(WEEKDAY(C514,2)<=6,IF(KALENDER!F19=\"x\",Labels!$B$118,\"\"),\"\")","v":""},{"$f":"IF(WEEKDAY(D514,2)<=6,IF(KALENDER!G19=\"x\",Labels!$B$118,\"\"),\"\")","v":""},{"$f":"IF(WEEKDAY(E514,2)<=6,IF(KALENDER!H19=\"x\",Labels!$B$118,\"\"),\"\")","v":""},{"$f":"IF(WEEKDAY(F514,2)<=6,IF(KALENDER!I19=\"x\",Labels!$B$118,\"\"),\"\")","v":""},{"$f":"IF(WEEKDAY(G514,2)<=6,IF(KALENDER!J19=\"x\",Labels!$B$118,\"\"),\"\")","v":""},{"$f":"IF(WEEKDAY(H514,2)<=6,IF(KALENDER!K19=\"x\",Labels!$B$118,\"\"),\"\")","v":""},{"$f":"IF(WEEKDAY(I514,2)<=6,IF(KALENDER!L19=\"x\",Labels!$B$118,\"\"),\"\")","v":""},{"$f":"IF(WEEKDAY(J514,2)<=6,IF(KALENDER!M19=\"x\",Labels!$B$118,\"\"),\"\")","v":""},{"$f":"IF(WEEKDAY(K514,2)<=6,IF(KALENDER!N19=\"x\",Labels!$B$118,\"\"),\"\")","v":""},{"$f":"IF(WEEKDAY(L514,2)<=6,IF(KALENDER!O19=\"x\",Labels!$B$118,\"\"),\"\")","v":""},{"$f":"IF(WEEKDAY(M514,2)<=6,IF(KALENDER!P19=\"x\",Labels!$B$118,\"\"),\"\")","v":""},{"$f":"IF(WEEKDAY(N514,2)<=6,IF(KALENDER!Q19=\"x\",Labels!$B$118,\"\"),\"\")","v":""},{"$f":"IF(WEEKDAY(O514,2)<=6,IF(KALENDER!R19=\"x\",Labels!$B$118,\"\"),\"\")","v":""},{"$f":"IF(WEEKDAY(P514,2)<=6,IF(KALENDER!S19=\"x\",Labels!$B$118,\"\"),\"\")","v":""},{"$f":"IF(WEEKDAY(Q514,2)<=6,IF(KALENDER!T19=\"x\",Labels!$B$118,\"\"),\"\")","v":""},{"$f":"IF(WEEKDAY(R514,2)<=6,IF(KALENDER!U19=\"x\",Labels!$B$118,\"\"),\"\")","v":""},{"$f":"IF(WEEKDAY(S514,2)<=6,IF(KALENDER!V19=\"x\",Labels!$B$118,\"\"),\"\")","v":""},{"$f":"IF(WEEKDAY(T514,2)<=6,IF(KALENDER!W19=\"x\",Labels!$B$118,\"\"),\"\")","v":""},{"$f":"IF(WEEKDAY(U514,2)<=6,IF(KALENDER!X19=\"x\",Labels!$B$118,\"\"),\"\")","v":""},{"$f":"IF(WEEKDAY(V514,2)<=6,IF(KALENDER!Y19=\"x\",Labels!$B$118,\"\"),\"\")","v":""},{"$f":"IF(WEEKDAY(W514,2)<=6,IF(KALENDER!Z19=\"x\",Labels!$B$118,\"\"),\"\")","v":""},{"$f":"IF(WEEKDAY(X514,2)<=6,IF(KALENDER!AA19=\"x\",Labels!$B$118,\"\"),\"\")","v":""},{"$f":"IF(WEEKDAY(Y514,2)<=6,IF(KALENDER!AB19=\"x\",Labels!$B$118,\"\"),\"\")","v":""},{"$f":"IF(WEEKDAY(Z514,2)<=6,IF(KALENDER!AC19=\"x\",Labels!$B$118,\"\"),\"\")","v":""},{"$f":"IF(WEEKDAY(AA514,2)<=6,IF(KALENDER!AD19=\"x\",Labels!$B$118,\"\"),\"\")","v":""},{"$f":"IF(WEEKDAY(AB514,2)<=6,IF(KALENDER!AE19=\"x\",Labels!$B$118,\"\"),\"\")","v":""},{"$f":"IF(WEEKDAY(AC514,2)<=6,IF(KALENDER!AF19=\"x\",Labels!$B$118,\"\"),\"\")","v":""},{"$f":"IF(WEEKDAY(AD514,2)<=6,IF(KALENDER!AG19=\"x\",Labels!$B$118,\"\"),\"\")","v":""},{"$f":"IF(WEEKDAY(AE514,2)<=6,IF(KALENDER!AH19=\"x\",Labels!$B$118,\"\"),\"\")","v":""},{"$f":"IF(WEEKDAY(AF514,2)<=6,IF(KALENDER!AI19=\"x\",Labels!$B$118,\"\"),\"\")","v":""}]
[{"$f":"$A$19","v":"Gutschrift \"ft\""},{"$f":"IF(AND(B522=Labels!$B$118,WEEKDAY(B514,2)<6),$J$7*$B$511%,\"\")","v":""},{"$f":"IF(AND(C522=Labels!$B$118,WEEKDAY(C514,2)<6),$J$7*$B$511%,\"\")","v":""},{"$f":"IF(AND(D522=Labels!$B$118,WEEKDAY(D514,2)<6),$J$7*$B$511%,\"\")","v":""},{"$f":"IF(AND(E522=Labels!$B$118,WEEKDAY(E514,2)<6),$J$7*$B$511%,\"\")","v":""},{"$f":"IF(AND(F522=Labels!$B$118,WEEKDAY(F514,2)<6),$J$7*$B$511%,\"\")","v":""},{"$f":"IF(AND(G522=Labels!$B$118,WEEKDAY(G514,2)<6),$J$7*$B$511%,\"\")","v":""},{"$f":"IF(AND(H522=Labels!$B$118,WEEKDAY(H514,2)<6),$J$7*$B$511%,\"\")","v":""},{"$f":"IF(AND(I522=Labels!$B$118,WEEKDAY(I514,2)<6),$J$7*$B$511%,\"\")","v":""},{"$f":"IF(AND(J522=Labels!$B$118,WEEKDAY(J514,2)<6),$J$7*$B$511%,\"\")","v":""},{"$f":"IF(AND(K522=Labels!$B$118,WEEKDAY(K514,2)<6),$J$7*$B$511%,\"\")","v":""},{"$f":"IF(AND(L522=Labels!$B$118,WEEKDAY(L514,2)<6),$J$7*$B$511%,\"\")","v":""},{"$f":"IF(AND(M522=Labels!$B$118,WEEKDAY(M514,2)<6),$J$7*$B$511%,\"\")","v":""},{"$f":"IF(AND(N522=Labels!$B$118,WEEKDAY(N514,2)<6),$J$7*$B$511%,\"\")","v":""},{"$f":"IF(AND(O522=Labels!$B$118,WEEKDAY(O514,2)<6),$J$7*$B$511%,\"\")","v":""},{"$f":"IF(AND(P522=Labels!$B$118,WEEKDAY(P514,2)<6),$J$7*$B$511%,\"\")","v":""},{"$f":"IF(AND(Q522=Labels!$B$118,WEEKDAY(Q514,2)<6),$J$7*$B$511%,\"\")","v":""},{"$f":"IF(AND(R522=Labels!$B$118,WEEKDAY(R514,2)<6),$J$7*$B$511%,\"\")","v":""},{"$f":"IF(AND(S522=Labels!$B$118,WEEKDAY(S514,2)<6),$J$7*$B$511%,\"\")","v":""},{"$f":"IF(AND(T522=Labels!$B$118,WEEKDAY(T514,2)<6),$J$7*$B$511%,\"\")","v":""},{"$f":"IF(AND(U522=Labels!$B$118,WEEKDAY(U514,2)<6),$J$7*$B$511%,\"\")","v":""},{"$f":"IF(AND(V522=Labels!$B$118,WEEKDAY(V514,2)<6),$J$7*$B$511%,\"\")","v":""},{"$f":"IF(AND(W522=Labels!$B$118,WEEKDAY(W514,2)<6),$J$7*$B$511%,\"\")","v":""},{"$f":"IF(AND(X522=Labels!$B$118,WEEKDAY(X514,2)<6),$J$7*$B$511%,\"\")","v":""},{"$f":"IF(AND(Y522=Labels!$B$118,WEEKDAY(Y514,2)<6),$J$7*$B$511%,\"\")","v":""},{"$f":"IF(AND(Z522=Labels!$B$118,WEEKDAY(Z514,2)<6),$J$7*$B$511%,\"\")","v":""},{"$f":"IF(AND(AA522=Labels!$B$118,WEEKDAY(AA514,2)<6),$J$7*$B$511%,\"\")","v":""},{"$f":"IF(AND(AB522=Labels!$B$118,WEEKDAY(AB514,2)<6),$J$7*$B$511%,\"\")","v":""},{"$f":"IF(AND(AC522=Labels!$B$118,WEEKDAY(AC514,2)<6),$J$7*$B$511%,\"\")","v":""},{"$f":"IF(AND(AD522=Labels!$B$118,WEEKDAY(AD514,2)<6),$J$7*$B$511%,\"\")","v":""},{"$f":"IF(AND(AE522=Labels!$B$118,WEEKDAY(AE514,2)<6),$J$7*$B$511%,\"\")","v":""},{"$f":"IF(AND(AF522=Labels!$B$118,WEEKDAY(AF514,2)<6),$J$7*$B$511%,\"\")","v":""},{"$f":"SUM(B523:AF523)","v":0}]
[{"$f":"$A$20","v":"Tagestotal"},{"$f":"SUM(B519:B521)","v":0},{"$f":"SUM(C519:C521)","v":0},0,0,0,0,0,0,0,0,0,0,0,0,0,0,0,0,0,0,0,0,0,0,0,0,0,0,0,0,0]
[{"$f":"$A$21","v":"."}]
[{"$f":"$A$22","v":"."}]
[{"$f":"$A$23","v":"Monatsübergang"},{"$f":"IF(WEEKDAY(B514)=1,TEXT(B514-1,\"MMM\"&Labels!B13),\"\")","v":""},null,null,null,null,null,null,null,null,null,null,null,null,null,null,null,null,null,null,null,null,null,null,null,null,null,null,null,null,{"$f":"IF(AND(WEEKDAY(AE514)>1,WEEKDAY(AE514)<7),TEXT(DATE($B$5,MONTH(AE514)+1,1),\"MMM\"&Labels!B13),\"\")","v":"Okt"}]
[{"$f":"$A$24","v":"Wochentotal"},{"$f":"IF(WEEKDAY(B514)=7,SUMIF($B452:$AF452,B515,$B461:$AF461)+SUMIF($B515:$AF515,B515,$B524:$AF524)+SUMIF($B578:$AF578,B515,$B587:$AF587),B527)","v":""},{"$f":"IF(WEEKDAY(C514)=7,SUMIF($B452:$AF452,C515,$B461:$AF461)+SUMIF($B515:$AF515,C515,$B524:$AF524)+SUMIF($B578:$AF578,C515,$B587:$AF587),\"\")","v":""},"",0,"","","","","","",0,"","","","","","",0,"","","","","","",0,"","","","",{"$f":"IF(WEEKDAY(AE514)=7,SUMIF($B452:$AF452,AE515,$B461:$AF461)+SUMIF($B515:$AF515,AE515,$B524:$AF524)+SUMIF($B578:$AF578,AE515,$B587:$AF587),AE527)","v":"Okt"}]
[{"$f":"$A$25","v":"Zeitzuschlag 1)"},{"$f":"IF(B536=\"FALSCH\",\"\",B536)","v":""},{"$f":"IF(C536=\"FALSCH\",\"\",C536)","v":""},"","","","","","","","","","","","","","","","","","","","","","","","","","","","",null,{"$f":"SUM(B529:AF529)","v":0}]
[{"$f":"$A$26","v":"Zeitzuschlag 2)"},{"$f":"IF((B519+B521)=0,\"\",SUM(B519,B521))","v":""},{"$f":"IF((C519+C521)=0,\"\",SUM(C519,C521))","v":""},"","","","","","","","","","","","","","","","","","","","","","","","","","","","",null,0,"[1]"]
[{"$f":"$A$27","v":"Zeitzuschlag 3)"},{"$f":"SUM(B532:B535)","v":0},{"$f":"SUM(C532:C535)","v":0},0,0,0,0,0,0,0,0,0,0,0,0,0,0,0,0,0,0,0,0,0,0,0,0,0,0,0,0,null,{"$f":"SUM(B531:AF531)","v":0},"[2]"]
[{"$f":"$A$28","v":"Sonntag Tag"},{"$f":"IF(WEEKDAY(B514)=1,B520,\"\")","v":""},{"$f":"IF(WEEKDAY(C514)=1,C520,\"\")","v":""},"","",0,"","","","","","",0,"","","","","","",0,"","","","","","",0,"","","","",null,0,"[3]"]
[{"$f":"$A$29","v":"Sonntag Nacht"},{"$f":"IF(WEEKDAY(B514)=1,SUM(B519+B521),\"\")","v":""},{"$f":"IF(WEEKDAY(C514)=1,SUM(C519+C521),\"\")","v":""},"","",0,"","","","","","",0,"","","","","","",0,"","","","","","",0,"","","","",null,0,"[4]"]
[{"$f":"$A$30","v":"ft-Tazuschlag"},{"$f":"IF(B522=Labels!$B$118,B520,\"\")","v":""},{"$f":"IF(C522=Labels!$B$118,C520,\"\")","v":""},{"$f":"IF(D522=Labels!$B$118,D520,\"\")","v":""},{"$f":"IF(E522=Labels!$B$118,E520,\"\")","v":""},{"$f":"IF(F522=Labels!$B$118,F520,\"\")","v":""},{"$f":"IF(G522=Labels!$B$118,G520,\"\")","v":""},{"$f":"IF(H522=Labels!$B$118,H520,\"\")","v":""},{"$f":"IF(I522=Labels!$B$118,I520,\"\")","v":""},{"$f":"IF(J522=Labels!$B$118,J520,\"\")","v":""},{"$f":"IF(K522=Labels!$B$118,K520,\"\")","v":""},{"$f":"IF(L522=Labels!$B$118,L520,\"\")","v":""},{"$f":"IF(M522=Labels!$B$118,M520,\"\")","v":""},{"$f":"IF(N522=Labels!$B$118,N520,\"\")","v":""},{"$f":"IF(O522=Labels!$B$118,O520,\"\")","v":""},{"$f":"IF(P522=Labels!$B$118,P520,\"\")","v":""},{"$f":"IF(Q522=Labels!$B$118,Q520,\"\")","v":""},{"$f":"IF(R522=Labels!$B$118,R520,\"\")","v":""},{"$f":"IF(S522=Labels!$B$118,S520,\"\")","v":""},{"$f":"IF(T522=Labels!$B$118,T520,\"\")","v":""},{"$f":"IF(U522=Labels!$B$118,U520,\"\")","v":""},{"$f":"IF(V522=Labels!$B$118,V520,\"\")","v":""},{"$f":"IF(W522=Labels!$B$118,W520,\"\")","v":""},{"$f":"IF(X522=Labels!$B$118,X520,\"\")","v":""},{"$f":"IF(Y522=Labels!$B$118,Y520,\"\")","v":""},{"$f":"IF(Z522=Labels!$B$118,Z520,\"\")","v":""},{"$f":"IF(AA522=Labels!$B$118,AA520,\"\")","v":""},{"$f":"IF(AB522=Labels!$B$118,AB520,\"\")","v":""},{"$f":"IF(AC522=Labels!$B$118,AC520,\"\")","v":""},{"$f":"IF(AD522=Labels!$B$118,AD520,\"\")","v":""},{"$f":"IF(AE522=Labels!$B$118,AE520,\"\")","v":""},null,0,"[5]"]
[{"$f":"$A$31","v":"ft-Nazuschlag"},{"$f":"IF(B522=Labels!$B$118,SUM(B519,B521),\"\")","v":""},{"$f":"IF(C522=Labels!$B$118,SUM(C519,C521),\"\")","v":""},{"$f":"IF(D522=Labels!$B$118,SUM(D519,D521),\"\")","v":""},{"$f":"IF(E522=Labels!$B$118,SUM(E519,E521),\"\")","v":""},{"$f":"IF(F522=Labels!$B$118,SUM(F519,F521),\"\")","v":""},{"$f":"IF(G522=Labels!$B$118,SUM(G519,G521),\"\")","v":""},{"$f":"IF(H522=Labels!$B$118,SUM(H519,H521),\"\")","v":""},{"$f":"IF(I522=Labels!$B$118,SUM(I519,I521),\"\")","v":""},{"$f":"IF(J522=Labels!$B$118,SUM(J519,J521),\"\")","v":""},{"$f":"IF(K522=Labels!$B$118,SUM(K519,K521),\"\")","v":""},{"$f":"IF(L522=Labels!$B$118,SUM(L519,L521),\"\")","v":""},{"$f":"IF(M522=Labels!$B$118,SUM(M519,M521),\"\")","v":""},{"$f":"IF(N522=Labels!$B$118,SUM(N519,N521),\"\")","v":""},{"$f":"IF(O522=Labels!$B$118,SUM(O519,O521),\"\")","v":""},{"$f":"IF(P522=Labels!$B$118,SUM(P519,P521),\"\")","v":""},{"$f":"IF(Q522=Labels!$B$118,SUM(Q519,Q521),\"\")","v":""},{"$f":"IF(R522=Labels!$B$118,SUM(R519,R521),\"\")","v":""},{"$f":"IF(S522=Labels!$B$118,SUM(S519,S521),\"\")","v":""},{"$f":"IF(T522=Labels!$B$118,SUM(T519,T521),\"\")","v":""},{"$f":"IF(U522=Labels!$B$118,SUM(U519,U521),\"\")","v":""},{"$f":"IF(V522=Labels!$B$118,SUM(V519,V521),\"\")","v":""},{"$f":"IF(W522=Labels!$B$118,SUM(W519,W521),\"\")","v":""},{"$f":"IF(X522=Labels!$B$118,SUM(X519,X521),\"\")","v":""},{"$f":"IF(Y522=Labels!$B$118,SUM(Y519,Y521),\"\")","v":""},{"$f":"IF(Z522=Labels!$B$118,SUM(Z519,Z521),\"\")","v":""},{"$f":"IF(AA522=Labels!$B$118,SUM(AA519,AA521),\"\")","v":""},{"$f":"IF(AB522=Labels!$B$118,SUM(AB519,AB521),\"\")","v":""},{"$f":"IF(AC522=Labels!$B$118,SUM(AC519,AC521),\"\")","v":""},{"$f":"IF(AD522=Labels!$B$118,SUM(AD519,AD521),\"\")","v":""},{"$f":"IF(AE522=Labels!$B$118,SUM(AE519,AE521),\"\")","v":""},null,0,"[6]"]
[{"$f":"$A$32","v":"Zuschlag  blind (Wochentotal)"},{"$f":"IF(OR(ISTEXT(B528),B528=\"\",B528<$B$7),\"\",ROUND(((B528-$B$7)*25%)/25,4)*25)","v":""},{"$f":"IF(OR(ISTEXT(C528),C528=\"\",C528<$B$7),\"\",ROUND(((C528-$B$7)*25%)/25,4)*25)","v":""},"","","","","","","","","","","","","","","","","","","","","","","","","","","","",null,{"$f":"AG520","v":0},"[7]"]
[null,{"$f":"$B$33","v":"1)   25% Zeitzuschlag für Überschreitung Wochentotal"},null,null,null,null,null,null,null,null,null,{"$f":"$L$33","v":"2) 100% Zeitzuschlag für Nachtarbeit"},null,null,null,null,null,null,null,{"$f":"$T$33","v":"Eingabe der ausbezahlten Stunden Vorjahressaldo"},null,null,null,null,null,null,null,null,null,null,null,null,{"$f":"SUM(AG519+AG521)","v":0},"[8]"]
[null,{"$f":"$B$34","v":"3) 100% Zeitzuschlag für Sonn- und Feiertagsarbeit"},null,null,null,null,null,null,null,null,null,null,null,null,null,null,null,null,null,{"$f":"$T$34","v":"Eingabe der ausbezahlten Stunden laufendes Jahr (Überstunden)"},null,null,null,null,null,null,null,null,null,null,null,null,{"$f":"SUM(AG519:AG521)","v":0},"[9]"]
[{"$f":"$A$35","v":"Bemerkungen"},null,null,null,null,null,null,null,null,null,null,null,null,null,null,null,null,null,null,null,null,null,null,null,null,null,null,null,null,null,null,null,{"$f":"SUM(AG517+AG523)","v":0},"[10]"]
[null,null,null,null,null,null,null,null,null,null,null,null,null,null,null,null,null,null,null,null,null,null,null,null,null,null,null,null,null,null,null,null,{"$f":"SUM(AG517:AG531)","v":0},"[11]"]
[null,null,null,null,null,null,null,null,null,null,null,null,null,null,null,null,null,null,null,null,null,null,null,null,null,null,null,null,null,null,null,null,{"$f":"AG516","v":181.05999999999997}]
[null,null,null,null,null,null,null,null,null,null,null,null,null,null,null,null,null,null,null,null,null,null,null,null,null,null,null,null,null,null,null,null,{"$f":"SUM(AG540-AG516)","v":-181.05999999999997}]
[{"$f":"$A$39","v":"Zusammenstellung"},null,null,null,null,null,{"$f":"$G$39","v":"Jan"},null,{"$f":"$I$39","v":"Feb"},null,{"$f":"$K$39","v":"Mrz"},null,{"$f":"$M$39","v":"Apr"},null,{"$f":"$O$39","v":"Mai"},null,{"$f":"$Q$39","v":"Jun"},null,{"$f":"$S$39","v":"Jul"},null,{"$f":"$U$39","v":"Aug"},null,{"$f":"$W$39","v":"Sep"},null,{"$f":"$Y$39","v":"Okt"},null,{"$f":"$AA$39","v":"Nov"},null,{"$f":"$AC$39","v":"Dez"},null,{"$f":"$AE$39","v":"Jahr"}]
[{"$f":"$A$40","v":"Anstellung %"},null,null,null,null,null,{"$f":"IF($B$4=0,0,$B$4)","v":100},null,{"$f":"IF($B$70=0,0,$B$70)","v":100},null,{"$f":"IF($B$133=0,0,$B$133)","v":100},null,{"$f":"IF($B$196=0,0,$B$196)","v":100},null,{"$f":"IF($B$259=0,0,$B$259)","v":100},null,{"$f":"IF($B$322=0,0,$B$322)","v":100},null,{"$f":"IF($B$385=0,0,$B$385)","v":100},null,{"$f":"IF($B$448=0,0,$B$448)","v":100},null,{"$f":"IF($B$511=0,0,$B$511)","v":100},null,{"$f":"IF($B$574=0,0,$B$574)","v":100},null,{"$f":"IF($B$637=0,0,$B$637)","v":100},null,{"$f":"IF($B$700=0,0,$B$700)","v":100}]
[{"$f":"$A$41","v":"Sollstunden gemäss GAV"},null,null,null,null,null,{"$f":"IF($AG$37=0,0,$AG$37)","v":172.82999999999998},null,{"$f":"IF($AG$100=0,0,$AG$100)","v":164.6},null,{"$f":"IF($AG$138=0,0,$AG$138)","v":189.28999999999996},null,{"$f":"IF($AG$226=0,0,$AG$226)","v":181.05999999999997},null,{"$f":"IF($AG$289=0,0,$AG$289)","v":172.82999999999998},null,{"$f":"IF($AG$352=0,0,$AG$352)","v":181.05999999999997},null,{"$f":"IF($AG$415=0,0,$AG$415)","v":181.05999999999997},null,{"$f":"IF($AG$478=0,0,$AG$478)","v":181.05999999999997},null,{"$f":"IF($AG$541=0,0,$AG$541)","v":181.05999999999997},null,{"$f":"IF($AG$604=0,0,$AG$604)","v":172.82999999999998},null,{"$f":"IF($AG$667=0,0,$AG$667)","v":181.05999999999997},null,{"$f":"IF($AG$730=0,0,$AG$730)","v":189.28999999999996},null,{"$f":"SUM(G545:AD545)","v":2148.0299999999997}]
[{"$f":"$A$42","v":"Produktive Stunden"},{"$f":"$B$42","v":"06.00 - 20.00 Uhr"},null,null,null,null,{"$f":"IF($AG$32=0,0,$AG$32)","v":0},null,{"$f":"IF($AG$95=0,0,$AG$95)","v":0},null,{"$f":"IF($AG$158=0,0,$AG$158)","v":0},null,{"$f":"IF($AG$221=0,0,$AG$221)","v":0},null,{"$f":"IF($AG$284=0,0,$AG$284)","v":0},null,{"$f":"IF($AG$347=0,0,$AG$347)","v":0},null,{"$f":"IF($AG$410=0,0,$AG$410)","v":0},null,{"$f":"IF($AG$473=0,0,$AG$473)","v":0},null,{"$f":"IF($AG$536=0,0,$AG$536)","v":0},null,{"$f":"IF($AG$599=0,0,$AG$599)","v":0},null,{"$f":"IF($AG$662=0,0,$AG$662)","v":0},null,{"$f":"IF($AG$725=0,0,$AG$725)","v":0},null,{"$f":"SUM(G546:AD546)","v":0}]
[null,{"$f":"$B$43","v":"Nacht-, Sonn-, Feiertagsarbeit"},null,null,null,null,{"$f":"IF($AG$33=0,0,$AG$33)","v":0},null,{"$f":"IF($AG$96=0,0,$AG$96)","v":0},null,{"$f":"IF($AG$159=0,0,$AG$159)","v":0},null,{"$f":"IF($AG$222=0,0,$AG$222)","v":0},null,{"$f":"IF($AG$285=0,0,$AG$285)","v":0},null,{"$f":"IF($AG$348=0,0,$AG$348)","v":0},null,{"$f":"IF($AG$411=0,0,$AG$411)","v":0},null,{"$f":"IF($AG$474=0,0,$AG$474)","v":0},null,{"$f":"IF($AG$537=0,0,$AG$537)","v":0},null,{"$f":"IF($AG$600=0,0,$AG$600)","v":0},null,{"$f":"IF($AG$663=0,0,$AG$663)","v":0},null,{"$f":"IF($AG$726=0,0,$AG$726)","v":0},null,{"$f":"SUM(G547:AD547)","v":0}]
[{"$f":"$A$44","v":"Zeitzuschläge"},{"$f":"$B$44","v":"aus Wochentotal"},null,null,null,null,{"$f":"IF($AG$25=0,0,$AG$25)","v":0},null,{"$f":"IF($AG$88=0,0,$AG$88)","v":0},null,{"$f":"IF($AG$151=0,0,$AG$151)","v":0},null,{"$f":"IF($AG$214=0,0,$AG$214)","v":0},null,{"$f":"IF($AG$277=0,0,$AG$277)","v":0},null,{"$f":"IF($AG$340=0,0,$AG$340)","v":0},null,{"$f":"IF($AG$403=0,0,$AG$403)","v":0},null,{"$f":"IF($AG$466=0,0,$AG$466)","v":0},null,{"$f":"IF($AG$529=0,0,$AG$529)","v":0},null,{"$f":"IF($AG$592=0,0,$AG$592)","v":0},null,{"$f":"IF($AG$655=0,0,$AG$655)","v":0},null,{"$f":"IF($AG$718=0,0,$AG$718)","v":0},null,{"$f":"SUM(G548:AD548)","v":0}]
[null,{"$f":"$B$45","v":"aus Nacht-, Sonn-, Feiertagsarbeiten"},null,null,null,null,{"$f":"IF($AJ$20=0,0,$AJ$20)","v":0},null,{"$f":"IF($AK$20=0,0,$AK$20)","v":0},null,{"$f":"IF($AL$20=0,0,$AL$20)","v":0},null,{"$f":"IF($AM$20=0,0,$AM$20)","v":0},null,{"$f":"IF($AN$20=0,0,$AN$20)","v":0},null,{"$f":"IF($AO$20=0,0,$AO$20)","v":0},null,{"$f":"IF($AP$20=0,0,$AP$20)","v":0},null,{"$f":"IF($AQ$20=0,0,$AQ$20)","v":0},null,{"$f":"IF($AR$20=0,0,$AR$20)","v":0},null,{"$f":"IF($AS$20=0,0,$AS$20)","v":0},null,{"$f":"IF($AT$20=0,0,$AT$20)","v":0},null,{"$f":"IF($AU$20=0,0,$AU$20)","v":0},null,{"$f":"SUM(G549:AD549)","v":0}]
[{"$f":"$A$46","v":"Unproduktive Stunden"}]
[{"$f":"$A$47","v":"   Absenzen, Kurzabsenzen Art. 11 GAV"},null,null,null,null,{"$f":"$F$47","v":"a"},{"$f":"IF($AJ$3=0,0,$AJ$3)","v":0},null,{"$f":"IF($AK$3=0,0,$AK$3)","v":0},null,{"$f":"IF($AL$3=0,0,$AL$3)","v":0},null,{"$f":"IF($AM$3=0,0,$AM$3)","v":0},null,{"$f":"IF($AN$3=0,0,$AN$3)","v":0},null,{"$f":"IF($AO$3=0,0,$AO$3)","v":0},null,{"$f":"IF($AP$3=0,0,$AP$3)","v":0},null,{"$f":"IF($AQ$3=0,0,$AQ$3)","v":0},null,{"$f":"IF($AR$3=0,0,$AR$3)","v":0},null,{"$f":"IF($AS$3=0,0,$AS$3)","v":0},null,{"$f":"IF(AT$3=0,0,$AT$3)","v":0},null,{"$f":"IF($AU$3=0,0,$AU$3)","v":0},null,{"$f":"IF($AV$3=0,0,$AV$3)","v":0}]
[{"$f":"$A$48","v":"   Ferien Art. 12.1 GAV"},null,null,null,null,{"$f":"$F$48","v":"f"},{"$f":"IF($AJ$4=0,0,$AJ$4)","v":0},null,{"$f":"IF($AK$4=0,0,$AK$4)","v":0},null,{"$f":"IF($AL$4=0,0,$AL$4)","v":0},null,{"$f":"IF($AM$4=0,0,$AM$4)","v":0},null,{"$f":"IF($AN$4=0,0,$AN$4)","v":0},null,{"$f":"IF($AO$4=0,0,$AO$4)","v":0},null,{"$f":"IF($AP$4=0,0,$AP$4)","v":0},null,{"$f":"IF($AQ$4=0,0,$AQ$4)","v":0},null,{"$f":"IF($AR$4=0,0,$AR$4)","v":0},null,{"$f":"IF($AS$4=0,0,$AS$4)","v":0},null,{"$f":"IF($AT$4=0,0,$AT$4)","v":0},null,{"$f":"IF($AU$4=0,0,$AU$4)","v":0},null,{"$f":"IF($AV$4=0,0,$AV$4)","v":0}]
[{"$f":"$A$49","v":"   Feiertage Art. 12.2 GAV"},null,{"$f":"IF($AJ$17=\"\",\"\",$AJ$17)","v":""},null,null,{"$f":"$F$49","v":"ft"},{"$f":"IF($AJ$15=0,0,$AJ$15)","v":0},null,{"$f":"IF($AK$15=0,0,$AK$15)","v":0},null,{"$f":"IF($AL$15=0,0,$AL$15)","v":0},null,{"$f":"IF($AM$15=0,0,$AM$15)","v":0},null,{"$f":"IF($AN$15=0,0,$AN$15)","v":0},null,{"$f":"IF($AO$15=0,0,$AO$15)","v":0},null,{"$f":"IF($AP$15=0,0,$AP$15)","v":0},null,{"$f":"IF($AQ$15=0,0,$AQ$15)","v":0},null,{"$f":"IF($AR$15=0,0,$AR$15)","v":0},null,{"$f":"IF($AS$15=0,0,$AS$15)","v":0},null,{"$f":"IF($AT$15=0,0,$AT$15)","v":0},null,{"$f":"IF($AU$15=0,0,$AU$15)","v":0},null,{"$f":"IF($AV$15=0,0,$AV$15)","v":0}]
[{"$f":"$A$50","v":"   Krankheit Art. 13 GAV"},null,null,null,null,{"$f":"$F$50","v":"k"},{"$f":"IF($AJ$5=0,0,$AJ$5)","v":0},null,{"$f":"IF($AK$5=0,0,$AK$5)","v":0},null,{"$f":"IF($AL$5=0,0,$AL$5)","v":0},null,{"$f":"IF($AM$5=0,0,$AM$5)","v":0},null,{"$f":"IF($AN$5=0,0,$AN$5)","v":0},null,{"$f":"IF($AO$5=0,0,$AO$5)","v":0},null,{"$f":"IF($AP$5=0,0,$AP$5)","v":0},null,{"$f":"IF($AQ$5=0,0,$AQ$5)","v":0},null,{"$f":"IF($AR$5=0,0,$AR$5)","v":0},null,{"$f":"IF($AS$5=0,0,$AS$5)","v":0},null,{"$f":"IF($AT$5=0,0,$AT$5)","v":0},null,{"$f":"IF($AU$5=0,0,$AU$5)","v":0},null,{"$f":"IF($AV$5=0,0,$AV$5)","v":0}]
[{"$f":"$A$51","v":"   Unfall Art. 14 GAV"},null,null,null,null,{"$f":"$F$51","v":"u"},{"$f":"IF($AJ$6=0,0,$AJ$6)","v":0},null,{"$f":"IF($AK$6=0,0,$AK$6)","v":0},null,{"$f":"IF($AL$6=0,0,$AL$6)","v":0},null,{"$f":"IF($AM$6=0,0,$AM$6)","v":0},null,{"$f":"IF($AN$6=0,0,$AN$6)","v":0},null,{"$f":"IF($AO$6=0,0,$AO$6)","v":0},null,{"$f":"IF($AP$6=0,0,$AP$6)","v":0},null,{"$f":"IF($AQ$6=0,0,$AQ$6)","v":0},null,{"$f":"IF($AR$6=0,0,$AR$6)","v":0},null,{"$f":"IF($AS$6=0,0,$AS$6)","v":0},null,{"$f":"IF($AT$6=0,0,$AT$6)","v":0},null,{"$f":"IF($AU$6=0,0,$AU$6)","v":0},null,{"$f":"IF($AV$6=0,0,$AV$6)","v":0}]
[{"$f":"$A$52","v":"   Schwangerschaft/Mutterschaft Art. 15 GAV"},null,null,null,null,{"$f":"$F$52","v":"s"},{"$f":"IF($AJ$7=0,0,$AJ$7)","v":0},null,{"$f":"IF($AK$7=0,0,$AK$7)","v":0},null,{"$f":"IF($AL$7=0,0,$AL$7)","v":0},null,{"$f":"IF($AM$7=0,0,$AM$7)","v":0},null,{"$f":"IF($AN$7=0,0,$AN$7)","v":0},null,{"$f":"IF($AO$7=0,0,$AO$7)","v":0},null,{"$f":"IF($AP$7=0,0,$AP$7)","v":0},null,{"$f":"IF($AQ$7=0,0,$AQ$7)","v":0},null,{"$f":"IF($AR$7=0,0,$AR$7)","v":0},null,{"$f":"IF($AS$7=0,0,$AS$7)","v":0},null,{"$f":"IF($AT$7=0,0,$AT$7)","v":0},null,{"$f":"IF($AU$7=0,0,$AU$7)","v":0},null,{"$f":"IF($AV$7=0,0,$AV$7)","v":0}]
[{"$f":"$A$53","v":"   Militär/Beförderung/Zivilschutz Art. 16 GAV"},null,null,null,null,{"$f":"$F$53","v":"m"},{"$f":"IF($AJ$8=0,0,$AJ$8)","v":0},null,{"$f":"IF($AK$8=0,0,$AK$8)","v":0},null,{"$f":"IF($AL$8=0,0,$AL$8)","v":0},null,{"$f":"IF($AM$8=0,0,$AM$8)","v":0},null,{"$f":"IF($AN$8=0,0,$AN$8)","v":0},null,{"$f":"IF($AO$8=0,0,$AO$8)","v":0},null,{"$f":"IF($AP$8=0,0,$AP$8)","v":0},null,{"$f":"IF($AQ$8=0,0,$AQ$8)","v":0},null,{"$f":"IF($AR$8=0,0,$AR$8)","v":0},null,{"$f":"IF($AS$8=0,0,$AS$8)","v":0},null,{"$f":"IF($AT$8=0,0,$AT$8)","v":0},null,{"$f":"IF($AU$8=0,0,$AU$8)","v":0},null,{"$f":"IF($AV$8=0,0,$AV$8)","v":0}]
[{"$f":"$A$54","v":"   Kurzarbeit und Schlechtwetterausfälle"},null,null,null,null,{"$f":"$F$54","v":"ka"},{"$f":"IF($AJ$11=0,0,$AJ$11)","v":0},null,{"$f":"IF($AK$11=0,0,$AK$11)","v":0},null,{"$f":"IF($AL$11=0,0,$AL$11)","v":0},null,{"$f":"IF($AM$11=0,0,$AM$11)","v":0},null,{"$f":"IF($AN$11=0,0,$AN$11)","v":0},null,{"$f":"IF($AO$11=0,0,$AO$11)","v":0},null,{"$f":"IF($AP$11=0,0,$AP$11)","v":0},null,{"$f":"IF($AQ$11=0,0,$AQ$11)","v":0},null,{"$f":"IF($AR$11=0,0,$AR$11)","v":0},null,{"$f":"IF($AS$11=0,0,$AS$11)","v":0},null,{"$f":"IF($AT$11=0,0,$AT$11)","v":0},null,{"$f":"IF($AU$11=0,0,$AU$11)","v":0},null,{"$f":"IF($AV$11=0,0,$AV$11)","v":0}]
[{"$f":"$A$55","v":"   Berufsschule"},null,null,null,null,{"$f":"$F$55","v":"bs"},{"$f":"IF($AJ$9=0,0,$AJ$9)","v":0},null,{"$f":"IF($AK$9=0,0,$AK$9)","v":0},null,{"$f":"IF($AL$9=0,0,$AL$9)","v":0},null,{"$f":"IF($AM$9=0,0,$AM$9)","v":0},null,{"$f":"IF($AN$9=0,0,$AN$9)","v":0},null,{"$f":"IF($AO$9=0,0,$AO$9)","v":0},null,{"$f":"IF($AP$9=0,0,$AP$9)","v":0},null,{"$f":"IF($AQ$9=0,0,$AQ$9)","v":0},null,{"$f":"IF($AR$9=0,0,$AR$9)","v":0},null,{"$f":"IF($AS$9=0,0,$AS$9)","v":0},null,{"$f":"IF($AT$9=0,0,$AT$9)","v":0},null,{"$f":"IF($AU$9=0,0,$AU$9)","v":0},null,{"$f":"IF($AV$9=0,0,$AV$9)","v":0}]
[{"$f":"$A$56","v":"   Kurse"},null,null,null,null,{"$f":"$F$56","v":"ku"},{"$f":"IF($AJ$10=0,0,$AJ$10)","v":0},null,{"$f":"IF($AK$10=0,0,$AK$10)","v":0},null,{"$f":"IF($AL$10=0,0,$AL$10)","v":0},null,{"$f":"IF($AM$10=0,0,$AM$10)","v":0},null,{"$f":"IF($AN$10=0,0,$AN$10)","v":0},null,{"$f":"IF($AO$10=0,0,$AO$10)","v":0},null,{"$f":"IF($AP$10=0,0,$AP$10)","v":0},null,{"$f":"IF($AQ$10=0,0,$AQ$10)","v":0},null,{"$f":"IF($AR$10=0,0,$AR$10)","v":0},null,{"$f":"IF($AS$10=0,0,$AS$10)","v":0},null,{"$f":"IF($AT$10=0,0,$AT$10)","v":0},null,{"$f":"IF($AU$10=0,0,$AU$10)","v":0},null,{"$f":"IF($AV$10=0,0,$AV$10)","v":0}]
[{"$f":"$A$57","v":"Kompensations-Std"},{"$f":"$B$57","v":"aus Vorjahr"},null,null,null,{"$f":"$F$57","v":"kv"},{"$f":"IF($AJ$12=0,0,$AJ$12)","v":0},null,{"$f":"IF($AK$12=0,0,$AK$12)","v":0},null,{"$f":"IF($AL$12=0,0,$AL$12)","v":0},null,{"$f":"IF($AM$12=0,0,$AM$12)","v":0},null,{"$f":"IF($AN$12=0,0,$AN$12)","v":0},null,{"$f":"IF($AO$12=0,0,$AO$12)","v":0},null,{"$f":"IF($AP$12=0,0,$AP$12)","v":0},null,{"$f":"IF($AQ$12=0,0,$AQ$12)","v":0},null,{"$f":"IF($AR$12=0,0,$AR$12)","v":0},null,null,null,null,null,null,null,{"$f":"IF($AV$12=0,0,$AV$12)","v":0}]
[null,{"$f":"$B$58","v":"aus laufendem Jahr (Kontrolle)"},null,null,null,{"$f":"$F$58","v":"kj"},{"$f":"IF($AJ$14=0,0,$AJ$14)","v":0},null,{"$f":"IF($AK$14=0,0,$AK$14)","v":0},null,{"$f":"IF($AL$14=0,0,$AL$14)","v":0},null,{"$f":"IF($AM$14=0,0,$AM$14)","v":0},null,{"$f":"IF($AN$14=0,0,$AN$14)","v":0},null,{"$f":"IF($AO$14=0,0,$AO$14)","v":0},null,{"$f":"IF($AP$14=0,0,$AP$14)","v":0},null,{"$f":"IF($AQ$14=0,0,$AQ$14)","v":0},null,{"$f":"IF($AR$14=0,0,$AR$14)","v":0},null,{"$f":"IF($AS$14=0,0,$AS$14)","v":0},null,{"$f":"IF($AT$14=0,0,$AT$14)","v":0},null,{"$f":"IF($AU$14=0,0,$AU$14)","v":0},null,{"$f":"IF($AV$14=0,0,$AV$14)","v":0}]
[{"$f":"$A$59","v":"Auszahlung"},{"$f":"$B$59","v":"Stunden Vorjahressaldo"},null,null,null,null,{"$f":"IF($AJ$18=0,0,$AJ$18)","v":0},null,{"$f":"IF($AK$18=0,0,$AK$18)","v":0},null,{"$f":"IF($AL$18=0,0,$AL$18)","v":0},null,{"$f":"IF($AM$18=0,0,$AM$18)","v":0},null,{"$f":"IF($AN$18=0,0,$AN$18)","v":0},null,{"$f":"IF($AO$18=0,0,$AO$18)","v":0},null,{"$f":"IF($AP$18=0,0,$AP$18)","v":0},null,{"$f":"IF($AQ$18=0,0,$AQ$18)","v":0},null,{"$f":"IF($AR$18=0,0,$AR$18)","v":0},null,null,null,null,null,null,null,{"$f":"IF($AV$18=0,0,$AV$18)","v":0}]
[{"$f":"$A$60","v":"Differenz"},{"$f":"$B$60","v":"nach Kompensation und Auszahlung"},null,null,null,null,{"$f":"IF(ROUND($P$4,3)=0,0,$P$4-SUM(G561+G563))","v":0},null,{"$f":"IF(ROUND(G564,3)=0,0,G564-(SUM(I563+I561)))","v":0},null,{"$f":"IF(ROUND(I564,3)=0,0,I564-(SUM(K563+K561)))","v":0},null,{"$f":"IF(ROUND(K564,3)=0,0,K564-(SUM(M563+M561)))","v":0},null,{"$f":"IF(ROUND(M564,3)=0,0,M564-(SUM(O563+O561)))","v":0},null,{"$f":"IF(ROUND(O564,3)=0,0,O564-(SUM(Q563+Q561)))","v":0},null,{"$f":"IF(ROUND(Q564,3)=0,0,Q564-(SUM(S563+S561)))","v":0},null,{"$f":"IF(ROUND(S564,3)=0,0,S564-(SUM(U563+U561)))","v":0},null,{"$f":"IF(U564=0,0,U564-(SUM(W563+W561)))","v":0},null,{"$f":"$Y$60","v":""}]
[{"$f":"$A$61","v":"Auszahlung"},{"$f":"$B$61","v":"Stunden laufendes Jahr"},null,null,null,null,{"$f":"IF($AJ$19=0,0,$AJ$19)","v":0},null,{"$f":"IF($AK$19=0,0,$AK$19)","v":0},null,{"$f":"IF($AL$19=0,0,$AL$19)","v":0},null,{"$f":"IF($AM$19=0,0,$AM$19)","v":0},null,{"$f":"IF($AN$19=0,0,$AN$19)","v":0},null,{"$f":"IF($AO$19=0,0,$AO$19)","v":0},null,{"$f":"IF($AP$19=0,0,$AP$19)","v":0},null,{"$f":"IF($AQ$19=0,0,$AQ$19)","v":0},null,{"$f":"IF($AR$19=0,0,$AR$19)","v":0},null,{"$f":"IF($AS$19=0,0,$AS$19)","v":0},null,{"$f":"IF($AT$19=0,0,$AT$19)","v":0},null,{"$f":"IF($AU$19=0,0,$AU$19)","v":0},null,{"$f":"IF($AV$19=0,0,$AV$19)","v":0}]
[{"$f":"$A$62","v":"Fehlstunden"},{"$f":"$B$62","v":"laufendes Jahr (Kontrolle)"},null,null,null,{"$f":"$F$62","v":"fe"},{"$f":"IF($AJ$13=0,0,$AJ$13)","v":0},null,{"$f":"IF($AK$13=0,0,$AK$13)","v":0},null,{"$f":"IF($AL$13=0,0,$AL$13)","v":0},null,{"$f":"IF($AM$13=0,0,$AM$13)","v":0},null,{"$f":"IF($AN$13=0,0,$AN$13)","v":0},null,{"$f":"IF($AO$13=0,0,$AO$13)","v":0},null,{"$f":"IF($AP$13=0,0,$AP$13)","v":0},null,{"$f":"IF($AQ$13=0,0,$AQ$13)","v":0},null,{"$f":"IF($AR$13=0,0,$AR$13)","v":0},null,{"$f":"IF($AS$13=0,0,$AS$13)","v":0},null,{"$f":"IF($AT$13=0,0,$AT$13)","v":0},null,{"$f":"IF($AU$13=0,0,$AU$13)","v":0},null,{"$f":"IF($AV$13=0,0,$AV$13)","v":0}]
[{"$f":"$A$63","v":"Total inkl. Zeitzuschläge"},{"$f":"$B$63","v":"Stunden produktiv und unproduktiv"},null,null,null,null,{"$f":"IF($AG$36=0,0,$AG$36)","v":0},null,{"$f":"IF($AG$99=0,0,$AG$99)","v":0},null,{"$f":"IF($AG$162=0,0,$AG$162)","v":0},null,{"$f":"IF($AG$225=0,0,$AG$225)","v":0},null,{"$f":"IF($AG$288=0,0,$AG$288)","v":0},null,{"$f":"IF($AG$351=0,0,$AG$351)","v":0},null,{"$f":"IF($AG$414=0,0,$AG$414)","v":0},null,{"$f":"IF($AG$477=0,0,$AG$477)","v":0},null,{"$f":"IF($AG$540=0,0,$AG$540)","v":0},null,{"$f":"IF($AG$603=0,0,$AG$603)","v":0},null,{"$f":"IF($AG$666=0,0,$AG$666)","v":0},null,{"$f":"IF($AG$729=0,0,$AG$729)","v":0},null,{"$f":"SUM($G$63:$AD$63)","v":0}]
[{"$f":"$A$64","v":"Vergleich"},{"$f":"$B$64","v":"Stunden zu Soll-Stunden (inkl. allfälli-\nge Minusstunden Vorjahr)"},null,null,null,null,{"$f":"$G$64","v":-172.82999999999998},null,{"$f":"$I$64","v":-164.6},null,{"$f":"$K$64","v":-189.28999999999996},null,{"$f":"$M$64","v":-181.05999999999997},null,{"$f":"$O$64","v":-172.82999999999998},null,{"$f":"$Q$64","v":-181.05999999999997},null,{"$f":"$S$64","v":-181.05999999999997},null,{"$f":"$U$64","v":-181.05999999999997},null,{"$f":"$W$64","v":-181.05999999999997},null,{"$f":"$Y$64","v":-172.82999999999998},null,{"$f":"$AA$64","v":-181.05999999999997},null,{"$f":"$AC$64","v":-189.28999999999996},null,{"$f":"$AE$64","v":-2148.0299999999997}]
[null,{"$f":"$B$65","v":"Stunden zu Soll-Stunden (kumuliert)"},null,null,null,null,{"$f":"$G$65","v":-172.82999999999998},null,{"$f":"$I$65","v":-337.42999999999995},null,{"$f":"$K$65","v":-526.71999999999991},null,{"$f":"$M$65","v":-707.77999999999986},null,{"$f":"$O$65","v":-880.6099999999999},null,{"$f":"$Q$65","v":-1061.6699999999998},null,{"$f":"$S$65","v":-1242.7299999999998},null,{"$f":"$U$65","v":-1423.7899999999997},null,{"$f":"$W$65","v":-1604.8499999999997},null,{"$f":"$Y$65","v":-1777.6799999999996},null,{"$f":"$AA$65","v":-1958.7399999999996},null,{"$f":"$AC$65","v":-2148.0299999999997},null,{"$f":"$AE$65","v":0}]
[{"$f":"$A$66","v":"Ferienkontrolle"},{"$f":"$B$66","v":"Ferienguthaben Vorjahr"},null,null,null,null,{"$f":"IF($AA$4=0,0,$AA$4)","v":0},null,{"$f":"$I$66","v":"Ferienguthaben nach \nArt. 12.1 GAV"},null,null,null,{"$f":"IF($AA$5=0,0,$AA$5)","v":0},null,{"$f":"$O$66","v":"Ferienguthaben total"},null,null,null,{"$f":"SUM(G570+M570)","v":0},null,{"$f":"$U$66","v":"Ferien bezogen"},null,null,null,{"$f":"IF($AV$4=0,0,$AV$4)","v":0},null,{"$f":"$AA$66","v":"Aktuelles Ferienguthaben"},null,null,null,{"$f":"IF(S570=0,0,S570-Y570)","v":0}]
[]
[]
[{"$f":"$A$3","v":"Mitarbeiter/In"},{"$f":"IF($B$3=\"\",\"\",$B$3)","v":"Muster Peter"},null,null,null,null,null,null,null,null,null,null,null,null,null,null,null,null,null,null,null,null,null,null,null,null,null,null,null,null,null,{"$f":"AF3","v":0}]
[{"$f":"$A$4","v":"Anstellung %"},100,null,{"$f":"Labels!B98","v":"im Oktober"}]
[{"$f":"$A$5","v":"Saldo für das Jahr"},null,null,{"$f":"IF($AE$64=0,0,$AE$64)","v":-2148.0299999999997}]
[{"$f":"TEXT(DATE(YEAR(AP28),MONTH(AP28)+9,1),\"MMMM\"&Labels!B13)","v":"Oktober"},{"$f":"$B$9","v":"Saldo Monat + / -"},null,null,null,{"$f":"(AG579-(SUM(AG580:AG594)-AE601))*-1","v":-172.82999999999998},null,null,null,null,{"$f":"$K$9","v":" = "},{"$f":"$L$9","v":"Gelbe Felder müssen ausgefüllt werden (die übrigen werden automatisch berechnet)"}]
[{"$f":"$A$10","v":"Tag"},{"$f":"AE514+1","v":"2021-10-01"},{"$f":"B577+1","v":"2021-10-02"},{"$f":"C577+1","v":"2021-10-03"},"2021-10-04","2021-10-05","2021-10-06","2021-10-07","2021-10-08","2021-10-09","2021-10-10","2021-10-11","2021-10-12","2021-10-13","2021-10-14","2021-10-15","2021-10-16","2021-10-17","2021-10-18","2021-10-19","2021-10-20","2021-10-21","2021-10-22","2021-10-23","2021-10-24","2021-10-25","2021-10-26","2021-10-27","2021-10-28","2021-10-29","2021-10-30","2021-10-31",{"$f":"COUNT(B579:AF579)&\" \"&Labels!$B$63","v":"21 Tage"}]
[{"$f":"$A$11","v":"Kalenderwoche"},{"$f":"IF(B577=\"\",\"\",TRUNC((B577-DATE(YEAR(B577+3-MOD(B577-2,7)),1,MOD(B577-2,7)-9))/7))","v":39},39,39,40,40,40,40,40,40,40,41,41,41,41,41,41,41,42,42,42,42,42,42,42,43,43,43,43,43,43,43]
[{"$f":"$A$12","v":"Sollstunden"},{"$f":"IF(MOD(B577,7)>=2,$J$7*$B$574%,\"\")","v":8.23},"","",8.23,8.23,8.23,8.23,8.23,"","",8.23,8.23,8.23,8.23,8.23,"","",8.23,8.23,8.23,8.23,8.23,"","",8.23,8.23,8.23,8.23,8.23,"","",{"$f":"SUM(B579:AF579)","v":172.82999999999998}]
[{"$f":"$A$13","v":"Absenz in Std"},{"$f":"B1026","v":0},{"$f":"C1026","v":0},0,0,0,0,0,0,0,0,0,0,0,0,0,0,0,0,0,0,0,0,0,0,0,0,0,0,0,0,0,{"$f":"SUM(AS3:AS12)","v":0}]
[{"$f":"$A$14","v":"Code"},{"$f":"IF(B1026<>0,IF(MAX(B1013:B1025)<B1026,Labels!$B$163,INDEX($AH$1013:$AH$1025,MATCH(MAX(B1013:B1025),B1013:B1025,0))),\"\")","v":""},{"$f":"IF(C1026<>0,IF(MAX(C1013:C1025)<C1026,Labels!$B$163,INDEX($AH$1013:$AH$1025,MATCH(MAX(C1013:C1025),C1013:C1025,0))),\"\")","v":""},{"$f":"IF(D1026<>0,IF(MAX(D1013:D1025)<D1026,Labels!$B$163,INDEX($AH$1013:$AH$1025,MATCH(MAX(D1013:D1025),D1013:D1025,0))),\"\")","v":""},{"$f":"IF(E1026<>0,IF(MAX(E1013:E1025)<E1026,Labels!$B$163,INDEX($AH$1013:$AH$1025,MATCH(MAX(E1013:E1025),E1013:E1025,0))),\"\")","v":""},{"$f":"IF(F1026<>0,IF(MAX(F1013:F1025)<F1026,Labels!$B$163,INDEX($AH$1013:$AH$1025,MATCH(MAX(F1013:F1025),F1013:F1025,0))),\"\")","v":""},{"$f":"IF(G1026<>0,IF(MAX(G1013:G1025)<G1026,Labels!$B$163,INDEX($AH$1013:$AH$1025,MATCH(MAX(G1013:G1025),G1013:G1025,0))),\"\")","v":""},{"$f":"IF(H1026<>0,IF(MAX(H1013:H1025)<H1026,Labels!$B$163,INDEX($AH$1013:$AH$1025,MATCH(MAX(H1013:H1025),H1013:H1025,0))),\"\")","v":""},{"$f":"IF(I1026<>0,IF(MAX(I1013:I1025)<I1026,Labels!$B$163,INDEX($AH$1013:$AH$1025,MATCH(MAX(I1013:I1025),I1013:I1025,0))),\"\")","v":""},{"$f":"IF(J1026<>0,IF(MAX(J1013:J1025)<J1026,Labels!$B$163,INDEX($AH$1013:$AH$1025,MATCH(MAX(J1013:J1025),J1013:J1025,0))),\"\")","v":""},{"$f":"IF(K1026<>0,IF(MAX(K1013:K1025)<K1026,Labels!$B$163,INDEX($AH$1013:$AH$1025,MATCH(MAX(K1013:K1025),K1013:K1025,0))),\"\")","v":""},{"$f":"IF(L1026<>0,IF(MAX(L1013:L1025)<L1026,Labels!$B$163,INDEX($AH$1013:$AH$1025,MATCH(MAX(L1013:L1025),L1013:L1025,0))),\"\")","v":""},{"$f":"IF(M1026<>0,IF(MAX(M1013:M1025)<M1026,Labels!$B$163,INDEX($AH$1013:$AH$1025,MATCH(MAX(M1013:M1025),M1013:M1025,0))),\"\")","v":""},{"$f":"IF(N1026<>0,IF(MAX(N1013:N1025)<N1026,Labels!$B$163,INDEX($AH$1013:$AH$1025,MATCH(MAX(N1013:N1025),N1013:N1025,0))),\"\")","v":""},{"$f":"IF(O1026<>0,IF(MAX(O1013:O1025)<O1026,Labels!$B$163,INDEX($AH$1013:$AH$1025,MATCH(MAX(O1013:O1025),O1013:O1025,0))),\"\")","v":""},{"$f":"IF(P1026<>0,IF(MAX(P1013:P1025)<P1026,Labels!$B$163,INDEX($AH$1013:$AH$1025,MATCH(MAX(P1013:P1025),P1013:P1025,0))),\"\")","v":""},{"$f":"IF(Q1026<>0,IF(MAX(Q1013:Q1025)<Q1026,Labels!$B$163,INDEX($AH$1013:$AH$1025,MATCH(MAX(Q1013:Q1025),Q1013:Q1025,0))),\"\")","v":""},{"$f":"IF(R1026<>0,IF(MAX(R1013:R1025)<R1026,Labels!$B$163,INDEX($AH$1013:$AH$1025,MATCH(MAX(R1013:R1025),R1013:R1025,0))),\"\")","v":""},{"$f":"IF(S1026<>0,IF(MAX(S1013:S1025)<S1026,Labels!$B$163,INDEX($AH$1013:$AH$1025,MATCH(MAX(S1013:S1025),S1013:S1025,0))),\"\")","v":""},{"$f":"IF(T1026<>0,IF(MAX(T1013:T1025)<T1026,Labels!$B$163,INDEX($AH$1013:$AH$1025,MATCH(MAX(T1013:T1025),T1013:T1025,0))),\"\")","v":""},{"$f":"IF(U1026<>0,IF(MAX(U1013:U1025)<U1026,Labels!$B$163,INDEX($AH$1013:$AH$1025,MATCH(MAX(U1013:U1025),U1013:U1025,0))),\"\")","v":""},{"$f":"IF(V1026<>0,IF(MAX(V1013:V1025)<V1026,Labels!$B$163,INDEX($AH$1013:$AH$1025,MATCH(MAX(V1013:V1025),V1013:V1025,0))),\"\")","v":""},{"$f":"IF(W1026<>0,IF(MAX(W1013:W1025)<W1026,Labels!$B$163,INDEX($AH$1013:$AH$1025,MATCH(MAX(W1013:W1025),W1013:W1025,0))),\"\")","v":""},{"$f":"IF(X1026<>0,IF(MAX(X1013:X1025)<X1026,Labels!$B$163,INDEX($AH$1013:$AH$1025,MATCH(MAX(X1013:X1025),X1013:X1025,0))),\"\")","v":""},{"$f":"IF(Y1026<>0,IF(MAX(Y1013:Y1025)<Y1026,Labels!$B$163,INDEX($AH$1013:$AH$1025,MATCH(MAX(Y1013:Y1025),Y1013:Y1025,0))),\"\")","v":""},{"$f":"IF(Z1026<>0,IF(MAX(Z1013:Z1025)<Z1026,Labels!$B$163,INDEX($AH$1013:$AH$1025,MATCH(MAX(Z1013:Z1025),Z1013:Z1025,0))),\"\")","v":""},{"$f":"IF(AA1026<>0,IF(MAX(AA1013:AA1025)<AA1026,Labels!$B$163,INDEX($AH$1013:$AH$1025,MATCH(MAX(AA1013:AA1025),AA1013:AA1025,0))),\"\")","v":""},{"$f":"IF(AB1026<>0,IF(MAX(AB1013:AB1025)<AB1026,Labels!$B$163,INDEX($AH$1013:$AH$1025,MATCH(MAX(AB1013:AB1025),AB1013:AB1025,0))),\"\")","v":""},{"$f":"IF(AC1026<>0,IF(MAX(AC1013:AC1025)<AC1026,Labels!$B$163,INDEX($AH$1013:$AH$1025,MATCH(MAX(AC1013:AC1025),AC1013:AC1025,0))),\"\")","v":""},{"$f":"IF(AD1026<>0,IF(MAX(AD1013:AD1025)<AD1026,Labels!$B$163,INDEX($AH$1013:$AH$1025,MATCH(MAX(AD1013:AD1025),AD1013:AD1025,0))),\"\")","v":""},{"$f":"IF(AE1026<>0,IF(MAX(AE1013:AE1025)<AE1026,Labels!$B$163,INDEX($AH$1013:$AH$1025,MATCH(MAX(AE1013:AE1025),AE1013:AE1025,0))),\"\")","v":""},{"$f":"IF(AF1026<>0,IF(MAX(AF1013:AF1025)<AF1026,Labels!$B$163,INDEX($AH$1013:$AH$1025,MATCH(MAX(AF1013:AF1025),AF1013:AF1025,0))),\"\")","v":""}]
[{"$f":"$A$15","v":"00.00-06.00h"},null,null,null,null,null,null,null,null,null,null,null,null,null,null,null,null,null,null,null,null,null,null,null,null,null,null,null,null,null,null,null,{"$f":"SUM(B582:AF582)","v":0}]
[{"$f":"$A$16","v":"06.00-20.00h"},null,null,null,null,null,null,null,null,null,null,null,null,null,null,null,null,null,null,null,null,null,null,null,null,null,null,null,null,null,null,null,{"$f":"SUM(B583:AF583)","v":0}]
[{"$f":"$A$17","v":"20.00-24.00h"},null,null,null,null,null,null,null,null,null,null,null,null,null,null,null,null,null,null,null,null,null,null,null,null,null,null,null,null,null,null,null,{"$f":"SUM(B584:AF584)","v":0},"[0]"]
[{"$f":"$A$18","v":"Feiertag \"ft\""},{"$f":"IF(WEEKDAY(B577,2)<=6,IF(KALENDER!E21=\"x\",Labels!$B$118,\"\"),\"\")","v":""},{"$f":"IF(WEEKDAY(C577,2)<=6,IF(KALENDER!F21=\"x\",Labels!$B$118,\"\"),\"\")","v":""},{"$f":"IF(WEEKDAY(D577,2)<=6,IF(KALENDER!G21=\"x\",Labels!$B$118,\"\"),\"\")","v":""},{"$f":"IF(WEEKDAY(E577,2)<=6,IF(KALENDER!H21=\"x\",Labels!$B$118,\"\"),\"\")","v":""},{"$f":"IF(WEEKDAY(F577,2)<=6,IF(KALENDER!I21=\"x\",Labels!$B$118,\"\"),\"\")","v":""},{"$f":"IF(WEEKDAY(G577,2)<=6,IF(KALENDER!J21=\"x\",Labels!$B$118,\"\"),\"\")","v":""},{"$f":"IF(WEEKDAY(H577,2)<=6,IF(KALENDER!K21=\"x\",Labels!$B$118,\"\"),\"\")","v":""},{"$f":"IF(WEEKDAY(I577,2)<=6,IF(KALENDER!L21=\"x\",Labels!$B$118,\"\"),\"\")","v":""},{"$f":"IF(WEEKDAY(J577,2)<=6,IF(KALENDER!M21=\"x\",Labels!$B$118,\"\"),\"\")","v":""},{"$f":"IF(WEEKDAY(K577,2)<=6,IF(KALENDER!N21=\"x\",Labels!$B$118,\"\"),\"\")","v":""},{"$f":"IF(WEEKDAY(L577,2)<=6,IF(KALENDER!O21=\"x\",Labels!$B$118,\"\"),\"\")","v":""},{"$f":"IF(WEEKDAY(M577,2)<=6,IF(KALENDER!P21=\"x\",Labels!$B$118,\"\"),\"\")","v":""},{"$f":"IF(WEEKDAY(N577,2)<=6,IF(KALENDER!Q21=\"x\",Labels!$B$118,\"\"),\"\")","v":""},{"$f":"IF(WEEKDAY(O577,2)<=6,IF(KALENDER!R21=\"x\",Labels!$B$118,\"\"),\"\")","v":""},{"$f":"IF(WEEKDAY(P577,2)<=6,IF(KALENDER!S21=\"x\",Labels!$B$118,\"\"),\"\")","v":""},{"$f":"IF(WEEKDAY(Q577,2)<=6,IF(KALENDER!T21=\"x\",Labels!$B$118,\"\"),\"\")","v":""},{"$f":"IF(WEEKDAY(R577,2)<=6,IF(KALENDER!U21=\"x\",Labels!$B$118,\"\"),\"\")","v":""},{"$f":"IF(WEEKDAY(S577,2)<=6,IF(KALENDER!V21=\"x\",Labels!$B$118,\"\"),\"\")","v":""},{"$f":"IF(WEEKDAY(T577,2)<=6,IF(KALENDER!W21=\"x\",Labels!$B$118,\"\"),\"\")","v":""},{"$f":"IF(WEEKDAY(U577,2)<=6,IF(KALENDER!X21=\"x\",Labels!$B$118,\"\"),\"\")","v":""},{"$f":"IF(WEEKDAY(V577,2)<=6,IF(KALENDER!Y21=\"x\",Labels!$B$118,\"\"),\"\")","v":""},{"$f":"IF(WEEKDAY(W577,2)<=6,IF(KALENDER!Z21=\"x\",Labels!$B$118,\"\"),\"\")","v":""},{"$f":"IF(WEEKDAY(X577,2)<=6,IF(KALENDER!AA21=\"x\",Labels!$B$118,\"\"),\"\")","v":""},{"$f":"IF(WEEKDAY(Y577,2)<=6,IF(KALENDER!AB21=\"x\",Labels!$B$118,\"\"),\"\")","v":""},{"$f":"IF(WEEKDAY(Z577,2)<=6,IF(KALENDER!AC21=\"x\",Labels!$B$118,\"\"),\"\")","v":""},{"$f":"IF(WEEKDAY(AA577,2)<=6,IF(KALENDER!AD21=\"x\",Labels!$B$118,\"\"),\"\")","v":""},{"$f":"IF(WEEKDAY(AB577,2)<=6,IF(KALENDER!AE21=\"x\",Labels!$B$118,\"\"),\"\")","v":""},{"$f":"IF(WEEKDAY(AC577,2)<=6,IF(KALENDER!AF21=\"x\",Labels!$B$118,\"\"),\"\")","v":""},{"$f":"IF(WEEKDAY(AD577,2)<=6,IF(KALENDER!AG21=\"x\",Labels!$B$118,\"\"),\"\")","v":""},{"$f":"IF(WEEKDAY(AE577,2)<=6,IF(KALENDER!AH21=\"x\",Labels!$B$118,\"\"),\"\")","v":""},{"$f":"IF(WEEKDAY(AF577,2)<=6,IF(KALENDER!AI21=\"x\",Labels!$B$118,\"\"),\"\")","v":""}]
[{"$f":"$A$19","v":"Gutschrift \"ft\""},{"$f":"IF(AND(B585=Labels!$B$118,WEEKDAY(B577,2)<6),$J$7*$B$574%,\"\")","v":""},{"$f":"IF(AND(C585=Labels!$B$118,WEEKDAY(C577,2)<6),$J$7*$B$574%,\"\")","v":""},{"$f":"IF(AND(D585=Labels!$B$118,WEEKDAY(D577,2)<6),$J$7*$B$574%,\"\")","v":""},{"$f":"IF(AND(E585=Labels!$B$118,WEEKDAY(E577,2)<6),$J$7*$B$574%,\"\")","v":""},{"$f":"IF(AND(F585=Labels!$B$118,WEEKDAY(F577,2)<6),$J$7*$B$574%,\"\")","v":""},{"$f":"IF(AND(G585=Labels!$B$118,WEEKDAY(G577,2)<6),$J$7*$B$574%,\"\")","v":""},{"$f":"IF(AND(H585=Labels!$B$118,WEEKDAY(H577,2)<6),$J$7*$B$574%,\"\")","v":""},{"$f":"IF(AND(I585=Labels!$B$118,WEEKDAY(I577,2)<6),$J$7*$B$574%,\"\")","v":""},{"$f":"IF(AND(J585=Labels!$B$118,WEEKDAY(J577,2)<6),$J$7*$B$574%,\"\")","v":""},{"$f":"IF(AND(K585=Labels!$B$118,WEEKDAY(K577,2)<6),$J$7*$B$574%,\"\")","v":""},{"$f":"IF(AND(L585=Labels!$B$118,WEEKDAY(L577,2)<6),$J$7*$B$574%,\"\")","v":""},{"$f":"IF(AND(M585=Labels!$B$118,WEEKDAY(M577,2)<6),$J$7*$B$574%,\"\")","v":""},{"$f":"IF(AND(N585=Labels!$B$118,WEEKDAY(N577,2)<6),$J$7*$B$574%,\"\")","v":""},{"$f":"IF(AND(O585=Labels!$B$118,WEEKDAY(O577,2)<6),$J$7*$B$574%,\"\")","v":""},{"$f":"IF(AND(P585=Labels!$B$118,WEEKDAY(P577,2)<6),$J$7*$B$574%,\"\")","v":""},{"$f":"IF(AND(Q585=Labels!$B$118,WEEKDAY(Q577,2)<6),$J$7*$B$574%,\"\")","v":""},{"$f":"IF(AND(R585=Labels!$B$118,WEEKDAY(R577,2)<6),$J$7*$B$574%,\"\")","v":""},{"$f":"IF(AND(S585=Labels!$B$118,WEEKDAY(S577,2)<6),$J$7*$B$574%,\"\")","v":""},{"$f":"IF(AND(T585=Labels!$B$118,WEEKDAY(T577,2)<6),$J$7*$B$574%,\"\")","v":""},{"$f":"IF(AND(U585=Labels!$B$118,WEEKDAY(U577,2)<6),$J$7*$B$574%,\"\")","v":""},{"$f":"IF(AND(V585=Labels!$B$118,WEEKDAY(V577,2)<6),$J$7*$B$574%,\"\")","v":""},{"$f":"IF(AND(W585=Labels!$B$118,WEEKDAY(W577,2)<6),$J$7*$B$574%,\"\")","v":""},{"$f":"IF(AND(X585=Labels!$B$118,WEEKDAY(X577,2)<6),$J$7*$B$574%,\"\")","v":""},{"$f":"IF(AND(Y585=Labels!$B$118,WEEKDAY(Y577,2)<6),$J$7*$B$574%,\"\")","v":""},{"$f":"IF(AND(Z585=Labels!$B$118,WEEKDAY(Z577,2)<6),$J$7*$B$574%,\"\")","v":""},{"$f":"IF(AND(AA585=Labels!$B$118,WEEKDAY(AA577,2)<6),$J$7*$B$574%,\"\")","v":""},{"$f":"IF(AND(AB585=Labels!$B$118,WEEKDAY(AB577,2)<6),$J$7*$B$574%,\"\")","v":""},{"$f":"IF(AND(AC585=Labels!$B$118,WEEKDAY(AC577,2)<6),$J$7*$B$574%,\"\")","v":""},{"$f":"IF(AND(AD585=Labels!$B$118,WEEKDAY(AD577,2)<6),$J$7*$B$574%,\"\")","v":""},{"$f":"IF(AND(AE585=Labels!$B$118,WEEKDAY(AE577,2)<6),$J$7*$B$574%,\"\")","v":""},{"$f":"IF(AND(AF585=Labels!$B$118,WEEKDAY(AF577,2)<6),$J$7*$B$574%,\"\")","v":""},{"$f":"SUM(B586:AF586)","v":0}]
[{"$f":"$A$20","v":"Tagestotal"},{"$f":"SUM(B582:B584)","v":0},{"$f":"SUM(C582:C584)","v":0},0,0,0,0,0,0,0,0,0,0,0,0,0,0,0,0,0,0,0,0,0,0,0,0,0,0,0,0,0]
[{"$f":"$A$21","v":"."}]
[{"$f":"$A$22","v":"."}]
[{"$f":"$A$23","v":"Monatsübergang"},{"$f":"IF(WEEKDAY(B577)=1,TEXT(B577-1,\"MMM\"&Labels!B13),\"\")","v":""},null,null,null,null,null,null,null,null,null,null,null,null,null,null,null,null,null,null,null,null,null,null,null,null,null,null,null,null,null,{"$f":"IF(AND(WEEKDAY(AF577)>1,WEEKDAY(AF577)<7),TEXT(DATE($B$5,MONTH(AF577)+1,1),\"MMM\"&Labels!B13),\"\")","v":""}]
[{"$f":"$A$24","v":"Wochentotal"},{"$f":"IF(WEEKDAY(B577)=7,SUMIF($B515:$AF515,B578,$B524:$AF524)+SUMIF($B578:$AF578,B578,$B587:$AF587)+SUMIF($B641:$AF641,B578,$B650:$AF650),B590)","v":""},{"$f":"IF(WEEKDAY(C577)=7,SUMIF($B515:$AF515,C578,$B524:$AF524)+SUMIF($B578:$AF578,C578,$B587:$AF587)+SUMIF($B641:$AF641,C578,$B650:$AF650),\"\")","v":0},"","","","","","",0,"","","","","","",0,"","","","","","",0,"","","","","","",0,{"$f":"IF(WEEKDAY(AF577)=7,SUMIF($B515:$AF515,AF578,$B524:$AF524)+SUMIF($B578:$AF578,AF578,$B587:$AF587)+SUMIF($B641:$AF641,AF578,$B650:$AF650),AF590)","v":""}]
[{"$f":"$A$25","v":"Zeitzuschlag 1)"},{"$f":"IF(B599=\"FALSCH\",\"\",B599)","v":""},{"$f":"IF(C599=\"FALSCH\",\"\",C599)","v":""},"","","","","","","","","","","","","","","","","","","","","","","","","","","","","",{"$f":"SUM(B592:AF592)","v":0}]
[{"$f":"$A$26","v":"Zeitzuschlag 2)"},{"$f":"IF((B582+B584)=0,\"\",SUM(B582,B584))","v":""},{"$f":"IF((C582+C584)=0,\"\",SUM(C582,C584))","v":""},"","","","","","","","","","","","","","","","","","","","","","","","","","","","","",0,"[1]"]
[{"$f":"$A$27","v":"Zeitzuschlag 3)"},{"$f":"SUM(B595:B598)","v":0},{"$f":"SUM(C595:C598)","v":0},0,0,0,0,0,0,0,0,0,0,0,0,0,0,0,0,0,0,0,0,0,0,0,0,0,0,0,0,0,{"$f":"SUM(B594:AF594)","v":0},"[2]"]
[{"$f":"$A$28","v":"Sonntag Tag"},{"$f":"IF(WEEKDAY(B577)=1,B583,\"\")","v":""},{"$f":"IF(WEEKDAY(C577)=1,C583,\"\")","v":""},0,"","","","","","",0,"","","","","","",0,"","","","","","",0,"","","","","","",0,0,"[3]"]
[{"$f":"$A$29","v":"Sonntag Nacht"},{"$f":"IF(WEEKDAY(B577)=1,SUM(B582+B584),\"\")","v":""},{"$f":"IF(WEEKDAY(C577)=1,SUM(C582+C584),\"\")","v":""},0,"","","","","","",0,"","","","","","",0,"","","","","","",0,"","","","","","",0,0,"[4]"]
[{"$f":"$A$30","v":"ft-Tazuschlag"},{"$f":"IF(B585=Labels!$B$118,B583,\"\")","v":""},{"$f":"IF(C585=Labels!$B$118,C583,\"\")","v":""},{"$f":"IF(D585=Labels!$B$118,D583,\"\")","v":""},{"$f":"IF(E585=Labels!$B$118,E583,\"\")","v":""},{"$f":"IF(F585=Labels!$B$118,F583,\"\")","v":""},{"$f":"IF(G585=Labels!$B$118,G583,\"\")","v":""},{"$f":"IF(H585=Labels!$B$118,H583,\"\")","v":""},{"$f":"IF(I585=Labels!$B$118,I583,\"\")","v":""},{"$f":"IF(J585=Labels!$B$118,J583,\"\")","v":""},{"$f":"IF(K585=Labels!$B$118,K583,\"\")","v":""},{"$f":"IF(L585=Labels!$B$118,L583,\"\")","v":""},{"$f":"IF(M585=Labels!$B$118,M583,\"\")","v":""},{"$f":"IF(N585=Labels!$B$118,N583,\"\")","v":""},{"$f":"IF(O585=Labels!$B$118,O583,\"\")","v":""},{"$f":"IF(P585=Labels!$B$118,P583,\"\")","v":""},{"$f":"IF(Q585=Labels!$B$118,Q583,\"\")","v":""},{"$f":"IF(R585=Labels!$B$118,R583,\"\")","v":""},{"$f":"IF(S585=Labels!$B$118,S583,\"\")","v":""},{"$f":"IF(T585=Labels!$B$118,T583,\"\")","v":""},{"$f":"IF(U585=Labels!$B$118,U583,\"\")","v":""},{"$f":"IF(V585=Labels!$B$118,V583,\"\")","v":""},{"$f":"IF(W585=Labels!$B$118,W583,\"\")","v":""},{"$f":"IF(X585=Labels!$B$118,X583,\"\")","v":""},{"$f":"IF(Y585=Labels!$B$118,Y583,\"\")","v":""},{"$f":"IF(Z585=Labels!$B$118,Z583,\"\")","v":""},{"$f":"IF(AA585=Labels!$B$118,AA583,\"\")","v":""},{"$f":"IF(AB585=Labels!$B$118,AB583,\"\")","v":""},{"$f":"IF(AC585=Labels!$B$118,AC583,\"\")","v":""},{"$f":"IF(AD585=Labels!$B$118,AD583,\"\")","v":""},{"$f":"IF(AE585=Labels!$B$118,AE583,\"\")","v":""},{"$f":"IF(AF585=Labels!$B$118,AF583,\"\")","v":""},0,"[5]"]
[{"$f":"$A$31","v":"ft-Nazuschlag"},{"$f":"IF(B585=Labels!$B$118,SUM(B582,B584),\"\")","v":""},{"$f":"IF(C585=Labels!$B$118,SUM(C582,C584),\"\")","v":""},{"$f":"IF(D585=Labels!$B$118,SUM(D582,D584),\"\")","v":""},{"$f":"IF(E585=Labels!$B$118,SUM(E582,E584),\"\")","v":""},{"$f":"IF(F585=Labels!$B$118,SUM(F582,F584),\"\")","v":""},{"$f":"IF(G585=Labels!$B$118,SUM(G582,G584),\"\")","v":""},{"$f":"IF(H585=Labels!$B$118,SUM(H582,H584),\"\")","v":""},{"$f":"IF(I585=Labels!$B$118,SUM(I582,I584),\"\")","v":""},{"$f":"IF(J585=Labels!$B$118,SUM(J582,J584),\"\")","v":""},{"$f":"IF(K585=Labels!$B$118,SUM(K582,K584),\"\")","v":""},{"$f":"IF(L585=Labels!$B$118,SUM(L582,L584),\"\")","v":""},{"$f":"IF(M585=Labels!$B$118,SUM(M582,M584),\"\")","v":""},{"$f":"IF(N585=Labels!$B$118,SUM(N582,N584),\"\")","v":""},{"$f":"IF(O585=Labels!$B$118,SUM(O582,O584),\"\")","v":""},{"$f":"IF(P585=Labels!$B$118,SUM(P582,P584),\"\")","v":""},{"$f":"IF(Q585=Labels!$B$118,SUM(Q582,Q584),\"\")","v":""},{"$f":"IF(R585=Labels!$B$118,SUM(R582,R584),\"\")","v":""},{"$f":"IF(S585=Labels!$B$118,SUM(S582,S584),\"\")","v":""},{"$f":"IF(T585=Labels!$B$118,SUM(T582,T584),\"\")","v":""},{"$f":"IF(U585=Labels!$B$118,SUM(U582,U584),\"\")","v":""},{"$f":"IF(V585=Labels!$B$118,SUM(V582,V584),\"\")","v":""},{"$f":"IF(W585=Labels!$B$118,SUM(W582,W584),\"\")","v":""},{"$f":"IF(X585=Labels!$B$118,SUM(X582,X584),\"\")","v":""},{"$f":"IF(Y585=Labels!$B$118,SUM(Y582,Y584),\"\")","v":""},{"$f":"IF(Z585=Labels!$B$118,SUM(Z582,Z584),\"\")","v":""},{"$f":"IF(AA585=Labels!$B$118,SUM(AA582,AA584),\"\")","v":""},{"$f":"IF(AB585=Labels!$B$118,SUM(AB582,AB584),\"\")","v":""},{"$f":"IF(AC585=Labels!$B$118,SUM(AC582,AC584),\"\")","v":""},{"$f":"IF(AD585=Labels!$B$118,SUM(AD582,AD584),\"\")","v":""},{"$f":"IF(AE585=Labels!$B$118,SUM(AE582,AE584),\"\")","v":""},{"$f":"IF(AF585=Labels!$B$118,SUM(AF582,AF584),\"\")","v":""},0,"[6]"]
[{"$f":"$A$32","v":"Zuschlag  blind (Wochentotal)"},{"$f":"IF(OR(ISTEXT(B591),B591=\"\",B591<$B$7),\"\",ROUND(((B591-$B$7)*25%)/25,4)*25)","v":""},{"$f":"IF(OR(ISTEXT(C591),C591=\"\",C591<$B$7),\"\",ROUND(((C591-$B$7)*25%)/25,4)*25)","v":""},"","","","","","","","","","","","","","","","","","","","","","","","","","","","","",{"$f":"AG583","v":0},"[7]"]
[null,{"$f":"$B$33","v":"1)   25% Zeitzuschlag für Überschreitung Wochentotal"},null,null,null,null,null,null,null,null,null,{"$f":"$L$33","v":"2) 100% Zeitzuschlag für Nachtarbeit"},null,null,null,null,null,null,null,null,null,null,null,null,null,null,null,null,null,null,null,null,{"$f":"SUM(AG582+AG584)","v":0},"[8]"]
[null,{"$f":"$B$34","v":"3) 100% Zeitzuschlag für Sonn- und Feiertagsarbeit"},null,null,null,null,null,null,null,null,null,null,null,null,null,null,null,null,null,{"$f":"$T$34","v":"Eingabe der ausbezahlten Stunden laufendes Jahr (Überstunden)"},null,null,null,null,null,null,null,null,null,null,null,null,{"$f":"SUM(AG582:AG584)","v":0},"[9]"]
[{"$f":"$A$35","v":"Bemerkungen"},null,null,null,null,null,null,null,null,null,null,null,null,null,null,null,null,null,null,null,null,null,null,null,null,null,null,null,null,null,null,null,{"$f":"SUM(AG580+AG586)","v":0},"[10]"]
[null,null,null,null,null,null,null,null,null,null,null,null,null,null,null,null,null,null,null,null,null,null,null,null,null,null,null,null,null,null,null,null,{"$f":"SUM(AG580:AG594)","v":0},"[11]"]
[null,null,null,null,null,null,null,null,null,null,null,null,null,null,null,null,null,null,null,null,null,null,null,null,null,null,null,null,null,null,null,null,{"$f":"AG579","v":172.82999999999998}]
[null,null,null,null,null,null,null,null,null,null,null,null,null,null,null,null,null,null,null,null,null,null,null,null,null,null,null,null,null,null,null,null,{"$f":"SUM(AG603-AG579)","v":-172.82999999999998}]
[{"$f":"$A$39","v":"Zusammenstellung"},null,null,null,null,null,{"$f":"$G$39","v":"Jan"},null,{"$f":"$I$39","v":"Feb"},null,{"$f":"$K$39","v":"Mrz"},null,{"$f":"$M$39","v":"Apr"},null,{"$f":"$O$39","v":"Mai"},null,{"$f":"$Q$39","v":"Jun"},null,{"$f":"$S$39","v":"Jul"},null,{"$f":"$U$39","v":"Aug"},null,{"$f":"$W$39","v":"Sep"},null,{"$f":"$Y$39","v":"Okt"},null,{"$f":"$AA$39","v":"Nov"},null,{"$f":"$AC$39","v":"Dez"},null,{"$f":"$AE$39","v":"Jahr"}]
[{"$f":"$A$40","v":"Anstellung %"},null,null,null,null,null,{"$f":"IF($B$4=0,0,$B$4)","v":100},null,{"$f":"IF($B$70=0,0,$B$70)","v":100},null,{"$f":"IF($B$133=0,0,$B$133)","v":100},null,{"$f":"IF($B$196=0,0,$B$196)","v":100},null,{"$f":"IF($B$259=0,0,$B$259)","v":100},null,{"$f":"IF($B$322=0,0,$B$322)","v":100},null,{"$f":"IF($B$385=0,0,$B$385)","v":100},null,{"$f":"IF($B$448=0,0,$B$448)","v":100},null,{"$f":"IF($B$511=0,0,$B$511)","v":100},null,{"$f":"IF($B$574=0,0,$B$574)","v":100},null,{"$f":"IF($B$637=0,0,$B$637)","v":100},null,{"$f":"IF($B$700=0,0,$B$700)","v":100}]
[{"$f":"$A$41","v":"Sollstunden gemäss GAV"},null,null,null,null,null,{"$f":"IF($AG$37=0,0,$AG$37)","v":172.82999999999998},null,{"$f":"IF($AG$100=0,0,$AG$100)","v":164.6},null,{"$f":"IF($AG$138=0,0,$AG$138)","v":189.28999999999996},null,{"$f":"IF($AG$226=0,0,$AG$226)","v":181.05999999999997},null,{"$f":"IF($AG$289=0,0,$AG$289)","v":172.82999999999998},null,{"$f":"IF($AG$352=0,0,$AG$352)","v":181.05999999999997},null,{"$f":"IF($AG$415=0,0,$AG$415)","v":181.05999999999997},null,{"$f":"IF($AG$478=0,0,$AG$478)","v":181.05999999999997},null,{"$f":"IF($AG$541=0,0,$AG$541)","v":181.05999999999997},null,{"$f":"IF($AG$604=0,0,$AG$604)","v":172.82999999999998},null,{"$f":"IF($AG$667=0,0,$AG$667)","v":181.05999999999997},null,{"$f":"IF($AG$730=0,0,$AG$730)","v":189.28999999999996},null,{"$f":"SUM(G608:AD608)","v":2148.0299999999997}]
[{"$f":"$A$42","v":"Produktive Stunden"},{"$f":"$B$42","v":"06.00 - 20.00 Uhr"},null,null,null,null,{"$f":"IF($AG$32=0,0,$AG$32)","v":0},null,{"$f":"IF($AG$95=0,0,$AG$95)","v":0},null,{"$f":"IF($AG$158=0,0,$AG$158)","v":0},null,{"$f":"IF($AG$221=0,0,$AG$221)","v":0},null,{"$f":"IF($AG$284=0,0,$AG$284)","v":0},null,{"$f":"IF($AG$347=0,0,$AG$347)","v":0},null,{"$f":"IF($AG$410=0,0,$AG$410)","v":0},null,{"$f":"IF($AG$473=0,0,$AG$473)","v":0},null,{"$f":"IF($AG$536=0,0,$AG$536)","v":0},null,{"$f":"IF($AG$599=0,0,$AG$599)","v":0},null,{"$f":"IF($AG$662=0,0,$AG$662)","v":0},null,{"$f":"IF($AG$725=0,0,$AG$725)","v":0},null,{"$f":"SUM(G609:AD609)","v":0}]
[null,{"$f":"$B$43","v":"Nacht-, Sonn-, Feiertagsarbeit"},null,null,null,null,{"$f":"IF($AG$33=0,0,$AG$33)","v":0},null,{"$f":"IF($AG$96=0,0,$AG$96)","v":0},null,{"$f":"IF($AG$159=0,0,$AG$159)","v":0},null,{"$f":"IF($AG$222=0,0,$AG$222)","v":0},null,{"$f":"IF($AG$285=0,0,$AG$285)","v":0},null,{"$f":"IF($AG$348=0,0,$AG$348)","v":0},null,{"$f":"IF($AG$411=0,0,$AG$411)","v":0},null,{"$f":"IF($AG$474=0,0,$AG$474)","v":0},null,{"$f":"IF($AG$537=0,0,$AG$537)","v":0},null,{"$f":"IF($AG$600=0,0,$AG$600)","v":0},null,{"$f":"IF($AG$663=0,0,$AG$663)","v":0},null,{"$f":"IF($AG$726=0,0,$AG$726)","v":0},null,{"$f":"SUM(G610:AD610)","v":0}]
[{"$f":"$A$44","v":"Zeitzuschläge"},{"$f":"$B$44","v":"aus Wochentotal"},null,null,null,null,{"$f":"IF($AG$25=0,0,$AG$25)","v":0},null,{"$f":"IF($AG$88=0,0,$AG$88)","v":0},null,{"$f":"IF($AG$151=0,0,$AG$151)","v":0},null,{"$f":"IF($AG$214=0,0,$AG$214)","v":0},null,{"$f":"IF($AG$277=0,0,$AG$277)","v":0},null,{"$f":"IF($AG$340=0,0,$AG$340)","v":0},null,{"$f":"IF($AG$403=0,0,$AG$403)","v":0},null,{"$f":"IF($AG$466=0,0,$AG$466)","v":0},null,{"$f":"IF($AG$529=0,0,$AG$529)","v":0},null,{"$f":"IF($AG$592=0,0,$AG$592)","v":0},null,{"$f":"IF($AG$655=0,0,$AG$655)","v":0},null,{"$f":"IF($AG$718=0,0,$AG$718)","v":0},null,{"$f":"SUM(G611:AD611)","v":0}]
[null,{"$f":"$B$45","v":"aus Nacht-, Sonn-, Feiertagsarbeiten"},null,null,null,null,{"$f":"IF($AJ$20=0,0,$AJ$20)","v":0},null,{"$f":"IF($AK$20=0,0,$AK$20)","v":0},null,{"$f":"IF($AL$20=0,0,$AL$20)","v":0},null,{"$f":"IF($AM$20=0,0,$AM$20)","v":0},null,{"$f":"IF($AN$20=0,0,$AN$20)","v":0},null,{"$f":"IF($AO$20=0,0,$AO$20)","v":0},null,{"$f":"IF($AP$20=0,0,$AP$20)","v":0},null,{"$f":"IF($AQ$20=0,0,$AQ$20)","v":0},null,{"$f":"IF($AR$20=0,0,$AR$20)","v":0},null,{"$f":"IF($AS$20=0,0,$AS$20)","v":0},null,{"$f":"IF($AT$20=0,0,$AT$20)","v":0},null,{"$f":"IF($AU$20=0,0,$AU$20)","v":0},null,{"$f":"SUM(G612:AD612)","v":0}]
[{"$f":"$A$46","v":"Unproduktive Stunden"}]
[{"$f":"$A$47","v":"   Absenzen, Kurzabsenzen Art. 11 GAV"},null,null,null,null,{"$f":"$F$47","v":"a"},{"$f":"IF($AJ$3=0,0,$AJ$3)","v":0},null,{"$f":"IF($AK$3=0,0,$AK$3)","v":0},null,{"$f":"IF($AL$3=0,0,$AL$3)","v":0},null,{"$f":"IF($AM$3=0,0,$AM$3)","v":0},null,{"$f":"IF($AN$3=0,0,$AN$3)","v":0},null,{"$f":"IF($AO$3=0,0,$AO$3)","v":0},null,{"$f":"IF($AP$3=0,0,$AP$3)","v":0},null,{"$f":"IF($AQ$3=0,0,$AQ$3)","v":0},null,{"$f":"IF($AR$3=0,0,$AR$3)","v":0},null,{"$f":"IF($AS$3=0,0,$AS$3)","v":0},null,{"$f":"IF(AT$3=0,0,$AT$3)","v":0},null,{"$f":"IF($AU$3=0,0,$AU$3)","v":0},null,{"$f":"IF($AV$3=0,0,$AV$3)","v":0}]
[{"$f":"$A$48","v":"   Ferien Art. 12.1 GAV"},null,null,null,null,{"$f":"$F$48","v":"f"},{"$f":"IF($AJ$4=0,0,$AJ$4)","v":0},null,{"$f":"IF($AK$4=0,0,$AK$4)","v":0},null,{"$f":"IF($AL$4=0,0,$AL$4)","v":0},null,{"$f":"IF($AM$4=0,0,$AM$4)","v":0},null,{"$f":"IF($AN$4=0,0,$AN$4)","v":0},null,{"$f":"IF($AO$4=0,0,$AO$4)","v":0},null,{"$f":"IF($AP$4=0,0,$AP$4)","v":0},null,{"$f":"IF($AQ$4=0,0,$AQ$4)","v":0},null,{"$f":"IF($AR$4=0,0,$AR$4)","v":0},null,{"$f":"IF($AS$4=0,0,$AS$4)","v":0},null,{"$f":"IF($AT$4=0,0,$AT$4)","v":0},null,{"$f":"IF($AU$4=0,0,$AU$4)","v":0},null,{"$f":"IF($AV$4=0,0,$AV$4)","v":0}]
[{"$f":"$A$49","v":"   Feiertage Art. 12.2 GAV"},null,{"$f":"IF($AJ$17=\"\",\"\",$AJ$17)","v":""},null,null,{"$f":"$F$49","v":"ft"},{"$f":"IF($AJ$15=0,0,$AJ$15)","v":0},null,{"$f":"IF($AK$15=0,0,$AK$15)","v":0},null,{"$f":"IF($AL$15=0,0,$AL$15)","v":0},null,{"$f":"IF($AM$15=0,0,$AM$15)","v":0},null,{"$f":"IF($AN$15=0,0,$AN$15)","v":0},null,{"$f":"IF($AO$15=0,0,$AO$15)","v":0},null,{"$f":"IF($AP$15=0,0,$AP$15)","v":0},null,{"$f":"IF($AQ$15=0,0,$AQ$15)","v":0},null,{"$f":"IF($AR$15=0,0,$AR$15)","v":0},null,{"$f":"IF($AS$15=0,0,$AS$15)","v":0},null,{"$f":"IF($AT$15=0,0,$AT$15)","v":0},null,{"$f":"IF($AU$15=0,0,$AU$15)","v":0},null,{"$f":"IF($AV$15=0,0,$AV$15)","v":0}]
[{"$f":"$A$50","v":"   Krankheit Art. 13 GAV"},null,null,null,null,{"$f":"$F$50","v":"k"},{"$f":"IF($AJ$5=0,0,$AJ$5)","v":0},null,{"$f":"IF($AK$5=0,0,$AK$5)","v":0},null,{"$f":"IF($AL$5=0,0,$AL$5)","v":0},null,{"$f":"IF($AM$5=0,0,$AM$5)","v":0},null,{"$f":"IF($AN$5=0,0,$AN$5)","v":0},null,{"$f":"IF($AO$5=0,0,$AO$5)","v":0},null,{"$f":"IF($AP$5=0,0,$AP$5)","v":0},null,{"$f":"IF($AQ$5=0,0,$AQ$5)","v":0},null,{"$f":"IF($AR$5=0,0,$AR$5)","v":0},null,{"$f":"IF($AS$5=0,0,$AS$5)","v":0},null,{"$f":"IF($AT$5=0,0,$AT$5)","v":0},null,{"$f":"IF($AU$5=0,0,$AU$5)","v":0},null,{"$f":"IF($AV$5=0,0,$AV$5)","v":0}]
[{"$f":"$A$51","v":"   Unfall Art. 14 GAV"},null,null,null,null,{"$f":"$F$51","v":"u"},{"$f":"IF($AJ$6=0,0,$AJ$6)","v":0},null,{"$f":"IF($AK$6=0,0,$AK$6)","v":0},null,{"$f":"IF($AL$6=0,0,$AL$6)","v":0},null,{"$f":"IF($AM$6=0,0,$AM$6)","v":0},null,{"$f":"IF($AN$6=0,0,$AN$6)","v":0},null,{"$f":"IF($AO$6=0,0,$AO$6)","v":0},null,{"$f":"IF($AP$6=0,0,$AP$6)","v":0},null,{"$f":"IF($AQ$6=0,0,$AQ$6)","v":0},null,{"$f":"IF($AR$6=0,0,$AR$6)","v":0},null,{"$f":"IF($AS$6=0,0,$AS$6)","v":0},null,{"$f":"IF($AT$6=0,0,$AT$6)","v":0},null,{"$f":"IF($AU$6=0,0,$AU$6)","v":0},null,{"$f":"IF($AV$6=0,0,$AV$6)","v":0}]
[{"$f":"$A$52","v":"   Schwangerschaft/Mutterschaft Art. 15 GAV"},null,null,null,null,{"$f":"$F$52","v":"s"},{"$f":"IF($AJ$7=0,0,$AJ$7)","v":0},null,{"$f":"IF($AK$7=0,0,$AK$7)","v":0},null,{"$f":"IF($AL$7=0,0,$AL$7)","v":0},null,{"$f":"IF($AM$7=0,0,$AM$7)","v":0},null,{"$f":"IF($AN$7=0,0,$AN$7)","v":0},null,{"$f":"IF($AO$7=0,0,$AO$7)","v":0},null,{"$f":"IF($AP$7=0,0,$AP$7)","v":0},null,{"$f":"IF($AQ$7=0,0,$AQ$7)","v":0},null,{"$f":"IF($AR$7=0,0,$AR$7)","v":0},null,{"$f":"IF($AS$7=0,0,$AS$7)","v":0},null,{"$f":"IF($AT$7=0,0,$AT$7)","v":0},null,{"$f":"IF($AU$7=0,0,$AU$7)","v":0},null,{"$f":"IF($AV$7=0,0,$AV$7)","v":0}]
[{"$f":"$A$53","v":"   Militär/Beförderung/Zivilschutz Art. 16 GAV"},null,null,null,null,{"$f":"$F$53","v":"m"},{"$f":"IF($AJ$8=0,0,$AJ$8)","v":0},null,{"$f":"IF($AK$8=0,0,$AK$8)","v":0},null,{"$f":"IF($AL$8=0,0,$AL$8)","v":0},null,{"$f":"IF($AM$8=0,0,$AM$8)","v":0},null,{"$f":"IF($AN$8=0,0,$AN$8)","v":0},null,{"$f":"IF($AO$8=0,0,$AO$8)","v":0},null,{"$f":"IF($AP$8=0,0,$AP$8)","v":0},null,{"$f":"IF($AQ$8=0,0,$AQ$8)","v":0},null,{"$f":"IF($AR$8=0,0,$AR$8)","v":0},null,{"$f":"IF($AS$8=0,0,$AS$8)","v":0},null,{"$f":"IF($AT$8=0,0,$AT$8)","v":0},null,{"$f":"IF($AU$8=0,0,$AU$8)","v":0},null,{"$f":"IF($AV$8=0,0,$AV$8)","v":0}]
[{"$f":"$A$54","v":"   Kurzarbeit und Schlechtwetterausfälle"},null,null,null,null,{"$f":"$F$54","v":"ka"},{"$f":"IF($AJ$11=0,0,$AJ$11)","v":0},null,{"$f":"IF($AK$11=0,0,$AK$11)","v":0},null,{"$f":"IF($AL$11=0,0,$AL$11)","v":0},null,{"$f":"IF($AM$11=0,0,$AM$11)","v":0},null,{"$f":"IF($AN$11=0,0,$AN$11)","v":0},null,{"$f":"IF($AO$11=0,0,$AO$11)","v":0},null,{"$f":"IF($AP$11=0,0,$AP$11)","v":0},null,{"$f":"IF($AQ$11=0,0,$AQ$11)","v":0},null,{"$f":"IF($AR$11=0,0,$AR$11)","v":0},null,{"$f":"IF($AS$11=0,0,$AS$11)","v":0},null,{"$f":"IF($AT$11=0,0,$AT$11)","v":0},null,{"$f":"IF($AU$11=0,0,$AU$11)","v":0},null,{"$f":"IF($AV$11=0,0,$AV$11)","v":0}]
[{"$f":"$A$55","v":"   Berufsschule"},null,null,null,null,{"$f":"$F$55","v":"bs"},{"$f":"IF($AJ$9=0,0,$AJ$9)","v":0},null,{"$f":"IF($AK$9=0,0,$AK$9)","v":0},null,{"$f":"IF($AL$9=0,0,$AL$9)","v":0},null,{"$f":"IF($AM$9=0,0,$AM$9)","v":0},null,{"$f":"IF($AN$9=0,0,$AN$9)","v":0},null,{"$f":"IF($AO$9=0,0,$AO$9)","v":0},null,{"$f":"IF($AP$9=0,0,$AP$9)","v":0},null,{"$f":"IF($AQ$9=0,0,$AQ$9)","v":0},null,{"$f":"IF($AR$9=0,0,$AR$9)","v":0},null,{"$f":"IF($AS$9=0,0,$AS$9)","v":0},null,{"$f":"IF($AT$9=0,0,$AT$9)","v":0},null,{"$f":"IF($AU$9=0,0,$AU$9)","v":0},null,{"$f":"IF($AV$9=0,0,$AV$9)","v":0}]
[{"$f":"$A$56","v":"   Kurse"},null,null,null,null,{"$f":"$F$56","v":"ku"},{"$f":"IF($AJ$10=0,0,$AJ$10)","v":0},null,{"$f":"IF($AK$10=0,0,$AK$10)","v":0},null,{"$f":"IF($AL$10=0,0,$AL$10)","v":0},null,{"$f":"IF($AM$10=0,0,$AM$10)","v":0},null,{"$f":"IF($AN$10=0,0,$AN$10)","v":0},null,{"$f":"IF($AO$10=0,0,$AO$10)","v":0},null,{"$f":"IF($AP$10=0,0,$AP$10)","v":0},null,{"$f":"IF($AQ$10=0,0,$AQ$10)","v":0},null,{"$f":"IF($AR$10=0,0,$AR$10)","v":0},null,{"$f":"IF($AS$10=0,0,$AS$10)","v":0},null,{"$f":"IF($AT$10=0,0,$AT$10)","v":0},null,{"$f":"IF($AU$10=0,0,$AU$10)","v":0},null,{"$f":"IF($AV$10=0,0,$AV$10)","v":0}]
[{"$f":"$A$57","v":"Kompensations-Std"},{"$f":"$B$57","v":"aus Vorjahr"},null,null,null,{"$f":"$F$57","v":"kv"},{"$f":"IF($AJ$12=0,0,$AJ$12)","v":0},null,{"$f":"IF($AK$12=0,0,$AK$12)","v":0},null,{"$f":"IF($AL$12=0,0,$AL$12)","v":0},null,{"$f":"IF($AM$12=0,0,$AM$12)","v":0},null,{"$f":"IF($AN$12=0,0,$AN$12)","v":0},null,{"$f":"IF($AO$12=0,0,$AO$12)","v":0},null,{"$f":"IF($AP$12=0,0,$AP$12)","v":0},null,{"$f":"IF($AQ$12=0,0,$AQ$12)","v":0},null,{"$f":"IF($AR$12=0,0,$AR$12)","v":0},null,null,null,null,null,null,null,{"$f":"IF($AV$12=0,0,$AV$12)","v":0}]
[null,{"$f":"$B$58","v":"aus laufendem Jahr (Kontrolle)"},null,null,null,{"$f":"$F$58","v":"kj"},{"$f":"IF($AJ$14=0,0,$AJ$14)","v":0},null,{"$f":"IF($AK$14=0,0,$AK$14)","v":0},null,{"$f":"IF($AL$14=0,0,$AL$14)","v":0},null,{"$f":"IF($AM$14=0,0,$AM$14)","v":0},null,{"$f":"IF($AN$14=0,0,$AN$14)","v":0},null,{"$f":"IF($AO$14=0,0,$AO$14)","v":0},null,{"$f":"IF($AP$14=0,0,$AP$14)","v":0},null,{"$f":"IF($AQ$14=0,0,$AQ$14)","v":0},null,{"$f":"IF($AR$14=0,0,$AR$14)","v":0},null,{"$f":"IF($AS$14=0,0,$AS$14)","v":0},null,{"$f":"IF($AT$14=0,0,$AT$14)","v":0},null,{"$f":"IF($AU$14=0,0,$AU$14)","v":0},null,{"$f":"IF($AV$14=0,0,$AV$14)","v":0}]
[{"$f":"$A$59","v":"Auszahlung"},{"$f":"$B$59","v":"Stunden Vorjahressaldo"},null,null,null,null,{"$f":"IF($AJ$18=0,0,$AJ$18)","v":0},null,{"$f":"IF($AK$18=0,0,$AK$18)","v":0},null,{"$f":"IF($AL$18=0,0,$AL$18)","v":0},null,{"$f":"IF($AM$18=0,0,$AM$18)","v":0},null,{"$f":"IF($AN$18=0,0,$AN$18)","v":0},null,{"$f":"IF($AO$18=0,0,$AO$18)","v":0},null,{"$f":"IF($AP$18=0,0,$AP$18)","v":0},null,{"$f":"IF($AQ$18=0,0,$AQ$18)","v":0},null,{"$f":"IF($AR$18=0,0,$AR$18)","v":0},null,null,null,null,null,null,null,{"$f":"IF($AV$18=0,0,$AV$18)","v":0}]
[{"$f":"$A$60","v":"Differenz"},{"$f":"$B$60","v":"nach Kompensation und Auszahlung"},null,null,null,null,{"$f":"IF(ROUND($P$4,3)=0,0,$P$4-SUM(G624+G626))","v":0},null,{"$f":"IF(ROUND(G627,3)=0,0,G627-(SUM(I626+I624)))","v":0},null,{"$f":"IF(ROUND(I627,3)=0,0,I627-(SUM(K626+K624)))","v":0},null,{"$f":"IF(ROUND(K627,3)=0,0,K627-(SUM(M626+M624)))","v":0},null,{"$f":"IF(ROUND(M627,3)=0,0,M627-(SUM(O626+O624)))","v":0},null,{"$f":"IF(ROUND(O627,3)=0,0,O627-(SUM(Q626+Q624)))","v":0},null,{"$f":"IF(ROUND(Q627,3)=0,0,Q627-(SUM(S626+S624)))","v":0},null,{"$f":"IF(ROUND(S627,3)=0,0,S627-(SUM(U626+U624)))","v":0},null,{"$f":"IF(ROUND(U627,3)=0,0,U627-(SUM(W626+W624)))","v":0},null,{"$f":"$Y$60","v":""}]
[{"$f":"$A$61","v":"Auszahlung"},{"$f":"$B$61","v":"Stunden laufendes Jahr"},null,null,null,null,{"$f":"IF($AJ$19=0,0,$AJ$19)","v":0},null,{"$f":"IF($AK$19=0,0,$AK$19)","v":0},null,{"$f":"IF($AL$19=0,0,$AL$19)","v":0},null,{"$f":"IF($AM$19=0,0,$AM$19)","v":0},null,{"$f":"IF($AN$19=0,0,$AN$19)","v":0},null,{"$f":"IF($AO$19=0,0,$AO$19)","v":0},null,{"$f":"IF($AP$19=0,0,$AP$19)","v":0},null,{"$f":"IF($AQ$19=0,0,$AQ$19)","v":0},null,{"$f":"IF($AR$19=0,0,$AR$19)","v":0},null,{"$f":"IF($AS$19=0,0,$AS$19)","v":0},null,{"$f":"IF($AT$19=0,0,$AT$19)","v":0},null,{"$f":"IF($AU$19=0,0,$AU$19)","v":0},null,{"$f":"IF($AV$19=0,0,$AV$19)","v":0}]
[{"$f":"$A$62","v":"Fehlstunden"},{"$f":"$B$62","v":"laufendes Jahr (Kontrolle)"},null,null,null,{"$f":"$F$62","v":"fe"},{"$f":"IF($AJ$13=0,0,$AJ$13)","v":0},null,{"$f":"IF($AK$13=0,0,$AK$13)","v":0},null,{"$f":"IF($AL$13=0,0,$AL$13)","v":0},null,{"$f":"IF($AM$13=0,0,$AM$13)","v":0},null,{"$f":"IF($AN$13=0,0,$AN$13)","v":0},null,{"$f":"IF($AO$13=0,0,$AO$13)","v":0},null,{"$f":"IF($AP$13=0,0,$AP$13)","v":0},null,{"$f":"IF($AQ$13=0,0,$AQ$13)","v":0},null,{"$f":"IF($AR$13=0,0,$AR$13)","v":0},null,{"$f":"IF($AS$13=0,0,$AS$13)","v":0},null,{"$f":"IF($AT$13=0,0,$AT$13)","v":0},null,{"$f":"IF($AU$13=0,0,$AU$13)","v":0},null,{"$f":"IF($AV$13=0,0,$AV$13)","v":0}]
[{"$f":"$A$63","v":"Total inkl. Zeitzuschläge"},{"$f":"$B$63","v":"Stunden produktiv und unproduktiv"},null,null,null,null,{"$f":"IF($AG$36=0,0,$AG$36)","v":0},null,{"$f":"IF($AG$99=0,0,$AG$99)","v":0},null,{"$f":"IF($AG$162=0,0,$AG$162)","v":0},null,{"$f":"IF($AG$225=0,0,$AG$225)","v":0},null,{"$f":"IF($AG$288=0,0,$AG$288)","v":0},null,{"$f":"IF($AG$351=0,0,$AG$351)","v":0},null,{"$f":"IF($AG$414=0,0,$AG$414)","v":0},null,{"$f":"IF($AG$477=0,0,$AG$477)","v":0},null,{"$f":"IF($AG$540=0,0,$AG$540)","v":0},null,{"$f":"IF($AG$603=0,0,$AG$603)","v":0},null,{"$f":"IF($AG$666=0,0,$AG$666)","v":0},null,{"$f":"IF($AG$729=0,0,$AG$729)","v":0},null,{"$f":"SUM($G$63:$AD$63)","v":0}]
[{"$f":"$A$64","v":"Vergleich"},{"$f":"$B$64","v":"Stunden zu Soll-Stunden (inkl. allfälli-\nge Minusstunden Vorjahr)"},null,null,null,null,{"$f":"$G$64","v":-172.82999999999998},null,{"$f":"$I$64","v":-164.6},null,{"$f":"$K$64","v":-189.28999999999996},null,{"$f":"$M$64","v":-181.05999999999997},null,{"$f":"$O$64","v":-172.82999999999998},null,{"$f":"$Q$64","v":-181.05999999999997},null,{"$f":"$S$64","v":-181.05999999999997},null,{"$f":"$U$64","v":-181.05999999999997},null,{"$f":"$W$64","v":-181.05999999999997},null,{"$f":"$Y$64","v":-172.82999999999998},null,{"$f":"$AA$64","v":-181.05999999999997},null,{"$f":"$AC$64","v":-189.28999999999996},null,{"$f":"$AE$64","v":-2148.0299999999997}]
[null,{"$f":"$B$65","v":"Stunden zu Soll-Stunden (kumuliert)"},null,null,null,null,{"$f":"$G$65","v":-172.82999999999998},null,{"$f":"$I$65","v":-337.42999999999995},null,{"$f":"$K$65","v":-526.71999999999991},null,{"$f":"$M$65","v":-707.77999999999986},null,{"$f":"$O$65","v":-880.6099999999999},null,{"$f":"$Q$65","v":-1061.6699999999998},null,{"$f":"$S$65","v":-1242.7299999999998},null,{"$f":"$U$65","v":-1423.7899999999997},null,{"$f":"$W$65","v":-1604.8499999999997},null,{"$f":"$Y$65","v":-1777.6799999999996},null,{"$f":"$AA$65","v":-1958.7399999999996},null,{"$f":"$AC$65","v":-2148.0299999999997},null,{"$f":"$AE$65","v":0}]
[{"$f":"$A$66","v":"Ferienkontrolle"},{"$f":"$B$66","v":"Ferienguthaben Vorjahr"},null,null,null,null,{"$f":"IF($AA$4=0,0,$AA$4)","v":0},null,{"$f":"$I$66","v":"Ferienguthaben nach \nArt. 12.1 GAV"},null,null,null,{"$f":"IF($AA$5=0,0,$AA$5)","v":0},null,{"$f":"$O$66","v":"Ferienguthaben total"},null,null,null,{"$f":"SUM(G633+M633)","v":0},null,{"$f":"$U$66","v":"Ferien bezogen"},null,null,null,{"$f":"IF($AV$4=0,0,$AV$4)","v":0},null,{"$f":"$AA$66","v":"Aktuelles Ferienguthaben"},null,null,null,{"$f":"IF(S633=0,0,S633-Y633)","v":0}]
[]
[]
[{"$f":"$A$3","v":"Mitarbeiter/In"},{"$f":"IF($B$3=\"\",\"\",$B$3)","v":"Muster Peter"},null,null,null,null,null,null,null,null,null,null,null,null,null,null,null,null,null,null,null,null,null,null,null,null,null,null,null,null,null,{"$f":"AF3","v":0}]
[{"$f":"$A$4","v":"Anstellung %"},100,null,{"$f":"Labels!B99","v":"im November"}]
[{"$f":"$A$5","v":"Saldo für das Jahr"},null,null,{"$f":"IF($AE$64=0,0,$AE$64)","v":-2148.0299999999997}]
[{"$f":"TEXT(DATE(YEAR(AP28),MONTH(AP28)+10,1),\"MMMM\"&Labels!B13)","v":"November"},{"$f":"$B$9","v":"Saldo Monat + / -"},null,null,null,{"$f":"(AG642-(SUM(AG643:AG657)-AE664))*-1","v":-181.05999999999997},null,null,null,null,{"$f":"$K$9","v":" = "},{"$f":"$L$9","v":"Gelbe Felder müssen ausgefüllt werden (die übrigen werden automatisch berechnet)"}]
[{"$f":"$A$10","v":"Tag"},{"$f":"AF577+1","v":"2021-11-01"},{"$f":"B640+1","v":"2021-11-02"},{"$f":"C640+1","v":"2021-11-03"},"2021-11-04","2021-11-05","2021-11-06","2021-11-07","2021-11-08","2021-11-09","2021-11-10","2021-11-11","2021-11-12","2021-11-13","2021-11-14","2021-11-15","2021-11-16","2021-11-17","2021-11-18","2021-11-19","2021-11-20","2021-11-21","2021-11-22","2021-11-23","2021-11-24","2021-11-25","2021-11-26","2021-11-27","2021-11-28","2021-11-29","2021-11-30",null,{"$f":"COUNT(B642:AF642)&\" \"&Labels!$B$63","v":"22 Tage"}]
[{"$f":"$A$11","v":"Kalenderwoche"},{"$f":"IF(B640=\"\",\"\",TRUNC((B640-DATE(YEAR(B640+3-MOD(B640-2,7)),1,MOD(B640-2,7)-9))/7))","v":44},44,44,44,44,44,44,45,45,45,45,45,45,45,46,46,46,46,46,46,46,47,47,47,47,47,47,47,48,48,""]
[{"$f":"$A$12","v":"Sollstunden"},{"$f":"IF(MOD(B640,7)>=2,$J$7*$B$637%,\"\")","v":8.23},8.23,8.23,8.23,8.23,"","",8.23,8.23,8.23,8.23,8.23,"","",8.23,8.23,8.23,8.23,8.23,"","",8.23,8.23,8.23,8.23,8.23,"","",8.23,8.23,null,{"$f":"SUM(B642:AF642)","v":181.05999999999997}]
[{"$f":"$A$13","v":"Absenz in Std"},{"$f":"B1049","v":0},{"$f":"C1049","v":0},0,0,0,0,0,0,0,0,0,0,0,0,0,0,0,0,0,0,0,0,0,0,0,0,0,0,0,0,null,{"$f":"SUM(AT3:AT12)","v":0}]
[{"$f":"$A$14","v":"Code"},{"$f":"IF(B1049<>0,IF(MAX(B1036:B1048)<B1049,Labels!$B$163,INDEX($AH$1036:$AH$1048,MATCH(MAX(B1036:B1048),B1036:B1048,0))),\"\")","v":""},{"$f":"IF(C1049<>0,IF(MAX(C1036:C1048)<C1049,Labels!$B$163,INDEX($AH$1036:$AH$1048,MATCH(MAX(C1036:C1048),C1036:C1048,0))),\"\")","v":""},{"$f":"IF(D1049<>0,IF(MAX(D1036:D1048)<D1049,Labels!$B$163,INDEX($AH$1036:$AH$1048,MATCH(MAX(D1036:D1048),D1036:D1048,0))),\"\")","v":""},{"$f":"IF(E1049<>0,IF(MAX(E1036:E1048)<E1049,Labels!$B$163,INDEX($AH$1036:$AH$1048,MATCH(MAX(E1036:E1048),E1036:E1048,0))),\"\")","v":""},{"$f":"IF(F1049<>0,IF(MAX(F1036:F1048)<F1049,Labels!$B$163,INDEX($AH$1036:$AH$1048,MATCH(MAX(F1036:F1048),F1036:F1048,0))),\"\")","v":""},{"$f":"IF(G1049<>0,IF(MAX(G1036:G1048)<G1049,Labels!$B$163,INDEX($AH$1036:$AH$1048,MATCH(MAX(G1036:G1048),G1036:G1048,0))),\"\")","v":""},{"$f":"IF(H1049<>0,IF(MAX(H1036:H1048)<H1049,Labels!$B$163,INDEX($AH$1036:$AH$1048,MATCH(MAX(H1036:H1048),H1036:H1048,0))),\"\")","v":""},{"$f":"IF(I1049<>0,IF(MAX(I1036:I1048)<I1049,Labels!$B$163,INDEX($AH$1036:$AH$1048,MATCH(MAX(I1036:I1048),I1036:I1048,0))),\"\")","v":""},{"$f":"IF(J1049<>0,IF(MAX(J1036:J1048)<J1049,Labels!$B$163,INDEX($AH$1036:$AH$1048,MATCH(MAX(J1036:J1048),J1036:J1048,0))),\"\")","v":""},{"$f":"IF(K1049<>0,IF(MAX(K1036:K1048)<K1049,Labels!$B$163,INDEX($AH$1036:$AH$1048,MATCH(MAX(K1036:K1048),K1036:K1048,0))),\"\")","v":""},{"$f":"IF(L1049<>0,IF(MAX(L1036:L1048)<L1049,Labels!$B$163,INDEX($AH$1036:$AH$1048,MATCH(MAX(L1036:L1048),L1036:L1048,0))),\"\")","v":""},{"$f":"IF(M1049<>0,IF(MAX(M1036:M1048)<M1049,Labels!$B$163,INDEX($AH$1036:$AH$1048,MATCH(MAX(M1036:M1048),M1036:M1048,0))),\"\")","v":""},{"$f":"IF(N1049<>0,IF(MAX(N1036:N1048)<N1049,Labels!$B$163,INDEX($AH$1036:$AH$1048,MATCH(MAX(N1036:N1048),N1036:N1048,0))),\"\")","v":""},{"$f":"IF(O1049<>0,IF(MAX(O1036:O1048)<O1049,Labels!$B$163,INDEX($AH$1036:$AH$1048,MATCH(MAX(O1036:O1048),O1036:O1048,0))),\"\")","v":""},{"$f":"IF(P1049<>0,IF(MAX(P1036:P1048)<P1049,Labels!$B$163,INDEX($AH$1036:$AH$1048,MATCH(MAX(P1036:P1048),P1036:P1048,0))),\"\")","v":""},{"$f":"IF(Q1049<>0,IF(MAX(Q1036:Q1048)<Q1049,Labels!$B$163,INDEX($AH$1036:$AH$1048,MATCH(MAX(Q1036:Q1048),Q1036:Q1048,0))),\"\")","v":""},{"$f":"IF(R1049<>0,IF(MAX(R1036:R1048)<R1049,Labels!$B$163,INDEX($AH$1036:$AH$1048,MATCH(MAX(R1036:R1048),R1036:R1048,0))),\"\")","v":""},{"$f":"IF(S1049<>0,IF(MAX(S1036:S1048)<S1049,Labels!$B$163,INDEX($AH$1036:$AH$1048,MATCH(MAX(S1036:S1048),S1036:S1048,0))),\"\")","v":""},{"$f":"IF(T1049<>0,IF(MAX(T1036:T1048)<T1049,Labels!$B$163,INDEX($AH$1036:$AH$1048,MATCH(MAX(T1036:T1048),T1036:T1048,0))),\"\")","v":""},{"$f":"IF(U1049<>0,IF(MAX(U1036:U1048)<U1049,Labels!$B$163,INDEX($AH$1036:$AH$1048,MATCH(MAX(U1036:U1048),U1036:U1048,0))),\"\")","v":""},{"$f":"IF(V1049<>0,IF(MAX(V1036:V1048)<V1049,Labels!$B$163,INDEX($AH$1036:$AH$1048,MATCH(MAX(V1036:V1048),V1036:V1048,0))),\"\")","v":""},{"$f":"IF(W1049<>0,IF(MAX(W1036:W1048)<W1049,Labels!$B$163,INDEX($AH$1036:$AH$1048,MATCH(MAX(W1036:W1048),W1036:W1048,0))),\"\")","v":""},{"$f":"IF(X1049<>0,IF(MAX(X1036:X1048)<X1049,Labels!$B$163,INDEX($AH$1036:$AH$1048,MATCH(MAX(X1036:X1048),X1036:X1048,0))),\"\")","v":""},{"$f":"IF(Y1049<>0,IF(MAX(Y1036:Y1048)<Y1049,Labels!$B$163,INDEX($AH$1036:$AH$1048,MATCH(MAX(Y1036:Y1048),Y1036:Y1048,0))),\"\")","v":""},{"$f":"IF(Z1049<>0,IF(MAX(Z1036:Z1048)<Z1049,Labels!$B$163,INDEX($AH$1036:$AH$1048,MATCH(MAX(Z1036:Z1048),Z1036:Z1048,0))),\"\")","v":""},{"$f":"IF(AA1049<>0,IF(MAX(AA1036:AA1048)<AA1049,Labels!$B$163,INDEX($AH$1036:$AH$1048,MATCH(MAX(AA1036:AA1048),AA1036:AA1048,0))),\"\")","v":""},{"$f":"IF(AB1049<>0,IF(MAX(AB1036:AB1048)<AB1049,Labels!$B$163,INDEX($AH$1036:$AH$1048,MATCH(MAX(AB1036:AB1048),AB1036:AB1048,0))),\"\")","v":""},{"$f":"IF(AC1049<>0,IF(MAX(AC1036:AC1048)<AC1049,Labels!$B$163,INDEX($AH$1036:$AH$1048,MATCH(MAX(AC1036:AC1048),AC1036:AC1048,0))),\"\")","v":""},{"$f":"IF(AD1049<>0,IF(MAX(AD1036:AD1048)<AD1049,Labels!$B$163,INDEX($AH$1036:$AH$1048,MATCH(MAX(AD1036:AD1048),AD1036:AD1048,0))),\"\")","v":""},{"$f":"IF(AE1049<>0,IF(MAX(AE1036:AE1048)<AE1049,Labels!$B$163,INDEX($AH$1036:$AH$1048,MATCH(MAX(AE1036:AE1048),AE1036:AE1048,0))),\"\")","v":""}]
[{"$f":"$A$15","v":"00.00-06.00h"},null,null,null,null,null,null,null,null,null,null,null,null,null,null,null,null,null,null,null,null,null,null,null,null,null,null,null,null,null,null,null,{"$f":"SUM(B645:AF645)","v":0}]
[{"$f":"$A$16","v":"06.00-20.00h"},null,null,null,null,null,null,null,null,null,null,null,null,null,null,null,null,null,null,null,null,null,null,null,null,null,null,null,null,null,null,null,{"$f":"SUM(B646:AF646)","v":0}]
[{"$f":"$A$17","v":"20.00-24.00h"},null,null,null,null,null,null,null,null,null,null,null,null,null,null,null,null,null,null,null,null,null,null,null,null,null,null,null,null,null,null,null,{"$f":"SUM(B647:AF647)","v":0},"[0]"]
[{"$f":"$A$18","v":"Feiertag \"ft\""},{"$f":"IF(WEEKDAY(B640,2)<=6,IF(KALENDER!E23=\"x\",Labels!$B$118,\"\"),\"\")","v":""},{"$f":"IF(WEEKDAY(C640,2)<=6,IF(KALENDER!F23=\"x\",Labels!$B$118,\"\"),\"\")","v":""},{"$f":"IF(WEEKDAY(D640,2)<=6,IF(KALENDER!G23=\"x\",Labels!$B$118,\"\"),\"\")","v":""},{"$f":"IF(WEEKDAY(E640,2)<=6,IF(KALENDER!H23=\"x\",Labels!$B$118,\"\"),\"\")","v":""},{"$f":"IF(WEEKDAY(F640,2)<=6,IF(KALENDER!I23=\"x\",Labels!$B$118,\"\"),\"\")","v":""},{"$f":"IF(WEEKDAY(G640,2)<=6,IF(KALENDER!J23=\"x\",Labels!$B$118,\"\"),\"\")","v":""},{"$f":"IF(WEEKDAY(H640,2)<=6,IF(KALENDER!K23=\"x\",Labels!$B$118,\"\"),\"\")","v":""},{"$f":"IF(WEEKDAY(I640,2)<=6,IF(KALENDER!L23=\"x\",Labels!$B$118,\"\"),\"\")","v":""},{"$f":"IF(WEEKDAY(J640,2)<=6,IF(KALENDER!M23=\"x\",Labels!$B$118,\"\"),\"\")","v":""},{"$f":"IF(WEEKDAY(K640,2)<=6,IF(KALENDER!N23=\"x\",Labels!$B$118,\"\"),\"\")","v":""},{"$f":"IF(WEEKDAY(L640,2)<=6,IF(KALENDER!O23=\"x\",Labels!$B$118,\"\"),\"\")","v":""},{"$f":"IF(WEEKDAY(M640,2)<=6,IF(KALENDER!P23=\"x\",Labels!$B$118,\"\"),\"\")","v":""},{"$f":"IF(WEEKDAY(N640,2)<=6,IF(KALENDER!Q23=\"x\",Labels!$B$118,\"\"),\"\")","v":""},{"$f":"IF(WEEKDAY(O640,2)<=6,IF(KALENDER!R23=\"x\",Labels!$B$118,\"\"),\"\")","v":""},{"$f":"IF(WEEKDAY(P640,2)<=6,IF(KALENDER!S23=\"x\",Labels!$B$118,\"\"),\"\")","v":""},{"$f":"IF(WEEKDAY(Q640,2)<=6,IF(KALENDER!T23=\"x\",Labels!$B$118,\"\"),\"\")","v":""},{"$f":"IF(WEEKDAY(R640,2)<=6,IF(KALENDER!U23=\"x\",Labels!$B$118,\"\"),\"\")","v":""},{"$f":"IF(WEEKDAY(S640,2)<=6,IF(KALENDER!V23=\"x\",Labels!$B$118,\"\"),\"\")","v":""},{"$f":"IF(WEEKDAY(T640,2)<=6,IF(KALENDER!W23=\"x\",Labels!$B$118,\"\"),\"\")","v":""},{"$f":"IF(WEEKDAY(U640,2)<=6,IF(KALENDER!X23=\"x\",Labels!$B$118,\"\"),\"\")","v":""},{"$f":"IF(WEEKDAY(V640,2)<=6,IF(KALENDER!Y23=\"x\",Labels!$B$118,\"\"),\"\")","v":""},{"$f":"IF(WEEKDAY(W640,2)<=6,IF(KALENDER!Z23=\"x\",Labels!$B$118,\"\"),\"\")","v":""},{"$f":"IF(WEEKDAY(X640,2)<=6,IF(KALENDER!AA23=\"x\",Labels!$B$118,\"\"),\"\")","v":""},{"$f":"IF(WEEKDAY(Y640,2)<=6,IF(KALENDER!AB23=\"x\",Labels!$B$118,\"\"),\"\")","v":""},{"$f":"IF(WEEKDAY(Z640,2)<=6,IF(KALENDER!AC23=\"x\",Labels!$B$118,\"\"),\"\")","v":""},{"$f":"IF(WEEKDAY(AA640,2)<=6,IF(KALENDER!AD23=\"x\",Labels!$B$118,\"\"),\"\")","v":""},{"$f":"IF(WEEKDAY(AB640,2)<=6,IF(KALENDER!AE23=\"x\",Labels!$B$118,\"\"),\"\")","v":""},{"$f":"IF(WEEKDAY(AC640,2)<=6,IF(KALENDER!AF23=\"x\",Labels!$B$118,\"\"),\"\")","v":""},{"$f":"IF(WEEKDAY(AD640,2)<=6,IF(KALENDER!AG23=\"x\",Labels!$B$118,\"\"),\"\")","v":""},{"$f":"IF(WEEKDAY(AE640,2)<=6,IF(KALENDER!AH23=\"x\",Labels!$B$118,\"\"),\"\")","v":""},{"$f":"IF(WEEKDAY(AF640,2)<=6,IF(KALENDER!AI23=\"x\",Labels!$B$118,\"\"),\"\")","v":""}]
[{"$f":"$A$19","v":"Gutschrift \"ft\""},{"$f":"IF(AND(B648=Labels!$B$118,WEEKDAY(B640,2)<6),$J$7*$B$637%,\"\")","v":""},{"$f":"IF(AND(C648=Labels!$B$118,WEEKDAY(C640,2)<6),$J$7*$B$637%,\"\")","v":""},{"$f":"IF(AND(D648=Labels!$B$118,WEEKDAY(D640,2)<6),$J$7*$B$637%,\"\")","v":""},{"$f":"IF(AND(E648=Labels!$B$118,WEEKDAY(E640,2)<6),$J$7*$B$637%,\"\")","v":""},{"$f":"IF(AND(F648=Labels!$B$118,WEEKDAY(F640,2)<6),$J$7*$B$637%,\"\")","v":""},{"$f":"IF(AND(G648=Labels!$B$118,WEEKDAY(G640,2)<6),$J$7*$B$637%,\"\")","v":""},{"$f":"IF(AND(H648=Labels!$B$118,WEEKDAY(H640,2)<6),$J$7*$B$637%,\"\")","v":""},{"$f":"IF(AND(I648=Labels!$B$118,WEEKDAY(I640,2)<6),$J$7*$B$637%,\"\")","v":""},{"$f":"IF(AND(J648=Labels!$B$118,WEEKDAY(J640,2)<6),$J$7*$B$637%,\"\")","v":""},{"$f":"IF(AND(K648=Labels!$B$118,WEEKDAY(K640,2)<6),$J$7*$B$637%,\"\")","v":""},{"$f":"IF(AND(L648=Labels!$B$118,WEEKDAY(L640,2)<6),$J$7*$B$637%,\"\")","v":""},{"$f":"IF(AND(M648=Labels!$B$118,WEEKDAY(M640,2)<6),$J$7*$B$637%,\"\")","v":""},{"$f":"IF(AND(N648=Labels!$B$118,WEEKDAY(N640,2)<6),$J$7*$B$637%,\"\")","v":""},{"$f":"IF(AND(O648=Labels!$B$118,WEEKDAY(O640,2)<6),$J$7*$B$637%,\"\")","v":""},{"$f":"IF(AND(P648=Labels!$B$118,WEEKDAY(P640,2)<6),$J$7*$B$637%,\"\")","v":""},{"$f":"IF(AND(Q648=Labels!$B$118,WEEKDAY(Q640,2)<6),$J$7*$B$637%,\"\")","v":""},{"$f":"IF(AND(R648=Labels!$B$118,WEEKDAY(R640,2)<6),$J$7*$B$637%,\"\")","v":""},{"$f":"IF(AND(S648=Labels!$B$118,WEEKDAY(S640,2)<6),$J$7*$B$637%,\"\")","v":""},{"$f":"IF(AND(T648=Labels!$B$118,WEEKDAY(T640,2)<6),$J$7*$B$637%,\"\")","v":""},{"$f":"IF(AND(U648=Labels!$B$118,WEEKDAY(U640,2)<6),$J$7*$B$637%,\"\")","v":""},{"$f":"IF(AND(V648=Labels!$B$118,WEEKDAY(V640,2)<6),$J$7*$B$637%,\"\")","v":""},{"$f":"IF(AND(W648=Labels!$B$118,WEEKDAY(W640,2)<6),$J$7*$B$637%,\"\")","v":""},{"$f":"IF(AND(X648=Labels!$B$118,WEEKDAY(X640,2)<6),$J$7*$B$637%,\"\")","v":""},{"$f":"IF(AND(Y648=Labels!$B$118,WEEKDAY(Y640,2)<6),$J$7*$B$637%,\"\")","v":""},{"$f":"IF(AND(Z648=Labels!$B$118,WEEKDAY(Z640,2)<6),$J$7*$B$637%,\"\")","v":""},{"$f":"IF(AND(AA648=Labels!$B$118,WEEKDAY(AA640,2)<6),$J$7*$B$637%,\"\")","v":""},{"$f":"IF(AND(AB648=Labels!$B$118,WEEKDAY(AB640,2)<6),$J$7*$B$637%,\"\")","v":""},{"$f":"IF(AND(AC648=Labels!$B$118,WEEKDAY(AC640,2)<6),$J$7*$B$637%,\"\")","v":""},{"$f":"IF(AND(AD648=Labels!$B$118,WEEKDAY(AD640,2)<6),$J$7*$B$637%,\"\")","v":""},{"$f":"IF(AND(AE648=Labels!$B$118,WEEKDAY(AE640,2)<6),$J$7*$B$637%,\"\")","v":""},{"$f":"IF(AND(AF648=Labels!$B$118,WEEKDAY(AF640,2)<6),$J$7*$B$637%,\"\")","v":""},{"$f":"SUM(B649:AF649)","v":0}]
[{"$f":"$A$20","v":"Tagestotal"},{"$f":"SUM(B645:B647)","v":0},{"$f":"SUM(C645:C647)","v":0},0,0,0,0,0,0,0,0,0,0,0,0,0,0,0,0,0,0,0,0,0,0,0,0,0,0,0,0]
[{"$f":"$A$21","v":"."}]
[{"$f":"$A$22","v":"."}]
[{"$f":"$A$23","v":"Monatsübergang"},{"$f":"IF(WEEKDAY(B640)=1,TEXT(B640-1,\"MMM\"&Labels!B13),\"\")","v":""},null,null,null,null,null,null,null,null,null,null,null,null,null,null,null,null,null,null,null,null,null,null,null,null,null,null,null,null,{"$f":"IF(AND(WEEKDAY(AE640)>1,WEEKDAY(AE640)<7),TEXT(DATE($B$5,MONTH(AE640)+1,1),\"MMM\"&Labels!B13),\"\")","v":"Dez"}]
[{"$f":"$A$24","v":"Wochentotal"},{"$f":"IF(WEEKDAY(B640)=7,SUMIF($B578:$AF578,B641,$B587:$AF587)+SUMIF($B641:$AF641,B641,$B650:$AF650)+SUMIF($B704:$AF704,B641,$B713:$AF713),B653)","v":""},{"$f":"IF(WEEKDAY(C640)=7,SUMIF($B578:$AF578,C641,$B587:$AF587)+SUMIF($B641:$AF641,C641,$B650:$AF650)+SUMIF($B704:$AF704,C641,$B713:$AF713),\"\")","v":""},"","","",0,"","","","","","",0,"","","","","","",0,"","","","","","",0,"","",{"$f":"IF(WEEKDAY(AE640)=7,SUMIF($B578:$AF578,AE641,$B587:$AF587)+SUMIF($B641:$AF641,AE641,$B650:$AF650)+SUMIF($B704:$AF704,AE641,$B713:$AF713),AE653)","v":"Dez"}]
[{"$f":"$A$25","v":"Zeitzuschlag 1)"},{"$f":"IF(B662=\"FALSCH\",\"\",B662)","v":""},{"$f":"IF(C662=\"FALSCH\",\"\",C662)","v":""},"","","","","","","","","","","","","","","","","","","","","","","","","","","","",null,{"$f":"SUM(B655:AF655)","v":0}]
[{"$f":"$A$26","v":"Zeitzuschlag 2)"},{"$f":"IF((B645+B647)=0,\"\",SUM(B645,B647))","v":""},{"$f":"IF((C645+C647)=0,\"\",SUM(C645,C647))","v":""},"","","","","","","","","","","","","","","","","","","","","","","","","","","","",null,0,"[1]"]
[{"$f":"$A$27","v":"Zeitzuschlag 3)"},{"$f":"SUM(B658:B661)","v":0},{"$f":"SUM(C658:C661)","v":0},0,0,0,0,0,0,0,0,0,0,0,0,0,0,0,0,0,0,0,0,0,0,0,0,0,0,0,0,null,{"$f":"SUM(B657:AF657)","v":0},"[2]"]
[{"$f":"$A$28","v":"Sonntag Tag"},{"$f":"IF(WEEKDAY(B640)=1,B646,\"\")","v":""},{"$f":"IF(WEEKDAY(C640)=1,C646,\"\")","v":""},"","","","",0,"","","","","","",0,"","","","","","",0,"","","","","","",0,"","",null,0,"[3]"]
[{"$f":"$A$29","v":"Sonntag Nacht"},{"$f":"IF(WEEKDAY(B640)=1,SUM(B645+B647),\"\")","v":""},{"$f":"IF(WEEKDAY(C640)=1,SUM(C645+C647),\"\")","v":""},"","","","",0,"","","","","","",0,"","","","","","",0,"","","","","","",0,"","",null,0,"[4]"]
[{"$f":"$A$30","v":"ft-Tazuschlag"},{"$f":"IF(B648=Labels!$B$118,B646,\"\")","v":""},{"$f":"IF(C648=Labels!$B$118,C646,\"\")","v":""},{"$f":"IF(D648=Labels!$B$118,D646,\"\")","v":""},{"$f":"IF(E648=Labels!$B$118,E646,\"\")","v":""},{"$f":"IF(F648=Labels!$B$118,F646,\"\")","v":""},{"$f":"IF(G648=Labels!$B$118,G646,\"\")","v":""},{"$f":"IF(H648=Labels!$B$118,H646,\"\")","v":""},{"$f":"IF(I648=Labels!$B$118,I646,\"\")","v":""},{"$f":"IF(J648=Labels!$B$118,J646,\"\")","v":""},{"$f":"IF(K648=Labels!$B$118,K646,\"\")","v":""},{"$f":"IF(L648=Labels!$B$118,L646,\"\")","v":""},{"$f":"IF(M648=Labels!$B$118,M646,\"\")","v":""},{"$f":"IF(N648=Labels!$B$118,N646,\"\")","v":""},{"$f":"IF(O648=Labels!$B$118,O646,\"\")","v":""},{"$f":"IF(P648=Labels!$B$118,P646,\"\")","v":""},{"$f":"IF(Q648=Labels!$B$118,Q646,\"\")","v":""},{"$f":"IF(R648=Labels!$B$118,R646,\"\")","v":""},{"$f":"IF(S648=Labels!$B$118,S646,\"\")","v":""},{"$f":"IF(T648=Labels!$B$118,T646,\"\")","v":""},{"$f":"IF(U648=Labels!$B$118,U646,\"\")","v":""},{"$f":"IF(V648=Labels!$B$118,V646,\"\")","v":""},{"$f":"IF(W648=Labels!$B$118,W646,\"\")","v":""},{"$f":"IF(X648=Labels!$B$118,X646,\"\")","v":""},{"$f":"IF(Y648=Labels!$B$118,Y646,\"\")","v":""},{"$f":"IF(Z648=Labels!$B$118,Z646,\"\")","v":""},{"$f":"IF(AA648=Labels!$B$118,AA646,\"\")","v":""},{"$f":"IF(AB648=Labels!$B$118,AB646,\"\")","v":""},{"$f":"IF(AC648=Labels!$B$118,AC646,\"\")","v":""},{"$f":"IF(AD648=Labels!$B$118,AD646,\"\")","v":""},{"$f":"IF(AE648=Labels!$B$118,AE646,\"\")","v":""},null,0,"[5]"]
[{"$f":"$A$31","v":"ft-Nazuschlag"},{"$f":"IF(B648=Labels!$B$118,SUM(B645,B647),\"\")","v":""},{"$f":"IF(C648=Labels!$B$118,SUM(C645,C647),\"\")","v":""},{"$f":"IF(D648=Labels!$B$118,SUM(D645,D647),\"\")","v":""},{"$f":"IF(E648=Labels!$B$118,SUM(E645,E647),\"\")","v":""},{"$f":"IF(F648=Labels!$B$118,SUM(F645,F647),\"\")","v":""},{"$f":"IF(G648=Labels!$B$118,SUM(G645,G647),\"\")","v":""},{"$f":"IF(H648=Labels!$B$118,SUM(H645,H647),\"\")","v":""},{"$f":"IF(I648=Labels!$B$118,SUM(I645,I647),\"\")","v":""},{"$f":"IF(J648=Labels!$B$118,SUM(J645,J647),\"\")","v":""},{"$f":"IF(K648=Labels!$B$118,SUM(K645,K647),\"\")","v":""},{"$f":"IF(L648=Labels!$B$118,SUM(L645,L647),\"\")","v":""},{"$f":"IF(M648=Labels!$B$118,SUM(M645,M647),\"\")","v":""},{"$f":"IF(N648=Labels!$B$118,SUM(N645,N647),\"\")","v":""},{"$f":"IF(O648=Labels!$B$118,SUM(O645,O647),\"\")","v":""},{"$f":"IF(P648=Labels!$B$118,SUM(P645,P647),\"\")","v":""},{"$f":"IF(Q648=Labels!$B$118,SUM(Q645,Q647),\"\")","v":""},{"$f":"IF(R648=Labels!$B$118,SUM(R645,R647),\"\")","v":""},{"$f":"IF(S648=Labels!$B$118,SUM(S645,S647),\"\")","v":""},{"$f":"IF(T648=Labels!$B$118,SUM(T645,T647),\"\")","v":""},{"$f":"IF(U648=Labels!$B$118,SUM(U645,U647),\"\")","v":""},{"$f":"IF(V648=Labels!$B$118,SUM(V645,V647),\"\")","v":""},{"$f":"IF(W648=Labels!$B$118,SUM(W645,W647),\"\")","v":""},{"$f":"IF(X648=Labels!$B$118,SUM(X645,X647),\"\")","v":""},{"$f":"IF(Y648=Labels!$B$118,SUM(Y645,Y647),\"\")","v":""},{"$f":"IF(Z648=Labels!$B$118,SUM(Z645,Z647),\"\")","v":""},{"$f":"IF(AA648=Labels!$B$118,SUM(AA645,AA647),\"\")","v":""},{"$f":"IF(AB648=Labels!$B$118,SUM(AB645,AB647),\"\")","v":""},{"$f":"IF(AC648=Labels!$B$118,SUM(AC645,AC647),\"\")","v":""},{"$f":"IF(AD648=Labels!$B$118,SUM(AD645,AD647),\"\")","v":""},{"$f":"IF(AE648=Labels!$B$118,SUM(AE645,AE647),\"\")","v":""},null,0,"[6]"]
[{"$f":"$A$32","v":"Zuschlag  blind (Wochentotal)"},{"$f":"IF(OR(ISTEXT(B654),B654=\"\",B654<$B$7),\"\",ROUND(((B654-$B$7)*25%)/25,4)*25)","v":""},{"$f":"IF(OR(ISTEXT(C654),C654=\"\",C654<$B$7),\"\",ROUND(((C654-$B$7)*25%)/25,4)*25)","v":""},"","","","","","","","","","","","","","","","","","","","","","","","","","","","",null,{"$f":"AG646","v":0},"[7]"]
[null,{"$f":"$B$33","v":"1)   25% Zeitzuschlag für Überschreitung Wochentotal"},null,null,null,null,null,null,null,null,null,{"$f":"$L$33","v":"2) 100% Zeitzuschlag für Nachtarbeit"},null,null,null,null,null,null,null,null,null,null,null,null,null,null,null,null,null,null,null,null,{"$f":"SUM(AG645+AG647)","v":0},"[8]"]
[null,{"$f":"$B$34","v":"3) 100% Zeitzuschlag für Sonn- und Feiertagsarbeit"},null,null,null,null,null,null,null,null,null,null,null,null,null,null,null,null,null,{"$f":"$T$34","v":"Eingabe der ausbezahlten Stunden laufendes Jahr (Überstunden)"},null,null,null,null,null,null,null,null,null,null,null,null,{"$f":"SUM(AG645:AG647)","v":0},"[9]"]
[{"$f":"$A$35","v":"Bemerkungen"},null,null,null,null,null,null,null,null,null,null,null,null,null,null,null,null,null,null,null,null,null,null,null,null,null,null,null,null,null,null,null,{"$f":"SUM(AG643+AG649)","v":0},"[10]"]
[null,null,null,null,null,null,null,null,null,null,null,null,null,null,null,null,null,null,null,null,null,null,null,null,null,null,null,null,null,null,null,null,{"$f":"SUM(AG643:AG657)","v":0},"[11]"]
[null,null,null,null,null,null,null,null,null,null,null,null,null,null,null,null,null,null,null,null,null,null,null,null,null,null,null,null,null,null,null,null,{"$f":"AG642","v":181.05999999999997}]
[null,null,null,null,null,null,null,null,null,null,null,null,null,null,null,null,null,null,null,null,null,null,null,null,null,null,null,null,null,null,null,null,{"$f":"SUM(AG666-AG642)","v":-181.05999999999997}]
[{"$f":"$A$39","v":"Zusammenstellung"},null,null,null,null,null,{"$f":"$G$39","v":"Jan"},null,{"$f":"$I$39","v":"Feb"},null,{"$f":"$K$39","v":"Mrz"},null,{"$f":"$M$39","v":"Apr"},null,{"$f":"$O$39","v":"Mai"},null,{"$f":"$Q$39","v":"Jun"},null,{"$f":"$S$39","v":"Jul"},null,{"$f":"$U$39","v":"Aug"},null,{"$f":"$W$39","v":"Sep"},null,{"$f":"$Y$39","v":"Okt"},null,{"$f":"$AA$39","v":"Nov"},null,{"$f":"$AC$39","v":"Dez"},null,{"$f":"$AE$39","v":"Jahr"}]
[{"$f":"$A$40","v":"Anstellung %"},null,null,null,null,null,{"$f":"IF($B$4=0,0,$B$4)","v":100},null,{"$f":"IF($B$70=0,0,$B$70)","v":100},null,{"$f":"IF($B$133=0,0,$B$133)","v":100},null,{"$f":"IF($B$196=0,0,$B$196)","v":100},null,{"$f":"IF($B$259=0,0,$B$259)","v":100},null,{"$f":"IF($B$322=0,0,$B$322)","v":100},null,{"$f":"IF($B$385=0,0,$B$385)","v":100},null,{"$f":"IF($B$448=0,0,$B$448)","v":100},null,{"$f":"IF($B$511=0,0,$B$511)","v":100},null,{"$f":"IF($B$574=0,0,$B$574)","v":100},null,{"$f":"IF($B$637=0,0,$B$637)","v":100},null,{"$f":"IF($B$700=0,0,$B$700)","v":100}]
[{"$f":"$A$41","v":"Sollstunden gemäss GAV"},null,null,null,null,null,{"$f":"IF($AG$37=0,0,$AG$37)","v":172.82999999999998},null,{"$f":"IF($AG$100=0,0,$AG$100)","v":164.6},null,{"$f":"IF($AG$138=0,0,$AG$138)","v":189.28999999999996},null,{"$f":"IF($AG$226=0,0,$AG$226)","v":181.05999999999997},null,{"$f":"IF($AG$289=0,0,$AG$289)","v":172.82999999999998},null,{"$f":"IF($AG$352=0,0,$AG$352)","v":181.05999999999997},null,{"$f":"IF($AG$415=0,0,$AG$415)","v":181.05999999999997},null,{"$f":"IF($AG$478=0,0,$AG$478)","v":181.05999999999997},null,{"$f":"IF($AG$541=0,0,$AG$541)","v":181.05999999999997},null,{"$f":"IF($AG$604=0,0,$AG$604)","v":172.82999999999998},null,{"$f":"IF($AG$667=0,0,$AG$667)","v":181.05999999999997},null,{"$f":"IF($AG$730=0,0,$AG$730)","v":189.28999999999996},null,{"$f":"SUM(G671:AD671)","v":2148.0299999999997}]
[{"$f":"$A$42","v":"Produktive Stunden"},{"$f":"$B$42","v":"06.00 - 20.00 Uhr"},null,null,null,null,{"$f":"IF($AG$32=0,0,$AG$32)","v":0},null,{"$f":"IF($AG$95=0,0,$AG$95)","v":0},null,{"$f":"IF($AG$158=0,0,$AG$158)","v":0},null,{"$f":"IF($AG$221=0,0,$AG$221)","v":0},null,{"$f":"IF($AG$284=0,0,$AG$284)","v":0},null,{"$f":"IF($AG$347=0,0,$AG$347)","v":0},null,{"$f":"IF($AG$410=0,0,$AG$410)","v":0},null,{"$f":"IF($AG$473=0,0,$AG$473)","v":0},null,{"$f":"IF($AG$536=0,0,$AG$536)","v":0},null,{"$f":"IF($AG$599=0,0,$AG$599)","v":0},null,{"$f":"IF($AG$662=0,0,$AG$662)","v":0},null,{"$f":"IF($AG$725=0,0,$AG$725)","v":0},null,{"$f":"SUM(G672:AD672)","v":0}]
[null,{"$f":"$B$43","v":"Nacht-, Sonn-, Feiertagsarbeit"},null,null,null,null,{"$f":"IF($AG$33=0,0,$AG$33)","v":0},null,{"$f":"IF($AG$96=0,0,$AG$96)","v":0},null,{"$f":"IF($AG$159=0,0,$AG$159)","v":0},null,{"$f":"IF($AG$222=0,0,$AG$222)","v":0},null,{"$f":"IF($AG$285=0,0,$AG$285)","v":0},null,{"$f":"IF($AG$348=0,0,$AG$348)","v":0},null,{"$f":"IF($AG$411=0,0,$AG$411)","v":0},null,{"$f":"IF($AG$474=0,0,$AG$474)","v":0},null,{"$f":"IF($AG$537=0,0,$AG$537)","v":0},null,{"$f":"IF($AG$600=0,0,$AG$600)","v":0},null,{"$f":"IF($AG$663=0,0,$AG$663)","v":0},null,{"$f":"IF($AG$726=0,0,$AG$726)","v":0},null,{"$f":"SUM(G673:AD673)","v":0}]
[{"$f":"$A$44","v":"Zeitzuschläge"},{"$f":"$B$44","v":"aus Wochentotal"},null,null,null,null,{"$f":"IF($AG$25=0,0,$AG$25)","v":0},null,{"$f":"IF($AG$88=0,0,$AG$88)","v":0},null,{"$f":"IF($AG$151=0,0,$AG$151)","v":0},null,{"$f":"IF($AG$214=0,0,$AG$214)","v":0},null,{"$f":"IF($AG$277=0,0,$AG$277)","v":0},null,{"$f":"IF($AG$340=0,0,$AG$340)","v":0},null,{"$f":"IF($AG$403=0,0,$AG$403)","v":0},null,{"$f":"IF($AG$466=0,0,$AG$466)","v":0},null,{"$f":"IF($AG$529=0,0,$AG$529)","v":0},null,{"$f":"IF($AG$592=0,0,$AG$592)","v":0},null,{"$f":"IF($AG$655=0,0,$AG$655)","v":0},null,{"$f":"IF($AG$718=0,0,$AG$718)","v":0},null,{"$f":"SUM(G674:AD674)","v":0}]
[null,{"$f":"$B$45","v":"aus Nacht-, Sonn-, Feiertagsarbeiten"},null,null,null,null,{"$f":"IF($AJ$20=0,0,$AJ$20)","v":0},null,{"$f":"IF($AK$20=0,0,$AK$20)","v":0},null,{"$f":"IF($AL$20=0,0,$AL$20)","v":0},null,{"$f":"IF($AM$20=0,0,$AM$20)","v":0},null,{"$f":"IF($AN$20=0,0,$AN$20)","v":0},null,{"$f":"IF($AO$20=0,0,$AO$20)","v":0},null,{"$f":"IF($AP$20=0,0,$AP$20)","v":0},null,{"$f":"IF($AQ$20=0,0,$AQ$20)","v":0},null,{"$f":"IF($AR$20=0,0,$AR$20)","v":0},null,{"$f":"IF($AS$20=0,0,$AS$20)","v":0},null,{"$f":"IF($AT$20=0,0,$AT$20)","v":0},null,{"$f":"IF($AU$20=0,0,$AU$20)","v":0},null,{"$f":"SUM(G675:AD675)","v":0}]
[{"$f":"$A$46","v":"Unproduktive Stunden"}]
[{"$f":"$A$47","v":"   Absenzen, Kurzabsenzen Art. 11 GAV"},null,null,null,null,{"$f":"$F$47","v":"a"},{"$f":"IF($AJ$3=0,0,$AJ$3)","v":0},null,{"$f":"IF($AK$3=0,0,$AK$3)","v":0},null,{"$f":"IF($AL$3=0,0,$AL$3)","v":0},null,{"$f":"IF($AM$3=0,0,$AM$3)","v":0},null,{"$f":"IF($AN$3=0,0,$AN$3)","v":0},null,{"$f":"IF($AO$3=0,0,$AO$3)","v":0},null,{"$f":"IF($AP$3=0,0,$AP$3)","v":0},null,{"$f":"IF($AQ$3=0,0,$AQ$3)","v":0},null,{"$f":"IF($AR$3=0,0,$AR$3)","v":0},null,{"$f":"IF($AS$3=0,0,$AS$3)","v":0},null,{"$f":"IF(AT$3=0,0,$AT$3)","v":0},null,{"$f":"IF($AU$3=0,0,$AU$3)","v":0},null,{"$f":"IF($AV$3=0,0,$AV$3)","v":0}]
[{"$f":"$A$48","v":"   Ferien Art. 12.1 GAV"},null,null,null,null,{"$f":"$F$48","v":"f"},{"$f":"IF($AJ$4=0,0,$AJ$4)","v":0},null,{"$f":"IF($AK$4=0,0,$AK$4)","v":0},null,{"$f":"IF($AL$4=0,0,$AL$4)","v":0},null,{"$f":"IF($AM$4=0,0,$AM$4)","v":0},null,{"$f":"IF($AN$4=0,0,$AN$4)","v":0},null,{"$f":"IF($AO$4=0,0,$AO$4)","v":0},null,{"$f":"IF($AP$4=0,0,$AP$4)","v":0},null,{"$f":"IF($AQ$4=0,0,$AQ$4)","v":0},null,{"$f":"IF($AR$4=0,0,$AR$4)","v":0},null,{"$f":"IF($AS$4=0,0,$AS$4)","v":0},null,{"$f":"IF($AT$4=0,0,$AT$4)","v":0},null,{"$f":"IF($AU$4=0,0,$AU$4)","v":0},null,{"$f":"IF($AV$4=0,0,$AV$4)","v":0}]
[{"$f":"$A$49","v":"   Feiertage Art. 12.2 GAV"},null,{"$f":"IF($AJ$17=\"\",\"\",$AJ$17)","v":""},null,null,{"$f":"$F$49","v":"ft"},{"$f":"IF($AJ$15=0,0,$AJ$15)","v":0},null,{"$f":"IF($AK$15=0,0,$AK$15)","v":0},null,{"$f":"IF($AL$15=0,0,$AL$15)","v":0},null,{"$f":"IF($AM$15=0,0,$AM$15)","v":0},null,{"$f":"IF($AN$15=0,0,$AN$15)","v":0},null,{"$f":"IF($AO$15=0,0,$AO$15)","v":0},null,{"$f":"IF($AP$15=0,0,$AP$15)","v":0},null,{"$f":"IF($AQ$15=0,0,$AQ$15)","v":0},null,{"$f":"IF($AR$15=0,0,$AR$15)","v":0},null,{"$f":"IF($AS$15=0,0,$AS$15)","v":0},null,{"$f":"IF($AT$15=0,0,$AT$15)","v":0},null,{"$f":"IF($AU$15=0,0,$AU$15)","v":0},null,{"$f":"IF($AV$15=0,0,$AV$15)","v":0}]
[{"$f":"$A$50","v":"   Krankheit Art. 13 GAV"},null,null,null,null,{"$f":"$F$50","v":"k"},{"$f":"IF($AJ$5=0,0,$AJ$5)","v":0},null,{"$f":"IF($AK$5=0,0,$AK$5)","v":0},null,{"$f":"IF($AL$5=0,0,$AL$5)","v":0},null,{"$f":"IF($AM$5=0,0,$AM$5)","v":0},null,{"$f":"IF($AN$5=0,0,$AN$5)","v":0},null,{"$f":"IF($AO$5=0,0,$AO$5)","v":0},null,{"$f":"IF($AP$5=0,0,$AP$5)","v":0},null,{"$f":"IF($AQ$5=0,0,$AQ$5)","v":0},null,{"$f":"IF($AR$5=0,0,$AR$5)","v":0},null,{"$f":"IF($AS$5=0,0,$AS$5)","v":0},null,{"$f":"IF($AT$5=0,0,$AT$5)","v":0},null,{"$f":"IF($AU$5=0,0,$AU$5)","v":0},null,{"$f":"IF($AV$5=0,0,$AV$5)","v":0}]
[{"$f":"$A$51","v":"   Unfall Art. 14 GAV"},null,null,null,null,{"$f":"$F$51","v":"u"},{"$f":"IF($AJ$6=0,0,$AJ$6)","v":0},null,{"$f":"IF($AK$6=0,0,$AK$6)","v":0},null,{"$f":"IF($AL$6=0,0,$AL$6)","v":0},null,{"$f":"IF($AM$6=0,0,$AM$6)","v":0},null,{"$f":"IF($AN$6=0,0,$AN$6)","v":0},null,{"$f":"IF($AO$6=0,0,$AO$6)","v":0},null,{"$f":"IF($AP$6=0,0,$AP$6)","v":0},null,{"$f":"IF($AQ$6=0,0,$AQ$6)","v":0},null,{"$f":"IF($AR$6=0,0,$AR$6)","v":0},null,{"$f":"IF($AS$6=0,0,$AS$6)","v":0},null,{"$f":"IF($AT$6=0,0,$AT$6)","v":0},null,{"$f":"IF($AU$6=0,0,$AU$6)","v":0},null,{"$f":"IF($AV$6=0,0,$AV$6)","v":0}]
[{"$f":"$A$52","v":"   Schwangerschaft/Mutterschaft Art. 15 GAV"},null,null,null,null,{"$f":"$F$52","v":"s"},{"$f":"IF($AJ$7=0,0,$AJ$7)","v":0},null,{"$f":"IF($AK$7=0,0,$AK$7)","v":0},null,{"$f":"IF($AL$7=0,0,$AL$7)","v":0},null,{"$f":"IF($AM$7=0,0,$AM$7)","v":0},null,{"$f":"IF($AN$7=0,0,$AN$7)","v":0},null,{"$f":"IF($AO$7=0,0,$AO$7)","v":0},null,{"$f":"IF($AP$7=0,0,$AP$7)","v":0},null,{"$f":"IF($AQ$7=0,0,$AQ$7)","v":0},null,{"$f":"IF($AR$7=0,0,$AR$7)","v":0},null,{"$f":"IF($AS$7=0,0,$AS$7)","v":0},null,{"$f":"IF($AT$7=0,0,$AT$7)","v":0},null,{"$f":"IF($AU$7=0,0,$AU$7)","v":0},null,{"$f":"IF($AV$7=0,0,$AV$7)","v":0}]
[{"$f":"$A$53","v":"   Militär/Beförderung/Zivilschutz Art. 16 GAV"},null,null,null,null,{"$f":"$F$53","v":"m"},{"$f":"IF($AJ$8=0,0,$AJ$8)","v":0},null,{"$f":"IF($AK$8=0,0,$AK$8)","v":0},null,{"$f":"IF($AL$8=0,0,$AL$8)","v":0},null,{"$f":"IF($AM$8=0,0,$AM$8)","v":0},null,{"$f":"IF($AN$8=0,0,$AN$8)","v":0},null,{"$f":"IF($AO$8=0,0,$AO$8)","v":0},null,{"$f":"IF($AP$8=0,0,$AP$8)","v":0},null,{"$f":"IF($AQ$8=0,0,$AQ$8)","v":0},null,{"$f":"IF($AR$8=0,0,$AR$8)","v":0},null,{"$f":"IF($AS$8=0,0,$AS$8)","v":0},null,{"$f":"IF($AT$8=0,0,$AT$8)","v":0},null,{"$f":"IF($AU$8=0,0,$AU$8)","v":0},null,{"$f":"IF($AV$8=0,0,$AV$8)","v":0}]
[{"$f":"$A$54","v":"   Kurzarbeit und Schlechtwetterausfälle"},null,null,null,null,{"$f":"$F$54","v":"ka"},{"$f":"IF($AJ$11=0,0,$AJ$11)","v":0},null,{"$f":"IF($AK$11=0,0,$AK$11)","v":0},null,{"$f":"IF($AL$11=0,0,$AL$11)","v":0},null,{"$f":"IF($AM$11=0,0,$AM$11)","v":0},null,{"$f":"IF($AN$11=0,0,$AN$11)","v":0},null,{"$f":"IF($AO$11=0,0,$AO$11)","v":0},null,{"$f":"IF($AP$11=0,0,$AP$11)","v":0},null,{"$f":"IF($AQ$11=0,0,$AQ$11)","v":0},null,{"$f":"IF($AR$11=0,0,$AR$11)","v":0},null,{"$f":"IF($AS$11=0,0,$AS$11)","v":0},null,{"$f":"IF($AT$11=0,0,$AT$11)","v":0},null,{"$f":"IF($AU$11=0,0,$AU$11)","v":0},null,{"$f":"IF($AV$11=0,0,$AV$11)","v":0}]
[{"$f":"$A$55","v":"   Berufsschule"},null,null,null,null,{"$f":"$F$55","v":"bs"},{"$f":"IF($AJ$9=0,0,$AJ$9)","v":0},null,{"$f":"IF($AK$9=0,0,$AK$9)","v":0},null,{"$f":"IF($AL$9=0,0,$AL$9)","v":0},null,{"$f":"IF($AM$9=0,0,$AM$9)","v":0},null,{"$f":"IF($AN$9=0,0,$AN$9)","v":0},null,{"$f":"IF($AO$9=0,0,$AO$9)","v":0},null,{"$f":"IF($AP$9=0,0,$AP$9)","v":0},null,{"$f":"IF($AQ$9=0,0,$AQ$9)","v":0},null,{"$f":"IF($AR$9=0,0,$AR$9)","v":0},null,{"$f":"IF($AS$9=0,0,$AS$9)","v":0},null,{"$f":"IF($AT$9=0,0,$AT$9)","v":0},null,{"$f":"IF($AU$9=0,0,$AU$9)","v":0},null,{"$f":"IF($AV$9=0,0,$AV$9)","v":0}]
[{"$f":"$A$56","v":"   Kurse"},null,null,null,null,{"$f":"$F$56","v":"ku"},{"$f":"IF($AJ$10=0,0,$AJ$10)","v":0},null,{"$f":"IF($AK$10=0,0,$AK$10)","v":0},null,{"$f":"IF($AL$10=0,0,$AL$10)","v":0},null,{"$f":"IF($AM$10=0,0,$AM$10)","v":0},null,{"$f":"IF($AN$10=0,0,$AN$10)","v":0},null,{"$f":"IF($AO$10=0,0,$AO$10)","v":0},null,{"$f":"IF($AP$10=0,0,$AP$10)","v":0},null,{"$f":"IF($AQ$10=0,0,$AQ$10)","v":0},null,{"$f":"IF($AR$10=0,0,$AR$10)","v":0},null,{"$f":"IF($AS$10=0,0,$AS$10)","v":0},null,{"$f":"IF($AT$10=0,0,$AT$10)","v":0},null,{"$f":"IF($AU$10=0,0,$AU$10)","v":0},null,{"$f":"IF($AV$10=0,0,$AV$10)","v":0}]
[{"$f":"$A$57","v":"Kompensations-Std"},{"$f":"$B$57","v":"aus Vorjahr"},null,null,null,{"$f":"$F$57","v":"kv"},{"$f":"IF($AJ$12=0,0,$AJ$12)","v":0},null,{"$f":"IF($AK$12=0,0,$AK$12)","v":0},null,{"$f":"IF($AL$12=0,0,$AL$12)","v":0},null,{"$f":"IF($AM$12=0,0,$AM$12)","v":0},null,{"$f":"IF($AN$12=0,0,$AN$12)","v":0},null,{"$f":"IF($AO$12=0,0,$AO$12)","v":0},null,{"$f":"IF($AP$12=0,0,$AP$12)","v":0},null,{"$f":"IF($AQ$12=0,0,$AQ$12)","v":0},null,{"$f":"IF($AR$12=0,0,$AR$12)","v":0},null,null,null,null,null,null,null,{"$f":"IF($AV$12=0,0,$AV$12)","v":0}]
[null,{"$f":"$B$58","v":"aus laufendem Jahr (Kontrolle)"},null,null,null,{"$f":"$F$58","v":"kj"},{"$f":"IF($AJ$14=0,0,$AJ$14)","v":0},null,{"$f":"IF($AK$14=0,0,$AK$14)","v":0},null,{"$f":"IF($AL$14=0,0,$AL$14)","v":0},null,{"$f":"IF($AM$14=0,0,$AM$14)","v":0},null,{"$f":"IF($AN$14=0,0,$AN$14)","v":0},null,{"$f":"IF($AO$14=0,0,$AO$14)","v":0},null,{"$f":"IF($AP$14=0,0,$AP$14)","v":0},null,{"$f":"IF($AQ$14=0,0,$AQ$14)","v":0},null,{"$f":"IF($AR$14=0,0,$AR$14)","v":0},null,{"$f":"IF($AS$14=0,0,$AS$14)","v":0},null,{"$f":"IF($AT$14=0,0,$AT$14)","v":0},null,{"$f":"IF($AU$14=0,0,$AU$14)","v":0},null,{"$f":"IF($AV$14=0,0,$AV$14)","v":0}]
[{"$f":"$A$59","v":"Auszahlung"},{"$f":"$B$59","v":"Stunden Vorjahressaldo"},null,null,null,null,{"$f":"IF($AJ$18=0,0,$AJ$18)","v":0},null,{"$f":"IF($AK$18=0,0,$AK$18)","v":0},null,{"$f":"IF($AL$18=0,0,$AL$18)","v":0},null,{"$f":"IF($AM$18=0,0,$AM$18)","v":0},null,{"$f":"IF($AN$18=0,0,$AN$18)","v":0},null,{"$f":"IF($AO$18=0,0,$AO$18)","v":0},null,{"$f":"IF($AP$18=0,0,$AP$18)","v":0},null,{"$f":"IF($AQ$18=0,0,$AQ$18)","v":0},null,{"$f":"IF($AR$18=0,0,$AR$18)","v":0},null,null,null,null,null,null,null,{"$f":"IF($AV$18=0,0,$AV$18)","v":0}]
[{"$f":"$A$60","v":"Differenz"},{"$f":"$B$60","v":"nach Kompensation und Auszahlung"},null,null,null,null,{"$f":"IF(ROUND($P$4,3)=0,0,$P$4-SUM(G687+G689))","v":0},null,{"$f":"IF(ROUND(G690,3)=0,0,G690-(SUM(I689+I687)))","v":0},null,{"$f":"IF(ROUND(I690,3)=0,0,I690-(SUM(K689+K687)))","v":0},null,{"$f":"IF(ROUND(K690,3)=0,0,K690-(SUM(M689+M687)))","v":0},null,{"$f":"IF(ROUND(M690,3)=0,0,M690-(SUM(O689+O687)))","v":0},null,{"$f":"IF(ROUND(O690,3)=0,0,O690-(SUM(Q689+Q687)))","v":0},null,{"$f":"IF(ROUND(Q690,3)=0,0,Q690-(SUM(S689+S687)))","v":0},null,{"$f":"IF(ROUND(S690,3)=0,0,S690-(SUM(U689+U687)))","v":0},null,{"$f":"IF(ROUND(U690,3)=0,0,U690-(SUM(W689+W687)))","v":0},null,{"$f":"$Y$60","v":""}]
[{"$f":"$A$61","v":"Auszahlung"},{"$f":"$B$61","v":"Stunden laufendes Jahr"},null,null,null,null,{"$f":"IF($AJ$19=0,0,$AJ$19)","v":0},null,{"$f":"IF($AK$19=0,0,$AK$19)","v":0},null,{"$f":"IF($AL$19=0,0,$AL$19)","v":0},null,{"$f":"IF($AM$19=0,0,$AM$19)","v":0},null,{"$f":"IF($AN$19=0,0,$AN$19)","v":0},null,{"$f":"IF($AO$19=0,0,$AO$19)","v":0},null,{"$f":"IF($AP$19=0,0,$AP$19)","v":0},null,{"$f":"IF($AQ$19=0,0,$AQ$19)","v":0},null,{"$f":"IF($AR$19=0,0,$AR$19)","v":0},null,{"$f":"IF($AS$19=0,0,$AS$19)","v":0},null,{"$f":"IF($AT$19=0,0,$AT$19)","v":0},null,{"$f":"IF($AU$19=0,0,$AU$19)","v":0},null,{"$f":"IF($AV$19=0,0,$AV$19)","v":0}]
[{"$f":"$A$62","v":"Fehlstunden"},{"$f":"$B$62","v":"laufendes Jahr (Kontrolle)"},null,null,null,{"$f":"$F$62","v":"fe"},{"$f":"IF($AJ$13=0,0,$AJ$13)","v":0},null,{"$f":"IF($AK$13=0,0,$AK$13)","v":0},null,{"$f":"IF($AL$13=0,0,$AL$13)","v":0},null,{"$f":"IF($AM$13=0,0,$AM$13)","v":0},null,{"$f":"IF($AN$13=0,0,$AN$13)","v":0},null,{"$f":"IF($AO$13=0,0,$AO$13)","v":0},null,{"$f":"IF($AP$13=0,0,$AP$13)","v":0},null,{"$f":"IF($AQ$13=0,0,$AQ$13)","v":0},null,{"$f":"IF($AR$13=0,0,$AR$13)","v":0},null,{"$f":"IF($AS$13=0,0,$AS$13)","v":0},null,{"$f":"IF($AT$13=0,0,$AT$13)","v":0},null,{"$f":"IF($AU$13=0,0,$AU$13)","v":0},null,{"$f":"IF($AV$13=0,0,$AV$13)","v":0}]
[{"$f":"$A$63","v":"Total inkl. Zeitzuschläge"},{"$f":"$B$63","v":"Stunden produktiv und unproduktiv"},null,null,null,null,{"$f":"IF($AG$36=0,0,$AG$36)","v":0},null,{"$f":"IF($AG$99=0,0,$AG$99)","v":0},null,{"$f":"IF($AG$162=0,0,$AG$162)","v":0},null,{"$f":"IF($AG$225=0,0,$AG$225)","v":0},null,{"$f":"IF($AG$288=0,0,$AG$288)","v":0},null,{"$f":"IF($AG$351=0,0,$AG$351)","v":0},null,{"$f":"IF($AG$414=0,0,$AG$414)","v":0},null,{"$f":"IF($AG$477=0,0,$AG$477)","v":0},null,{"$f":"IF($AG$540=0,0,$AG$540)","v":0},null,{"$f":"IF($AG$603=0,0,$AG$603)","v":0},null,{"$f":"IF($AG$666=0,0,$AG$666)","v":0},null,{"$f":"IF($AG$729=0,0,$AG$729)","v":0},null,{"$f":"SUM($G$63:$AD$63)","v":0}]
[{"$f":"$A$64","v":"Vergleich"},{"$f":"$B$64","v":"Stunden zu Soll-Stunden (inkl. allfälli-\nge Minusstunden Vorjahr)"},null,null,null,null,{"$f":"$G$64","v":-172.82999999999998},null,{"$f":"$I$64","v":-164.6},null,{"$f":"$K$64","v":-189.28999999999996},null,{"$f":"$M$64","v":-181.05999999999997},null,{"$f":"$O$64","v":-172.82999999999998},null,{"$f":"$Q$64","v":-181.05999999999997},null,{"$f":"$S$64","v":-181.05999999999997},null,{"$f":"$U$64","v":-181.05999999999997},null,{"$f":"$W$64","v":-181.05999999999997},null,{"$f":"$Y$64","v":-172.82999999999998},null,{"$f":"$AA$64","v":-181.05999999999997},null,{"$f":"$AC$64","v":-189.28999999999996},null,{"$f":"$AE$64","v":-2148.0299999999997}]
[null,{"$f":"$B$65","v":"Stunden zu Soll-Stunden (kumuliert)"},null,null,null,null,{"$f":"$G$65","v":-172.82999999999998},null,{"$f":"$I$65","v":-337.42999999999995},null,{"$f":"$K$65","v":-526.71999999999991},null,{"$f":"$M$65","v":-707.77999999999986},null,{"$f":"$O$65","v":-880.6099999999999},null,{"$f":"$Q$65","v":-1061.6699999999998},null,{"$f":"$S$65","v":-1242.7299999999998},null,{"$f":"$U$65","v":-1423.7899999999997},null,{"$f":"$W$65","v":-1604.8499999999997},null,{"$f":"$Y$65","v":-1777.6799999999996},null,{"$f":"$AA$65","v":-1958.7399999999996},null,{"$f":"$AC$65","v":-2148.0299999999997},null,{"$f":"$AE$65","v":0}]
[{"$f":"$A$66","v":"Ferienkontrolle"},{"$f":"$B$66","v":"Ferienguthaben Vorjahr"},null,null,null,null,{"$f":"IF($AA$4=0,0,$AA$4)","v":0},null,{"$f":"$I$66","v":"Ferienguthaben nach \nArt. 12.1 GAV"},null,null,null,{"$f":"IF($AA$5=0,0,$AA$5)","v":0},null,{"$f":"$O$66","v":"Ferienguthaben total"},null,null,null,{"$f":"SUM(G696+M696)","v":0},null,{"$f":"$U$66","v":"Ferien bezogen"},null,null,null,{"$f":"IF($AV$4=0,0,$AV$4)","v":0},null,{"$f":"$AA$66","v":"Aktuelles Ferienguthaben"},null,null,null,{"$f":"IF(S696=0,0,S696-Y696)","v":0}]
[]
[]
[{"$f":"$A$3","v":"Mitarbeiter/In"},{"$f":"IF($B$3=\"\",\"\",$B$3)","v":"Muster Peter"},null,null,null,null,null,null,null,null,null,null,null,null,null,null,null,null,null,null,null,null,null,null,null,null,null,null,null,null,null,{"$f":"AF3","v":0}]
[{"$f":"$A$4","v":"Anstellung %"},100,null,{"$f":"Labels!B100","v":"im Dezember"}]
[{"$f":"$A$5","v":"Saldo für das Jahr"},null,null,{"$f":"IF($AE$64=0,0,$AE$64)","v":-2148.0299999999997}]
[{"$f":"TEXT(DATE(YEAR(AP28),MONTH(AP28)+11,1),\"MMMM\"&Labels!B13)","v":"Dezember"},{"$f":"$B$9","v":"Saldo Monat + / -"},null,null,null,{"$f":"(AG705-(SUM(AG706:AG720)-AE727))*-1","v":-189.28999999999996},null,null,null,null,{"$f":"$K$9","v":" = "},{"$f":"$L$9","v":"Gelbe Felder müssen ausgefüllt werden (die übrigen werden automatisch berechnet)"}]
[{"$f":"$A$10","v":"Tag"},{"$f":"AE640+1","v":"2021-12-01"},{"$f":"B703+1","v":"2021-12-02"},{"$f":"C703+1","v":"2021-12-03"},"2021-12-04","2021-12-05","2021-12-06","2021-12-07","2021-12-08","2021-12-09","2021-12-10","2021-12-11","2021-12-12","2021-12-13","2021-12-14","2021-12-15","2021-12-16","2021-12-17","2021-12-18","2021-12-19","2021-12-20","2021-12-21","2021-12-22","2021-12-23","2021-12-24","2021-12-25","2021-12-26","2021-12-27","2021-12-28","2021-12-29","2021-12-30","2021-12-31",{"$f":"COUNT(B705:AF705)&\" \"&Labels!$B$63","v":"23 Tage"}]
[{"$f":"$A$11","v":"Kalenderwoche"},{"$f":"IF(B703=\"\",\"\",TRUNC((B703-DATE(YEAR(B703+3-MOD(B703-2,7)),1,MOD(B703-2,7)-9))/7))","v":48},48,48,48,48,49,49,49,49,49,49,49,50,50,50,50,50,50,50,51,51,51,51,51,51,51,52,52,52,52,52]
[{"$f":"$A$12","v":"Sollstunden"},{"$f":"IF(MOD(B703,7)>=2,$J$7*$B$700%,\"\")","v":8.23},8.23,8.23,"","",8.23,8.23,8.23,8.23,8.23,"","",8.23,8.23,8.23,8.23,8.23,"","",8.23,8.23,8.23,8.23,8.23,"","",8.23,8.23,8.23,8.23,8.23,{"$f":"SUM(B705:AF705)","v":189.28999999999996}]
[{"$f":"$A$13","v":"Absenz in Std"},{"$f":"B1072","v":0},{"$f":"C1072","v":0},0,0,0,0,0,0,0,0,0,0,0,0,0,0,0,0,0,0,0,0,0,0,0,0,0,0,0,0,0,{"$f":"SUM(AU3:AU12)","v":0}]
[{"$f":"$A$14","v":"Code"},{"$f":"IF(B1072<>0,IF(MAX(B1059:B1071)<B1072,Labels!$B$163,INDEX($AH$1059:$AH$1071,MATCH(MAX(B1059:B1071),B1059:B1071,0))),\"\")","v":""},{"$f":"IF(C1072<>0,IF(MAX(C1059:C1071)<C1072,Labels!$B$163,INDEX($AH$1059:$AH$1071,MATCH(MAX(C1059:C1071),C1059:C1071,0))),\"\")","v":""},{"$f":"IF(D1072<>0,IF(MAX(D1059:D1071)<D1072,Labels!$B$163,INDEX($AH$1059:$AH$1071,MATCH(MAX(D1059:D1071),D1059:D1071,0))),\"\")","v":""},{"$f":"IF(E1072<>0,IF(MAX(E1059:E1071)<E1072,Labels!$B$163,INDEX($AH$1059:$AH$1071,MATCH(MAX(E1059:E1071),E1059:E1071,0))),\"\")","v":""},{"$f":"IF(F1072<>0,IF(MAX(F1059:F1071)<F1072,Labels!$B$163,INDEX($AH$1059:$AH$1071,MATCH(MAX(F1059:F1071),F1059:F1071,0))),\"\")","v":""},{"$f":"IF(G1072<>0,IF(MAX(G1059:G1071)<G1072,Labels!$B$163,INDEX($AH$1059:$AH$1071,MATCH(MAX(G1059:G1071),G1059:G1071,0))),\"\")","v":""},{"$f":"IF(H1072<>0,IF(MAX(H1059:H1071)<H1072,Labels!$B$163,INDEX($AH$1059:$AH$1071,MATCH(MAX(H1059:H1071),H1059:H1071,0))),\"\")","v":""},{"$f":"IF(I1072<>0,IF(MAX(I1059:I1071)<I1072,Labels!$B$163,INDEX($AH$1059:$AH$1071,MATCH(MAX(I1059:I1071),I1059:I1071,0))),\"\")","v":""},{"$f":"IF(J1072<>0,IF(MAX(J1059:J1071)<J1072,Labels!$B$163,INDEX($AH$1059:$AH$1071,MATCH(MAX(J1059:J1071),J1059:J1071,0))),\"\")","v":""},{"$f":"IF(K1072<>0,IF(MAX(K1059:K1071)<K1072,Labels!$B$163,INDEX($AH$1059:$AH$1071,MATCH(MAX(K1059:K1071),K1059:K1071,0))),\"\")","v":""},{"$f":"IF(L1072<>0,IF(MAX(L1059:L1071)<L1072,Labels!$B$163,INDEX($AH$1059:$AH$1071,MATCH(MAX(L1059:L1071),L1059:L1071,0))),\"\")","v":""},{"$f":"IF(M1072<>0,IF(MAX(M1059:M1071)<M1072,Labels!$B$163,INDEX($AH$1059:$AH$1071,MATCH(MAX(M1059:M1071),M1059:M1071,0))),\"\")","v":""},{"$f":"IF(N1072<>0,IF(MAX(N1059:N1071)<N1072,Labels!$B$163,INDEX($AH$1059:$AH$1071,MATCH(MAX(N1059:N1071),N1059:N1071,0))),\"\")","v":""},{"$f":"IF(O1072<>0,IF(MAX(O1059:O1071)<O1072,Labels!$B$163,INDEX($AH$1059:$AH$1071,MATCH(MAX(O1059:O1071),O1059:O1071,0))),\"\")","v":""},{"$f":"IF(P1072<>0,IF(MAX(P1059:P1071)<P1072,Labels!$B$163,INDEX($AH$1059:$AH$1071,MATCH(MAX(P1059:P1071),P1059:P1071,0))),\"\")","v":""},{"$f":"IF(Q1072<>0,IF(MAX(Q1059:Q1071)<Q1072,Labels!$B$163,INDEX($AH$1059:$AH$1071,MATCH(MAX(Q1059:Q1071),Q1059:Q1071,0))),\"\")","v":""},{"$f":"IF(R1072<>0,IF(MAX(R1059:R1071)<R1072,Labels!$B$163,INDEX($AH$1059:$AH$1071,MATCH(MAX(R1059:R1071),R1059:R1071,0))),\"\")","v":""},{"$f":"IF(S1072<>0,IF(MAX(S1059:S1071)<S1072,Labels!$B$163,INDEX($AH$1059:$AH$1071,MATCH(MAX(S1059:S1071),S1059:S1071,0))),\"\")","v":""},{"$f":"IF(T1072<>0,IF(MAX(T1059:T1071)<T1072,Labels!$B$163,INDEX($AH$1059:$AH$1071,MATCH(MAX(T1059:T1071),T1059:T1071,0))),\"\")","v":""},{"$f":"IF(U1072<>0,IF(MAX(U1059:U1071)<U1072,Labels!$B$163,INDEX($AH$1059:$AH$1071,MATCH(MAX(U1059:U1071),U1059:U1071,0))),\"\")","v":""},{"$f":"IF(V1072<>0,IF(MAX(V1059:V1071)<V1072,Labels!$B$163,INDEX($AH$1059:$AH$1071,MATCH(MAX(V1059:V1071),V1059:V1071,0))),\"\")","v":""},{"$f":"IF(W1072<>0,IF(MAX(W1059:W1071)<W1072,Labels!$B$163,INDEX($AH$1059:$AH$1071,MATCH(MAX(W1059:W1071),W1059:W1071,0))),\"\")","v":""},{"$f":"IF(X1072<>0,IF(MAX(X1059:X1071)<X1072,Labels!$B$163,INDEX($AH$1059:$AH$1071,MATCH(MAX(X1059:X1071),X1059:X1071,0))),\"\")","v":""},{"$f":"IF(Y1072<>0,IF(MAX(Y1059:Y1071)<Y1072,Labels!$B$163,INDEX($AH$1059:$AH$1071,MATCH(MAX(Y1059:Y1071),Y1059:Y1071,0))),\"\")","v":""},{"$f":"IF(Z1072<>0,IF(MAX(Z1059:Z1071)<Z1072,Labels!$B$163,INDEX($AH$1059:$AH$1071,MATCH(MAX(Z1059:Z1071),Z1059:Z1071,0))),\"\")","v":""},{"$f":"IF(AA1072<>0,IF(MAX(AA1059:AA1071)<AA1072,Labels!$B$163,INDEX($AH$1059:$AH$1071,MATCH(MAX(AA1059:AA1071),AA1059:AA1071,0))),\"\")","v":""},{"$f":"IF(AB1072<>0,IF(MAX(AB1059:AB1071)<AB1072,Labels!$B$163,INDEX($AH$1059:$AH$1071,MATCH(MAX(AB1059:AB1071),AB1059:AB1071,0))),\"\")","v":""},{"$f":"IF(AC1072<>0,IF(MAX(AC1059:AC1071)<AC1072,Labels!$B$163,INDEX($AH$1059:$AH$1071,MATCH(MAX(AC1059:AC1071),AC1059:AC1071,0))),\"\")","v":""},{"$f":"IF(AD1072<>0,IF(MAX(AD1059:AD1071)<AD1072,Labels!$B$163,INDEX($AH$1059:$AH$1071,MATCH(MAX(AD1059:AD1071),AD1059:AD1071,0))),\"\")","v":""},{"$f":"IF(AE1072<>0,IF(MAX(AE1059:AE1071)<AE1072,Labels!$B$163,INDEX($AH$1059:$AH$1071,MATCH(MAX(AE1059:AE1071),AE1059:AE1071,0))),\"\")","v":""},{"$f":"IF(AF1072<>0,IF(MAX(AF1059:AF1071)<AF1072,Labels!$B$163,INDEX($AH$1059:$AH$1071,MATCH(MAX(AF1059:AF1071),AF1059:AF1071,0))),\"\")","v":""}]
[{"$f":"$A$15","v":"00.00-06.00h"},null,null,null,null,null,null,null,null,null,null,null,null,null,null,null,null,null,null,null,null,null,null,null,null,null,null,null,null,null,null,null,{"$f":"SUM(B708:AF708)","v":0}]
[{"$f":"$A$16","v":"06.00-20.00h"},null,null,null,null,null,null,null,null,null,null,null,null,null,null,null,null,null,null,null,null,null,null,null,null,null,null,null,null,null,null,null,{"$f":"SUM(B709:AF709)","v":0}]
[{"$f":"$A$17","v":"20.00-24.00h"},null,null,null,null,null,null,null,null,null,null,null,null,null,null,null,null,null,null,null,null,null,null,null,null,null,null,null,null,null,null,null,{"$f":"SUM(B710:AF710)","v":0},"[0]"]
[{"$f":"$A$18","v":"Feiertag \"ft\""},{"$f":"IF(WEEKDAY(B703,2)<=6,IF(KALENDER!E25=\"x\",Labels!$B$118,\"\"),\"\")","v":""},{"$f":"IF(WEEKDAY(C703,2)<=6,IF(KALENDER!F25=\"x\",Labels!$B$118,\"\"),\"\")","v":""},{"$f":"IF(WEEKDAY(D703,2)<=6,IF(KALENDER!G25=\"x\",Labels!$B$118,\"\"),\"\")","v":""},{"$f":"IF(WEEKDAY(E703,2)<=6,IF(KALENDER!H25=\"x\",Labels!$B$118,\"\"),\"\")","v":""},{"$f":"IF(WEEKDAY(F703,2)<=6,IF(KALENDER!I25=\"x\",Labels!$B$118,\"\"),\"\")","v":""},{"$f":"IF(WEEKDAY(G703,2)<=6,IF(KALENDER!J25=\"x\",Labels!$B$118,\"\"),\"\")","v":""},{"$f":"IF(WEEKDAY(H703,2)<=6,IF(KALENDER!K25=\"x\",Labels!$B$118,\"\"),\"\")","v":""},{"$f":"IF(WEEKDAY(I703,2)<=6,IF(KALENDER!L25=\"x\",Labels!$B$118,\"\"),\"\")","v":""},{"$f":"IF(WEEKDAY(J703,2)<=6,IF(KALENDER!M25=\"x\",Labels!$B$118,\"\"),\"\")","v":""},{"$f":"IF(WEEKDAY(K703,2)<=6,IF(KALENDER!N25=\"x\",Labels!$B$118,\"\"),\"\")","v":""},{"$f":"IF(WEEKDAY(L703,2)<=6,IF(KALENDER!O25=\"x\",Labels!$B$118,\"\"),\"\")","v":""},{"$f":"IF(WEEKDAY(M703,2)<=6,IF(KALENDER!P25=\"x\",Labels!$B$118,\"\"),\"\")","v":""},{"$f":"IF(WEEKDAY(N703,2)<=6,IF(KALENDER!Q25=\"x\",Labels!$B$118,\"\"),\"\")","v":""},{"$f":"IF(WEEKDAY(O703,2)<=6,IF(KALENDER!R25=\"x\",Labels!$B$118,\"\"),\"\")","v":""},{"$f":"IF(WEEKDAY(P703,2)<=6,IF(KALENDER!S25=\"x\",Labels!$B$118,\"\"),\"\")","v":""},{"$f":"IF(WEEKDAY(Q703,2)<=6,IF(KALENDER!T25=\"x\",Labels!$B$118,\"\"),\"\")","v":""},{"$f":"IF(WEEKDAY(R703,2)<=6,IF(KALENDER!U25=\"x\",Labels!$B$118,\"\"),\"\")","v":""},{"$f":"IF(WEEKDAY(S703,2)<=6,IF(KALENDER!V25=\"x\",Labels!$B$118,\"\"),\"\")","v":""},{"$f":"IF(WEEKDAY(T703,2)<=6,IF(KALENDER!W25=\"x\",Labels!$B$118,\"\"),\"\")","v":""},{"$f":"IF(WEEKDAY(U703,2)<=6,IF(KALENDER!X25=\"x\",Labels!$B$118,\"\"),\"\")","v":""},{"$f":"IF(WEEKDAY(V703,2)<=6,IF(KALENDER!Y25=\"x\",Labels!$B$118,\"\"),\"\")","v":""},{"$f":"IF(WEEKDAY(W703,2)<=6,IF(KALENDER!Z25=\"x\",Labels!$B$118,\"\"),\"\")","v":""},{"$f":"IF(WEEKDAY(X703,2)<=6,IF(KALENDER!AA25=\"x\",Labels!$B$118,\"\"),\"\")","v":""},{"$f":"IF(WEEKDAY(Y703,2)<=6,IF(KALENDER!AB25=\"x\",Labels!$B$118,\"\"),\"\")","v":""},{"$f":"IF(WEEKDAY(Z703,2)<=6,IF(KALENDER!AC25=\"x\",Labels!$B$118,\"\"),\"\")","v":""},{"$f":"IF(WEEKDAY(AA703,2)<=6,IF(KALENDER!AD25=\"x\",Labels!$B$118,\"\"),\"\")","v":""},{"$f":"IF(WEEKDAY(AB703,2)<=6,IF(KALENDER!AE25=\"x\",Labels!$B$118,\"\"),\"\")","v":""},{"$f":"IF(WEEKDAY(AC703,2)<=6,IF(KALENDER!AF25=\"x\",Labels!$B$118,\"\"),\"\")","v":""},{"$f":"IF(WEEKDAY(AD703,2)<=6,IF(KALENDER!AG25=\"x\",Labels!$B$118,\"\"),\"\")","v":""},{"$f":"IF(WEEKDAY(AE703,2)<=6,IF(KALENDER!AH25=\"x\",Labels!$B$118,\"\"),\"\")","v":""},{"$f":"IF(WEEKDAY(AF703,2)<=6,IF(KALENDER!AI25=\"x\",Labels!$B$118,\"\"),\"\")","v":""}]
[{"$f":"$A$19","v":"Gutschrift \"ft\""},{"$f":"IF(AND(B711=Labels!$B$118,WEEKDAY(B703,2)<6),$J$7*$B$700%,\"\")","v":""},{"$f":"IF(AND(C711=Labels!$B$118,WEEKDAY(C703,2)<6),$J$7*$B$700%,\"\")","v":""},{"$f":"IF(AND(D711=Labels!$B$118,WEEKDAY(D703,2)<6),$J$7*$B$700%,\"\")","v":""},{"$f":"IF(AND(E711=Labels!$B$118,WEEKDAY(E703,2)<6),$J$7*$B$700%,\"\")","v":""},{"$f":"IF(AND(F711=Labels!$B$118,WEEKDAY(F703,2)<6),$J$7*$B$700%,\"\")","v":""},{"$f":"IF(AND(G711=Labels!$B$118,WEEKDAY(G703,2)<6),$J$7*$B$700%,\"\")","v":""},{"$f":"IF(AND(H711=Labels!$B$118,WEEKDAY(H703,2)<6),$J$7*$B$700%,\"\")","v":""},{"$f":"IF(AND(I711=Labels!$B$118,WEEKDAY(I703,2)<6),$J$7*$B$700%,\"\")","v":""},{"$f":"IF(AND(J711=Labels!$B$118,WEEKDAY(J703,2)<6),$J$7*$B$700%,\"\")","v":""},{"$f":"IF(AND(K711=Labels!$B$118,WEEKDAY(K703,2)<6),$J$7*$B$700%,\"\")","v":""},{"$f":"IF(AND(L711=Labels!$B$118,WEEKDAY(L703,2)<6),$J$7*$B$700%,\"\")","v":""},{"$f":"IF(AND(M711=Labels!$B$118,WEEKDAY(M703,2)<6),$J$7*$B$700%,\"\")","v":""},{"$f":"IF(AND(N711=Labels!$B$118,WEEKDAY(N703,2)<6),$J$7*$B$700%,\"\")","v":""},{"$f":"IF(AND(O711=Labels!$B$118,WEEKDAY(O703,2)<6),$J$7*$B$700%,\"\")","v":""},{"$f":"IF(AND(P711=Labels!$B$118,WEEKDAY(P703,2)<6),$J$7*$B$700%,\"\")","v":""},{"$f":"IF(AND(Q711=Labels!$B$118,WEEKDAY(Q703,2)<6),$J$7*$B$700%,\"\")","v":""},{"$f":"IF(AND(R711=Labels!$B$118,WEEKDAY(R703,2)<6),$J$7*$B$700%,\"\")","v":""},{"$f":"IF(AND(S711=Labels!$B$118,WEEKDAY(S703,2)<6),$J$7*$B$700%,\"\")","v":""},{"$f":"IF(AND(T711=Labels!$B$118,WEEKDAY(T703,2)<6),$J$7*$B$700%,\"\")","v":""},{"$f":"IF(AND(U711=Labels!$B$118,WEEKDAY(U703,2)<6),$J$7*$B$700%,\"\")","v":""},{"$f":"IF(AND(V711=Labels!$B$118,WEEKDAY(V703,2)<6),$J$7*$B$700%,\"\")","v":""},{"$f":"IF(AND(W711=Labels!$B$118,WEEKDAY(W703,2)<6),$J$7*$B$700%,\"\")","v":""},{"$f":"IF(AND(X711=Labels!$B$118,WEEKDAY(X703,2)<6),$J$7*$B$700%,\"\")","v":""},{"$f":"IF(AND(Y711=Labels!$B$118,WEEKDAY(Y703,2)<6),$J$7*$B$700%,\"\")","v":""},{"$f":"IF(AND(Z711=Labels!$B$118,WEEKDAY(Z703,2)<6),$J$7*$B$700%,\"\")","v":""},{"$f":"IF(AND(AA711=Labels!$B$118,WEEKDAY(AA703,2)<6),$J$7*$B$700%,\"\")","v":""},{"$f":"IF(AND(AB711=Labels!$B$118,WEEKDAY(AB703,2)<6),$J$7*$B$700%,\"\")","v":""},{"$f":"IF(AND(AC711=Labels!$B$118,WEEKDAY(AC703,2)<6),$J$7*$B$700%,\"\")","v":""},{"$f":"IF(AND(AD711=Labels!$B$118,WEEKDAY(AD703,2)<6),$J$7*$B$700%,\"\")","v":""},{"$f":"IF(AND(AE711=Labels!$B$118,WEEKDAY(AE703,2)<6),$J$7*$B$700%,\"\")","v":""},{"$f":"IF(AND(AF711=Labels!$B$118,WEEKDAY(AF703,2)<6),$J$7*$B$700%,\"\")","v":""},{"$f":"SUM(B712:AF712)","v":0}]
[{"$f":"$A$20","v":"Tagestotal"},{"$f":"SUM(B708:B710)","v":0},{"$f":"SUM(C708:C710)","v":0},0,0,0,0,0,0,0,0,0,0,0,0,0,0,0,0,0,0,0,0,0,0,0,0,0,0,0,0,0]
[{"$f":"$A$21","v":"."}]
[{"$f":"$A$22","v":"."}]
[{"$f":"$A$23","v":"Monatsübergang"},{"$f":"IF(WEEKDAY(B703)=1,TEXT(B703-1,\"MMM\"&Labels!B13),\"\")","v":""}]
[{"$f":"$A$24","v":"Wochentotal"},{"$f":"IF(WEEKDAY(B703)=7,SUMIF($B641:$AF641,B704,$B650:$AF650)+SUMIF($B704:$AF704,B704,$B713:$AF713),B716)","v":""},{"$f":"IF(WEEKDAY(C703)=7,SUMIF($B641:$AF641,C704,$B650:$AF650)+SUMIF($B704:$AF704,C704,$B713:$AF713),\"\")","v":""},"",0,"","","","","","",0,"","","","","","",0,"","","","","","",0,"","","","","",{"$f":"IF(WEEKDAY(AF703)>1,SUMIF($B641:$AF641,AF704,$B650:$AF650)+SUMIF($B704:$AF704,AF704,$B713:$AF713),\"\")","v":0}]
[{"$f":"$A$25","v":"Zeitzuschlag 1)"},{"$f":"IF(B725=\"FALSCH\",\"\",B725)","v":""},{"$f":"IF(C725=\"FALSCH\",\"\",C725)","v":""},"","","","","","","","","","","","","","","","","","","","","","","","","","","","","",{"$f":"SUM(B718:AF718)","v":0}]
[{"$f":"$A$26","v":"Zeitzuschlag 2)"},{"$f":"IF((B708+B710)=0,\"\",SUM(B708,B710))","v":""},{"$f":"IF((C708+C710)=0,\"\",SUM(C708,C710))","v":""},"","","","","","","","","","","","","","","","","","","","","","","","","","","","","",0,"[1]"]
[{"$f":"$A$27","v":"Zeitzuschlag 3)"},{"$f":"SUM(B721:B724)","v":0},{"$f":"SUM(C721:C724)","v":0},0,0,0,0,0,0,0,0,0,0,0,0,0,0,0,0,0,0,0,0,0,0,0,0,0,0,0,0,0,{"$f":"SUM(B720:AF720)","v":0},"[2]"]
[{"$f":"$A$28","v":"Sonntag Tag"},{"$f":"IF(WEEKDAY(B703)=1,B709,\"\")","v":""},{"$f":"IF(WEEKDAY(C703)=1,C709,\"\")","v":""},"","",0,"","","","","","",0,"","","","","","",0,"","","","","","",0,"","","","","",0,"[3]"]
[{"$f":"$A$29","v":"Sonntag Nacht"},{"$f":"IF(WEEKDAY(B703)=1,SUM(B708+B710),\"\")","v":""},{"$f":"IF(WEEKDAY(C703)=1,SUM(C708+C710),\"\")","v":""},"","",0,"","","","","","",0,"","","","","","",0,"","","","","","",0,"","","","","",0,"[4]"]
[{"$f":"$A$30","v":"ft-Tazuschlag"},{"$f":"IF(B711=Labels!$B$118,B709,\"\")","v":""},{"$f":"IF(C711=Labels!$B$118,C709,\"\")","v":""},{"$f":"IF(D711=Labels!$B$118,D709,\"\")","v":""},{"$f":"IF(E711=Labels!$B$118,E709,\"\")","v":""},{"$f":"IF(F711=Labels!$B$118,F709,\"\")","v":""},{"$f":"IF(G711=Labels!$B$118,G709,\"\")","v":""},{"$f":"IF(H711=Labels!$B$118,H709,\"\")","v":""},{"$f":"IF(I711=Labels!$B$118,I709,\"\")","v":""},{"$f":"IF(J711=Labels!$B$118,J709,\"\")","v":""},{"$f":"IF(K711=Labels!$B$118,K709,\"\")","v":""},{"$f":"IF(L711=Labels!$B$118,L709,\"\")","v":""},{"$f":"IF(M711=Labels!$B$118,M709,\"\")","v":""},{"$f":"IF(N711=Labels!$B$118,N709,\"\")","v":""},{"$f":"IF(O711=Labels!$B$118,O709,\"\")","v":""},{"$f":"IF(P711=Labels!$B$118,P709,\"\")","v":""},{"$f":"IF(Q711=Labels!$B$118,Q709,\"\")","v":""},{"$f":"IF(R711=Labels!$B$118,R709,\"\")","v":""},{"$f":"IF(S711=Labels!$B$118,S709,\"\")","v":""},{"$f":"IF(T711=Labels!$B$118,T709,\"\")","v":""},{"$f":"IF(U711=Labels!$B$118,U709,\"\")","v":""},{"$f":"IF(V711=Labels!$B$118,V709,\"\")","v":""},{"$f":"IF(W711=Labels!$B$118,W709,\"\")","v":""},{"$f":"IF(X711=Labels!$B$118,X709,\"\")","v":""},{"$f":"IF(Y711=Labels!$B$118,Y709,\"\")","v":""},{"$f":"IF(Z711=Labels!$B$118,Z709,\"\")","v":""},{"$f":"IF(AA711=Labels!$B$118,AA709,\"\")","v":""},{"$f":"IF(AB711=Labels!$B$118,AB709,\"\")","v":""},{"$f":"IF(AC711=Labels!$B$118,AC709,\"\")","v":""},{"$f":"IF(AD711=Labels!$B$118,AD709,\"\")","v":""},{"$f":"IF(AE711=Labels!$B$118,AE709,\"\")","v":""},{"$f":"IF(AF711=Labels!$B$118,AF709,\"\")","v":""},0,"[5]"]
[{"$f":"$A$31","v":"ft-Nazuschlag"},{"$f":"IF(B711=Labels!$B$118,SUM(B708,B710),\"\")","v":""},{"$f":"IF(C711=Labels!$B$118,SUM(C708,C710),\"\")","v":""},{"$f":"IF(D711=Labels!$B$118,SUM(D708,D710),\"\")","v":""},{"$f":"IF(E711=Labels!$B$118,SUM(E708,E710),\"\")","v":""},{"$f":"IF(F711=Labels!$B$118,SUM(F708,F710),\"\")","v":""},{"$f":"IF(G711=Labels!$B$118,SUM(G708,G710),\"\")","v":""},{"$f":"IF(H711=Labels!$B$118,SUM(H708,H710),\"\")","v":""},{"$f":"IF(I711=Labels!$B$118,SUM(I708,I710),\"\")","v":""},{"$f":"IF(J711=Labels!$B$118,SUM(J708,J710),\"\")","v":""},{"$f":"IF(K711=Labels!$B$118,SUM(K708,K710),\"\")","v":""},{"$f":"IF(L711=Labels!$B$118,SUM(L708,L710),\"\")","v":""},{"$f":"IF(M711=Labels!$B$118,SUM(M708,M710),\"\")","v":""},{"$f":"IF(N711=Labels!$B$118,SUM(N708,N710),\"\")","v":""},{"$f":"IF(O711=Labels!$B$118,SUM(O708,O710),\"\")","v":""},{"$f":"IF(P711=Labels!$B$118,SUM(P708,P710),\"\")","v":""},{"$f":"IF(Q711=Labels!$B$118,SUM(Q708,Q710),\"\")","v":""},{"$f":"IF(R711=Labels!$B$118,SUM(R708,R710),\"\")","v":""},{"$f":"IF(S711=Labels!$B$118,SUM(S708,S710),\"\")","v":""},{"$f":"IF(T711=Labels!$B$118,SUM(T708,T710),\"\")","v":""},{"$f":"IF(U711=Labels!$B$118,SUM(U708,U710),\"\")","v":""},{"$f":"IF(V711=Labels!$B$118,SUM(V708,V710),\"\")","v":""},{"$f":"IF(W711=Labels!$B$118,SUM(W708,W710),\"\")","v":""},{"$f":"IF(X711=Labels!$B$118,SUM(X708,X710),\"\")","v":""},{"$f":"IF(Y711=Labels!$B$118,SUM(Y708,Y710),\"\")","v":""},{"$f":"IF(Z711=Labels!$B$118,SUM(Z708,Z710),\"\")","v":""},{"$f":"IF(AA711=Labels!$B$118,SUM(AA708,AA710),\"\")","v":""},{"$f":"IF(AB711=Labels!$B$118,SUM(AB708,AB710),\"\")","v":""},{"$f":"IF(AC711=Labels!$B$118,SUM(AC708,AC710),\"\")","v":""},{"$f":"IF(AD711=Labels!$B$118,SUM(AD708,AD710),\"\")","v":""},{"$f":"IF(AE711=Labels!$B$118,SUM(AE708,AE710),\"\")","v":""},{"$f":"IF(AF711=Labels!$B$118,SUM(AF708,AF710),\"\")","v":""},0,"[6]"]
[{"$f":"$A$32","v":"Zuschlag  blind (Wochentotal)"},{"$f":"IF(OR(ISTEXT(B717),B717=\"\",B717<$B$7),\"\",ROUND(((B717-$B$7)*25%)/25,4)*25)","v":""},{"$f":"IF(OR(ISTEXT(C717),C717=\"\",C717<$B$7),\"\",ROUND(((C717-$B$7)*25%)/25,4)*25)","v":""},"","","","","","","","","","","","","","","","","","","","","","","","","","","","","",{"$f":"AG709","v":0},"[7]"]
[null,{"$f":"$B$33","v":"1)   25% Zeitzuschlag für Überschreitung Wochentotal"},null,null,null,null,null,null,null,null,null,{"$f":"$L$33","v":"2) 100% Zeitzuschlag für Nachtarbeit"},null,null,null,null,null,null,null,null,null,null,null,null,null,null,null,null,null,null,null,null,{"$f":"SUM(AG708+AG710)","v":0},"[8]"]
[null,{"$f":"$B$34","v":"3) 100% Zeitzuschlag für Sonn- und Feiertagsarbeit"},null,null,null,null,null,null,null,null,null,null,null,null,null,null,null,null,null,{"$f":"$T$34","v":"Eingabe der ausbezahlten Stunden laufendes Jahr (Überstunden)"},null,null,null,null,null,null,null,null,null,null,null,null,{"$f":"SUM(AG708:AG710)","v":0},"[9]"]
[{"$f":"$A$35","v":"Bemerkungen"},null,null,null,null,null,null,null,null,null,null,null,null,null,null,null,null,null,null,null,null,null,null,null,null,null,null,null,null,null,null,null,{"$f":"SUM(AG706+AG712)","v":0},"[10]"]
[null,null,null,null,null,null,null,null,null,null,null,null,null,null,null,null,null,null,null,null,null,null,null,null,null,null,null,null,null,null,null,null,{"$f":"SUM(AG706:AG720)","v":0},"[11]"]
[null,null,null,null,null,null,null,null,null,null,null,null,null,null,null,null,null,null,null,null,null,null,null,null,null,null,null,null,null,null,null,null,{"$f":"AG705","v":189.28999999999996}]
[null,null,null,null,null,null,null,null,null,null,null,null,null,null,null,null,null,null,null,null,null,null,null,null,null,null,null,null,null,null,null,null,{"$f":"SUM(AG729-AG705)","v":-189.28999999999996}]
[{"$f":"$A$39","v":"Zusammenstellung"},null,null,null,null,null,{"$f":"$G$39","v":"Jan"},null,{"$f":"$I$39","v":"Feb"},null,{"$f":"$K$39","v":"Mrz"},null,{"$f":"$M$39","v":"Apr"},null,{"$f":"$O$39","v":"Mai"},null,{"$f":"$Q$39","v":"Jun"},null,{"$f":"$S$39","v":"Jul"},null,{"$f":"$U$39","v":"Aug"},null,{"$f":"$W$39","v":"Sep"},null,{"$f":"$Y$39","v":"Okt"},null,{"$f":"$AA$39","v":"Nov"},null,{"$f":"$AC$39","v":"Dez"},null,{"$f":"$AE$39","v":"Jahr"}]
[{"$f":"$A$40","v":"Anstellung %"},null,null,null,null,null,{"$f":"IF($B$4=0,0,$B$4)","v":100},null,{"$f":"IF($B$70=0,0,$B$70)","v":100},null,{"$f":"IF($B$133=0,0,$B$133)","v":100},null,{"$f":"IF($B$196=0,0,$B$196)","v":100},null,{"$f":"IF($B$259=0,0,$B$259)","v":100},null,{"$f":"IF($B$322=0,0,$B$322)","v":100},null,{"$f":"IF($B$385=0,0,$B$385)","v":100},null,{"$f":"IF($B$448=0,0,$B$448)","v":100},null,{"$f":"IF($B$511=0,0,$B$511)","v":100},null,{"$f":"IF($B$574=0,0,$B$574)","v":100},null,{"$f":"IF($B$637=0,0,$B$637)","v":100},null,{"$f":"IF($B$700=0,0,$B$700)","v":100}]
[{"$f":"$A$41","v":"Sollstunden gemäss GAV"},null,null,null,null,null,{"$f":"IF($AG$37=0,0,$AG$37)","v":172.82999999999998},null,{"$f":"IF($AG$100=0,0,$AG$100)","v":164.6},null,{"$f":"IF($AG$138=0,0,$AG$138)","v":189.28999999999996},null,{"$f":"IF($AG$226=0,0,$AG$226)","v":181.05999999999997},null,{"$f":"IF($AG$289=0,0,$AG$289)","v":172.82999999999998},null,{"$f":"IF($AG$352=0,0,$AG$352)","v":181.05999999999997},null,{"$f":"IF($AG$415=0,0,$AG$415)","v":181.05999999999997},null,{"$f":"IF($AG$478=0,0,$AG$478)","v":181.05999999999997},null,{"$f":"IF($AG$541=0,0,$AG$541)","v":181.05999999999997},null,{"$f":"IF($AG$604=0,0,$AG$604)","v":172.82999999999998},null,{"$f":"IF($AG$667=0,0,$AG$667)","v":181.05999999999997},null,{"$f":"IF($AG$730=0,0,$AG$730)","v":189.28999999999996},null,{"$f":"SUM(G671:AD671)","v":2148.0299999999997}]
[{"$f":"$A$42","v":"Produktive Stunden"},{"$f":"$B$42","v":"06.00 - 20.00 Uhr"},null,null,null,null,{"$f":"IF($AG$32=0,0,$AG$32)","v":0},null,{"$f":"IF($AG$95=0,0,$AG$95)","v":0},null,{"$f":"IF($AG$158=0,0,$AG$158)","v":0},null,{"$f":"IF($AG$221=0,0,$AG$221)","v":0},null,{"$f":"IF($AG$284=0,0,$AG$284)","v":0},null,{"$f":"IF($AG$347=0,0,$AG$347)","v":0},null,{"$f":"IF($AG$410=0,0,$AG$410)","v":0},null,{"$f":"IF($AG$473=0,0,$AG$473)","v":0},null,{"$f":"IF($AG$536=0,0,$AG$536)","v":0},null,{"$f":"IF($AG$599=0,0,$AG$599)","v":0},null,{"$f":"IF($AG$662=0,0,$AG$662)","v":0},null,{"$f":"IF($AG$725=0,0,$AG$725)","v":0},null,{"$f":"SUM(G672:AD672)","v":0}]
[null,{"$f":"$B$43","v":"Nacht-, Sonn-, Feiertagsarbeit"},null,null,null,null,{"$f":"IF($AG$33=0,0,$AG$33)","v":0},null,{"$f":"IF($AG$96=0,0,$AG$96)","v":0},null,{"$f":"IF($AG$159=0,0,$AG$159)","v":0},null,{"$f":"IF($AG$222=0,0,$AG$222)","v":0},null,{"$f":"IF($AG$285=0,0,$AG$285)","v":0},null,{"$f":"IF($AG$348=0,0,$AG$348)","v":0},null,{"$f":"IF($AG$411=0,0,$AG$411)","v":0},null,{"$f":"IF($AG$474=0,0,$AG$474)","v":0},null,{"$f":"IF($AG$537=0,0,$AG$537)","v":0},null,{"$f":"IF($AG$600=0,0,$AG$600)","v":0},null,{"$f":"IF($AG$663=0,0,$AG$663)","v":0},null,{"$f":"IF($AG$726=0,0,$AG$726)","v":0},null,{"$f":"SUM(G673:AD673)","v":0}]
[{"$f":"$A$44","v":"Zeitzuschläge"},{"$f":"$B$44","v":"aus Wochentotal"},null,null,null,null,{"$f":"IF($AG$25=0,0,$AG$25)","v":0},null,{"$f":"IF($AG$88=0,0,$AG$88)","v":0},null,{"$f":"IF($AG$151=0,0,$AG$151)","v":0},null,{"$f":"IF($AG$214=0,0,$AG$214)","v":0},null,{"$f":"IF($AG$277=0,0,$AG$277)","v":0},null,{"$f":"IF($AG$340=0,0,$AG$340)","v":0},null,{"$f":"IF($AG$403=0,0,$AG$403)","v":0},null,{"$f":"IF($AG$466=0,0,$AG$466)","v":0},null,{"$f":"IF($AG$529=0,0,$AG$529)","v":0},null,{"$f":"IF($AG$592=0,0,$AG$592)","v":0},null,{"$f":"IF($AG$655=0,0,$AG$655)","v":0},null,{"$f":"IF($AG$718=0,0,$AG$718)","v":0},null,{"$f":"SUM(G674:AD674)","v":0}]
[null,{"$f":"$B$45","v":"aus Nacht-, Sonn-, Feiertagsarbeiten"},null,null,null,null,{"$f":"IF($AJ$20=0,0,$AJ$20)","v":0},null,{"$f":"IF($AK$20=0,0,$AK$20)","v":0},null,{"$f":"IF($AL$20=0,0,$AL$20)","v":0},null,{"$f":"IF($AM$20=0,0,$AM$20)","v":0},null,{"$f":"IF($AN$20=0,0,$AN$20)","v":0},null,{"$f":"IF($AO$20=0,0,$AO$20)","v":0},null,{"$f":"IF($AP$20=0,0,$AP$20)","v":0},null,{"$f":"IF($AQ$20=0,0,$AQ$20)","v":0},null,{"$f":"IF($AR$20=0,0,$AR$20)","v":0},null,{"$f":"IF($AS$20=0,0,$AS$20)","v":0},null,{"$f":"IF($AT$20=0,0,$AT$20)","v":0},null,{"$f":"IF($AU$20=0,0,$AU$20)","v":0},null,{"$f":"SUM(G675:AD675)","v":0}]
[{"$f":"$A$46","v":"Unproduktive Stunden"}]
[{"$f":"$A$47","v":"   Absenzen, Kurzabsenzen Art. 11 GAV"},null,null,null,null,{"$f":"$F$47","v":"a"},{"$f":"IF($AJ$3=0,0,$AJ$3)","v":0},null,{"$f":"IF($AK$3=0,0,$AK$3)","v":0},null,{"$f":"IF($AL$3=0,0,$AL$3)","v":0},null,{"$f":"IF($AM$3=0,0,$AM$3)","v":0},null,{"$f":"IF($AN$3=0,0,$AN$3)","v":0},null,{"$f":"IF($AO$3=0,0,$AO$3)","v":0},null,{"$f":"IF($AP$3=0,0,$AP$3)","v":0},null,{"$f":"IF($AQ$3=0,0,$AQ$3)","v":0},null,{"$f":"IF($AR$3=0,0,$AR$3)","v":0},null,{"$f":"IF($AS$3=0,0,$AS$3)","v":0},null,{"$f":"IF(AT$3=0,0,$AT$3)","v":0},null,{"$f":"IF($AU$3=0,0,$AU$3)","v":0},null,{"$f":"IF($AV$3=0,0,$AV$3)","v":0}]
[{"$f":"$A$48","v":"   Ferien Art. 12.1 GAV"},null,null,null,null,{"$f":"$F$48","v":"f"},{"$f":"IF($AJ$4=0,0,$AJ$4)","v":0},null,{"$f":"IF($AK$4=0,0,$AK$4)","v":0},null,{"$f":"IF($AL$4=0,0,$AL$4)","v":0},null,{"$f":"IF($AM$4=0,0,$AM$4)","v":0},null,{"$f":"IF($AN$4=0,0,$AN$4)","v":0},null,{"$f":"IF($AO$4=0,0,$AO$4)","v":0},null,{"$f":"IF($AP$4=0,0,$AP$4)","v":0},null,{"$f":"IF($AQ$4=0,0,$AQ$4)","v":0},null,{"$f":"IF($AR$4=0,0,$AR$4)","v":0},null,{"$f":"IF($AS$4=0,0,$AS$4)","v":0},null,{"$f":"IF($AT$4=0,0,$AT$4)","v":0},null,{"$f":"IF($AU$4=0,0,$AU$4)","v":0},null,{"$f":"IF($AV$4=0,0,$AV$4)","v":0}]
[{"$f":"$A$49","v":"   Feiertage Art. 12.2 GAV"},null,{"$f":"IF($AJ$17=\"\",\"\",$AJ$17)","v":""},null,null,{"$f":"$F$49","v":"ft"},{"$f":"IF($AJ$15=0,0,$AJ$15)","v":0},null,{"$f":"IF($AK$15=0,0,$AK$15)","v":0},null,{"$f":"IF($AL$15=0,0,$AL$15)","v":0},null,{"$f":"IF($AM$15=0,0,$AM$15)","v":0},null,{"$f":"IF($AN$15=0,0,$AN$15)","v":0},null,{"$f":"IF($AO$15=0,0,$AO$15)","v":0},null,{"$f":"IF($AP$15=0,0,$AP$15)","v":0},null,{"$f":"IF($AQ$15=0,0,$AQ$15)","v":0},null,{"$f":"IF($AR$15=0,0,$AR$15)","v":0},null,{"$f":"IF($AS$15=0,0,$AS$15)","v":0},null,{"$f":"IF($AT$15=0,0,$AT$15)","v":0},null,{"$f":"IF($AU$15=0,0,$AU$15)","v":0},null,{"$f":"IF($AV$15=0,0,$AV$15)","v":0}]
[{"$f":"$A$50","v":"   Krankheit Art. 13 GAV"},null,null,null,null,{"$f":"$F$50","v":"k"},{"$f":"IF($AJ$5=0,0,$AJ$5)","v":0},null,{"$f":"IF($AK$5=0,0,$AK$5)","v":0},null,{"$f":"IF($AL$5=0,0,$AL$5)","v":0},null,{"$f":"IF($AM$5=0,0,$AM$5)","v":0},null,{"$f":"IF($AN$5=0,0,$AN$5)","v":0},null,{"$f":"IF($AO$5=0,0,$AO$5)","v":0},null,{"$f":"IF($AP$5=0,0,$AP$5)","v":0},null,{"$f":"IF($AQ$5=0,0,$AQ$5)","v":0},null,{"$f":"IF($AR$5=0,0,$AR$5)","v":0},null,{"$f":"IF($AS$5=0,0,$AS$5)","v":0},null,{"$f":"IF($AT$5=0,0,$AT$5)","v":0},null,{"$f":"IF($AU$5=0,0,$AU$5)","v":0},null,{"$f":"IF($AV$5=0,0,$AV$5)","v":0}]
[{"$f":"$A$51","v":"   Unfall Art. 14 GAV"},null,null,null,null,{"$f":"$F$51","v":"u"},{"$f":"IF($AJ$6=0,0,$AJ$6)","v":0},null,{"$f":"IF($AK$6=0,0,$AK$6)","v":0},null,{"$f":"IF($AL$6=0,0,$AL$6)","v":0},null,{"$f":"IF($AM$6=0,0,$AM$6)","v":0},null,{"$f":"IF($AN$6=0,0,$AN$6)","v":0},null,{"$f":"IF($AO$6=0,0,$AO$6)","v":0},null,{"$f":"IF($AP$6=0,0,$AP$6)","v":0},null,{"$f":"IF($AQ$6=0,0,$AQ$6)","v":0},null,{"$f":"IF($AR$6=0,0,$AR$6)","v":0},null,{"$f":"IF($AS$6=0,0,$AS$6)","v":0},null,{"$f":"IF($AT$6=0,0,$AT$6)","v":0},null,{"$f":"IF($AU$6=0,0,$AU$6)","v":0},null,{"$f":"IF($AV$6=0,0,$AV$6)","v":0}]
[{"$f":"$A$52","v":"   Schwangerschaft/Mutterschaft Art. 15 GAV"},null,null,null,null,{"$f":"$F$52","v":"s"},{"$f":"IF($AJ$7=0,0,$AJ$7)","v":0},null,{"$f":"IF($AK$7=0,0,$AK$7)","v":0},null,{"$f":"IF($AL$7=0,0,$AL$7)","v":0},null,{"$f":"IF($AM$7=0,0,$AM$7)","v":0},null,{"$f":"IF($AN$7=0,0,$AN$7)","v":0},null,{"$f":"IF($AO$7=0,0,$AO$7)","v":0},null,{"$f":"IF($AP$7=0,0,$AP$7)","v":0},null,{"$f":"IF($AQ$7=0,0,$AQ$7)","v":0},null,{"$f":"IF($AR$7=0,0,$AR$7)","v":0},null,{"$f":"IF($AS$7=0,0,$AS$7)","v":0},null,{"$f":"IF($AT$7=0,0,$AT$7)","v":0},null,{"$f":"IF($AU$7=0,0,$AU$7)","v":0},null,{"$f":"IF($AV$7=0,0,$AV$7)","v":0}]
[{"$f":"$A$53","v":"   Militär/Beförderung/Zivilschutz Art. 16 GAV"},null,null,null,null,{"$f":"$F$53","v":"m"},{"$f":"IF($AJ$8=0,0,$AJ$8)","v":0},null,{"$f":"IF($AK$8=0,0,$AK$8)","v":0},null,{"$f":"IF($AL$8=0,0,$AL$8)","v":0},null,{"$f":"IF($AM$8=0,0,$AM$8)","v":0},null,{"$f":"IF($AN$8=0,0,$AN$8)","v":0},null,{"$f":"IF($AO$8=0,0,$AO$8)","v":0},null,{"$f":"IF($AP$8=0,0,$AP$8)","v":0},null,{"$f":"IF($AQ$8=0,0,$AQ$8)","v":0},null,{"$f":"IF($AR$8=0,0,$AR$8)","v":0},null,{"$f":"IF($AS$8=0,0,$AS$8)","v":0},null,{"$f":"IF($AT$8=0,0,$AT$8)","v":0},null,{"$f":"IF($AU$8=0,0,$AU$8)","v":0},null,{"$f":"IF($AV$8=0,0,$AV$8)","v":0}]
[{"$f":"$A$54","v":"   Kurzarbeit und Schlechtwetterausfälle"},null,null,null,null,{"$f":"$F$54","v":"ka"},{"$f":"IF($AJ$11=0,0,$AJ$11)","v":0},null,{"$f":"IF($AK$11=0,0,$AK$11)","v":0},null,{"$f":"IF($AL$11=0,0,$AL$11)","v":0},null,{"$f":"IF($AM$11=0,0,$AM$11)","v":0},null,{"$f":"IF($AN$11=0,0,$AN$11)","v":0},null,{"$f":"IF($AO$11=0,0,$AO$11)","v":0},null,{"$f":"IF($AP$11=0,0,$AP$11)","v":0},null,{"$f":"IF($AQ$11=0,0,$AQ$11)","v":0},null,{"$f":"IF($AR$11=0,0,$AR$11)","v":0},null,{"$f":"IF($AS$11=0,0,$AS$11)","v":0},null,{"$f":"IF($AT$11=0,0,$AT$11)","v":0},null,{"$f":"IF($AU$11=0,0,$AU$11)","v":0},null,{"$f":"IF($AV$11=0,0,$AV$11)","v":0}]
[{"$f":"$A$55","v":"   Berufsschule"},null,null,null,null,{"$f":"$F$55","v":"bs"},{"$f":"IF($AJ$9=0,0,$AJ$9)","v":0},null,{"$f":"IF($AK$9=0,0,$AK$9)","v":0},null,{"$f":"IF($AL$9=0,0,$AL$9)","v":0},null,{"$f":"IF($AM$9=0,0,$AM$9)","v":0},null,{"$f":"IF($AN$9=0,0,$AN$9)","v":0},null,{"$f":"IF($AO$9=0,0,$AO$9)","v":0},null,{"$f":"IF($AP$9=0,0,$AP$9)","v":0},null,{"$f":"IF($AQ$9=0,0,$AQ$9)","v":0},null,{"$f":"IF($AR$9=0,0,$AR$9)","v":0},null,{"$f":"IF($AS$9=0,0,$AS$9)","v":0},null,{"$f":"IF($AT$9=0,0,$AT$9)","v":0},null,{"$f":"IF($AU$9=0,0,$AU$9)","v":0},null,{"$f":"IF($AV$9=0,0,$AV$9)","v":0}]
[{"$f":"$A$56","v":"   Kurse"},null,null,null,null,{"$f":"$F$56","v":"ku"},{"$f":"IF($AJ$10=0,0,$AJ$10)","v":0},null,{"$f":"IF($AK$10=0,0,$AK$10)","v":0},null,{"$f":"IF($AL$10=0,0,$AL$10)","v":0},null,{"$f":"IF($AM$10=0,0,$AM$10)","v":0},null,{"$f":"IF($AN$10=0,0,$AN$10)","v":0},null,{"$f":"IF($AO$10=0,0,$AO$10)","v":0},null,{"$f":"IF($AP$10=0,0,$AP$10)","v":0},null,{"$f":"IF($AQ$10=0,0,$AQ$10)","v":0},null,{"$f":"IF($AR$10=0,0,$AR$10)","v":0},null,{"$f":"IF($AS$10=0,0,$AS$10)","v":0},null,{"$f":"IF($AT$10=0,0,$AT$10)","v":0},null,{"$f":"IF($AU$10=0,0,$AU$10)","v":0},null,{"$f":"IF($AV$10=0,0,$AV$10)","v":0}]
[{"$f":"$A$57","v":"Kompensations-Std"},{"$f":"$B$57","v":"aus Vorjahr"},null,null,null,{"$f":"$F$57","v":"kv"},{"$f":"IF($AJ$12=0,0,$AJ$12)","v":0},null,{"$f":"IF($AK$12=0,0,$AK$12)","v":0},null,{"$f":"IF($AL$12=0,0,$AL$12)","v":0},null,{"$f":"IF($AM$12=0,0,$AM$12)","v":0},null,{"$f":"IF($AN$12=0,0,$AN$12)","v":0},null,{"$f":"IF($AO$12=0,0,$AO$12)","v":0},null,{"$f":"IF($AP$12=0,0,$AP$12)","v":0},null,{"$f":"IF($AQ$12=0,0,$AQ$12)","v":0},null,{"$f":"IF($AR$12=0,0,$AR$12)","v":0},null,null,null,null,null,null,null,{"$f":"IF($AV$12=0,0,$AV$12)","v":0}]
[null,{"$f":"$B$58","v":"aus laufendem Jahr (Kontrolle)"},null,null,null,{"$f":"$F$58","v":"kj"},{"$f":"IF($AJ$14=0,0,$AJ$14)","v":0},null,{"$f":"IF($AK$14=0,0,$AK$14)","v":0},null,{"$f":"IF($AL$14=0,0,$AL$14)","v":0},null,{"$f":"IF($AM$14=0,0,$AM$14)","v":0},null,{"$f":"IF($AN$14=0,0,$AN$14)","v":0},null,{"$f":"IF($AO$14=0,0,$AO$14)","v":0},null,{"$f":"IF($AP$14=0,0,$AP$14)","v":0},null,{"$f":"IF($AQ$14=0,0,$AQ$14)","v":0},null,{"$f":"IF($AR$14=0,0,$AR$14)","v":0},null,{"$f":"IF($AS$14=0,0,$AS$14)","v":0},null,{"$f":"IF($AT$14=0,0,$AT$14)","v":0},null,{"$f":"IF($AU$14=0,0,$AU$14)","v":0},null,{"$f":"IF($AV$14=0,0,$AV$14)","v":0}]
[{"$f":"$A$59","v":"Auszahlung"},{"$f":"$B$59","v":"Stunden Vorjahressaldo"},null,null,null,null,{"$f":"IF($AJ$18=0,0,$AJ$18)","v":0},null,{"$f":"IF($AK$18=0,0,$AK$18)","v":0},null,{"$f":"IF($AL$18=0,0,$AL$18)","v":0},null,{"$f":"IF($AM$18=0,0,$AM$18)","v":0},null,{"$f":"IF($AN$18=0,0,$AN$18)","v":0},null,{"$f":"IF($AO$18=0,0,$AO$18)","v":0},null,{"$f":"IF($AP$18=0,0,$AP$18)","v":0},null,{"$f":"IF($AQ$18=0,0,$AQ$18)","v":0},null,{"$f":"IF($AR$18=0,0,$AR$18)","v":0},null,null,null,null,null,null,null,{"$f":"IF($AV$18=0,0,$AV$18)","v":0}]
[{"$f":"$A$60","v":"Differenz"},{"$f":"$B$60","v":"nach Kompensation und Auszahlung"},null,null,null,null,{"$f":"IF(ROUND($P$4,3)=0,0,$P$4-SUM(G687+G689))","v":0},null,{"$f":"IF(ROUND(G690,3)=0,0,G690-(SUM(I689+I687)))","v":0},null,{"$f":"IF(ROUND(I690,3)=0,0,I690-(SUM(K689+K687)))","v":0},null,{"$f":"IF(ROUND(K690,3)=0,0,K690-(SUM(M689+M687)))","v":0},null,{"$f":"IF(ROUND(M690,3)=0,0,M690-(SUM(O689+O687)))","v":0},null,{"$f":"IF(ROUND(O690,3)=0,0,O690-(SUM(Q689+Q687)))","v":0},null,{"$f":"IF(ROUND(Q690,3)=0,0,Q690-(SUM(S689+S687)))","v":0},null,{"$f":"IF(ROUND(S690,3)=0,0,S690-(SUM(U689+U687)))","v":0},null,{"$f":"IF(ROUND(U690,3)=0,0,U690-(SUM(W689+W687)))","v":0},null,{"$f":"$Y$60","v":""}]
[{"$f":"$A$61","v":"Auszahlung"},{"$f":"$B$61","v":"Stunden laufendes Jahr"},null,null,null,null,{"$f":"IF($AJ$19=0,0,$AJ$19)","v":0},null,{"$f":"IF($AK$19=0,0,$AK$19)","v":0},null,{"$f":"IF($AL$19=0,0,$AL$19)","v":0},null,{"$f":"IF($AM$19=0,0,$AM$19)","v":0},null,{"$f":"IF($AN$19=0,0,$AN$19)","v":0},null,{"$f":"IF($AO$19=0,0,$AO$19)","v":0},null,{"$f":"IF($AP$19=0,0,$AP$19)","v":0},null,{"$f":"IF($AQ$19=0,0,$AQ$19)","v":0},null,{"$f":"IF($AR$19=0,0,$AR$19)","v":0},null,{"$f":"IF($AS$19=0,0,$AS$19)","v":0},null,{"$f":"IF($AT$19=0,0,$AT$19)","v":0},null,{"$f":"IF($AU$19=0,0,$AU$19)","v":0},null,{"$f":"IF($AV$19=0,0,$AV$19)","v":0}]
[{"$f":"$A$62","v":"Fehlstunden"},{"$f":"$B$62","v":"laufendes Jahr (Kontrolle)"},null,null,null,{"$f":"$F$62","v":"fe"},{"$f":"IF($AJ$13=0,0,$AJ$13)","v":0},null,{"$f":"IF($AK$13=0,0,$AK$13)","v":0},null,{"$f":"IF($AL$13=0,0,$AL$13)","v":0},null,{"$f":"IF($AM$13=0,0,$AM$13)","v":0},null,{"$f":"IF($AN$13=0,0,$AN$13)","v":0},null,{"$f":"IF($AO$13=0,0,$AO$13)","v":0},null,{"$f":"IF($AP$13=0,0,$AP$13)","v":0},null,{"$f":"IF($AQ$13=0,0,$AQ$13)","v":0},null,{"$f":"IF($AR$13=0,0,$AR$13)","v":0},null,{"$f":"IF($AS$13=0,0,$AS$13)","v":0},null,{"$f":"IF($AT$13=0,0,$AT$13)","v":0},null,{"$f":"IF($AU$13=0,0,$AU$13)","v":0},null,{"$f":"IF($AV$13=0,0,$AV$13)","v":0}]
[{"$f":"$A$63","v":"Total inkl. Zeitzuschläge"},{"$f":"$B$63","v":"Stunden produktiv und unproduktiv"},null,null,null,null,{"$f":"IF($AG$36=0,0,$AG$36)","v":0},null,{"$f":"IF($AG$99=0,0,$AG$99)","v":0},null,{"$f":"IF($AG$162=0,0,$AG$162)","v":0},null,{"$f":"IF($AG$225=0,0,$AG$225)","v":0},null,{"$f":"IF($AG$288=0,0,$AG$288)","v":0},null,{"$f":"IF($AG$351=0,0,$AG$351)","v":0},null,{"$f":"IF($AG$414=0,0,$AG$414)","v":0},null,{"$f":"IF($AG$477=0,0,$AG$477)","v":0},null,{"$f":"IF($AG$540=0,0,$AG$540)","v":0},null,{"$f":"IF($AG$603=0,0,$AG$603)","v":0},null,{"$f":"IF($AG$666=0,0,$AG$666)","v":0},null,{"$f":"IF($AG$729=0,0,$AG$729)","v":0},null,{"$f":"SUM($G$63:$AD$63)","v":0}]
[{"$f":"$A$64","v":"Vergleich"},{"$f":"$B$64","v":"Stunden zu Soll-Stunden (inkl. allfälli-\nge Minusstunden Vorjahr)"},null,null,null,null,{"$f":"$G$64","v":-172.82999999999998},null,{"$f":"$I$64","v":-164.6},null,{"$f":"$K$64","v":-189.28999999999996},null,{"$f":"$M$64","v":-181.05999999999997},null,{"$f":"$O$64","v":-172.82999999999998},null,{"$f":"$Q$64","v":-181.05999999999997},null,{"$f":"$S$64","v":-181.05999999999997},null,{"$f":"$U$64","v":-181.05999999999997},null,{"$f":"$W$64","v":-181.05999999999997},null,{"$f":"$Y$64","v":-172.82999999999998},null,{"$f":"$AA$64","v":-181.05999999999997},null,{"$f":"$AC$64","v":-189.28999999999996},null,{"$f":"$AE$64","v":-2148.0299999999997}]
[null,{"$f":"$B$65","v":"Stunden zu Soll-Stunden (kumuliert)"},null,null,null,null,{"$f":"$G$65","v":-172.82999999999998},null,{"$f":"$I$65","v":-337.42999999999995},null,{"$f":"$K$65","v":-526.71999999999991},null,{"$f":"$M$65","v":-707.77999999999986},null,{"$f":"$O$65","v":-880.6099999999999},null,{"$f":"$Q$65","v":-1061.6699999999998},null,{"$f":"$S$65","v":-1242.7299999999998},null,{"$f":"$U$65","v":-1423.7899999999997},null,{"$f":"$W$65","v":-1604.8499999999997},null,{"$f":"$Y$65","v":-1777.6799999999996},null,{"$f":"$AA$65","v":-1958.7399999999996},null,{"$f":"$AC$65","v":-2148.0299999999997},null,{"$f":"$AE$65","v":0}]
[{"$f":"$A$66","v":"Ferienkontrolle"},{"$f":"$B$66","v":"Ferienguthaben Vorjahr"},null,null,null,null,{"$f":"IF($AA$4=0,0,$AA$4)","v":0},null,{"$f":"$I$66","v":"Ferienguthaben nach \nArt. 12.1 GAV"},null,null,null,{"$f":"IF($AA$5=0,0,$AA$5)","v":0},null,{"$f":"$O$66","v":"Ferienguthaben total"},null,null,null,{"$f":"SUM(G759+M759)","v":0},null,{"$f":"$U$66","v":"Ferien bezogen"},null,null,null,{"$f":"IF($AV$4=0,0,$AV$4)","v":0},null,{"$f":"$AA$66","v":"Aktuelles Ferienguthaben"},null,null,null,{"$f":"IF(S759=0,0,S759-Y759)","v":0}]
[]
[]
[]
[]
[]
[]
[]
[]
[]
[]
[]
[]
[]
[]
[]
[]
[]
[]
[]
[]
[]
[]
[]
[]
[]
[]
[]
[]
[]
[]
[]
[]
[]
[]
["Testbereich Absenzen"]
[null,{"$f":"B819","v":0},{"$f":"C819","v":0}]
[null,{"$f":"IF(B819<>0,IF(MAX(B806:B818)<B819,\"div\",INDEX($AH$806:$AH$818,MATCH(MAX(B806:B818),B806:B818,0))),\"\")","v":""},{"$f":"IF(C819<>0,IF(MAX(C806:C818)<C819,\"div\",INDEX($AH$806:$AH$818,MATCH(MAX(C806:C818),C806:C818,0))),\"\")","v":""}]
[]
["Code für Max-Wert",{"$f":"INDEX($AH$806:$AH$818,MATCH(MAX(B806:B818),B806:B818,0))","v":{"$error":"#N/A"}},null,null,"Jahressaldo",null,null,{"$f":"D5","v":-2148.0299999999997}]
[]
[{"$f":"A9","v":"Januar"},{"$f":"Labels!B32","v":"Saldo Monat + / -"},null,null,null,{"$f":"F9","v":-172.82999999999998},null,null,null,null,null,null,null,null,null,null,null,null,null,null,null,null,null,null,null,null,null,{"$f":"Labels!B38","v":"Absenz in Std"},null,null,{"$f":"Labels!B77","v":"Jan"}]
[{"$f":"Labels!B35","v":"Tag"},{"$f":"B10","v":"2021-01-01"},{"$f":"B801+1","v":"2021-01-02"},"2021-01-03","2021-01-04","2021-01-05","2021-01-06","2021-01-07","2021-01-08","2021-01-09","2021-01-10","2021-01-11","2021-01-12","2021-01-13","2021-01-14","2021-01-15","2021-01-16","2021-01-17","2021-01-18","2021-01-19","2021-01-20","2021-01-21","2021-01-22","2021-01-23","2021-01-24","2021-01-25","2021-01-26","2021-01-27","2021-01-28","2021-01-29","2021-01-30","2021-01-31",{"$f":"COUNT(B803:AF803)&\" \"&Labels!$B$63","v":"21 Tage"}]
[{"$f":"Labels!B36","v":"Kalenderwoche"},{"$f":"IF(B801=\"\",\"\",TRUNC((B801-DATE(YEAR(B801+3-MOD(B801-2,7)),1,MOD(B801-2,7)-9))/7))","v":53},{"$f":"IF(C801=\"\",\"\",TRUNC((C801-DATE(YEAR(C801+3-MOD(C801-2,7)),1,MOD(C801-2,7)-9))/7))","v":53},53,1,1,1,1,1,1,1,2,2,2,2,2,2,2,3,3,3,3,3,3,3,4,4,4,4,4,4,4]
[{"$f":"Labels!B37","v":"Sollstunden"},{"$f":"IF(MOD(B801,7)>=2,$J$7*$B$4%,\"\")","v":8.23},"","",8.23,8.23,8.23,8.23,8.23,"","",8.23,8.23,8.23,8.23,8.23,"","",8.23,8.23,8.23,8.23,8.23,"","",8.23,8.23,8.23,8.23,8.23,"","",{"$f":"SUM(B803:AF803)","v":172.82999999999998}]
[{"$f":"Labels!B165","v":"Produktivstunden"},{"$f":"SUM(B15:B17)","v":0},{"$f":"SUM(C15:C17)","v":0},0,0,0,0,0,0,0,0,0,0,0,0,0,0,0,0,0,0,0,0,0,0,0,0,0,0,0,0,0,null,null,null,"Legende Absenztypen (DE)"]
[{"$f":"Labels!B166","v":"Feiertage [ft]"},{"$f":"B18","v":""},{"$f":"C18","v":""},"","","","","","","","","","","","","","","","","","","","","","","","","","","","","",{"$f":"SUM(B805:AF805)","v":0}]
[{"$f":"Labels!B167","v":"Ferien [f]"},null,null,null,null,null,null,null,null,null,null,null,null,null,null,null,null,null,null,null,null,null,null,null,null,null,null,null,null,null,null,null,{"$f":"SUM(B806:AF806)","v":0},{"$f":"Labels!B115","v":"f"},null,"f","Ferien Art. 12.1. GAV"]
[{"$f":"Labels!B168","v":"Kompensation (Vorjahr) [kv]"},null,null,null,null,null,null,null,null,null,null,null,null,null,null,null,null,null,null,null,null,null,null,null,null,null,null,null,null,null,null,null,0,{"$f":"Labels!B135","v":"kv"},null,"kv","Kompensation Vorjahressaldo für Abrechnung in der Zusammenfassung"]
[{"$f":"Labels!B169","v":"Kompensation (laufend) [kj]"},null,null,null,null,null,null,null,null,null,null,null,null,null,null,null,null,null,null,null,null,null,null,null,null,null,null,null,null,null,null,null,0,{"$f":"Labels!B137","v":"kj"},null,"kj","Kompensation laufendes Jahr siehe  Zusammenfassung"]
[{"$f":"Labels!B170","v":"Absenzen, Kurzabsenzen [a]"},null,null,null,null,null,null,null,null,null,null,null,null,null,null,null,null,null,null,null,null,null,null,null,null,null,null,null,null,null,null,null,{"$f":"SUM(B809:AF809)","v":0},{"$f":"Labels!B113","v":"a"},null,"a","Absenzen, Kurzabsenzen\nArt. 11 GAV"]
[{"$f":"Labels!B171","v":"Krankheit [k]"},null,null,null,null,null,null,null,null,null,null,null,null,null,null,null,null,null,null,null,null,null,null,null,null,null,null,null,null,null,null,null,0,{"$f":"Labels!B120","v":"k"},null,"k","Krankheit Art. 13 GAV"]
[{"$f":"Labels!B172","v":"Unfall [u]"},null,null,null,null,null,null,null,null,null,null,null,null,null,null,null,null,null,null,null,null,null,null,null,null,null,null,null,null,null,null,null,0,{"$f":"Labels!B122","v":"u"},null,"u","Unfall Art. 14 GAV"]
[{"$f":"Labels!B173","v":"Schwangerschaft/Mutterschaft [s]"},null,null,null,null,null,null,null,null,null,null,null,null,null,null,null,null,null,null,null,null,null,null,null,null,null,null,null,null,null,null,null,0,{"$f":"Labels!B124","v":"s"},null,"s","Schwanger-/Mutterschaft\nArt. 15 GAV"]
[{"$f":"Labels!B174","v":"Militär/Beförderung/Zivilschutz [m]"},null,null,null,null,null,null,null,null,null,null,null,null,null,null,null,null,null,null,null,null,null,null,null,null,null,null,null,null,null,null,null,0,{"$f":"Labels!B126","v":"m"},null,"m","Militär, Zivilschutz\nArt. 16 GAV"]
[{"$f":"Labels!B175","v":"Berufsschule [bs]"},null,null,null,null,null,null,null,null,null,null,null,null,null,null,null,null,null,null,null,null,null,null,null,null,null,null,null,null,null,null,null,0,{"$f":"Labels!B130","v":"bs"},null,"bs","Berufsschule"]
[{"$f":"Labels!B176","v":"Kurse [ku]"},null,null,null,null,null,null,null,null,null,null,null,null,null,null,null,null,null,null,null,null,null,null,null,null,null,null,null,null,null,null,null,0,{"$f":"Labels!B132","v":"ku"},null,"ku","Kurse"]
[{"$f":"Labels!B177","v":"Kurzarbeit und Schlechtwetter [ka]"},null,null,null,null,null,null,null,null,null,null,null,null,null,null,null,null,null,null,null,null,null,null,null,null,null,null,null,null,null,null,null,0,{"$f":"Labels!B128","v":"ka"},null,"ka","Kurzabeit, Schlechtwetterausfälle"]
[null,null,null,null,null,null,null,null,null,null,null,null,null,null,null,null,null,null,null,null,null,null,null,null,null,null,null,null,null,null,null,null,0]
[{"$f":"Labels!B178","v":"Fehlstunden (unbezahlt) [fe]"},null,null,null,null,null,null,null,null,null,null,null,null,null,null,null,null,null,null,null,null,null,null,null,null,null,null,null,null,null,null,null,0,{"$f":"Labels!B145","v":"fe"},null,"fe","Fehlstunden zur Information ohne Berechnung in der Zusammenfassung"]
[{"$f":"Labels!B102","v":"Total"},{"$f":"SUM(B806:B818)","v":0},{"$f":"SUM(C806:C818)","v":0},0,0,0,0,0,0,0,0,0,0,0,0,0,0,0,0,0,0,0,0,0,0,0,0,0,0,0,0,0]
[]
[]
[]
[{"$f":"A72","v":"Februar"},{"$f":"$B$800","v":"Saldo Monat + / -"},null,null,null,{"$f":"F72","v":-164.6},null,null,null,null,null,null,null,null,null,null,null,null,null,null,null,null,null,null,null,null,null,{"$f":"$AB$800","v":"Absenz in Std"},null,null,{"$f":"Labels!B78","v":"Feb"}]
[{"$f":"$A$801","v":"Tag"},{"$f":"B73","v":"2021-02-01"},{"$f":"B824+1","v":"2021-02-02"},"2021-02-03","2021-02-04","2021-02-05","2021-02-06","2021-02-07","2021-02-08","2021-02-09","2021-02-10","2021-02-11","2021-02-12","2021-02-13","2021-02-14","2021-02-15","2021-02-16","2021-02-17","2021-02-18","2021-02-19","2021-02-20","2021-02-21","2021-02-22","2021-02-23","2021-02-24","2021-02-25","2021-02-26","2021-02-27","2021-02-28",{"$f":"IF(AD73=\"\",\"\",AC824+1)","v":""},null,null,{"$f":"COUNT(B826:AF826)&\" \"&Labels!$B$63","v":"20 Tage"}]
[{"$f":"$A$802","v":"Kalenderwoche"},{"$f":"IF(B824=\"\",\"\",TRUNC((B824-DATE(YEAR(B824+3-MOD(B824-2,7)),1,MOD(B824-2,7)-9))/7))","v":5},{"$f":"IF(C824=\"\",\"\",TRUNC((C824-DATE(YEAR(C824+3-MOD(C824-2,7)),1,MOD(C824-2,7)-9))/7))","v":5},5,5,5,5,5,6,6,6,6,6,6,6,7,7,7,7,7,7,7,8,8,8,8,8,8,8,""]
[{"$f":"$A$803","v":"Sollstunden"},{"$f":"IF(MOD(B824,7)>=2,$J$7*$B$70%,\"\")","v":8.23},8.23,8.23,8.23,8.23,"","",8.23,8.23,8.23,8.23,8.23,"","",8.23,8.23,8.23,8.23,8.23,"","",8.23,8.23,8.23,8.23,8.23,"","",{"$f":"IF(AD824=\"\",\"\",IF(MOD(AD824,7)>=2,$J$7*$B$70%,\"\"))","v":""},null,null,{"$f":"IF($AD$824=\"\",SUM(A826:AC826),SUM(B826:AF826))","v":164.6}]
[{"$f":"$A$804","v":"Produktivstunden"},{"$f":"SUM(B78:B80)","v":0},{"$f":"SUM(C78:C80)","v":0},0,0,0,0,0,0,0,0,0,0,0,0,0,0,0,0,0,0,0,0,0,0,0,0,0,0,{"$f":"IF(AD824=\"\",\"\",SUM(AD78:AD80))","v":""},null,null,{"$f":"IF($AD$824=\"\",SUM(A827:AC827),SUM(B827:AF827))","v":0}]
[{"$f":"$A$805","v":"Feiertage [ft]"},{"$f":"B81","v":""},{"$f":"C81","v":""},"","","","","","","","","","","","","","","","","","","","","","","","","","",{"$f":"IF(AD824=\"\",\"\",AD81)","v":""},null,null,0]
[{"$f":"$A$806","v":"Ferien [f]"},null,null,null,null,null,null,null,null,null,null,null,null,null,null,null,null,null,null,null,null,null,null,null,null,null,null,null,null,null,null,null,0,{"$f":"$AH$806","v":"f"}]
[{"$f":"$A$807","v":"Kompensation (Vorjahr) [kv]"},null,null,null,null,null,null,null,null,null,null,null,null,null,null,null,null,null,null,null,null,null,null,null,null,null,null,null,null,null,null,null,0,{"$f":"$AH$807","v":"kv"}]
[{"$f":"$A$808","v":"Kompensation (laufend) [kj]"},null,null,null,null,null,null,null,null,null,null,null,null,null,null,null,null,null,null,null,null,null,null,null,null,null,null,null,null,null,null,null,0,{"$f":"$AH$808","v":"kj"}]
[{"$f":"$A$809","v":"Absenzen, Kurzabsenzen [a]"},null,null,null,null,null,null,null,null,null,null,null,null,null,null,null,null,null,null,null,null,null,null,null,null,null,null,null,null,null,null,null,0,{"$f":"$AH$809","v":"a"}]
[{"$f":"$A$810","v":"Krankheit [k]"},null,null,null,null,null,null,null,null,null,null,null,null,null,null,null,null,null,null,null,null,null,null,null,null,null,null,null,null,null,null,null,0,{"$f":"$AH$810","v":"k"}]
[{"$f":"$A$811","v":"Unfall [u]"},null,null,null,null,null,null,null,null,null,null,null,null,null,null,null,null,null,null,null,null,null,null,null,null,null,null,null,null,null,null,null,0,{"$f":"$AH$811","v":"u"}]
[{"$f":"$A$812","v":"Schwangerschaft/Mutterschaft [s]"},null,null,null,null,null,null,null,null,null,null,null,null,null,null,null,null,null,null,null,null,null,null,null,null,null,null,null,null,null,null,null,0,{"$f":"$AH$812","v":"s"}]
[{"$f":"$A$813","v":"Militär/Beförderung/Zivilschutz [m]"},null,null,null,null,null,null,null,null,null,null,null,null,null,null,null,null,null,null,null,null,null,null,null,null,null,null,null,null,null,null,null,0,{"$f":"$AH$813","v":"m"}]
[{"$f":"$A$814","v":"Berufsschule [bs]"},null,null,null,null,null,null,null,null,null,null,null,null,null,null,null,null,null,null,null,null,null,null,null,null,null,null,null,null,null,null,null,0,{"$f":"$AH$814","v":"bs"}]
[{"$f":"$A$815","v":"Kurse [ku]"},null,null,null,null,null,null,null,null,null,null,null,null,null,null,null,null,null,null,null,null,null,null,null,null,null,null,null,null,null,null,null,0,{"$f":"$AH$815","v":"ku"}]
[{"$f":"$A$816","v":"Kurzarbeit und Schlechtwetter [ka]"},null,null,null,null,null,null,null,null,null,null,null,null,null,null,null,null,null,null,null,null,null,null,null,null,null,null,null,null,null,null,null,0,{"$f":"$AH$816","v":"ka"}]
[{"$f":"$A$817","v":0},null,null,null,null,null,null,null,null,null,null,null,null,null,null,null,null,null,null,null,null,null,null,null,null,null,null,null,null,null,null,null,0,{"$f":"$AH$817","v":0}]
[{"$f":"$A$818","v":"Fehlstunden (unbezahlt) [fe]"},null,null,null,null,null,null,null,null,null,null,null,null,null,null,null,null,null,null,null,null,null,null,null,null,null,null,null,null,null,null,null,0,{"$f":"$AH$818","v":"fe"}]
[{"$f":"$A$819","v":"Total"},{"$f":"SUM(B829:B841)","v":0},{"$f":"SUM(C829:C841)","v":0},0,0,0,0,0,0,0,0,0,0,0,0,0,0,0,0,0,0,0,0,0,0,0,0,0,0,{"$f":"IF(AD824=\"\",\"\",SUM(AD829:AD841))","v":""},null,null,0]
[]
[]
[]
[{"$f":"A135","v":"März"},{"$f":"$B$800","v":"Saldo Monat + / -"},null,null,null,{"$f":"F135","v":-189.28999999999996},null,null,null,null,null,null,null,null,null,null,null,null,null,null,null,null,null,null,null,null,null,{"$f":"$AB$800","v":"Absenz in Std"},null,null,{"$f":"Labels!B79","v":"Mrz"}]
[{"$f":"$A$801","v":"Tag"},{"$f":"B136","v":"2021-03-01"},{"$f":"B847+1","v":"2021-03-02"},"2021-03-03","2021-03-04","2021-03-05","2021-03-06","2021-03-07","2021-03-08","2021-03-09","2021-03-10","2021-03-11","2021-03-12","2021-03-13","2021-03-14","2021-03-15","2021-03-16","2021-03-17","2021-03-18","2021-03-19","2021-03-20","2021-03-21","2021-03-22","2021-03-23","2021-03-24","2021-03-25","2021-03-26","2021-03-27","2021-03-28","2021-03-29","2021-03-30","2021-03-31",{"$f":"COUNT(B849:AF849)&\" \"&Labels!$B$63","v":"23 Tage"}]
[{"$f":"$A$802","v":"Kalenderwoche"},{"$f":"IF(B847=\"\",\"\",TRUNC((B847-DATE(YEAR(B847+3-MOD(B847-2,7)),1,MOD(B847-2,7)-9))/7))","v":9},{"$f":"IF(C847=\"\",\"\",TRUNC((C847-DATE(YEAR(C847+3-MOD(C847-2,7)),1,MOD(C847-2,7)-9))/7))","v":9},9,9,9,9,9,10,10,10,10,10,10,10,11,11,11,11,11,11,11,12,12,12,12,12,12,12,13,13,13]
[{"$f":"$A$803","v":"Sollstunden"},{"$f":"IF(MOD(B847,7)>=2,$J$7*$B$133%,\"\")","v":8.23},8.23,8.23,8.23,8.23,"","",8.23,8.23,8.23,8.23,8.23,"","",8.23,8.23,8.23,8.23,8.23,"","",8.23,8.23,8.23,8.23,8.23,"","",8.23,8.23,8.23,{"$f":"SUM(B849:AF849)","v":189.28999999999996}]
[{"$f":"$A$804","v":"Produktivstunden"},{"$f":"SUM(B141:B143)","v":0},{"$f":"SUM(C141:C143)","v":0},0,0,0,0,0,0,0,0,0,0,0,0,0,0,0,0,0,0,0,0,0,0,0,0,0,0,0,0,0]
[{"$f":"$A$805","v":"Feiertage [ft]"},{"$f":"B144","v":""},{"$f":"C144","v":""},"","","","","","","","","","","","","","","","","","","","","","","","","","","","","",{"$f":"SUM(B851:AF851)","v":0}]
[{"$f":"$A$806","v":"Ferien [f]"},null,null,null,null,null,null,null,null,null,null,null,null,null,null,null,null,null,null,null,null,null,null,null,null,null,null,null,null,null,null,null,{"$f":"SUM(B852:AF852)","v":0},{"$f":"$AH$806","v":"f"}]
[{"$f":"$A$807","v":"Kompensation (Vorjahr) [kv]"},null,null,null,null,null,null,null,null,null,null,null,null,null,null,null,null,null,null,null,null,null,null,null,null,null,null,null,null,null,null,null,{"$f":"SUM(B853:AF853)","v":0},{"$f":"$AH$807","v":"kv"}]
[{"$f":"$A$808","v":"Kompensation (laufend) [kj]"},null,null,null,null,null,null,null,null,null,null,null,null,null,null,null,null,null,null,null,null,null,null,null,null,null,null,null,null,null,null,null,{"$f":"SUM(B854:AF854)","v":0},{"$f":"$AH$808","v":"kj"}]
[{"$f":"$A$809","v":"Absenzen, Kurzabsenzen [a]"},null,null,null,null,null,null,null,null,null,null,null,null,null,null,null,null,null,null,null,null,null,null,null,null,null,null,null,null,null,null,null,{"$f":"SUM(B855:AF855)","v":0},{"$f":"$AH$809","v":"a"}]
[{"$f":"$A$810","v":"Krankheit [k]"},null,null,null,null,null,null,null,null,null,null,null,null,null,null,null,null,null,null,null,null,null,null,null,null,null,null,null,null,null,null,null,{"$f":"SUM(B856:AF856)","v":0},{"$f":"$AH$810","v":"k"}]
[{"$f":"$A$811","v":"Unfall [u]"},null,null,null,null,null,null,null,null,null,null,null,null,null,null,null,null,null,null,null,null,null,null,null,null,null,null,null,null,null,null,null,0,{"$f":"$AH$811","v":"u"}]
[{"$f":"$A$812","v":"Schwangerschaft/Mutterschaft [s]"},null,null,null,null,null,null,null,null,null,null,null,null,null,null,null,null,null,null,null,null,null,null,null,null,null,null,null,null,null,null,null,0,{"$f":"$AH$812","v":"s"}]
[{"$f":"$A$813","v":"Militär/Beförderung/Zivilschutz [m]"},null,null,null,null,null,null,null,null,null,null,null,null,null,null,null,null,null,null,null,null,null,null,null,null,null,null,null,null,null,null,null,0,{"$f":"$AH$813","v":"m"}]
[{"$f":"$A$814","v":"Berufsschule [bs]"},null,null,null,null,null,null,null,null,null,null,null,null,null,null,null,null,null,null,null,null,null,null,null,null,null,null,null,null,null,null,null,0,{"$f":"$AH$814","v":"bs"}]
[{"$f":"$A$815","v":"Kurse [ku]"},null,null,null,null,null,null,null,null,null,null,null,null,null,null,null,null,null,null,null,null,null,null,null,null,null,null,null,null,null,null,null,0,{"$f":"$AH$815","v":"ku"}]
[{"$f":"$A$816","v":"Kurzarbeit und Schlechtwetter [ka]"},null,null,null,null,null,null,null,null,null,null,null,null,null,null,null,null,null,null,null,null,null,null,null,null,null,null,null,null,null,null,null,0,{"$f":"$AH$816","v":"ka"}]
[{"$f":"$A$817","v":0},null,null,null,null,null,null,null,null,null,null,null,null,null,null,null,null,null,null,null,null,null,null,null,null,null,null,null,null,null,null,null,0,{"$f":"$AH$817","v":0}]
[{"$f":"$A$818","v":"Fehlstunden (unbezahlt) [fe]"},null,null,null,null,null,null,null,null,null,null,null,null,null,null,null,null,null,null,null,null,null,null,null,null,null,null,null,null,null,null,null,0,{"$f":"$AH$818","v":"fe"}]
[{"$f":"$A$819","v":"Total"},{"$f":"SUM(B852:B864)","v":0},{"$f":"SUM(C852:C864)","v":0},0,0,0,0,0,0,0,0,0,0,0,0,0,0,0,0,0,0,0,0,0,0,0,0,0,0,0,0,0]
[]
[]
[]
[{"$f":"A198","v":"April"},{"$f":"$B$800","v":"Saldo Monat + / -"},null,null,null,{"$f":"F198","v":-181.05999999999997},null,null,null,null,null,null,null,null,null,null,null,null,null,null,null,null,null,null,null,null,null,{"$f":"$AB$800","v":"Absenz in Std"},null,null,{"$f":"Labels!B80","v":"Apr"}]
[{"$f":"$A$801","v":"Tag"},{"$f":"B199","v":"2021-04-01"},{"$f":"B870+1","v":"2021-04-02"},"2021-04-03","2021-04-04","2021-04-05","2021-04-06","2021-04-07","2021-04-08","2021-04-09","2021-04-10","2021-04-11","2021-04-12","2021-04-13","2021-04-14","2021-04-15","2021-04-16","2021-04-17","2021-04-18","2021-04-19","2021-04-20","2021-04-21","2021-04-22","2021-04-23","2021-04-24","2021-04-25","2021-04-26","2021-04-27","2021-04-28","2021-04-29","2021-04-30",null,{"$f":"COUNT(B872:AF872)&\" \"&Labels!$B$63","v":"22 Tage"}]
[{"$f":"$A$802","v":"Kalenderwoche"},{"$f":"IF(B870=\"\",\"\",TRUNC((B870-DATE(YEAR(B870+3-MOD(B870-2,7)),1,MOD(B870-2,7)-9))/7))","v":13},{"$f":"IF(C870=\"\",\"\",TRUNC((C870-DATE(YEAR(C870+3-MOD(C870-2,7)),1,MOD(C870-2,7)-9))/7))","v":13},13,13,14,14,14,14,14,14,14,15,15,15,15,15,15,15,16,16,16,16,16,16,16,17,17,17,17,17]
[{"$f":"$A$803","v":"Sollstunden"},{"$f":"IF(MOD(B870,7)>=2,$J$7*$B$196%,\"\")","v":8.23},8.23,"","",8.23,8.23,8.23,8.23,8.23,"","",8.23,8.23,8.23,8.23,8.23,"","",8.23,8.23,8.23,8.23,8.23,"","",8.23,8.23,8.23,8.23,8.23,null,{"$f":"SUM(B872:AF872)","v":181.05999999999997}]
[{"$f":"$A$804","v":"Produktivstunden"},{"$f":"SUM(B204:B206)","v":0},{"$f":"SUM(C204:C206)","v":0},0,0,0,0,0,0,0,0,0,0,0,0,0,0,0,0,0,0,0,0,0,0,0,0,0,0,0,0]
[{"$f":"$A$805","v":"Feiertage [ft]"},{"$f":"B207","v":""},{"$f":"C207","v":""},"","","","","","","","","","","","","","","","","","","","","","","","","","","","",null,{"$f":"SUM(B874:AF874)","v":0}]
[{"$f":"$A$806","v":"Ferien [f]"},null,null,null,null,null,null,null,null,null,null,null,null,null,null,null,null,null,null,null,null,null,null,null,null,null,null,null,null,null,null,null,{"$f":"SUM(B875:AF875)","v":0},{"$f":"$AH$806","v":"f"}]
[{"$f":"$A$807","v":"Kompensation (Vorjahr) [kv]"},null,null,null,null,null,null,null,null,null,null,null,null,null,null,null,null,null,null,null,null,null,null,null,null,null,null,null,null,null,null,null,{"$f":"SUM(B876:AF876)","v":0},{"$f":"$AH$807","v":"kv"}]
[{"$f":"$A$808","v":"Kompensation (laufend) [kj]"},null,null,null,null,null,null,null,null,null,null,null,null,null,null,null,null,null,null,null,null,null,null,null,null,null,null,null,null,null,null,null,{"$f":"SUM(B877:AF877)","v":0},{"$f":"$AH$808","v":"kj"}]
[{"$f":"$A$809","v":"Absenzen, Kurzabsenzen [a]"},null,null,null,null,null,null,null,null,null,null,null,null,null,null,null,null,null,null,null,null,null,null,null,null,null,null,null,null,null,null,null,{"$f":"SUM(B878:AF878)","v":0},{"$f":"$AH$809","v":"a"}]
[{"$f":"$A$810","v":"Krankheit [k]"},null,null,null,null,null,null,null,null,null,null,null,null,null,null,null,null,null,null,null,null,null,null,null,null,null,null,null,null,null,null,null,{"$f":"SUM(B879:AF879)","v":0},{"$f":"$AH$810","v":"k"}]
[{"$f":"$A$811","v":"Unfall [u]"},null,null,null,null,null,null,null,null,null,null,null,null,null,null,null,null,null,null,null,null,null,null,null,null,null,null,null,null,null,null,null,0,{"$f":"$AH$811","v":"u"}]
[{"$f":"$A$812","v":"Schwangerschaft/Mutterschaft [s]"},null,null,null,null,null,null,null,null,null,null,null,null,null,null,null,null,null,null,null,null,null,null,null,null,null,null,null,null,null,null,null,0,{"$f":"$AH$812","v":"s"}]
[{"$f":"$A$813","v":"Militär/Beförderung/Zivilschutz [m]"},null,null,null,null,null,null,null,null,null,null,null,null,null,null,null,null,null,null,null,null,null,null,null,null,null,null,null,null,null,null,null,0,{"$f":"$AH$813","v":"m"}]
[{"$f":"$A$814","v":"Berufsschule [bs]"},null,null,null,null,null,null,null,null,null,null,null,null,null,null,null,null,null,null,null,null,null,null,null,null,null,null,null,null,null,null,null,0,{"$f":"$AH$814","v":"bs"}]
[{"$f":"$A$815","v":"Kurse [ku]"},null,null,null,null,null,null,null,null,null,null,null,null,null,null,null,null,null,null,null,null,null,null,null,null,null,null,null,null,null,null,null,0,{"$f":"$AH$815","v":"ku"}]
[{"$f":"$A$816","v":"Kurzarbeit und Schlechtwetter [ka]"},null,null,null,null,null,null,null,null,null,null,null,null,null,null,null,null,null,null,null,null,null,null,null,null,null,null,null,null,null,null,null,0,{"$f":"$AH$816","v":"ka"}]
[{"$f":"$A$817","v":0},null,null,null,null,null,null,null,null,null,null,null,null,null,null,null,null,null,null,null,null,null,null,null,null,null,null,null,null,null,null,null,0,{"$f":"$AH$817","v":0}]
[{"$f":"$A$818","v":"Fehlstunden (unbezahlt) [fe]"},null,null,null,null,null,null,null,null,null,null,null,null,null,null,null,null,null,null,null,null,null,null,null,null,null,null,null,null,null,null,null,0,{"$f":"$AH$818","v":"fe"}]
[{"$f":"$A$819","v":"Total"},{"$f":"SUM(B875:B887)","v":0},{"$f":"SUM(C875:C887)","v":0},0,0,0,0,0,0,0,0,0,0,0,0,0,0,0,0,0,0,0,0,0,0,0,0,0,0,0,0]
[]
[]
[]
[{"$f":"A261","v":"Mai"},{"$f":"$B$800","v":"Saldo Monat + / -"},null,null,null,{"$f":"F261","v":-172.82999999999998},null,null,null,null,null,null,null,null,null,null,null,null,null,null,null,null,null,null,null,null,null,{"$f":"$AB$800","v":"Absenz in Std"},null,null,{"$f":"Labels!B81","v":"Mai"}]
[{"$f":"$A$801","v":"Tag"},{"$f":"B262","v":"2021-05-01"},{"$f":"B893+1","v":"2021-05-02"},"2021-05-03","2021-05-04","2021-05-05","2021-05-06","2021-05-07","2021-05-08","2021-05-09","2021-05-10","2021-05-11","2021-05-12","2021-05-13","2021-05-14","2021-05-15","2021-05-16","2021-05-17","2021-05-18","2021-05-19","2021-05-20","2021-05-21","2021-05-22","2021-05-23","2021-05-24","2021-05-25","2021-05-26","2021-05-27","2021-05-28","2021-05-29","2021-05-30","2021-05-31",{"$f":"COUNT(B895:AF895)&\" \"&Labels!$B$63","v":"21 Tage"}]
[{"$f":"$A$802","v":"Kalenderwoche"},{"$f":"IF(B893=\"\",\"\",TRUNC((B893-DATE(YEAR(B893+3-MOD(B893-2,7)),1,MOD(B893-2,7)-9))/7))","v":17},{"$f":"IF(C893=\"\",\"\",TRUNC((C893-DATE(YEAR(C893+3-MOD(C893-2,7)),1,MOD(C893-2,7)-9))/7))","v":17},18,18,18,18,18,18,18,19,19,19,19,19,19,19,20,20,20,20,20,20,20,21,21,21,21,21,21,21,22]
[{"$f":"$A$803","v":"Sollstunden"},{"$f":"IF(MOD(B893,7)>=2,$J$7*$B$259%,\"\")","v":""},"",8.23,8.23,8.23,8.23,8.23,"","",8.23,8.23,8.23,8.23,8.23,"","",8.23,8.23,8.23,8.23,8.23,"","",8.23,8.23,8.23,8.23,8.23,"","",8.23,{"$f":"SUM(B895:AF895)","v":172.82999999999998}]
[{"$f":"$A$804","v":"Produktivstunden"},{"$f":"SUM(B267:B269)","v":0},{"$f":"SUM(C267:C269)","v":0},0,0,0,0,0,0,0,0,0,0,0,0,0,0,0,0,0,0,0,0,0,0,0,0,0,0,0,0,0]
[{"$f":"$A$805","v":"Feiertage [ft]"},{"$f":"B270","v":""},{"$f":"C270","v":""},"","","","","","","","","","","","","","","","","","","","","","","","","","","","","",{"$f":"SUM(B897:AF897)","v":0}]
[{"$f":"$A$806","v":"Ferien [f]"},null,null,null,null,null,null,null,null,null,null,null,null,null,null,null,null,null,null,null,null,null,null,null,null,null,null,null,null,null,null,null,{"$f":"SUM(B898:AF898)","v":0},{"$f":"$AH$806","v":"f"}]
[{"$f":"$A$807","v":"Kompensation (Vorjahr) [kv]"},null,null,null,null,null,null,null,null,null,null,null,null,null,null,null,null,null,null,null,null,null,null,null,null,null,null,null,null,null,null,null,{"$f":"SUM(B899:AF899)","v":0},{"$f":"$AH$807","v":"kv"}]
[{"$f":"$A$808","v":"Kompensation (laufend) [kj]"},null,null,null,null,null,null,null,null,null,null,null,null,null,null,null,null,null,null,null,null,null,null,null,null,null,null,null,null,null,null,null,{"$f":"SUM(B900:AF900)","v":0},{"$f":"$AH$808","v":"kj"}]
[{"$f":"$A$809","v":"Absenzen, Kurzabsenzen [a]"},null,null,null,null,null,null,null,null,null,null,null,null,null,null,null,null,null,null,null,null,null,null,null,null,null,null,null,null,null,null,null,{"$f":"SUM(B901:AF901)","v":0},{"$f":"$AH$809","v":"a"}]
[{"$f":"$A$810","v":"Krankheit [k]"},null,null,null,null,null,null,null,null,null,null,null,null,null,null,null,null,null,null,null,null,null,null,null,null,null,null,null,null,null,null,null,{"$f":"SUM(B902:AF902)","v":0},{"$f":"$AH$810","v":"k"}]
[{"$f":"$A$811","v":"Unfall [u]"},null,null,null,null,null,null,null,null,null,null,null,null,null,null,null,null,null,null,null,null,null,null,null,null,null,null,null,null,null,null,null,0,{"$f":"$AH$811","v":"u"}]
[{"$f":"$A$812","v":"Schwangerschaft/Mutterschaft [s]"},null,null,null,null,null,null,null,null,null,null,null,null,null,null,null,null,null,null,null,null,null,null,null,null,null,null,null,null,null,null,null,0,{"$f":"$AH$812","v":"s"}]
[{"$f":"$A$813","v":"Militär/Beförderung/Zivilschutz [m]"},null,null,null,null,null,null,null,null,null,null,null,null,null,null,null,null,null,null,null,null,null,null,null,null,null,null,null,null,null,null,null,0,{"$f":"$AH$813","v":"m"}]
[{"$f":"$A$814","v":"Berufsschule [bs]"},null,null,null,null,null,null,null,null,null,null,null,null,null,null,null,null,null,null,null,null,null,null,null,null,null,null,null,null,null,null,null,0,{"$f":"$AH$814","v":"bs"}]
[{"$f":"$A$815","v":"Kurse [ku]"},null,null,null,null,null,null,null,null,null,null,null,null,null,null,null,null,null,null,null,null,null,null,null,null,null,null,null,null,null,null,null,0,{"$f":"$AH$815","v":"ku"}]
[{"$f":"$A$816","v":"Kurzarbeit und Schlechtwetter [ka]"},null,null,null,null,null,null,null,null,null,null,null,null,null,null,null,null,null,null,null,null,null,null,null,null,null,null,null,null,null,null,null,0,{"$f":"$AH$816","v":"ka"}]
[{"$f":"$A$817","v":0},null,null,null,null,null,null,null,null,null,null,null,null,null,null,null,null,null,null,null,null,null,null,null,null,null,null,null,null,null,null,null,0,{"$f":"$AH$817","v":0}]
[{"$f":"$A$818","v":"Fehlstunden (unbezahlt) [fe]"},null,null,null,null,null,null,null,null,null,null,null,null,null,null,null,null,null,null,null,null,null,null,null,null,null,null,null,null,null,null,null,0,{"$f":"$AH$818","v":"fe"}]
[{"$f":"$A$819","v":"Total"},{"$f":"SUM(B898:B910)","v":0},{"$f":"SUM(C898:C910)","v":0},0,0,0,0,0,0,0,0,0,0,0,0,0,0,0,0,0,0,0,0,0,0,0,0,0,0,0,0,0]
[]
[]
[]
[{"$f":"A324","v":"Juni"},{"$f":"$B$800","v":"Saldo Monat + / -"},null,null,null,{"$f":"F324","v":-181.05999999999997},null,null,null,null,null,null,null,null,null,null,null,null,null,null,null,null,null,null,null,null,null,{"$f":"$AB$800","v":"Absenz in Std"},null,null,{"$f":"Labels!B82","v":"Jun"}]
[{"$f":"$A$801","v":"Tag"},{"$f":"B325","v":"2021-06-01"},{"$f":"B916+1","v":"2021-06-02"},"2021-06-03","2021-06-04","2021-06-05","2021-06-06","2021-06-07","2021-06-08","2021-06-09","2021-06-10","2021-06-11","2021-06-12","2021-06-13","2021-06-14","2021-06-15","2021-06-16","2021-06-17","2021-06-18","2021-06-19","2021-06-20","2021-06-21","2021-06-22","2021-06-23","2021-06-24","2021-06-25","2021-06-26","2021-06-27","2021-06-28","2021-06-29","2021-06-30",null,{"$f":"COUNT(B918:AF918)&\" \"&Labels!$B$63","v":"22 Tage"}]
[{"$f":"$A$802","v":"Kalenderwoche"},{"$f":"IF(B916=\"\",\"\",TRUNC((B916-DATE(YEAR(B916+3-MOD(B916-2,7)),1,MOD(B916-2,7)-9))/7))","v":22},{"$f":"IF(C916=\"\",\"\",TRUNC((C916-DATE(YEAR(C916+3-MOD(C916-2,7)),1,MOD(C916-2,7)-9))/7))","v":22},22,22,22,22,23,23,23,23,23,23,23,24,24,24,24,24,24,24,25,25,25,25,25,25,25,26,26,26]
[{"$f":"$A$803","v":"Sollstunden"},{"$f":"IF(MOD(B916,7)>=2,$J$7*$B$322%,\"\")","v":8.23},8.23,8.23,8.23,"","",8.23,8.23,8.23,8.23,8.23,"","",8.23,8.23,8.23,8.23,8.23,"","",8.23,8.23,8.23,8.23,8.23,"","",8.23,8.23,8.23,null,{"$f":"SUM(B918:AF918)","v":181.05999999999997}]
[{"$f":"$A$804","v":"Produktivstunden"},{"$f":"SUM(B330:B332)","v":0},{"$f":"SUM(C330:C332)","v":0},0,0,0,0,0,0,0,0,0,0,0,0,0,0,0,0,0,0,0,0,0,0,0,0,0,0,0,0]
[{"$f":"$A$805","v":"Feiertage [ft]"},{"$f":"B333","v":""},{"$f":"C333","v":""},"","","","","","","","","","","","","","","","","","","","","","","","","","","","",null,{"$f":"SUM(B920:AF920)","v":0}]
[{"$f":"$A$806","v":"Ferien [f]"},null,null,null,null,null,null,null,null,null,null,null,null,null,null,null,null,null,null,null,null,null,null,null,null,null,null,null,null,null,null,null,{"$f":"SUM(B921:AF921)","v":0},{"$f":"$AH$806","v":"f"}]
[{"$f":"$A$807","v":"Kompensation (Vorjahr) [kv]"},null,null,null,null,null,null,null,null,null,null,null,null,null,null,null,null,null,null,null,null,null,null,null,null,null,null,null,null,null,null,null,{"$f":"SUM(B922:AF922)","v":0},{"$f":"$AH$807","v":"kv"}]
[{"$f":"$A$808","v":"Kompensation (laufend) [kj]"},null,null,null,null,null,null,null,null,null,null,null,null,null,null,null,null,null,null,null,null,null,null,null,null,null,null,null,null,null,null,null,{"$f":"SUM(B923:AF923)","v":0},{"$f":"$AH$808","v":"kj"}]
[{"$f":"$A$809","v":"Absenzen, Kurzabsenzen [a]"},null,null,null,null,null,null,null,null,null,null,null,null,null,null,null,null,null,null,null,null,null,null,null,null,null,null,null,null,null,null,null,{"$f":"SUM(B924:AF924)","v":0},{"$f":"$AH$809","v":"a"}]
[{"$f":"$A$810","v":"Krankheit [k]"},null,null,null,null,null,null,null,null,null,null,null,null,null,null,null,null,null,null,null,null,null,null,null,null,null,null,null,null,null,null,null,{"$f":"SUM(B925:AF925)","v":0},{"$f":"$AH$810","v":"k"}]
[{"$f":"$A$811","v":"Unfall [u]"},null,null,null,null,null,null,null,null,null,null,null,null,null,null,null,null,null,null,null,null,null,null,null,null,null,null,null,null,null,null,null,0,{"$f":"$AH$811","v":"u"}]
[{"$f":"$A$812","v":"Schwangerschaft/Mutterschaft [s]"},null,null,null,null,null,null,null,null,null,null,null,null,null,null,null,null,null,null,null,null,null,null,null,null,null,null,null,null,null,null,null,0,{"$f":"$AH$812","v":"s"}]
[{"$f":"$A$813","v":"Militär/Beförderung/Zivilschutz [m]"},null,null,null,null,null,null,null,null,null,null,null,null,null,null,null,null,null,null,null,null,null,null,null,null,null,null,null,null,null,null,null,0,{"$f":"$AH$813","v":"m"}]
[{"$f":"$A$814","v":"Berufsschule [bs]"},null,null,null,null,null,null,null,null,null,null,null,null,null,null,null,null,null,null,null,null,null,null,null,null,null,null,null,null,null,null,null,0,{"$f":"$AH$814","v":"bs"}]
[{"$f":"$A$815","v":"Kurse [ku]"},null,null,null,null,null,null,null,null,null,null,null,null,null,null,null,null,null,null,null,null,null,null,null,null,null,null,null,null,null,null,null,0,{"$f":"$AH$815","v":"ku"}]
[{"$f":"$A$816","v":"Kurzarbeit und Schlechtwetter [ka]"},null,null,null,null,null,null,null,null,null,null,null,null,null,null,null,null,null,null,null,null,null,null,null,null,null,null,null,null,null,null,null,0,{"$f":"$AH$816","v":"ka"}]
[{"$f":"$A$817","v":0},null,null,null,null,null,null,null,null,null,null,null,null,null,null,null,null,null,null,null,null,null,null,null,null,null,null,null,null,null,null,null,0,{"$f":"$AH$817","v":0}]
[{"$f":"$A$818","v":"Fehlstunden (unbezahlt) [fe]"},null,null,null,null,null,null,null,null,null,null,null,null,null,null,null,null,null,null,null,null,null,null,null,null,null,null,null,null,null,null,null,0,{"$f":"$AH$818","v":"fe"}]
[{"$f":"$A$819","v":"Total"},{"$f":"SUM(B921:B933)","v":0},{"$f":"SUM(C921:C933)","v":0},0,0,0,0,0,0,0,0,0,0,0,0,0,0,0,0,0,0,0,0,0,0,0,0,0,0,0,0]
[]
[]
[]
[{"$f":"A387","v":"Juli"},{"$f":"$B$800","v":"Saldo Monat + / -"},null,null,null,{"$f":"F387","v":-181.05999999999997},null,null,null,null,null,null,null,null,null,null,null,null,null,null,null,null,null,null,null,null,null,{"$f":"$AB$800","v":"Absenz in Std"},null,null,{"$f":"Labels!B83","v":"Jul"}]
[{"$f":"$A$801","v":"Tag"},{"$f":"B388","v":"2021-07-01"},{"$f":"B939+1","v":"2021-07-02"},"2021-07-03","2021-07-04","2021-07-05","2021-07-06","2021-07-07","2021-07-08","2021-07-09","2021-07-10","2021-07-11","2021-07-12","2021-07-13","2021-07-14","2021-07-15","2021-07-16","2021-07-17","2021-07-18","2021-07-19","2021-07-20","2021-07-21","2021-07-22","2021-07-23","2021-07-24","2021-07-25","2021-07-26","2021-07-27","2021-07-28","2021-07-29","2021-07-30","2021-07-31",{"$f":"COUNT(B941:AF941)&\" \"&Labels!$B$63","v":"22 Tage"}]
[{"$f":"$A$802","v":"Kalenderwoche"},{"$f":"IF(B939=\"\",\"\",TRUNC((B939-DATE(YEAR(B939+3-MOD(B939-2,7)),1,MOD(B939-2,7)-9))/7))","v":26},{"$f":"IF(C939=\"\",\"\",TRUNC((C939-DATE(YEAR(C939+3-MOD(C939-2,7)),1,MOD(C939-2,7)-9))/7))","v":26},26,26,27,27,27,27,27,27,27,28,28,28,28,28,28,28,29,29,29,29,29,29,29,30,30,30,30,30,30]
[{"$f":"$A$803","v":"Sollstunden"},{"$f":"IF(MOD(B939,7)>=2,$J$7*$B$385%,\"\")","v":8.23},8.23,"","",8.23,8.23,8.23,8.23,8.23,"","",8.23,8.23,8.23,8.23,8.23,"","",8.23,8.23,8.23,8.23,8.23,"","",8.23,8.23,8.23,8.23,8.23,"",{"$f":"SUM(B941:AF941)","v":181.05999999999997}]
[{"$f":"$A$804","v":"Produktivstunden"},{"$f":"SUM(B393:B395)","v":0},{"$f":"SUM(C393:C395)","v":0},0,0,0,0,0,0,0,0,0,0,0,0,0,0,0,0,0,0,0,0,0,0,0,0,0,0,0,0,0]
[{"$f":"$A$805","v":"Feiertage [ft]"},{"$f":"B396","v":""},{"$f":"C396","v":""},"","","","","","","","","","","","","","","","","","","","","","","","","","","","","",{"$f":"SUM(B943:AF943)","v":0}]
[{"$f":"$A$806","v":"Ferien [f]"},null,null,null,null,null,null,null,null,null,null,null,null,null,null,null,null,null,null,null,null,null,null,null,null,null,null,null,null,null,null,null,{"$f":"SUM(B944:AF944)","v":0},{"$f":"$AH$806","v":"f"}]
[{"$f":"$A$807","v":"Kompensation (Vorjahr) [kv]"},null,null,null,null,null,null,null,null,null,null,null,null,null,null,null,null,null,null,null,null,null,null,null,null,null,null,null,null,null,null,null,{"$f":"SUM(B945:AF945)","v":0},{"$f":"$AH$807","v":"kv"}]
[{"$f":"$A$808","v":"Kompensation (laufend) [kj]"},null,null,null,null,null,null,null,null,null,null,null,null,null,null,null,null,null,null,null,null,null,null,null,null,null,null,null,null,null,null,null,{"$f":"SUM(B946:AF946)","v":0},{"$f":"$AH$808","v":"kj"}]
[{"$f":"$A$809","v":"Absenzen, Kurzabsenzen [a]"},null,null,null,null,null,null,null,null,null,null,null,null,null,null,null,null,null,null,null,null,null,null,null,null,null,null,null,null,null,null,null,{"$f":"SUM(B947:AF947)","v":0},{"$f":"$AH$809","v":"a"}]
[{"$f":"$A$810","v":"Krankheit [k]"},null,null,null,null,null,null,null,null,null,null,null,null,null,null,null,null,null,null,null,null,null,null,null,null,null,null,null,null,null,null,null,{"$f":"SUM(B948:AF948)","v":0},{"$f":"$AH$810","v":"k"}]
[{"$f":"$A$811","v":"Unfall [u]"},null,null,null,null,null,null,null,null,null,null,null,null,null,null,null,null,null,null,null,null,null,null,null,null,null,null,null,null,null,null,null,0,{"$f":"$AH$811","v":"u"}]
[{"$f":"$A$812","v":"Schwangerschaft/Mutterschaft [s]"},null,null,null,null,null,null,null,null,null,null,null,null,null,null,null,null,null,null,null,null,null,null,null,null,null,null,null,null,null,null,null,0,{"$f":"$AH$812","v":"s"}]
[{"$f":"$A$813","v":"Militär/Beförderung/Zivilschutz [m]"},null,null,null,null,null,null,null,null,null,null,null,null,null,null,null,null,null,null,null,null,null,null,null,null,null,null,null,null,null,null,null,0,{"$f":"$AH$813","v":"m"}]
[{"$f":"$A$814","v":"Berufsschule [bs]"},null,null,null,null,null,null,null,null,null,null,null,null,null,null,null,null,null,null,null,null,null,null,null,null,null,null,null,null,null,null,null,0,{"$f":"$AH$814","v":"bs"}]
[{"$f":"$A$815","v":"Kurse [ku]"},null,null,null,null,null,null,null,null,null,null,null,null,null,null,null,null,null,null,null,null,null,null,null,null,null,null,null,null,null,null,null,0,{"$f":"$AH$815","v":"ku"}]
[{"$f":"$A$816","v":"Kurzarbeit und Schlechtwetter [ka]"},null,null,null,null,null,null,null,null,null,null,null,null,null,null,null,null,null,null,null,null,null,null,null,null,null,null,null,null,null,null,null,0,{"$f":"$AH$816","v":"ka"}]
[{"$f":"$A$817","v":0},null,null,null,null,null,null,null,null,null,null,null,null,null,null,null,null,null,null,null,null,null,null,null,null,null,null,null,null,null,null,null,0,{"$f":"$AH$817","v":0}]
[{"$f":"$A$818","v":"Fehlstunden (unbezahlt) [fe]"},null,null,null,null,null,null,null,null,null,null,null,null,null,null,null,null,null,null,null,null,null,null,null,null,null,null,null,null,null,null,null,0,{"$f":"$AH$818","v":"fe"}]
[{"$f":"$A$819","v":"Total"},{"$f":"SUM(B944:B956)","v":0},{"$f":"SUM(C944:C956)","v":0},0,0,0,0,0,0,0,0,0,0,0,0,0,0,0,0,0,0,0,0,0,0,0,0,0,0,0,0,0]
[]
[]
[]
[{"$f":"A450","v":"August"},{"$f":"$B$800","v":"Saldo Monat + / -"},null,null,null,{"$f":"F450","v":-181.05999999999997},null,null,null,null,null,null,null,null,null,null,null,null,null,null,null,null,null,null,null,null,null,{"$f":"$AB$800","v":"Absenz in Std"},null,null,{"$f":"Labels!B84","v":"Aug"}]
[{"$f":"$A$801","v":"Tag"},{"$f":"B451","v":"2021-08-01"},{"$f":"B962+1","v":"2021-08-02"},"2021-08-03","2021-08-04","2021-08-05","2021-08-06","2021-08-07","2021-08-08","2021-08-09","2021-08-10","2021-08-11","2021-08-12","2021-08-13","2021-08-14","2021-08-15","2021-08-16","2021-08-17","2021-08-18","2021-08-19","2021-08-20","2021-08-21","2021-08-22","2021-08-23","2021-08-24","2021-08-25","2021-08-26","2021-08-27","2021-08-28","2021-08-29","2021-08-30","2021-08-31",{"$f":"COUNT(B964:AF964)&\" \"&Labels!$B$63","v":"22 Tage"}]
[{"$f":"$A$802","v":"Kalenderwoche"},{"$f":"IF(B962=\"\",\"\",TRUNC((B962-DATE(YEAR(B962+3-MOD(B962-2,7)),1,MOD(B962-2,7)-9))/7))","v":30},{"$f":"IF(C962=\"\",\"\",TRUNC((C962-DATE(YEAR(C962+3-MOD(C962-2,7)),1,MOD(C962-2,7)-9))/7))","v":31},31,31,31,31,31,31,32,32,32,32,32,32,32,33,33,33,33,33,33,33,34,34,34,34,34,34,34,35,35]
[{"$f":"$A$803","v":"Sollstunden"},{"$f":"IF(MOD(B962,7)>=2,$J$7*$B$448%,\"\")","v":""},8.23,8.23,8.23,8.23,8.23,"","",8.23,8.23,8.23,8.23,8.23,"","",8.23,8.23,8.23,8.23,8.23,"","",8.23,8.23,8.23,8.23,8.23,"","",8.23,8.23,{"$f":"SUM(B964:AF964)","v":181.05999999999997}]
[{"$f":"$A$804","v":"Produktivstunden"},{"$f":"SUM(B456:B458)","v":0},{"$f":"SUM(C456:C458)","v":0},0,0,0,0,0,0,0,0,0,0,0,0,0,0,0,0,0,0,0,0,0,0,0,0,0,0,0,0,0]
[{"$f":"$A$805","v":"Feiertage [ft]"},{"$f":"B459","v":""},{"$f":"C459","v":""},"","","","","","","","","","","","","","","","","","","","","","","","","","","","","",{"$f":"SUM(B966:AF966)","v":0}]
[{"$f":"$A$806","v":"Ferien [f]"},null,null,null,null,null,null,null,null,null,null,null,null,null,null,null,null,null,null,null,null,null,null,null,null,null,null,null,null,null,null,null,{"$f":"SUM(B967:AF967)","v":0},{"$f":"$AH$806","v":"f"}]
[{"$f":"$A$807","v":"Kompensation (Vorjahr) [kv]"},null,null,null,null,null,null,null,null,null,null,null,null,null,null,null,null,null,null,null,null,null,null,null,null,null,null,null,null,null,null,null,{"$f":"SUM(B968:AF968)","v":0},{"$f":"$AH$807","v":"kv"}]
[{"$f":"$A$808","v":"Kompensation (laufend) [kj]"},null,null,null,null,null,null,null,null,null,null,null,null,null,null,null,null,null,null,null,null,null,null,null,null,null,null,null,null,null,null,null,{"$f":"SUM(B969:AF969)","v":0},{"$f":"$AH$808","v":"kj"}]
[{"$f":"$A$809","v":"Absenzen, Kurzabsenzen [a]"},null,null,null,null,null,null,null,null,null,null,null,null,null,null,null,null,null,null,null,null,null,null,null,null,null,null,null,null,null,null,null,{"$f":"SUM(B970:AF970)","v":0},{"$f":"$AH$809","v":"a"}]
[{"$f":"$A$810","v":"Krankheit [k]"},null,null,null,null,null,null,null,null,null,null,null,null,null,null,null,null,null,null,null,null,null,null,null,null,null,null,null,null,null,null,null,{"$f":"SUM(B971:AF971)","v":0},{"$f":"$AH$810","v":"k"}]
[{"$f":"$A$811","v":"Unfall [u]"},null,null,null,null,null,null,null,null,null,null,null,null,null,null,null,null,null,null,null,null,null,null,null,null,null,null,null,null,null,null,null,0,{"$f":"$AH$811","v":"u"}]
[{"$f":"$A$812","v":"Schwangerschaft/Mutterschaft [s]"},null,null,null,null,null,null,null,null,null,null,null,null,null,null,null,null,null,null,null,null,null,null,null,null,null,null,null,null,null,null,null,0,{"$f":"$AH$812","v":"s"}]
[{"$f":"$A$813","v":"Militär/Beförderung/Zivilschutz [m]"},null,null,null,null,null,null,null,null,null,null,null,null,null,null,null,null,null,null,null,null,null,null,null,null,null,null,null,null,null,null,null,0,{"$f":"$AH$813","v":"m"}]
[{"$f":"$A$814","v":"Berufsschule [bs]"},null,null,null,null,null,null,null,null,null,null,null,null,null,null,null,null,null,null,null,null,null,null,null,null,null,null,null,null,null,null,null,0,{"$f":"$AH$814","v":"bs"}]
[{"$f":"$A$815","v":"Kurse [ku]"},null,null,null,null,null,null,null,null,null,null,null,null,null,null,null,null,null,null,null,null,null,null,null,null,null,null,null,null,null,null,null,0,{"$f":"$AH$815","v":"ku"}]
[{"$f":"$A$816","v":"Kurzarbeit und Schlechtwetter [ka]"},null,null,null,null,null,null,null,null,null,null,null,null,null,null,null,null,null,null,null,null,null,null,null,null,null,null,null,null,null,null,null,0,{"$f":"$AH$816","v":"ka"}]
[{"$f":"$A$817","v":0},null,null,null,null,null,null,null,null,null,null,null,null,null,null,null,null,null,null,null,null,null,null,null,null,null,null,null,null,null,null,null,0,{"$f":"$AH$817","v":0}]
[{"$f":"$A$818","v":"Fehlstunden (unbezahlt) [fe]"},null,null,null,null,null,null,null,null,null,null,null,null,null,null,null,null,null,null,null,null,null,null,null,null,null,null,null,null,null,null,null,0,{"$f":"$AH$818","v":"fe"}]
[{"$f":"$A$819","v":"Total"},{"$f":"SUM(B967:B979)","v":0},{"$f":"SUM(C967:C979)","v":0},0,0,0,0,0,0,0,0,0,0,0,0,0,0,0,0,0,0,0,0,0,0,0,0,0,0,0,0,0]
[]
[]
[]
[{"$f":"A513","v":"September"},{"$f":"$B$800","v":"Saldo Monat + / -"},null,null,null,{"$f":"F513","v":-181.05999999999997},null,null,null,null,null,null,null,null,null,null,null,null,null,null,null,null,null,null,null,null,null,{"$f":"$AB$800","v":"Absenz in Std"},null,null,{"$f":"Labels!B85","v":"Sep"}]
[{"$f":"$A$801","v":"Tag"},{"$f":"B514","v":"2021-09-01"},{"$f":"B985+1","v":"2021-09-02"},"2021-09-03","2021-09-04","2021-09-05","2021-09-06","2021-09-07","2021-09-08","2021-09-09","2021-09-10","2021-09-11","2021-09-12","2021-09-13","2021-09-14","2021-09-15","2021-09-16","2021-09-17","2021-09-18","2021-09-19","2021-09-20","2021-09-21","2021-09-22","2021-09-23","2021-09-24","2021-09-25","2021-09-26","2021-09-27","2021-09-28","2021-09-29","2021-09-30",null,{"$f":"COUNT(B987:AF987)&\" \"&Labels!$B$63","v":"22 Tage"}]
[{"$f":"$A$802","v":"Kalenderwoche"},{"$f":"IF(B985=\"\",\"\",TRUNC((B985-DATE(YEAR(B985+3-MOD(B985-2,7)),1,MOD(B985-2,7)-9))/7))","v":35},{"$f":"IF(C985=\"\",\"\",TRUNC((C985-DATE(YEAR(C985+3-MOD(C985-2,7)),1,MOD(C985-2,7)-9))/7))","v":35},35,35,35,36,36,36,36,36,36,36,37,37,37,37,37,37,37,38,38,38,38,38,38,38,39,39,39,39]
[{"$f":"$A$803","v":"Sollstunden"},{"$f":"IF(MOD(B985,7)>=2,$J$7*$B$511%,\"\")","v":8.23},8.23,8.23,"","",8.23,8.23,8.23,8.23,8.23,"","",8.23,8.23,8.23,8.23,8.23,"","",8.23,8.23,8.23,8.23,8.23,"","",8.23,8.23,8.23,8.23,null,{"$f":"SUM(B987:AF987)","v":181.05999999999997}]
[{"$f":"$A$804","v":"Produktivstunden"},{"$f":"SUM(B519:B521)","v":0},{"$f":"SUM(C519:C521)","v":0},0,0,0,0,0,0,0,0,0,0,0,0,0,0,0,0,0,0,0,0,0,0,0,0,0,0,0,0]
[{"$f":"$A$805","v":"Feiertage [ft]"},{"$f":"B522","v":""},{"$f":"C522","v":""},"","","","","","","","","","","","","","","","","","","","","","","","","","","","",null,{"$f":"SUM(B989:AF989)","v":0}]
[{"$f":"$A$806","v":"Ferien [f]"},null,null,null,null,null,null,null,null,null,null,null,null,null,null,null,null,null,null,null,null,null,null,null,null,null,null,null,null,null,null,null,{"$f":"SUM(B990:AF990)","v":0},{"$f":"$AH$806","v":"f"}]
[{"$f":"$A$807","v":"Kompensation (Vorjahr) [kv]"},null,null,null,null,null,null,null,null,null,null,null,null,null,null,null,null,null,null,null,null,null,null,null,null,null,null,null,null,null,null,null,{"$f":"SUM(B991:AF991)","v":0},{"$f":"$AH$807","v":"kv"}]
[{"$f":"$A$808","v":"Kompensation (laufend) [kj]"},null,null,null,null,null,null,null,null,null,null,null,null,null,null,null,null,null,null,null,null,null,null,null,null,null,null,null,null,null,null,null,{"$f":"SUM(B992:AF992)","v":0},{"$f":"$AH$808","v":"kj"}]
[{"$f":"$A$809","v":"Absenzen, Kurzabsenzen [a]"},null,null,null,null,null,null,null,null,null,null,null,null,null,null,null,null,null,null,null,null,null,null,null,null,null,null,null,null,null,null,null,{"$f":"SUM(B993:AF993)","v":0},{"$f":"$AH$809","v":"a"}]
[{"$f":"$A$810","v":"Krankheit [k]"},null,null,null,null,null,null,null,null,null,null,null,null,null,null,null,null,null,null,null,null,null,null,null,null,null,null,null,null,null,null,null,{"$f":"SUM(B994:AF994)","v":0},{"$f":"$AH$810","v":"k"}]
[{"$f":"$A$811","v":"Unfall [u]"},null,null,null,null,null,null,null,null,null,null,null,null,null,null,null,null,null,null,null,null,null,null,null,null,null,null,null,null,null,null,null,0,{"$f":"$AH$811","v":"u"}]
[{"$f":"$A$812","v":"Schwangerschaft/Mutterschaft [s]"},null,null,null,null,null,null,null,null,null,null,null,null,null,null,null,null,null,null,null,null,null,null,null,null,null,null,null,null,null,null,null,0,{"$f":"$AH$812","v":"s"}]
[{"$f":"$A$813","v":"Militär/Beförderung/Zivilschutz [m]"},null,null,null,null,null,null,null,null,null,null,null,null,null,null,null,null,null,null,null,null,null,null,null,null,null,null,null,null,null,null,null,0,{"$f":"$AH$813","v":"m"}]
[{"$f":"$A$814","v":"Berufsschule [bs]"},null,null,null,null,null,null,null,null,null,null,null,null,null,null,null,null,null,null,null,null,null,null,null,null,null,null,null,null,null,null,null,0,{"$f":"$AH$814","v":"bs"}]
[{"$f":"$A$815","v":"Kurse [ku]"},null,null,null,null,null,null,null,null,null,null,null,null,null,null,null,null,null,null,null,null,null,null,null,null,null,null,null,null,null,null,null,0,{"$f":"$AH$815","v":"ku"}]
[{"$f":"$A$816","v":"Kurzarbeit und Schlechtwetter [ka]"},null,null,null,null,null,null,null,null,null,null,null,null,null,null,null,null,null,null,null,null,null,null,null,null,null,null,null,null,null,null,null,0,{"$f":"$AH$816","v":"ka"}]
[{"$f":"$A$817","v":0},null,null,null,null,null,null,null,null,null,null,null,null,null,null,null,null,null,null,null,null,null,null,null,null,null,null,null,null,null,null,null,0,{"$f":"$AH$817","v":0}]
[{"$f":"$A$818","v":"Fehlstunden (unbezahlt) [fe]"},null,null,null,null,null,null,null,null,null,null,null,null,null,null,null,null,null,null,null,null,null,null,null,null,null,null,null,null,null,null,null,0,{"$f":"$AH$818","v":"fe"}]
[{"$f":"$A$819","v":"Total"},{"$f":"SUM(B990:B1002)","v":0},{"$f":"SUM(C990:C1002)","v":0},0,0,0,0,0,0,0,0,0,0,0,0,0,0,0,0,0,0,0,0,0,0,0,0,0,0,0,0]
[]
[]
[]
[{"$f":"A576","v":"Oktober"},{"$f":"$B$800","v":"Saldo Monat + / -"},null,null,null,{"$f":"F576","v":-172.82999999999998},null,null,null,null,null,null,null,null,null,null,null,null,null,null,null,null,null,null,null,null,null,{"$f":"$AB$800","v":"Absenz in Std"},null,null,{"$f":"Labels!B86","v":"Okt"}]
[{"$f":"$A$801","v":"Tag"},{"$f":"B577","v":"2021-10-01"},{"$f":"B1008+1","v":"2021-10-02"},"2021-10-03","2021-10-04","2021-10-05","2021-10-06","2021-10-07","2021-10-08","2021-10-09","2021-10-10","2021-10-11","2021-10-12","2021-10-13","2021-10-14","2021-10-15","2021-10-16","2021-10-17","2021-10-18","2021-10-19","2021-10-20","2021-10-21","2021-10-22","2021-10-23","2021-10-24","2021-10-25","2021-10-26","2021-10-27","2021-10-28","2021-10-29","2021-10-30","2021-10-31",{"$f":"COUNT(B1010:AF1010)&\" \"&Labels!$B$63","v":"21 Tage"}]
[{"$f":"$A$802","v":"Kalenderwoche"},{"$f":"IF(B1008=\"\",\"\",TRUNC((B1008-DATE(YEAR(B1008+3-MOD(B1008-2,7)),1,MOD(B1008-2,7)-9))/7))","v":39},{"$f":"IF(C1008=\"\",\"\",TRUNC((C1008-DATE(YEAR(C1008+3-MOD(C1008-2,7)),1,MOD(C1008-2,7)-9))/7))","v":39},39,40,40,40,40,40,40,40,41,41,41,41,41,41,41,42,42,42,42,42,42,42,43,43,43,43,43,43,43]
[{"$f":"$A$803","v":"Sollstunden"},{"$f":"IF(MOD(B1008,7)>=2,$J$7*$B$574%,\"\")","v":8.23},"","",8.23,8.23,8.23,8.23,8.23,"","",8.23,8.23,8.23,8.23,8.23,"","",8.23,8.23,8.23,8.23,8.23,"","",8.23,8.23,8.23,8.23,8.23,"","",{"$f":"SUM(B1010:AF1010)","v":172.82999999999998}]
[{"$f":"$A$804","v":"Produktivstunden"},{"$f":"SUM(B582:B584)","v":0},{"$f":"SUM(C582:C584)","v":0},0,0,0,0,0,0,0,0,0,0,0,0,0,0,0,0,0,0,0,0,0,0,0,0,0,0,0,0,0]
[{"$f":"$A$805","v":"Feiertage [ft]"},{"$f":"B585","v":""},{"$f":"C585","v":""},"","","","","","","","","","","","","","","","","","","","","","","","","","","","","",{"$f":"SUM(B1012:AF1012)","v":0}]
[{"$f":"$A$806","v":"Ferien [f]"},null,null,null,null,null,null,null,null,null,null,null,null,null,null,null,null,null,null,null,null,null,null,null,null,null,null,null,null,null,null,null,{"$f":"SUM(B1013:AF1013)","v":0},{"$f":"$AH$806","v":"f"}]
[{"$f":"$A$807","v":"Kompensation (Vorjahr) [kv]"},null,null,null,null,null,null,null,null,null,null,null,null,null,null,null,null,null,null,null,null,null,null,null,null,null,null,null,null,null,null,null,{"$f":"SUM(B1014:AF1014)","v":0},{"$f":"$AH$807","v":"kv"}]
[{"$f":"$A$808","v":"Kompensation (laufend) [kj]"},null,null,null,null,null,null,null,null,null,null,null,null,null,null,null,null,null,null,null,null,null,null,null,null,null,null,null,null,null,null,null,{"$f":"SUM(B1015:AF1015)","v":0},{"$f":"$AH$808","v":"kj"}]
[{"$f":"$A$809","v":"Absenzen, Kurzabsenzen [a]"},null,null,null,null,null,null,null,null,null,null,null,null,null,null,null,null,null,null,null,null,null,null,null,null,null,null,null,null,null,null,null,{"$f":"SUM(B1016:AF1016)","v":0},{"$f":"$AH$809","v":"a"}]
[{"$f":"$A$810","v":"Krankheit [k]"},null,null,null,null,null,null,null,null,null,null,null,null,null,null,null,null,null,null,null,null,null,null,null,null,null,null,null,null,null,null,null,{"$f":"SUM(B1017:AF1017)","v":0},{"$f":"$AH$810","v":"k"}]
[{"$f":"$A$811","v":"Unfall [u]"},null,null,null,null,null,null,null,null,null,null,null,null,null,null,null,null,null,null,null,null,null,null,null,null,null,null,null,null,null,null,null,0,{"$f":"$AH$811","v":"u"}]
[{"$f":"$A$812","v":"Schwangerschaft/Mutterschaft [s]"},null,null,null,null,null,null,null,null,null,null,null,null,null,null,null,null,null,null,null,null,null,null,null,null,null,null,null,null,null,null,null,0,{"$f":"$AH$812","v":"s"}]
[{"$f":"$A$813","v":"Militär/Beförderung/Zivilschutz [m]"},null,null,null,null,null,null,null,null,null,null,null,null,null,null,null,null,null,null,null,null,null,null,null,null,null,null,null,null,null,null,null,0,{"$f":"$AH$813","v":"m"}]
[{"$f":"$A$814","v":"Berufsschule [bs]"},null,null,null,null,null,null,null,null,null,null,null,null,null,null,null,null,null,null,null,null,null,null,null,null,null,null,null,null,null,null,null,0,{"$f":"$AH$814","v":"bs"}]
[{"$f":"$A$815","v":"Kurse [ku]"},null,null,null,null,null,null,null,null,null,null,null,null,null,null,null,null,null,null,null,null,null,null,null,null,null,null,null,null,null,null,null,0,{"$f":"$AH$815","v":"ku"}]
[{"$f":"$A$816","v":"Kurzarbeit und Schlechtwetter [ka]"},null,null,null,null,null,null,null,null,null,null,null,null,null,null,null,null,null,null,null,null,null,null,null,null,null,null,null,null,null,null,null,0,{"$f":"$AH$816","v":"ka"}]
[{"$f":"$A$817","v":0},null,null,null,null,null,null,null,null,null,null,null,null,null,null,null,null,null,null,null,null,null,null,null,null,null,null,null,null,null,null,null,0,{"$f":"$AH$817","v":0}]
[{"$f":"$A$818","v":"Fehlstunden (unbezahlt) [fe]"},null,null,null,null,null,null,null,null,null,null,null,null,null,null,null,null,null,null,null,null,null,null,null,null,null,null,null,null,null,null,null,0,{"$f":"$AH$818","v":"fe"}]
[{"$f":"$A$819","v":"Total"},{"$f":"SUM(B1013:B1025)","v":0},{"$f":"SUM(C1013:C1025)","v":0},0,0,0,0,0,0,0,0,0,0,0,0,0,0,0,0,0,0,0,0,0,0,0,0,0,0,0,0,0]
[]
[]
[]
[{"$f":"A639","v":"November"},{"$f":"$B$800","v":"Saldo Monat + / -"},null,null,null,{"$f":"F639","v":-181.05999999999997},null,null,null,null,null,null,null,null,null,null,null,null,null,null,null,null,null,null,null,null,null,{"$f":"$AB$800","v":"Absenz in Std"},null,null,{"$f":"Labels!B87","v":"Nov"}]
[{"$f":"$A$801","v":"Tag"},{"$f":"B640","v":"2021-11-01"},{"$f":"B1031+1","v":"2021-11-02"},"2021-11-03","2021-11-04","2021-11-05","2021-11-06","2021-11-07","2021-11-08","2021-11-09","2021-11-10","2021-11-11","2021-11-12","2021-11-13","2021-11-14","2021-11-15","2021-11-16","2021-11-17","2021-11-18","2021-11-19","2021-11-20","2021-11-21","2021-11-22","2021-11-23","2021-11-24","2021-11-25","2021-11-26","2021-11-27","2021-11-28","2021-11-29","2021-11-30",null,{"$f":"COUNT(B1033:AF1033)&\" \"&Labels!$B$63","v":"22 Tage"}]
[{"$f":"$A$802","v":"Kalenderwoche"},{"$f":"IF(B1031=\"\",\"\",TRUNC((B1031-DATE(YEAR(B1031+3-MOD(B1031-2,7)),1,MOD(B1031-2,7)-9))/7))","v":44},{"$f":"IF(C1031=\"\",\"\",TRUNC((C1031-DATE(YEAR(C1031+3-MOD(C1031-2,7)),1,MOD(C1031-2,7)-9))/7))","v":44},44,44,44,44,44,45,45,45,45,45,45,45,46,46,46,46,46,46,46,47,47,47,47,47,47,47,48,48]
[{"$f":"$A$803","v":"Sollstunden"},{"$f":"IF(MOD(B1031,7)>=2,$J$7*$B$637%,\"\")","v":8.23},8.23,8.23,8.23,8.23,"","",8.23,8.23,8.23,8.23,8.23,"","",8.23,8.23,8.23,8.23,8.23,"","",8.23,8.23,8.23,8.23,8.23,"","",8.23,8.23,null,{"$f":"SUM(B1033:AF1033)","v":181.05999999999997}]
[{"$f":"$A$804","v":"Produktivstunden"},{"$f":"SUM(B645:B647)","v":0},{"$f":"SUM(C645:C647)","v":0},0,0,0,0,0,0,0,0,0,0,0,0,0,0,0,0,0,0,0,0,0,0,0,0,0,0,0,0]
[{"$f":"$A$805","v":"Feiertage [ft]"},{"$f":"B648","v":""},{"$f":"C648","v":""},"","","","","","","","","","","","","","","","","","","","","","","","","","","","",null,{"$f":"SUM(B1035:AF1035)","v":0}]
[{"$f":"$A$806","v":"Ferien [f]"},null,null,null,null,null,null,null,null,null,null,null,null,null,null,null,null,null,null,null,null,null,null,null,null,null,null,null,null,null,null,null,{"$f":"SUM(B1036:AF1036)","v":0},{"$f":"$AH$806","v":"f"}]
[{"$f":"$A$807","v":"Kompensation (Vorjahr) [kv]"},null,null,null,null,null,null,null,null,null,null,null,null,null,null,null,null,null,null,null,null,null,null,null,null,null,null,null,null,null,null,null,{"$f":"SUM(B1037:AF1037)","v":0},{"$f":"$AH$807","v":"kv"}]
[{"$f":"$A$808","v":"Kompensation (laufend) [kj]"},null,null,null,null,null,null,null,null,null,null,null,null,null,null,null,null,null,null,null,null,null,null,null,null,null,null,null,null,null,null,null,{"$f":"SUM(B1038:AF1038)","v":0},{"$f":"$AH$808","v":"kj"}]
[{"$f":"$A$809","v":"Absenzen, Kurzabsenzen [a]"},null,null,null,null,null,null,null,null,null,null,null,null,null,null,null,null,null,null,null,null,null,null,null,null,null,null,null,null,null,null,null,{"$f":"SUM(B1039:AF1039)","v":0},{"$f":"$AH$809","v":"a"}]
[{"$f":"$A$810","v":"Krankheit [k]"},null,null,null,null,null,null,null,null,null,null,null,null,null,null,null,null,null,null,null,null,null,null,null,null,null,null,null,null,null,null,null,{"$f":"SUM(B1040:AF1040)","v":0},{"$f":"$AH$810","v":"k"}]
[{"$f":"$A$811","v":"Unfall [u]"},null,null,null,null,null,null,null,null,null,null,null,null,null,null,null,null,null,null,null,null,null,null,null,null,null,null,null,null,null,null,null,0,{"$f":"$AH$811","v":"u"}]
[{"$f":"$A$812","v":"Schwangerschaft/Mutterschaft [s]"},null,null,null,null,null,null,null,null,null,null,null,null,null,null,null,null,null,null,null,null,null,null,null,null,null,null,null,null,null,null,null,0,{"$f":"$AH$812","v":"s"}]
[{"$f":"$A$813","v":"Militär/Beförderung/Zivilschutz [m]"},null,null,null,null,null,null,null,null,null,null,null,null,null,null,null,null,null,null,null,null,null,null,null,null,null,null,null,null,null,null,null,0,{"$f":"$AH$813","v":"m"}]
[{"$f":"$A$814","v":"Berufsschule [bs]"},null,null,null,null,null,null,null,null,null,null,null,null,null,null,null,null,null,null,null,null,null,null,null,null,null,null,null,null,null,null,null,0,{"$f":"$AH$814","v":"bs"}]
[{"$f":"$A$815","v":"Kurse [ku]"},null,null,null,null,null,null,null,null,null,null,null,null,null,null,null,null,null,null,null,null,null,null,null,null,null,null,null,null,null,null,null,0,{"$f":"$AH$815","v":"ku"}]
[{"$f":"$A$816","v":"Kurzarbeit und Schlechtwetter [ka]"},null,null,null,null,null,null,null,null,null,null,null,null,null,null,null,null,null,null,null,null,null,null,null,null,null,null,null,null,null,null,null,0,{"$f":"$AH$816","v":"ka"}]
[{"$f":"$A$817","v":0},null,null,null,null,null,null,null,null,null,null,null,null,null,null,null,null,null,null,null,null,null,null,null,null,null,null,null,null,null,null,null,0,{"$f":"$AH$817","v":0}]
[{"$f":"$A$818","v":"Fehlstunden (unbezahlt) [fe]"},null,null,null,null,null,null,null,null,null,null,null,null,null,null,null,null,null,null,null,null,null,null,null,null,null,null,null,null,null,null,null,0,{"$f":"$AH$818","v":"fe"}]
[{"$f":"$A$819","v":"Total"},{"$f":"SUM(B1036:B1048)","v":0},{"$f":"SUM(C1036:C1048)","v":0},0,0,0,0,0,0,0,0,0,0,0,0,0,0,0,0,0,0,0,0,0,0,0,0,0,0,0,0]
[]
[]
[]
[{"$f":"A702","v":"Dezember"},{"$f":"$B$800","v":"Saldo Monat + / -"},null,null,null,{"$f":"F702","v":-189.28999999999996},null,null,null,null,null,null,null,null,null,null,null,null,null,null,null,null,null,null,null,null,null,{"$f":"$AB$800","v":"Absenz in Std"},null,null,{"$f":"Labels!B88","v":"Dez"}]
[{"$f":"$A$801","v":"Tag"},{"$f":"B703","v":"2021-12-01"},{"$f":"B1054+1","v":"2021-12-02"},"2021-12-03","2021-12-04","2021-12-05","2021-12-06","2021-12-07","2021-12-08","2021-12-09","2021-12-10","2021-12-11","2021-12-12","2021-12-13","2021-12-14","2021-12-15","2021-12-16","2021-12-17","2021-12-18","2021-12-19","2021-12-20","2021-12-21","2021-12-22","2021-12-23","2021-12-24","2021-12-25","2021-12-26","2021-12-27","2021-12-28","2021-12-29","2021-12-30","2021-12-31",{"$f":"COUNT(B1056:AF1056)&\" \"&Labels!$B$63","v":"23 Tage"}]
[{"$f":"$A$802","v":"Kalenderwoche"},{"$f":"IF(B1054=\"\",\"\",TRUNC((B1054-DATE(YEAR(B1054+3-MOD(B1054-2,7)),1,MOD(B1054-2,7)-9))/7))","v":48},{"$f":"IF(C1054=\"\",\"\",TRUNC((C1054-DATE(YEAR(C1054+3-MOD(C1054-2,7)),1,MOD(C1054-2,7)-9))/7))","v":48},48,48,48,49,49,49,49,49,49,49,50,50,50,50,50,50,50,51,51,51,51,51,51,51,52,52,52,52,52]
[{"$f":"$A$803","v":"Sollstunden"},{"$f":"IF(MOD(B1054,7)>=2,$J$7*$B$700%,\"\")","v":8.23},8.23,8.23,"","",8.23,8.23,8.23,8.23,8.23,"","",8.23,8.23,8.23,8.23,8.23,"","",8.23,8.23,8.23,8.23,8.23,"","",8.23,8.23,8.23,8.23,8.23,{"$f":"SUM(B1056:AF1056)","v":189.28999999999996}]
[{"$f":"$A$804","v":"Produktivstunden"},{"$f":"SUM(B708:B710)","v":0},{"$f":"SUM(C708:C710)","v":0},0,0,0,0,0,0,0,0,0,0,0,0,0,0,0,0,0,0,0,0,0,0,0,0,0,0,0,0,0]
[{"$f":"$A$805","v":"Feiertage [ft]"},{"$f":"B711","v":""},{"$f":"C711","v":""},"","","","","","","","","","","","","","","","","","","","","","","","","","","","","",{"$f":"SUM(B1058:AF1058)","v":0}]
[{"$f":"$A$806","v":"Ferien [f]"},null,null,null,null,null,null,null,null,null,null,null,null,null,null,null,null,null,null,null,null,null,null,null,null,null,null,null,null,null,null,null,{"$f":"SUM(B1059:AF1059)","v":0},{"$f":"$AH$806","v":"f"}]
[{"$f":"$A$807","v":"Kompensation (Vorjahr) [kv]"},null,null,null,null,null,null,null,null,null,null,null,null,null,null,null,null,null,null,null,null,null,null,null,null,null,null,null,null,null,null,null,{"$f":"SUM(B1060:AF1060)","v":0},{"$f":"$AH$807","v":"kv"}]
[{"$f":"$A$808","v":"Kompensation (laufend) [kj]"},null,null,null,null,null,null,null,null,null,null,null,null,null,null,null,null,null,null,null,null,null,null,null,null,null,null,null,null,null,null,null,{"$f":"SUM(B1061:AF1061)","v":0},{"$f":"$AH$808","v":"kj"}]
[{"$f":"$A$809","v":"Absenzen, Kurzabsenzen [a]"},null,null,null,null,null,null,null,null,null,null,null,null,null,null,null,null,null,null,null,null,null,null,null,null,null,null,null,null,null,null,null,{"$f":"SUM(B1062:AF1062)","v":0},{"$f":"$AH$809","v":"a"}]
[{"$f":"$A$810","v":"Krankheit [k]"},null,null,null,null,null,null,null,null,null,null,null,null,null,null,null,null,null,null,null,null,null,null,null,null,null,null,null,null,null,null,null,{"$f":"SUM(B1063:AF1063)","v":0},{"$f":"$AH$810","v":"k"}]
[{"$f":"$A$811","v":"Unfall [u]"},null,null,null,null,null,null,null,null,null,null,null,null,null,null,null,null,null,null,null,null,null,null,null,null,null,null,null,null,null,null,null,0,{"$f":"$AH$811","v":"u"}]
[{"$f":"$A$812","v":"Schwangerschaft/Mutterschaft [s]"},null,null,null,null,null,null,null,null,null,null,null,null,null,null,null,null,null,null,null,null,null,null,null,null,null,null,null,null,null,null,null,0,{"$f":"$AH$812","v":"s"}]
[{"$f":"$A$813","v":"Militär/Beförderung/Zivilschutz [m]"},null,null,null,null,null,null,null,null,null,null,null,null,null,null,null,null,null,null,null,null,null,null,null,null,null,null,null,null,null,null,null,0,{"$f":"$AH$813","v":"m"}]
[{"$f":"$A$814","v":"Berufsschule [bs]"},null,null,null,null,null,null,null,null,null,null,null,null,null,null,null,null,null,null,null,null,null,null,null,null,null,null,null,null,null,null,null,0,{"$f":"$AH$814","v":"bs"}]
[{"$f":"$A$815","v":"Kurse [ku]"},null,null,null,null,null,null,null,null,null,null,null,null,null,null,null,null,null,null,null,null,null,null,null,null,null,null,null,null,null,null,null,0,{"$f":"$AH$815","v":"ku"}]
[{"$f":"$A$816","v":"Kurzarbeit und Schlechtwetter [ka]"},null,null,null,null,null,null,null,null,null,null,null,null,null,null,null,null,null,null,null,null,null,null,null,null,null,null,null,null,null,null,null,0,{"$f":"$AH$816","v":"ka"}]
[{"$f":"$A$817","v":0},null,null,null,null,null,null,null,null,null,null,null,null,null,null,null,null,null,null,null,null,null,null,null,null,null,null,null,null,null,null,null,0,{"$f":"$AH$817","v":0}]
[{"$f":"$A$818","v":"Fehlstunden (unbezahlt) [fe]"},null,null,null,null,null,null,null,null,null,null,null,null,null,null,null,null,null,null,null,null,null,null,null,null,null,null,null,null,null,null,null,0,{"$f":"$AH$818","v":"fe"}]
[{"$f":"$A$819","v":"Total"},{"$f":"SUM(B1059:B1071)","v":0},{"$f":"SUM(C1059:C1071)","v":0},0,0,0,0,0,0,0,0,0,0,0,0,0,0,0,0,0,0,0,0,0,0,0,0,0,0,0,0,0]